{"text_format":"1","workbook":"xlsx","n_sheets":3,"sheets":["MODIFICACIÓN","CONFIGURACIÓN_PARTICIPANTES","LISTAS"],"not_rendered":{"charts":0,"images":2,"macros":1,"external_links":2,"defined_names":43,"comments":0,"pivot_tables":0},"unopened":[],"bounds":{"document_bytes":16777216,"sheet_cells":100000,"rows_first":2000,"rows_last":500,"rows_between":2000,"halvings":0,"cell_chars":16384,"cell_head_chars":4096},"cells_cut":0,"cells_raw":0,"read":"whole","date_system":"1900"}

{"sheet":"MODIFICACIÓN","index":0,"n_rows":892,"n_cols":24,"rows_kept":892,"cut":false,"hidden":false,"merged":[[10,16,10,21],[10,11,10,14],[12,14,13,14],[14,14,15,14],[16,14,17,14],[12,16,12,17],[13,16,13,17],[14,16,14,17],[15,16,15,17],[16,16,16,17],[12,12,13,12],[12,13,13,13],[12,11,13,11],[11,18,11,20],[11,16,11,17],[16,12,17,12],[19,21,20,21],[11,11,11,12],[4,14,4,21],[6,14,6,21],[8,14,8,21],[16,18,16,20],[17,18,17,20],[14,18,14,20],[15,18,15,20],[12,18,12,20],[13,18,13,20],[19,1,19,20],[4,1,4,2],[6,1,6,2],[8,1,8,2],[10,6,11,9],[10,1,11,4],[12,1,13,1],[12,2,13,4],[12,6,13,6],[12,7,13,9],[16,13,17,13],[14,12,15,12],[14,13,15,13],[17,16,17,17],[16,1,17,1],[16,2,17,4],[16,6,17,6],[16,7,17,9],[16,11,17,11],[14,1,15,1],[14,2,15,4],[14,6,15,6],[14,7,15,9],[14,11,15,11],[1,1,2,21],[4,11,4,13],[6,11,6,13],[8,11,8,13],[4,3,4,8],[6,3,6,8],[8,3,8,9]]}
[]
[null,"SOLICITUD MODIFICACIÓN AL PLAN DE ACCIÓN "]
[]
[]
[null,"VIGENCIA:",null,null,null,null,null,null,null,null,null,"AREA:"]
[]
[null,"N° MODIFICACIÓN:",null,null,null,null,null,null,null,null,null,"AREA Y/O DEPENDENCIA RESPONSABLE:"]
[]
[null,"FECHA:",null,null,null,null,null,null,null,null,null,"FICHA:",null,null,{"$f":"IF(ISERROR(VLOOKUP(O7,LISTAS!$A$15:$B$50,2,0)),\"\",VLOOKUP(O7,LISTAS!$A$15:$B$50,2,0))","v":""}]
[]
[null,"Vo.Bo. REVISIÓN OAP",null,null,null,null,"APROBACIÓN JEFE OFICINA DE PLANEACIÓN",null,null,null,null,"FIRMAS AREAS/DEPENDENCIAS  RESPONSABLES DE LA FICHA",null,null,null,null,"AUTORIZACION OTRAS DEPENDENCIAS QUE PARTICIPAN EN LA EJECUCIÓN DE  ACTIVIDADES"]
[null,null,null,null,null,null,null,null,null,null,null,"                                  1° Nivel",null,"2° Nivel","3° Nivel",null,"DEPENDENCIA",null,"NOMBRE ",null,null,"FIRMA"]
[null,"Nombre:",null,null,null,null,"Nombre:",null,null,null,null,"Nombre:"]
[]
[null,"Firma:",null,null,null,null,"Firma:",null,null,null,null,"Firma:"]
[]
[null,"Cargo:",null,null,null,null,"FECHA Vo.Bo:",null,null,null,null,"Cargo:"]
[]
[]
[null,"Registre la versión actual del producto con sus respectivas actividades, luego actualice los campos que desea modificar y aplique el color amarillo a esas celdas para identificarlas. Si requiere la modificación de áreas participantes y/o sus porcentajes \nde participación, hágalo EXCLUSIVAMENTE en la hoja que se despliega dando clic al botón que encabeza la columna de áreas participantes. \nRecuerde registrar las justificaciones de los cambios en la columna \"V\" para aquellas filas en las que se requieran modificaciones.",null,null,null,null,null,null,null,null,null,null,null,null,null,null,null,null,null,null,null,"JUSTIFICACIÓN"]
[null,"Cod° Act. Prod","Objetivo Estratégico","Cód. Obj,","Indicador Estratégico","Estrategia","Producto","Insumo de planeación del que se extrajo el producto","¿Es producto compartido con otras áreas?","Part. \nProducto %","Meta","Fórmula para determinar % de Avance para Productos","Unidad de medida","Proyecto(s) de inversión","Política(s) MIPG","Actividad","Fórmula de cálculo Avance Actividad","Part.  % Act.","Fecha Inicio","Fecha Final","Áreas/Dependencias Participantes\n (# de ficha)",null,"Cod° Act. Prod","MBORRAR"]
[null,null,null,null,null,null,null,null,null,null,null,null,null,null,null,null,null,null,null,null,null,null,null,{"$f":"IF(W22=B22,\"ok\",\"b\")","v":"ok"}]
[null,null,null,null,null,null,null,null,null,null,null,null,null,null,null,null,null,null,null,null,null,null,null,"ok"]
[null,null,null,null,null,null,null,null,null,null,null,null,null,null,null,null,null,null,null,null,null,null,null,"ok"]
[null,null,null,null,null,null,null,null,null,null,null,null,null,null,null,null,null,null,null,null,null,null,null,"ok"]
[null,null,null,null,null,null,null,null,null,null,null,null,null,null,null,null,null,null,null,null,null,null,null,"ok"]
[null,null,null,null,null,null,null,null,null,null,null,null,null,null,null,null,null,null,null,null,null,null,null,"ok"]
[null,null,null,null,null,null,null,null,null,null,null,null,null,null,null,null,null,null,null,null,null,null,null,"ok"]
[null,null,null,null,null,null,null,null,null,null,null,null,null,null,null,null,null,null,null,null,null,null,null,"ok"]
[null,null,null,null,null,null,null,null,null,null,null,null,null,null,null,null,null,null,null,null,null,null,null,"ok"]
[null,null,null,null,null,null,null,null,null,null,null,null,null,null,null,null,null,null,null,null,null,null,null,"ok"]
[null,null,null,null,null,null,null,null,null,null,null,null,null,null,null,null,null,null,null,null,null,null,null,"ok"]
[null,null,null,null,null,null,null,null,null,null,null,null,null,null,null,null,null,null,null,null,null,null,null,"ok"]
[null,null,null,null,null,null,null,null,null,null,null,null,null,null,null,null,null,null,null,null,null,null,null,"ok"]
[null,null,null,null,null,null,null,null,null,null,null,null,null,null,null,null,null,null,null,null,null,null,null,"ok"]
[null,null,null,null,null,null,null,null,null,null,null,null,null,null,null,null,null,null,null,null,null,null,null,"ok"]
[null,null,null,null,null,null,null,null,null,null,null,null,null,null,null,null,null,null,null,null,null,null,null,"ok"]
[null,null,null,null,null,null,null,null,null,null,null,null,null,null,null,null,null,null,null,null,null,null,null,"ok"]
[null,null,null,null,null,null,null,null,null,null,null,null,null,null,null,null,null,null,null,null,null,null,null,"ok"]
[null,null,null,null,null,null,null,null,null,null,null,null,null,null,null,null,null,null,null,null,null,null,null,"ok"]
[null,null,null,null,null,null,null,null,null,null,null,null,null,null,null,null,null,null,null,null,null,null,null,"ok"]
[null,null,null,null,null,null,null,null,null,null,null,null,null,null,null,null,null,null,null,null,null,null,null,"ok"]
[null,null,null,null,null,null,null,null,null,null,null,null,null,null,null,null,null,null,null,null,null,null,null,{"$f":"IF(W43=B43,\"ok\",\"b\")","v":"ok"}]
[null,null,null,null,null,null,null,null,null,null,null,null,null,null,null,null,null,null,null,null,null,null,null,"ok"]
[null,null,null,null,null,null,null,null,null,null,null,null,null,null,null,null,null,null,null,null,null,null,null,"ok"]
[null,null,null,null,null,null,null,null,null,null,null,null,null,null,null,null,null,null,null,null,null,null,null,"ok"]
[null,null,null,null,null,null,null,null,null,null,null,null,null,null,null,null,null,null,null,null,null,null,null,"ok"]
[null,null,null,null,null,null,null,null,null,null,null,null,null,null,null,null,null,null,null,null,null,null,null,"ok"]
[null,null,null,null,null,null,null,null,null,null,null,null,null,null,null,null,null,null,null,null,null,null,null,"ok"]
[null,null,null,null,null,null,null,null,null,null,null,null,null,null,null,null,null,null,null,null,null,null,null,"ok"]
[null,null,null,null,null,null,null,null,null,null,null,null,null,null,null,null,null,null,null,null,null,null,null,"ok"]
[null,null,null,null,null,null,null,null,null,null,null,null,null,null,null,null,null,null,null,null,null,null,null,"ok"]
[null,null,null,null,null,null,null,null,null,null,null,null,null,null,null,null,null,null,null,null,null,null,null,"ok"]
[null,null,null,null,null,null,null,null,null,null,null,null,null,null,null,null,null,null,null,null,null,null,null,"ok"]
[null,null,null,null,null,null,null,null,null,null,null,null,null,null,null,null,null,null,null,null,null,null,null,"ok"]
[null,null,null,null,null,null,null,null,null,null,null,null,null,null,null,null,null,null,null,null,null,null,null,"ok"]
[null,null,null,null,null,null,null,null,null,null,null,null,null,null,null,null,null,null,null,null,null,null,null,"ok"]
[null,null,null,null,null,null,null,null,null,null,null,null,null,null,null,null,null,null,null,null,null,null,null,"ok"]
[null,null,null,null,null,null,null,null,null,null,null,null,null,null,null,null,null,null,null,null,null,null,null,"ok"]
[null,null,null,null,null,null,null,null,null,null,null,null,null,null,null,null,null,null,null,null,null,null,null,"ok"]
[null,null,null,null,null,null,null,null,null,null,null,null,null,null,null,null,null,null,null,null,null,null,null,"ok"]
[null,null,null,null,null,null,null,null,null,null,null,null,null,null,null,null,null,null,null,null,null,null,null,"ok"]
[null,null,null,null,null,null,null,null,null,null,null,null,null,null,null,null,null,null,null,null,null,null,null,"ok"]
[null,null,null,null,null,null,null,null,null,null,null,null,null,null,null,null,null,null,null,null,null,null,null,"ok"]
[null,null,null,null,null,null,null,null,null,null,null,null,null,null,null,null,null,null,null,null,null,null,null,"ok"]
[null,null,null,null,null,null,null,null,null,null,null,null,null,null,null,null,null,null,null,null,null,null,null,"ok"]
[null,null,null,null,null,null,null,null,null,null,null,null,null,null,null,null,null,null,null,null,null,null,null,"ok"]
[null,null,null,null,null,null,null,null,null,null,null,null,null,null,null,null,null,null,null,null,null,null,null,"ok"]
[null,null,null,null,null,null,null,null,null,null,null,null,null,null,null,null,null,null,null,null,null,null,null,"ok"]
[null,null,null,null,null,null,null,null,null,null,null,null,null,null,null,null,null,null,null,null,null,null,null,"ok"]
[null,null,null,null,null,null,null,null,null,null,null,null,null,null,null,null,null,null,null,null,null,null,null,"ok"]
[null,null,null,null,null,null,null,null,null,null,null,null,null,null,null,null,null,null,null,null,null,null,null,"ok"]
[null,null,null,null,null,null,null,null,null,null,null,null,null,null,null,null,null,null,null,null,null,null,null,"ok"]
[null,null,null,null,null,null,null,null,null,null,null,null,null,null,null,null,null,null,null,null,null,null,null,"ok"]
[null,null,null,null,null,null,null,null,null,null,null,null,null,null,null,null,null,null,null,null,null,null,null,"ok"]
[null,null,null,null,null,null,null,null,null,null,null,null,null,null,null,null,null,null,null,null,null,null,null,"ok"]
[null,null,null,null,null,null,null,null,null,null,null,null,null,null,null,null,null,null,null,null,null,null,null,"ok"]
[null,null,null,null,null,null,null,null,null,null,null,null,null,null,null,null,null,null,null,null,null,null,null,"ok"]
[null,null,null,null,null,null,null,null,null,null,null,null,null,null,null,null,null,null,null,null,null,null,null,"ok"]
[null,null,null,null,null,null,null,null,null,null,null,null,null,null,null,null,null,null,null,null,null,null,null,"ok"]
[null,null,null,null,null,null,null,null,null,null,null,null,null,null,null,null,null,null,null,null,null,null,null,"ok"]
[null,null,null,null,null,null,null,null,null,null,null,null,null,null,null,null,null,null,null,null,null,null,null,"ok"]
[null,null,null,null,null,null,null,null,null,null,null,null,null,null,null,null,null,null,null,null,null,null,null,"ok"]
[null,null,null,null,null,null,null,null,null,null,null,null,null,null,null,null,null,null,null,null,null,null,null,"ok"]
[null,null,null,null,null,null,null,null,null,null,null,null,null,null,null,null,null,null,null,null,null,null,null,"ok"]
[null,null,null,null,null,null,null,null,null,null,null,null,null,null,null,null,null,null,null,null,null,null,null,"ok"]
[null,null,null,null,null,null,null,null,null,null,null,null,null,null,null,null,null,null,null,null,null,null,null,"ok"]
[null,null,null,null,null,null,null,null,null,null,null,null,null,null,null,null,null,null,null,null,null,null,null,"ok"]
[null,null,null,null,null,null,null,null,null,null,null,null,null,null,null,null,null,null,null,null,null,null,null,"ok"]
[null,null,null,null,null,null,null,null,null,null,null,null,null,null,null,null,null,null,null,null,null,null,null,"ok"]
[null,null,null,null,null,null,null,null,null,null,null,null,null,null,null,null,null,null,null,null,null,null,null,"ok"]
[null,null,null,null,null,null,null,null,null,null,null,null,null,null,null,null,null,null,null,null,null,null,null,"ok"]
[null,null,null,null,null,null,null,null,null,null,null,null,null,null,null,null,null,null,null,null,null,null,null,"ok"]
[null,null,null,null,null,null,null,null,null,null,null,null,null,null,null,null,null,null,null,null,null,null,null,"ok"]
[null,null,null,null,null,null,null,null,null,null,null,null,null,null,null,null,null,null,null,null,null,null,null,"ok"]
[null,null,null,null,null,null,null,null,null,null,null,null,null,null,null,null,null,null,null,null,null,null,null,"ok"]
[null,null,null,null,null,null,null,null,null,null,null,null,null,null,null,null,null,null,null,null,null,null,null,"ok"]
[null,null,null,null,null,null,null,null,null,null,null,null,null,null,null,null,null,null,null,null,null,null,null,"ok"]
[null,null,null,null,null,null,null,null,null,null,null,null,null,null,null,null,null,null,null,null,null,null,null,"ok"]
[null,null,null,null,null,null,null,null,null,null,null,null,null,null,null,null,null,null,null,null,null,null,null,"ok"]
[null,null,null,null,null,null,null,null,null,null,null,null,null,null,null,null,null,null,null,null,null,null,null,"ok"]
[null,null,null,null,null,null,null,null,null,null,null,null,null,null,null,null,null,null,null,null,null,null,null,"ok"]
[null,null,null,null,null,null,null,null,null,null,null,null,null,null,null,null,null,null,null,null,null,null,null,"ok"]
[null,null,null,null,null,null,null,null,null,null,null,null,null,null,null,null,null,null,null,null,null,null,null,"ok"]
[null,null,null,null,null,null,null,null,null,null,null,null,null,null,null,null,null,null,null,null,null,null,null,"ok"]
[null,null,null,null,null,null,null,null,null,null,null,null,null,null,null,null,null,null,null,null,null,null,null,"ok"]
[null,null,null,null,null,null,null,null,null,null,null,null,null,null,null,null,null,null,null,null,null,null,null,{"$f":"IF(W107=B107,\"ok\",\"b\")","v":"ok"}]
[null,null,null,null,null,null,null,null,null,null,null,null,null,null,null,null,null,null,null,null,null,null,null,"ok"]
[null,null,null,null,null,null,null,null,null,null,null,null,null,null,null,null,null,null,null,null,null,null,null,"ok"]
[null,null,null,null,null,null,null,null,null,null,null,null,null,null,null,null,null,null,null,null,null,null,null,"ok"]
[null,null,null,null,null,null,null,null,null,null,null,null,null,null,null,null,null,null,null,null,null,null,null,"ok"]
[null,null,null,null,null,null,null,null,null,null,null,null,null,null,null,null,null,null,null,null,null,null,null,"ok"]
[null,null,null,null,null,null,null,null,null,null,null,null,null,null,null,null,null,null,null,null,null,null,null,"ok"]
[null,null,null,null,null,null,null,null,null,null,null,null,null,null,null,null,null,null,null,null,null,null,null,"ok"]
[null,null,null,null,null,null,null,null,null,null,null,null,null,null,null,null,null,null,null,null,null,null,null,"ok"]
[null,null,null,null,null,null,null,null,null,null,null,null,null,null,null,null,null,null,null,null,null,null,null,"ok"]
[null,null,null,null,null,null,null,null,null,null,null,null,null,null,null,null,null,null,null,null,null,null,null,"ok"]
[null,null,null,null,null,null,null,null,null,null,null,null,null,null,null,null,null,null,null,null,null,null,null,"ok"]
[null,null,null,null,null,null,null,null,null,null,null,null,null,null,null,null,null,null,null,null,null,null,null,"ok"]
[null,null,null,null,null,null,null,null,null,null,null,null,null,null,null,null,null,null,null,null,null,null,null,"ok"]
[null,null,null,null,null,null,null,null,null,null,null,null,null,null,null,null,null,null,null,null,null,null,null,"ok"]
[null,null,null,null,null,null,null,null,null,null,null,null,null,null,null,null,null,null,null,null,null,null,null,"ok"]
[null,null,null,null,null,null,null,null,null,null,null,null,null,null,null,null,null,null,null,null,null,null,null,"ok"]
[null,null,null,null,null,null,null,null,null,null,null,null,null,null,null,null,null,null,null,null,null,null,null,"ok"]
[null,null,null,null,null,null,null,null,null,null,null,null,null,null,null,null,null,null,null,null,null,null,null,"ok"]
[null,null,null,null,null,null,null,null,null,null,null,null,null,null,null,null,null,null,null,null,null,null,null,"ok"]
[null,null,null,null,null,null,null,null,null,null,null,null,null,null,null,null,null,null,null,null,null,null,null,"ok"]
[null,null,null,null,null,null,null,null,null,null,null,null,null,null,null,null,null,null,null,null,null,null,null,"ok"]
[null,null,null,null,null,null,null,null,null,null,null,null,null,null,null,null,null,null,null,null,null,null,null,"ok"]
[null,null,null,null,null,null,null,null,null,null,null,null,null,null,null,null,null,null,null,null,null,null,null,"ok"]
[null,null,null,null,null,null,null,null,null,null,null,null,null,null,null,null,null,null,null,null,null,null,null,"ok"]
[null,null,null,null,null,null,null,null,null,null,null,null,null,null,null,null,null,null,null,null,null,null,null,"ok"]
[null,null,null,null,null,null,null,null,null,null,null,null,null,null,null,null,null,null,null,null,null,null,null,"ok"]
[null,null,null,null,null,null,null,null,null,null,null,null,null,null,null,null,null,null,null,null,null,null,null,"ok"]
[null,null,null,null,null,null,null,null,null,null,null,null,null,null,null,null,null,null,null,null,null,null,null,"ok"]
[null,null,null,null,null,null,null,null,null,null,null,null,null,null,null,null,null,null,null,null,null,null,null,"ok"]
[null,null,null,null,null,null,null,null,null,null,null,null,null,null,null,null,null,null,null,null,null,null,null,"ok"]
[null,null,null,null,null,null,null,null,null,null,null,null,null,null,null,null,null,null,null,null,null,null,null,"ok"]
[null,null,null,null,null,null,null,null,null,null,null,null,null,null,null,null,null,null,null,null,null,null,null,"ok"]
[null,null,null,null,null,null,null,null,null,null,null,null,null,null,null,null,null,null,null,null,null,null,null,"ok"]
[null,null,null,null,null,null,null,null,null,null,null,null,null,null,null,null,null,null,null,null,null,null,null,"ok"]
[null,null,null,null,null,null,null,null,null,null,null,null,null,null,null,null,null,null,null,null,null,null,null,"ok"]
[null,null,null,null,null,null,null,null,null,null,null,null,null,null,null,null,null,null,null,null,null,null,null,"ok"]
[null,null,null,null,null,null,null,null,null,null,null,null,null,null,null,null,null,null,null,null,null,null,null,"ok"]
[null,null,null,null,null,null,null,null,null,null,null,null,null,null,null,null,null,null,null,null,null,null,null,"ok"]
[null,null,null,null,null,null,null,null,null,null,null,null,null,null,null,null,null,null,null,null,null,null,null,"ok"]
[null,null,null,null,null,null,null,null,null,null,null,null,null,null,null,null,null,null,null,null,null,null,null,"ok"]
[null,null,null,null,null,null,null,null,null,null,null,null,null,null,null,null,null,null,null,null,null,null,null,"ok"]
[null,null,null,null,null,null,null,null,null,null,null,null,null,null,null,null,null,null,null,null,null,null,null,"ok"]
[null,null,null,null,null,null,null,null,null,null,null,null,null,null,null,null,null,null,null,null,null,null,null,"ok"]
[null,null,null,null,null,null,null,null,null,null,null,null,null,null,null,null,null,null,null,null,null,null,null,"ok"]
[null,null,null,null,null,null,null,null,null,null,null,null,null,null,null,null,null,null,null,null,null,null,null,"ok"]
[null,null,null,null,null,null,null,null,null,null,null,null,null,null,null,null,null,null,null,null,null,null,null,"ok"]
[null,null,null,null,null,null,null,null,null,null,null,null,null,null,null,null,null,null,null,null,null,null,null,"ok"]
[null,null,null,null,null,null,null,null,null,null,null,null,null,null,null,null,null,null,null,null,null,null,null,"ok"]
[null,null,null,null,null,null,null,null,null,null,null,null,null,null,null,null,null,null,null,null,null,null,null,"ok"]
[null,null,null,null,null,null,null,null,null,null,null,null,null,null,null,null,null,null,null,null,null,null,null,"ok"]
[null,null,null,null,null,null,null,null,null,null,null,null,null,null,null,null,null,null,null,null,null,null,null,"ok"]
[null,null,null,null,null,null,null,null,null,null,null,null,null,null,null,null,null,null,null,null,null,null,null,"ok"]
[null,null,null,null,null,null,null,null,null,null,null,null,null,null,null,null,null,null,null,null,null,null,null,"ok"]
[null,null,null,null,null,null,null,null,null,null,null,null,null,null,null,null,null,null,null,null,null,null,null,"ok"]
[null,null,null,null,null,null,null,null,null,null,null,null,null,null,null,null,null,null,null,null,null,null,null,"ok"]
[null,null,null,null,null,null,null,null,null,null,null,null,null,null,null,null,null,null,null,null,null,null,null,"ok"]
[null,null,null,null,null,null,null,null,null,null,null,null,null,null,null,null,null,null,null,null,null,null,null,"ok"]
[null,null,null,null,null,null,null,null,null,null,null,null,null,null,null,null,null,null,null,null,null,null,null,"ok"]
[null,null,null,null,null,null,null,null,null,null,null,null,null,null,null,null,null,null,null,null,null,null,null,"ok"]
[null,null,null,null,null,null,null,null,null,null,null,null,null,null,null,null,null,null,null,null,null,null,null,"ok"]
[null,null,null,null,null,null,null,null,null,null,null,null,null,null,null,null,null,null,null,null,null,null,null,"ok"]
[null,null,null,null,null,null,null,null,null,null,null,null,null,null,null,null,null,null,null,null,null,null,null,"ok"]
[null,null,null,null,null,null,null,null,null,null,null,null,null,null,null,null,null,null,null,null,null,null,null,"ok"]
[null,null,null,null,null,null,null,null,null,null,null,null,null,null,null,null,null,null,null,null,null,null,null,{"$f":"IF(W171=B171,\"ok\",\"b\")","v":"ok"}]
[null,null,null,null,null,null,null,null,null,null,null,null,null,null,null,null,null,null,null,null,null,null,null,"ok"]
[null,null,null,null,null,null,null,null,null,null,null,null,null,null,null,null,null,null,null,null,null,null,null,"ok"]
[null,null,null,null,null,null,null,null,null,null,null,null,null,null,null,null,null,null,null,null,null,null,null,"ok"]
[null,null,null,null,null,null,null,null,null,null,null,null,null,null,null,null,null,null,null,null,null,null,null,"ok"]
[null,null,null,null,null,null,null,null,null,null,null,null,null,null,null,null,null,null,null,null,null,null,null,"ok"]
[null,null,null,null,null,null,null,null,null,null,null,null,null,null,null,null,null,null,null,null,null,null,null,"ok"]
[null,null,null,null,null,null,null,null,null,null,null,null,null,null,null,null,null,null,null,null,null,null,null,"ok"]
[null,null,null,null,null,null,null,null,null,null,null,null,null,null,null,null,null,null,null,null,null,null,null,"ok"]
[null,null,null,null,null,null,null,null,null,null,null,null,null,null,null,null,null,null,null,null,null,null,null,"ok"]
[null,null,null,null,null,null,null,null,null,null,null,null,null,null,null,null,null,null,null,null,null,null,null,"ok"]
[null,null,null,null,null,null,null,null,null,null,null,null,null,null,null,null,null,null,null,null,null,null,null,"ok"]
[null,null,null,null,null,null,null,null,null,null,null,null,null,null,null,null,null,null,null,null,null,null,null,"ok"]
[null,null,null,null,null,null,null,null,null,null,null,null,null,null,null,null,null,null,null,null,null,null,null,"ok"]
[null,null,null,null,null,null,null,null,null,null,null,null,null,null,null,null,null,null,null,null,null,null,null,"ok"]
[null,null,null,null,null,null,null,null,null,null,null,null,null,null,null,null,null,null,null,null,null,null,null,"ok"]
[null,null,null,null,null,null,null,null,null,null,null,null,null,null,null,null,null,null,null,null,null,null,null,"ok"]
[null,null,null,null,null,null,null,null,null,null,null,null,null,null,null,null,null,null,null,null,null,null,null,"ok"]
[null,null,null,null,null,null,null,null,null,null,null,null,null,null,null,null,null,null,null,null,null,null,null,"ok"]
[null,null,null,null,null,null,null,null,null,null,null,null,null,null,null,null,null,null,null,null,null,null,null,"ok"]
[null,null,null,null,null,null,null,null,null,null,null,null,null,null,null,null,null,null,null,null,null,null,null,"ok"]
[null,null,null,null,null,null,null,null,null,null,null,null,null,null,null,null,null,null,null,null,null,null,null,"ok"]
[null,null,null,null,null,null,null,null,null,null,null,null,null,null,null,null,null,null,null,null,null,null,null,"ok"]
[null,null,null,null,null,null,null,null,null,null,null,null,null,null,null,null,null,null,null,null,null,null,null,"ok"]
[null,null,null,null,null,null,null,null,null,null,null,null,null,null,null,null,null,null,null,null,null,null,null,"ok"]
[null,null,null,null,null,null,null,null,null,null,null,null,null,null,null,null,null,null,null,null,null,null,null,"ok"]
[null,null,null,null,null,null,null,null,null,null,null,null,null,null,null,null,null,null,null,null,null,null,null,"ok"]
[null,null,null,null,null,null,null,null,null,null,null,null,null,null,null,null,null,null,null,null,null,null,null,"ok"]
[null,null,null,null,null,null,null,null,null,null,null,null,null,null,null,null,null,null,null,null,null,null,null,"ok"]
[null,null,null,null,null,null,null,null,null,null,null,null,null,null,null,null,null,null,null,null,null,null,null,"ok"]
[null,null,null,null,null,null,null,null,null,null,null,null,null,null,null,null,null,null,null,null,null,null,null,"ok"]
[null,null,null,null,null,null,null,null,null,null,null,null,null,null,null,null,null,null,null,null,null,null,null,"ok"]
[null,null,null,null,null,null,null,null,null,null,null,null,null,null,null,null,null,null,null,null,null,null,null,"ok"]
[null,null,null,null,null,null,null,null,null,null,null,null,null,null,null,null,null,null,null,null,null,null,null,"ok"]
[null,null,null,null,null,null,null,null,null,null,null,null,null,null,null,null,null,null,null,null,null,null,null,"ok"]
[null,null,null,null,null,null,null,null,null,null,null,null,null,null,null,null,null,null,null,null,null,null,null,"ok"]
[null,null,null,null,null,null,null,null,null,null,null,null,null,null,null,null,null,null,null,null,null,null,null,"ok"]
[null,null,null,null,null,null,null,null,null,null,null,null,null,null,null,null,null,null,null,null,null,null,null,"ok"]
[null,null,null,null,null,null,null,null,null,null,null,null,null,null,null,null,null,null,null,null,null,null,null,"ok"]
[null,null,null,null,null,null,null,null,null,null,null,null,null,null,null,null,null,null,null,null,null,null,null,"ok"]
[null,null,null,null,null,null,null,null,null,null,null,null,null,null,null,null,null,null,null,null,null,null,null,"ok"]
[null,null,null,null,null,null,null,null,null,null,null,null,null,null,null,null,null,null,null,null,null,null,null,"ok"]
[null,null,null,null,null,null,null,null,null,null,null,null,null,null,null,null,null,null,null,null,null,null,null,"ok"]
[null,null,null,null,null,null,null,null,null,null,null,null,null,null,null,null,null,null,null,null,null,null,null,"ok"]
[null,null,null,null,null,null,null,null,null,null,null,null,null,null,null,null,null,null,null,null,null,null,null,"ok"]
[null,null,null,null,null,null,null,null,null,null,null,null,null,null,null,null,null,null,null,null,null,null,null,"ok"]
[null,null,null,null,null,null,null,null,null,null,null,null,null,null,null,null,null,null,null,null,null,null,null,"ok"]
[null,null,null,null,null,null,null,null,null,null,null,null,null,null,null,null,null,null,null,null,null,null,null,"ok"]
[null,null,null,null,null,null,null,null,null,null,null,null,null,null,null,null,null,null,null,null,null,null,null,"ok"]
[null,null,null,null,null,null,null,null,null,null,null,null,null,null,null,null,null,null,null,null,null,null,null,"ok"]
[null,null,null,null,null,null,null,null,null,null,null,null,null,null,null,null,null,null,null,null,null,null,null,"ok"]
[null,null,null,null,null,null,null,null,null,null,null,null,null,null,null,null,null,null,null,null,null,null,null,"ok"]
[null,null,null,null,null,null,null,null,null,null,null,null,null,null,null,null,null,null,null,null,null,null,null,"ok"]
[null,null,null,null,null,null,null,null,null,null,null,null,null,null,null,null,null,null,null,null,null,null,null,"ok"]
[null,null,null,null,null,null,null,null,null,null,null,null,null,null,null,null,null,null,null,null,null,null,null,"ok"]
[null,null,null,null,null,null,null,null,null,null,null,null,null,null,null,null,null,null,null,null,null,null,null,"ok"]
[null,null,null,null,null,null,null,null,null,null,null,null,null,null,null,null,null,null,null,null,null,null,null,"ok"]
[null,null,null,null,null,null,null,null,null,null,null,null,null,null,null,null,null,null,null,null,null,null,null,"ok"]
[null,null,null,null,null,null,null,null,null,null,null,null,null,null,null,null,null,null,null,null,null,null,null,"ok"]
[null,null,null,null,null,null,null,null,null,null,null,null,null,null,null,null,null,null,null,null,null,null,null,"ok"]
[null,null,null,null,null,null,null,null,null,null,null,null,null,null,null,null,null,null,null,null,null,null,null,"ok"]
[null,null,null,null,null,null,null,null,null,null,null,null,null,null,null,null,null,null,null,null,null,null,null,"ok"]
[null,null,null,null,null,null,null,null,null,null,null,null,null,null,null,null,null,null,null,null,null,null,null,"ok"]
[null,null,null,null,null,null,null,null,null,null,null,null,null,null,null,null,null,null,null,null,null,null,null,"ok"]
[null,null,null,null,null,null,null,null,null,null,null,null,null,null,null,null,null,null,null,null,null,null,null,{"$f":"IF(W235=B235,\"ok\",\"b\")","v":"ok"}]
[null,null,null,null,null,null,null,null,null,null,null,null,null,null,null,null,null,null,null,null,null,null,null,"ok"]
[null,null,null,null,null,null,null,null,null,null,null,null,null,null,null,null,null,null,null,null,null,null,null,"ok"]
[null,null,null,null,null,null,null,null,null,null,null,null,null,null,null,null,null,null,null,null,null,null,null,"ok"]
[null,null,null,null,null,null,null,null,null,null,null,null,null,null,null,null,null,null,null,null,null,null,null,"ok"]
[null,null,null,null,null,null,null,null,null,null,null,null,null,null,null,null,null,null,null,null,null,null,null,"ok"]
[null,null,null,null,null,null,null,null,null,null,null,null,null,null,null,null,null,null,null,null,null,null,null,"ok"]
[null,null,null,null,null,null,null,null,null,null,null,null,null,null,null,null,null,null,null,null,null,null,null,"ok"]
[null,null,null,null,null,null,null,null,null,null,null,null,null,null,null,null,null,null,null,null,null,null,null,"ok"]
[null,null,null,null,null,null,null,null,null,null,null,null,null,null,null,null,null,null,null,null,null,null,null,"ok"]
[null,null,null,null,null,null,null,null,null,null,null,null,null,null,null,null,null,null,null,null,null,null,null,"ok"]
[null,null,null,null,null,null,null,null,null,null,null,null,null,null,null,null,null,null,null,null,null,null,null,"ok"]
[null,null,null,null,null,null,null,null,null,null,null,null,null,null,null,null,null,null,null,null,null,null,null,"ok"]
[null,null,null,null,null,null,null,null,null,null,null,null,null,null,null,null,null,null,null,null,null,null,null,"ok"]
[null,null,null,null,null,null,null,null,null,null,null,null,null,null,null,null,null,null,null,null,null,null,null,"ok"]
[null,null,null,null,null,null,null,null,null,null,null,null,null,null,null,null,null,null,null,null,null,null,null,"ok"]
[null,null,null,null,null,null,null,null,null,null,null,null,null,null,null,null,null,null,null,null,null,null,null,"ok"]
[null,null,null,null,null,null,null,null,null,null,null,null,null,null,null,null,null,null,null,null,null,null,null,"ok"]
[null,null,null,null,null,null,null,null,null,null,null,null,null,null,null,null,null,null,null,null,null,null,null,"ok"]
[null,null,null,null,null,null,null,null,null,null,null,null,null,null,null,null,null,null,null,null,null,null,null,"ok"]
[null,null,null,null,null,null,null,null,null,null,null,null,null,null,null,null,null,null,null,null,null,null,null,"ok"]
[null,null,null,null,null,null,null,null,null,null,null,null,null,null,null,null,null,null,null,null,null,null,null,"ok"]
[null,null,null,null,null,null,null,null,null,null,null,null,null,null,null,null,null,null,null,null,null,null,null,"ok"]
[null,null,null,null,null,null,null,null,null,null,null,null,null,null,null,null,null,null,null,null,null,null,null,"ok"]
[null,null,null,null,null,null,null,null,null,null,null,null,null,null,null,null,null,null,null,null,null,null,null,"ok"]
[null,null,null,null,null,null,null,null,null,null,null,null,null,null,null,null,null,null,null,null,null,null,null,"ok"]
[null,null,null,null,null,null,null,null,null,null,null,null,null,null,null,null,null,null,null,null,null,null,null,"ok"]
[null,null,null,null,null,null,null,null,null,null,null,null,null,null,null,null,null,null,null,null,null,null,null,"ok"]
[null,null,null,null,null,null,null,null,null,null,null,null,null,null,null,null,null,null,null,null,null,null,null,"ok"]
[null,null,null,null,null,null,null,null,null,null,null,null,null,null,null,null,null,null,null,null,null,null,null,"ok"]
[null,null,null,null,null,null,null,null,null,null,null,null,null,null,null,null,null,null,null,null,null,null,null,"ok"]
[null,null,null,null,null,null,null,null,null,null,null,null,null,null,null,null,null,null,null,null,null,null,null,"ok"]
[null,null,null,null,null,null,null,null,null,null,null,null,null,null,null,null,null,null,null,null,null,null,null,"ok"]
[null,null,null,null,null,null,null,null,null,null,null,null,null,null,null,null,null,null,null,null,null,null,null,"ok"]
[null,null,null,null,null,null,null,null,null,null,null,null,null,null,null,null,null,null,null,null,null,null,null,"ok"]
[null,null,null,null,null,null,null,null,null,null,null,null,null,null,null,null,null,null,null,null,null,null,null,"ok"]
[null,null,null,null,null,null,null,null,null,null,null,null,null,null,null,null,null,null,null,null,null,null,null,"ok"]
[null,null,null,null,null,null,null,null,null,null,null,null,null,null,null,null,null,null,null,null,null,null,null,"ok"]
[null,null,null,null,null,null,null,null,null,null,null,null,null,null,null,null,null,null,null,null,null,null,null,"ok"]
[null,null,null,null,null,null,null,null,null,null,null,null,null,null,null,null,null,null,null,null,null,null,null,"ok"]
[null,null,null,null,null,null,null,null,null,null,null,null,null,null,null,null,null,null,null,null,null,null,null,"ok"]
[null,null,null,null,null,null,null,null,null,null,null,null,null,null,null,null,null,null,null,null,null,null,null,"ok"]
[null,null,null,null,null,null,null,null,null,null,null,null,null,null,null,null,null,null,null,null,null,null,null,"ok"]
[null,null,null,null,null,null,null,null,null,null,null,null,null,null,null,null,null,null,null,null,null,null,null,"ok"]
[null,null,null,null,null,null,null,null,null,null,null,null,null,null,null,null,null,null,null,null,null,null,null,"ok"]
[null,null,null,null,null,null,null,null,null,null,null,null,null,null,null,null,null,null,null,null,null,null,null,"ok"]
[null,null,null,null,null,null,null,null,null,null,null,null,null,null,null,null,null,null,null,null,null,null,null,"ok"]
[null,null,null,null,null,null,null,null,null,null,null,null,null,null,null,null,null,null,null,null,null,null,null,"ok"]
[null,null,null,null,null,null,null,null,null,null,null,null,null,null,null,null,null,null,null,null,null,null,null,"ok"]
[null,null,null,null,null,null,null,null,null,null,null,null,null,null,null,null,null,null,null,null,null,null,null,"ok"]
[null,null,null,null,null,null,null,null,null,null,null,null,null,null,null,null,null,null,null,null,null,null,null,"ok"]
[null,null,null,null,null,null,null,null,null,null,null,null,null,null,null,null,null,null,null,null,null,null,null,"ok"]
[null,null,null,null,null,null,null,null,null,null,null,null,null,null,null,null,null,null,null,null,null,null,null,"ok"]
[null,null,null,null,null,null,null,null,null,null,null,null,null,null,null,null,null,null,null,null,null,null,null,"ok"]
[null,null,null,null,null,null,null,null,null,null,null,null,null,null,null,null,null,null,null,null,null,null,null,"ok"]
[null,null,null,null,null,null,null,null,null,null,null,null,null,null,null,null,null,null,null,null,null,null,null,"ok"]
[null,null,null,null,null,null,null,null,null,null,null,null,null,null,null,null,null,null,null,null,null,null,null,"ok"]
[null,null,null,null,null,null,null,null,null,null,null,null,null,null,null,null,null,null,null,null,null,null,null,"ok"]
[null,null,null,null,null,null,null,null,null,null,null,null,null,null,null,null,null,null,null,null,null,null,null,"ok"]
[null,null,null,null,null,null,null,null,null,null,null,null,null,null,null,null,null,null,null,null,null,null,null,"ok"]
[null,null,null,null,null,null,null,null,null,null,null,null,null,null,null,null,null,null,null,null,null,null,null,"ok"]
[null,null,null,null,null,null,null,null,null,null,null,null,null,null,null,null,null,null,null,null,null,null,null,"ok"]
[null,null,null,null,null,null,null,null,null,null,null,null,null,null,null,null,null,null,null,null,null,null,null,"ok"]
[null,null,null,null,null,null,null,null,null,null,null,null,null,null,null,null,null,null,null,null,null,null,null,"ok"]
[null,null,null,null,null,null,null,null,null,null,null,null,null,null,null,null,null,null,null,null,null,null,null,{"$f":"IF(W299=B299,\"ok\",\"b\")","v":"ok"}]
[null,null,null,null,null,null,null,null,null,null,null,null,null,null,null,null,null,null,null,null,null,null,null,"ok"]
[null,null,null,null,null,null,null,null,null,null,null,null,null,null,null,null,null,null,null,null,null,null,null,"ok"]
[null,null,null,null,null,null,null,null,null,null,null,null,null,null,null,null,null,null,null,null,null,null,null,"ok"]
[null,null,null,null,null,null,null,null,null,null,null,null,null,null,null,null,null,null,null,null,null,null,null,"ok"]
[null,null,null,null,null,null,null,null,null,null,null,null,null,null,null,null,null,null,null,null,null,null,null,"ok"]
[null,null,null,null,null,null,null,null,null,null,null,null,null,null,null,null,null,null,null,null,null,null,null,"ok"]
[null,null,null,null,null,null,null,null,null,null,null,null,null,null,null,null,null,null,null,null,null,null,null,"ok"]
[null,null,null,null,null,null,null,null,null,null,null,null,null,null,null,null,null,null,null,null,null,null,null,"ok"]
[null,null,null,null,null,null,null,null,null,null,null,null,null,null,null,null,null,null,null,null,null,null,null,"ok"]
[null,null,null,null,null,null,null,null,null,null,null,null,null,null,null,null,null,null,null,null,null,null,null,"ok"]
[null,null,null,null,null,null,null,null,null,null,null,null,null,null,null,null,null,null,null,null,null,null,null,"ok"]
[null,null,null,null,null,null,null,null,null,null,null,null,null,null,null,null,null,null,null,null,null,null,null,"ok"]
[null,null,null,null,null,null,null,null,null,null,null,null,null,null,null,null,null,null,null,null,null,null,null,"ok"]
[null,null,null,null,null,null,null,null,null,null,null,null,null,null,null,null,null,null,null,null,null,null,null,"ok"]
[null,null,null,null,null,null,null,null,null,null,null,null,null,null,null,null,null,null,null,null,null,null,null,"ok"]
[null,null,null,null,null,null,null,null,null,null,null,null,null,null,null,null,null,null,null,null,null,null,null,"ok"]
[null,null,null,null,null,null,null,null,null,null,null,null,null,null,null,null,null,null,null,null,null,null,null,"ok"]
[null,null,null,null,null,null,null,null,null,null,null,null,null,null,null,null,null,null,null,null,null,null,null,"ok"]
[null,null,null,null,null,null,null,null,null,null,null,null,null,null,null,null,null,null,null,null,null,null,null,"ok"]
[null,null,null,null,null,null,null,null,null,null,null,null,null,null,null,null,null,null,null,null,null,null,null,"ok"]
[null,null,null,null,null,null,null,null,null,null,null,null,null,null,null,null,null,null,null,null,null,null,null,"ok"]
[null,null,null,null,null,null,null,null,null,null,null,null,null,null,null,null,null,null,null,null,null,null,null,"ok"]
[null,null,null,null,null,null,null,null,null,null,null,null,null,null,null,null,null,null,null,null,null,null,null,"ok"]
[null,null,null,null,null,null,null,null,null,null,null,null,null,null,null,null,null,null,null,null,null,null,null,"ok"]
[null,null,null,null,null,null,null,null,null,null,null,null,null,null,null,null,null,null,null,null,null,null,null,"ok"]
[null,null,null,null,null,null,null,null,null,null,null,null,null,null,null,null,null,null,null,null,null,null,null,"ok"]
[null,null,null,null,null,null,null,null,null,null,null,null,null,null,null,null,null,null,null,null,null,null,null,"ok"]
[null,null,null,null,null,null,null,null,null,null,null,null,null,null,null,null,null,null,null,null,null,null,null,"ok"]
[null,null,null,null,null,null,null,null,null,null,null,null,null,null,null,null,null,null,null,null,null,null,null,"ok"]
[null,null,null,null,null,null,null,null,null,null,null,null,null,null,null,null,null,null,null,null,null,null,null,"ok"]
[null,null,null,null,null,null,null,null,null,null,null,null,null,null,null,null,null,null,null,null,null,null,null,"ok"]
[null,null,null,null,null,null,null,null,null,null,null,null,null,null,null,null,null,null,null,null,null,null,null,"ok"]
[null,null,null,null,null,null,null,null,null,null,null,null,null,null,null,null,null,null,null,null,null,null,null,"ok"]
[null,null,null,null,null,null,null,null,null,null,null,null,null,null,null,null,null,null,null,null,null,null,null,"ok"]
[null,null,null,null,null,null,null,null,null,null,null,null,null,null,null,null,null,null,null,null,null,null,null,"ok"]
[null,null,null,null,null,null,null,null,null,null,null,null,null,null,null,null,null,null,null,null,null,null,null,"ok"]
[null,null,null,null,null,null,null,null,null,null,null,null,null,null,null,null,null,null,null,null,null,null,null,"ok"]
[null,null,null,null,null,null,null,null,null,null,null,null,null,null,null,null,null,null,null,null,null,null,null,"ok"]
[null,null,null,null,null,null,null,null,null,null,null,null,null,null,null,null,null,null,null,null,null,null,null,"ok"]
[null,null,null,null,null,null,null,null,null,null,null,null,null,null,null,null,null,null,null,null,null,null,null,"ok"]
[null,null,null,null,null,null,null,null,null,null,null,null,null,null,null,null,null,null,null,null,null,null,null,"ok"]
[null,null,null,null,null,null,null,null,null,null,null,null,null,null,null,null,null,null,null,null,null,null,null,"ok"]
[null,null,null,null,null,null,null,null,null,null,null,null,null,null,null,null,null,null,null,null,null,null,null,"ok"]
[null,null,null,null,null,null,null,null,null,null,null,null,null,null,null,null,null,null,null,null,null,null,null,"ok"]
[null,null,null,null,null,null,null,null,null,null,null,null,null,null,null,null,null,null,null,null,null,null,null,"ok"]
[null,null,null,null,null,null,null,null,null,null,null,null,null,null,null,null,null,null,null,null,null,null,null,"ok"]
[null,null,null,null,null,null,null,null,null,null,null,null,null,null,null,null,null,null,null,null,null,null,null,"ok"]
[null,null,null,null,null,null,null,null,null,null,null,null,null,null,null,null,null,null,null,null,null,null,null,"ok"]
[null,null,null,null,null,null,null,null,null,null,null,null,null,null,null,null,null,null,null,null,null,null,null,"ok"]
[null,null,null,null,null,null,null,null,null,null,null,null,null,null,null,null,null,null,null,null,null,null,null,"ok"]
[null,null,null,null,null,null,null,null,null,null,null,null,null,null,null,null,null,null,null,null,null,null,null,"ok"]
[null,null,null,null,null,null,null,null,null,null,null,null,null,null,null,null,null,null,null,null,null,null,null,"ok"]
[null,null,null,null,null,null,null,null,null,null,null,null,null,null,null,null,null,null,null,null,null,null,null,"ok"]
[null,null,null,null,null,null,null,null,null,null,null,null,null,null,null,null,null,null,null,null,null,null,null,"ok"]
[null,null,null,null,null,null,null,null,null,null,null,null,null,null,null,null,null,null,null,null,null,null,null,"ok"]
[null,null,null,null,null,null,null,null,null,null,null,null,null,null,null,null,null,null,null,null,null,null,null,"ok"]
[null,null,null,null,null,null,null,null,null,null,null,null,null,null,null,null,null,null,null,null,null,null,null,"ok"]
[null,null,null,null,null,null,null,null,null,null,null,null,null,null,null,null,null,null,null,null,null,null,null,"ok"]
[null,null,null,null,null,null,null,null,null,null,null,null,null,null,null,null,null,null,null,null,null,null,null,"ok"]
[null,null,null,null,null,null,null,null,null,null,null,null,null,null,null,null,null,null,null,null,null,null,null,"ok"]
[null,null,null,null,null,null,null,null,null,null,null,null,null,null,null,null,null,null,null,null,null,null,null,"ok"]
[null,null,null,null,null,null,null,null,null,null,null,null,null,null,null,null,null,null,null,null,null,null,null,"ok"]
[null,null,null,null,null,null,null,null,null,null,null,null,null,null,null,null,null,null,null,null,null,null,null,"ok"]
[null,null,null,null,null,null,null,null,null,null,null,null,null,null,null,null,null,null,null,null,null,null,null,{"$f":"IF(W363=B363,\"ok\",\"b\")","v":"ok"}]
[null,null,null,null,null,null,null,null,null,null,null,null,null,null,null,null,null,null,null,null,null,null,null,"ok"]
[null,null,null,null,null,null,null,null,null,null,null,null,null,null,null,null,null,null,null,null,null,null,null,"ok"]
[null,null,null,null,null,null,null,null,null,null,null,null,null,null,null,null,null,null,null,null,null,null,null,"ok"]
[null,null,null,null,null,null,null,null,null,null,null,null,null,null,null,null,null,null,null,null,null,null,null,"ok"]
[null,null,null,null,null,null,null,null,null,null,null,null,null,null,null,null,null,null,null,null,null,null,null,"ok"]
[null,null,null,null,null,null,null,null,null,null,null,null,null,null,null,null,null,null,null,null,null,null,null,"ok"]
[null,null,null,null,null,null,null,null,null,null,null,null,null,null,null,null,null,null,null,null,null,null,null,"ok"]
[null,null,null,null,null,null,null,null,null,null,null,null,null,null,null,null,null,null,null,null,null,null,null,"ok"]
[null,null,null,null,null,null,null,null,null,null,null,null,null,null,null,null,null,null,null,null,null,null,null,"ok"]
[null,null,null,null,null,null,null,null,null,null,null,null,null,null,null,null,null,null,null,null,null,null,null,"ok"]
[null,null,null,null,null,null,null,null,null,null,null,null,null,null,null,null,null,null,null,null,null,null,null,"ok"]
[null,null,null,null,null,null,null,null,null,null,null,null,null,null,null,null,null,null,null,null,null,null,null,"ok"]
[null,null,null,null,null,null,null,null,null,null,null,null,null,null,null,null,null,null,null,null,null,null,null,"ok"]
[null,null,null,null,null,null,null,null,null,null,null,null,null,null,null,null,null,null,null,null,null,null,null,"ok"]
[null,null,null,null,null,null,null,null,null,null,null,null,null,null,null,null,null,null,null,null,null,null,null,"ok"]
[null,null,null,null,null,null,null,null,null,null,null,null,null,null,null,null,null,null,null,null,null,null,null,"ok"]
[null,null,null,null,null,null,null,null,null,null,null,null,null,null,null,null,null,null,null,null,null,null,null,"ok"]
[null,null,null,null,null,null,null,null,null,null,null,null,null,null,null,null,null,null,null,null,null,null,null,"ok"]
[null,null,null,null,null,null,null,null,null,null,null,null,null,null,null,null,null,null,null,null,null,null,null,"ok"]
[null,null,null,null,null,null,null,null,null,null,null,null,null,null,null,null,null,null,null,null,null,null,null,"ok"]
[null,null,null,null,null,null,null,null,null,null,null,null,null,null,null,null,null,null,null,null,null,null,null,"ok"]
[null,null,null,null,null,null,null,null,null,null,null,null,null,null,null,null,null,null,null,null,null,null,null,"ok"]
[null,null,null,null,null,null,null,null,null,null,null,null,null,null,null,null,null,null,null,null,null,null,null,"ok"]
[null,null,null,null,null,null,null,null,null,null,null,null,null,null,null,null,null,null,null,null,null,null,null,"ok"]
[null,null,null,null,null,null,null,null,null,null,null,null,null,null,null,null,null,null,null,null,null,null,null,"ok"]
[null,null,null,null,null,null,null,null,null,null,null,null,null,null,null,null,null,null,null,null,null,null,null,"ok"]
[null,null,null,null,null,null,null,null,null,null,null,null,null,null,null,null,null,null,null,null,null,null,null,"ok"]
[null,null,null,null,null,null,null,null,null,null,null,null,null,null,null,null,null,null,null,null,null,null,null,"ok"]
[null,null,null,null,null,null,null,null,null,null,null,null,null,null,null,null,null,null,null,null,null,null,null,"ok"]
[null,null,null,null,null,null,null,null,null,null,null,null,null,null,null,null,null,null,null,null,null,null,null,"ok"]
[null,null,null,null,null,null,null,null,null,null,null,null,null,null,null,null,null,null,null,null,null,null,null,"ok"]
[null,null,null,null,null,null,null,null,null,null,null,null,null,null,null,null,null,null,null,null,null,null,null,"ok"]
[null,null,null,null,null,null,null,null,null,null,null,null,null,null,null,null,null,null,null,null,null,null,null,"ok"]
[null,null,null,null,null,null,null,null,null,null,null,null,null,null,null,null,null,null,null,null,null,null,null,"ok"]
[null,null,null,null,null,null,null,null,null,null,null,null,null,null,null,null,null,null,null,null,null,null,null,"ok"]
[null,null,null,null,null,null,null,null,null,null,null,null,null,null,null,null,null,null,null,null,null,null,null,"ok"]
[null,null,null,null,null,null,null,null,null,null,null,null,null,null,null,null,null,null,null,null,null,null,null,"ok"]
[null,null,null,null,null,null,null,null,null,null,null,null,null,null,null,null,null,null,null,null,null,null,null,"ok"]
[null,null,null,null,null,null,null,null,null,null,null,null,null,null,null,null,null,null,null,null,null,null,null,"ok"]
[null,null,null,null,null,null,null,null,null,null,null,null,null,null,null,null,null,null,null,null,null,null,null,"ok"]
[null,null,null,null,null,null,null,null,null,null,null,null,null,null,null,null,null,null,null,null,null,null,null,"ok"]
[null,null,null,null,null,null,null,null,null,null,null,null,null,null,null,null,null,null,null,null,null,null,null,"ok"]
[null,null,null,null,null,null,null,null,null,null,null,null,null,null,null,null,null,null,null,null,null,null,null,"ok"]
[null,null,null,null,null,null,null,null,null,null,null,null,null,null,null,null,null,null,null,null,null,null,null,"ok"]
[null,null,null,null,null,null,null,null,null,null,null,null,null,null,null,null,null,null,null,null,null,null,null,"ok"]
[null,null,null,null,null,null,null,null,null,null,null,null,null,null,null,null,null,null,null,null,null,null,null,"ok"]
[null,null,null,null,null,null,null,null,null,null,null,null,null,null,null,null,null,null,null,null,null,null,null,"ok"]
[null,null,null,null,null,null,null,null,null,null,null,null,null,null,null,null,null,null,null,null,null,null,null,"ok"]
[null,null,null,null,null,null,null,null,null,null,null,null,null,null,null,null,null,null,null,null,null,null,null,"ok"]
[null,null,null,null,null,null,null,null,null,null,null,null,null,null,null,null,null,null,null,null,null,null,null,"ok"]
[null,null,null,null,null,null,null,null,null,null,null,null,null,null,null,null,null,null,null,null,null,null,null,"ok"]
[null,null,null,null,null,null,null,null,null,null,null,null,null,null,null,null,null,null,null,null,null,null,null,"ok"]
[null,null,null,null,null,null,null,null,null,null,null,null,null,null,null,null,null,null,null,null,null,null,null,"ok"]
[null,null,null,null,null,null,null,null,null,null,null,null,null,null,null,null,null,null,null,null,null,null,null,"ok"]
[null,null,null,null,null,null,null,null,null,null,null,null,null,null,null,null,null,null,null,null,null,null,null,"ok"]
[null,null,null,null,null,null,null,null,null,null,null,null,null,null,null,null,null,null,null,null,null,null,null,"ok"]
[null,null,null,null,null,null,null,null,null,null,null,null,null,null,null,null,null,null,null,null,null,null,null,"ok"]
[null,null,null,null,null,null,null,null,null,null,null,null,null,null,null,null,null,null,null,null,null,null,null,"ok"]
[null,null,null,null,null,null,null,null,null,null,null,null,null,null,null,null,null,null,null,null,null,null,null,"ok"]
[null,null,null,null,null,null,null,null,null,null,null,null,null,null,null,null,null,null,null,null,null,null,null,"ok"]
[null,null,null,null,null,null,null,null,null,null,null,null,null,null,null,null,null,null,null,null,null,null,null,"ok"]
[null,null,null,null,null,null,null,null,null,null,null,null,null,null,null,null,null,null,null,null,null,null,null,"ok"]
[null,null,null,null,null,null,null,null,null,null,null,null,null,null,null,null,null,null,null,null,null,null,null,"ok"]
[null,null,null,null,null,null,null,null,null,null,null,null,null,null,null,null,null,null,null,null,null,null,null,{"$f":"IF(W427=B427,\"ok\",\"b\")","v":"ok"}]
[null,null,null,null,null,null,null,null,null,null,null,null,null,null,null,null,null,null,null,null,null,null,null,"ok"]
[null,null,null,null,null,null,null,null,null,null,null,null,null,null,null,null,null,null,null,null,null,null,null,"ok"]
[null,null,null,null,null,null,null,null,null,null,null,null,null,null,null,null,null,null,null,null,null,null,null,"ok"]
[null,null,null,null,null,null,null,null,null,null,null,null,null,null,null,null,null,null,null,null,null,null,null,"ok"]
[null,null,null,null,null,null,null,null,null,null,null,null,null,null,null,null,null,null,null,null,null,null,null,"ok"]
[null,null,null,null,null,null,null,null,null,null,null,null,null,null,null,null,null,null,null,null,null,null,null,"ok"]
[null,null,null,null,null,null,null,null,null,null,null,null,null,null,null,null,null,null,null,null,null,null,null,"ok"]
[null,null,null,null,null,null,null,null,null,null,null,null,null,null,null,null,null,null,null,null,null,null,null,"ok"]
[null,null,null,null,null,null,null,null,null,null,null,null,null,null,null,null,null,null,null,null,null,null,null,"ok"]
[null,null,null,null,null,null,null,null,null,null,null,null,null,null,null,null,null,null,null,null,null,null,null,"ok"]
[null,null,null,null,null,null,null,null,null,null,null,null,null,null,null,null,null,null,null,null,null,null,null,"ok"]
[null,null,null,null,null,null,null,null,null,null,null,null,null,null,null,null,null,null,null,null,null,null,null,"ok"]
[null,null,null,null,null,null,null,null,null,null,null,null,null,null,null,null,null,null,null,null,null,null,null,"ok"]
[null,null,null,null,null,null,null,null,null,null,null,null,null,null,null,null,null,null,null,null,null,null,null,"ok"]
[null,null,null,null,null,null,null,null,null,null,null,null,null,null,null,null,null,null,null,null,null,null,null,"ok"]
[null,null,null,null,null,null,null,null,null,null,null,null,null,null,null,null,null,null,null,null,null,null,null,"ok"]
[null,null,null,null,null,null,null,null,null,null,null,null,null,null,null,null,null,null,null,null,null,null,null,"ok"]
[null,null,null,null,null,null,null,null,null,null,null,null,null,null,null,null,null,null,null,null,null,null,null,"ok"]
[null,null,null,null,null,null,null,null,null,null,null,null,null,null,null,null,null,null,null,null,null,null,null,"ok"]
[null,null,null,null,null,null,null,null,null,null,null,null,null,null,null,null,null,null,null,null,null,null,null,"ok"]
[null,null,null,null,null,null,null,null,null,null,null,null,null,null,null,null,null,null,null,null,null,null,null,"ok"]
[null,null,null,null,null,null,null,null,null,null,null,null,null,null,null,null,null,null,null,null,null,null,null,"ok"]
[null,null,null,null,null,null,null,null,null,null,null,null,null,null,null,null,null,null,null,null,null,null,null,"ok"]
[null,null,null,null,null,null,null,null,null,null,null,null,null,null,null,null,null,null,null,null,null,null,null,"ok"]
[null,null,null,null,null,null,null,null,null,null,null,null,null,null,null,null,null,null,null,null,null,null,null,"ok"]
[null,null,null,null,null,null,null,null,null,null,null,null,null,null,null,null,null,null,null,null,null,null,null,"ok"]
[null,null,null,null,null,null,null,null,null,null,null,null,null,null,null,null,null,null,null,null,null,null,null,"ok"]
[null,null,null,null,null,null,null,null,null,null,null,null,null,null,null,null,null,null,null,null,null,null,null,"ok"]
[null,null,null,null,null,null,null,null,null,null,null,null,null,null,null,null,null,null,null,null,null,null,null,"ok"]
[null,null,null,null,null,null,null,null,null,null,null,null,null,null,null,null,null,null,null,null,null,null,null,"ok"]
[null,null,null,null,null,null,null,null,null,null,null,null,null,null,null,null,null,null,null,null,null,null,null,"ok"]
[null,null,null,null,null,null,null,null,null,null,null,null,null,null,null,null,null,null,null,null,null,null,null,"ok"]
[null,null,null,null,null,null,null,null,null,null,null,null,null,null,null,null,null,null,null,null,null,null,null,"ok"]
[null,null,null,null,null,null,null,null,null,null,null,null,null,null,null,null,null,null,null,null,null,null,null,"ok"]
[null,null,null,null,null,null,null,null,null,null,null,null,null,null,null,null,null,null,null,null,null,null,null,"ok"]
[null,null,null,null,null,null,null,null,null,null,null,null,null,null,null,null,null,null,null,null,null,null,null,"ok"]
[null,null,null,null,null,null,null,null,null,null,null,null,null,null,null,null,null,null,null,null,null,null,null,"ok"]
[null,null,null,null,null,null,null,null,null,null,null,null,null,null,null,null,null,null,null,null,null,null,null,"ok"]
[null,null,null,null,null,null,null,null,null,null,null,null,null,null,null,null,null,null,null,null,null,null,null,"ok"]
[null,null,null,null,null,null,null,null,null,null,null,null,null,null,null,null,null,null,null,null,null,null,null,"ok"]
[null,null,null,null,null,null,null,null,null,null,null,null,null,null,null,null,null,null,null,null,null,null,null,"ok"]
[null,null,null,null,null,null,null,null,null,null,null,null,null,null,null,null,null,null,null,null,null,null,null,"ok"]
[null,null,null,null,null,null,null,null,null,null,null,null,null,null,null,null,null,null,null,null,null,null,null,"ok"]
[null,null,null,null,null,null,null,null,null,null,null,null,null,null,null,null,null,null,null,null,null,null,null,"ok"]
[null,null,null,null,null,null,null,null,null,null,null,null,null,null,null,null,null,null,null,null,null,null,null,"ok"]
[null,null,null,null,null,null,null,null,null,null,null,null,null,null,null,null,null,null,null,null,null,null,null,"ok"]
[null,null,null,null,null,null,null,null,null,null,null,null,null,null,null,null,null,null,null,null,null,null,null,"ok"]
[null,null,null,null,null,null,null,null,null,null,null,null,null,null,null,null,null,null,null,null,null,null,null,"ok"]
[null,null,null,null,null,null,null,null,null,null,null,null,null,null,null,null,null,null,null,null,null,null,null,"ok"]
[null,null,null,null,null,null,null,null,null,null,null,null,null,null,null,null,null,null,null,null,null,null,null,"ok"]
[null,null,null,null,null,null,null,null,null,null,null,null,null,null,null,null,null,null,null,null,null,null,null,"ok"]
[null,null,null,null,null,null,null,null,null,null,null,null,null,null,null,null,null,null,null,null,null,null,null,"ok"]
[null,null,null,null,null,null,null,null,null,null,null,null,null,null,null,null,null,null,null,null,null,null,null,"ok"]
[null,null,null,null,null,null,null,null,null,null,null,null,null,null,null,null,null,null,null,null,null,null,null,"ok"]
[null,null,null,null,null,null,null,null,null,null,null,null,null,null,null,null,null,null,null,null,null,null,null,"ok"]
[null,null,null,null,null,null,null,null,null,null,null,null,null,null,null,null,null,null,null,null,null,null,null,"ok"]
[null,null,null,null,null,null,null,null,null,null,null,null,null,null,null,null,null,null,null,null,null,null,null,"ok"]
[null,null,null,null,null,null,null,null,null,null,null,null,null,null,null,null,null,null,null,null,null,null,null,"ok"]
[null,null,null,null,null,null,null,null,null,null,null,null,null,null,null,null,null,null,null,null,null,null,null,"ok"]
[null,null,null,null,null,null,null,null,null,null,null,null,null,null,null,null,null,null,null,null,null,null,null,"ok"]
[null,null,null,null,null,null,null,null,null,null,null,null,null,null,null,null,null,null,null,null,null,null,null,"ok"]
[null,null,null,null,null,null,null,null,null,null,null,null,null,null,null,null,null,null,null,null,null,null,null,"ok"]
[null,null,null,null,null,null,null,null,null,null,null,null,null,null,null,null,null,null,null,null,null,null,null,"ok"]
[null,null,null,null,null,null,null,null,null,null,null,null,null,null,null,null,null,null,null,null,null,null,null,{"$f":"IF(W491=B491,\"ok\",\"b\")","v":"ok"}]
[null,null,null,null,null,null,null,null,null,null,null,null,null,null,null,null,null,null,null,null,null,null,null,"ok"]
[null,null,null,null,null,null,null,null,null,null,null,null,null,null,null,null,null,null,null,null,null,null,null,"ok"]
[null,null,null,null,null,null,null,null,null,null,null,null,null,null,null,null,null,null,null,null,null,null,null,"ok"]
[null,null,null,null,null,null,null,null,null,null,null,null,null,null,null,null,null,null,null,null,null,null,null,"ok"]
[null,null,null,null,null,null,null,null,null,null,null,null,null,null,null,null,null,null,null,null,null,null,null,"ok"]
[null,null,null,null,null,null,null,null,null,null,null,null,null,null,null,null,null,null,null,null,null,null,null,"ok"]
[null,null,null,null,null,null,null,null,null,null,null,null,null,null,null,null,null,null,null,null,null,null,null,"ok"]
[null,null,null,null,null,null,null,null,null,null,null,null,null,null,null,null,null,null,null,null,null,null,null,"ok"]
[null,null,null,null,null,null,null,null,null,null,null,null,null,null,null,null,null,null,null,null,null,null,null,"ok"]
[null,null,null,null,null,null,null,null,null,null,null,null,null,null,null,null,null,null,null,null,null,null,null,"ok"]
[null,null,null,null,null,null,null,null,null,null,null,null,null,null,null,null,null,null,null,null,null,null,null,"ok"]
[null,null,null,null,null,null,null,null,null,null,null,null,null,null,null,null,null,null,null,null,null,null,null,"ok"]
[null,null,null,null,null,null,null,null,null,null,null,null,null,null,null,null,null,null,null,null,null,null,null,"ok"]
[null,null,null,null,null,null,null,null,null,null,null,null,null,null,null,null,null,null,null,null,null,null,null,"ok"]
[null,null,null,null,null,null,null,null,null,null,null,null,null,null,null,null,null,null,null,null,null,null,null,"ok"]
[null,null,null,null,null,null,null,null,null,null,null,null,null,null,null,null,null,null,null,null,null,null,null,"ok"]
[null,null,null,null,null,null,null,null,null,null,null,null,null,null,null,null,null,null,null,null,null,null,null,"ok"]
[null,null,null,null,null,null,null,null,null,null,null,null,null,null,null,null,null,null,null,null,null,null,null,"ok"]
[null,null,null,null,null,null,null,null,null,null,null,null,null,null,null,null,null,null,null,null,null,null,null,"ok"]
[null,null,null,null,null,null,null,null,null,null,null,null,null,null,null,null,null,null,null,null,null,null,null,"ok"]
[null,null,null,null,null,null,null,null,null,null,null,null,null,null,null,null,null,null,null,null,null,null,null,"ok"]
[null,null,null,null,null,null,null,null,null,null,null,null,null,null,null,null,null,null,null,null,null,null,null,"ok"]
[null,null,null,null,null,null,null,null,null,null,null,null,null,null,null,null,null,null,null,null,null,null,null,"ok"]
[null,null,null,null,null,null,null,null,null,null,null,null,null,null,null,null,null,null,null,null,null,null,null,"ok"]
[null,null,null,null,null,null,null,null,null,null,null,null,null,null,null,null,null,null,null,null,null,null,null,"ok"]
[null,null,null,null,null,null,null,null,null,null,null,null,null,null,null,null,null,null,null,null,null,null,null,"ok"]
[null,null,null,null,null,null,null,null,null,null,null,null,null,null,null,null,null,null,null,null,null,null,null,"ok"]
[null,null,null,null,null,null,null,null,null,null,null,null,null,null,null,null,null,null,null,null,null,null,null,"ok"]
[null,null,null,null,null,null,null,null,null,null,null,null,null,null,null,null,null,null,null,null,null,null,null,"ok"]
[null,null,null,null,null,null,null,null,null,null,null,null,null,null,null,null,null,null,null,null,null,null,null,"ok"]
[null,null,null,null,null,null,null,null,null,null,null,null,null,null,null,null,null,null,null,null,null,null,null,"ok"]
[null,null,null,null,null,null,null,null,null,null,null,null,null,null,null,null,null,null,null,null,null,null,null,"ok"]
[null,null,null,null,null,null,null,null,null,null,null,null,null,null,null,null,null,null,null,null,null,null,null,"ok"]
[null,null,null,null,null,null,null,null,null,null,null,null,null,null,null,null,null,null,null,null,null,null,null,"ok"]
[null,null,null,null,null,null,null,null,null,null,null,null,null,null,null,null,null,null,null,null,null,null,null,"ok"]
[null,null,null,null,null,null,null,null,null,null,null,null,null,null,null,null,null,null,null,null,null,null,null,"ok"]
[null,null,null,null,null,null,null,null,null,null,null,null,null,null,null,null,null,null,null,null,null,null,null,"ok"]
[null,null,null,null,null,null,null,null,null,null,null,null,null,null,null,null,null,null,null,null,null,null,null,"ok"]
[null,null,null,null,null,null,null,null,null,null,null,null,null,null,null,null,null,null,null,null,null,null,null,"ok"]
[null,null,null,null,null,null,null,null,null,null,null,null,null,null,null,null,null,null,null,null,null,null,null,"ok"]
[null,null,null,null,null,null,null,null,null,null,null,null,null,null,null,null,null,null,null,null,null,null,null,"ok"]
[null,null,null,null,null,null,null,null,null,null,null,null,null,null,null,null,null,null,null,null,null,null,null,"ok"]
[null,null,null,null,null,null,null,null,null,null,null,null,null,null,null,null,null,null,null,null,null,null,null,"ok"]
[null,null,null,null,null,null,null,null,null,null,null,null,null,null,null,null,null,null,null,null,null,null,null,"ok"]
[null,null,null,null,null,null,null,null,null,null,null,null,null,null,null,null,null,null,null,null,null,null,null,"ok"]
[null,null,null,null,null,null,null,null,null,null,null,null,null,null,null,null,null,null,null,null,null,null,null,"ok"]
[null,null,null,null,null,null,null,null,null,null,null,null,null,null,null,null,null,null,null,null,null,null,null,"ok"]
[null,null,null,null,null,null,null,null,null,null,null,null,null,null,null,null,null,null,null,null,null,null,null,"ok"]
[null,null,null,null,null,null,null,null,null,null,null,null,null,null,null,null,null,null,null,null,null,null,null,"ok"]
[null,null,null,null,null,null,null,null,null,null,null,null,null,null,null,null,null,null,null,null,null,null,null,"ok"]
[null,null,null,null,null,null,null,null,null,null,null,null,null,null,null,null,null,null,null,null,null,null,null,"ok"]
[null,null,null,null,null,null,null,null,null,null,null,null,null,null,null,null,null,null,null,null,null,null,null,"ok"]
[null,null,null,null,null,null,null,null,null,null,null,null,null,null,null,null,null,null,null,null,null,null,null,"ok"]
[null,null,null,null,null,null,null,null,null,null,null,null,null,null,null,null,null,null,null,null,null,null,null,"ok"]
[null,null,null,null,null,null,null,null,null,null,null,null,null,null,null,null,null,null,null,null,null,null,null,"ok"]
[null,null,null,null,null,null,null,null,null,null,null,null,null,null,null,null,null,null,null,null,null,null,null,"ok"]
[null,null,null,null,null,null,null,null,null,null,null,null,null,null,null,null,null,null,null,null,null,null,null,"ok"]
[null,null,null,null,null,null,null,null,null,null,null,null,null,null,null,null,null,null,null,null,null,null,null,"ok"]
[null,null,null,null,null,null,null,null,null,null,null,null,null,null,null,null,null,null,null,null,null,null,null,"ok"]
[null,null,null,null,null,null,null,null,null,null,null,null,null,null,null,null,null,null,null,null,null,null,null,"ok"]
[null,null,null,null,null,null,null,null,null,null,null,null,null,null,null,null,null,null,null,null,null,null,null,"ok"]
[null,null,null,null,null,null,null,null,null,null,null,null,null,null,null,null,null,null,null,null,null,null,null,"ok"]
[null,null,null,null,null,null,null,null,null,null,null,null,null,null,null,null,null,null,null,null,null,null,null,"ok"]
[null,null,null,null,null,null,null,null,null,null,null,null,null,null,null,null,null,null,null,null,null,null,null,{"$f":"IF(W555=B555,\"ok\",\"b\")","v":"ok"}]
[null,null,null,null,null,null,null,null,null,null,null,null,null,null,null,null,null,null,null,null,null,null,null,"ok"]
[null,null,null,null,null,null,null,null,null,null,null,null,null,null,null,null,null,null,null,null,null,null,null,"ok"]
[null,null,null,null,null,null,null,null,null,null,null,null,null,null,null,null,null,null,null,null,null,null,null,"ok"]
[null,null,null,null,null,null,null,null,null,null,null,null,null,null,null,null,null,null,null,null,null,null,null,"ok"]
[null,null,null,null,null,null,null,null,null,null,null,null,null,null,null,null,null,null,null,null,null,null,null,"ok"]
[null,null,null,null,null,null,null,null,null,null,null,null,null,null,null,null,null,null,null,null,null,null,null,"ok"]
[null,null,null,null,null,null,null,null,null,null,null,null,null,null,null,null,null,null,null,null,null,null,null,"ok"]
[null,null,null,null,null,null,null,null,null,null,null,null,null,null,null,null,null,null,null,null,null,null,null,"ok"]
[null,null,null,null,null,null,null,null,null,null,null,null,null,null,null,null,null,null,null,null,null,null,null,"ok"]
[null,null,null,null,null,null,null,null,null,null,null,null,null,null,null,null,null,null,null,null,null,null,null,"ok"]
[null,null,null,null,null,null,null,null,null,null,null,null,null,null,null,null,null,null,null,null,null,null,null,"ok"]
[null,null,null,null,null,null,null,null,null,null,null,null,null,null,null,null,null,null,null,null,null,null,null,"ok"]
[null,null,null,null,null,null,null,null,null,null,null,null,null,null,null,null,null,null,null,null,null,null,null,"ok"]
[null,null,null,null,null,null,null,null,null,null,null,null,null,null,null,null,null,null,null,null,null,null,null,"ok"]
[null,null,null,null,null,null,null,null,null,null,null,null,null,null,null,null,null,null,null,null,null,null,null,"ok"]
[null,null,null,null,null,null,null,null,null,null,null,null,null,null,null,null,null,null,null,null,null,null,null,"ok"]
[null,null,null,null,null,null,null,null,null,null,null,null,null,null,null,null,null,null,null,null,null,null,null,"ok"]
[null,null,null,null,null,null,null,null,null,null,null,null,null,null,null,null,null,null,null,null,null,null,null,"ok"]
[null,null,null,null,null,null,null,null,null,null,null,null,null,null,null,null,null,null,null,null,null,null,null,"ok"]
[null,null,null,null,null,null,null,null,null,null,null,null,null,null,null,null,null,null,null,null,null,null,null,"ok"]
[null,null,null,null,null,null,null,null,null,null,null,null,null,null,null,null,null,null,null,null,null,null,null,"ok"]
[null,null,null,null,null,null,null,null,null,null,null,null,null,null,null,null,null,null,null,null,null,null,null,"ok"]
[null,null,null,null,null,null,null,null,null,null,null,null,null,null,null,null,null,null,null,null,null,null,null,"ok"]
[null,null,null,null,null,null,null,null,null,null,null,null,null,null,null,null,null,null,null,null,null,null,null,"ok"]
[null,null,null,null,null,null,null,null,null,null,null,null,null,null,null,null,null,null,null,null,null,null,null,"ok"]
[null,null,null,null,null,null,null,null,null,null,null,null,null,null,null,null,null,null,null,null,null,null,null,"ok"]
[null,null,null,null,null,null,null,null,null,null,null,null,null,null,null,null,null,null,null,null,null,null,null,"ok"]
[null,null,null,null,null,null,null,null,null,null,null,null,null,null,null,null,null,null,null,null,null,null,null,"ok"]
[null,null,null,null,null,null,null,null,null,null,null,null,null,null,null,null,null,null,null,null,null,null,null,"ok"]
[null,null,null,null,null,null,null,null,null,null,null,null,null,null,null,null,null,null,null,null,null,null,null,"ok"]
[null,null,null,null,null,null,null,null,null,null,null,null,null,null,null,null,null,null,null,null,null,null,null,"ok"]
[null,null,null,null,null,null,null,null,null,null,null,null,null,null,null,null,null,null,null,null,null,null,null,"ok"]
[null,null,null,null,null,null,null,null,null,null,null,null,null,null,null,null,null,null,null,null,null,null,null,"ok"]
[null,null,null,null,null,null,null,null,null,null,null,null,null,null,null,null,null,null,null,null,null,null,null,"ok"]
[null,null,null,null,null,null,null,null,null,null,null,null,null,null,null,null,null,null,null,null,null,null,null,"ok"]
[null,null,null,null,null,null,null,null,null,null,null,null,null,null,null,null,null,null,null,null,null,null,null,"ok"]
[null,null,null,null,null,null,null,null,null,null,null,null,null,null,null,null,null,null,null,null,null,null,null,"ok"]
[null,null,null,null,null,null,null,null,null,null,null,null,null,null,null,null,null,null,null,null,null,null,null,"ok"]
[null,null,null,null,null,null,null,null,null,null,null,null,null,null,null,null,null,null,null,null,null,null,null,"ok"]
[null,null,null,null,null,null,null,null,null,null,null,null,null,null,null,null,null,null,null,null,null,null,null,"ok"]
[null,null,null,null,null,null,null,null,null,null,null,null,null,null,null,null,null,null,null,null,null,null,null,"ok"]
[null,null,null,null,null,null,null,null,null,null,null,null,null,null,null,null,null,null,null,null,null,null,null,"ok"]
[null,null,null,null,null,null,null,null,null,null,null,null,null,null,null,null,null,null,null,null,null,null,null,"ok"]
[null,null,null,null,null,null,null,null,null,null,null,null,null,null,null,null,null,null,null,null,null,null,null,"ok"]
[null,null,null,null,null,null,null,null,null,null,null,null,null,null,null,null,null,null,null,null,null,null,null,"ok"]
[null,null,null,null,null,null,null,null,null,null,null,null,null,null,null,null,null,null,null,null,null,null,null,"ok"]
[null,null,null,null,null,null,null,null,null,null,null,null,null,null,null,null,null,null,null,null,null,null,null,"ok"]
[null,null,null,null,null,null,null,null,null,null,null,null,null,null,null,null,null,null,null,null,null,null,null,"ok"]
[null,null,null,null,null,null,null,null,null,null,null,null,null,null,null,null,null,null,null,null,null,null,null,"ok"]
[null,null,null,null,null,null,null,null,null,null,null,null,null,null,null,null,null,null,null,null,null,null,null,"ok"]
[null,null,null,null,null,null,null,null,null,null,null,null,null,null,null,null,null,null,null,null,null,null,null,"ok"]
[null,null,null,null,null,null,null,null,null,null,null,null,null,null,null,null,null,null,null,null,null,null,null,"ok"]
[null,null,null,null,null,null,null,null,null,null,null,null,null,null,null,null,null,null,null,null,null,null,null,"ok"]
[null,null,null,null,null,null,null,null,null,null,null,null,null,null,null,null,null,null,null,null,null,null,null,"ok"]
[null,null,null,null,null,null,null,null,null,null,null,null,null,null,null,null,null,null,null,null,null,null,null,"ok"]
[null,null,null,null,null,null,null,null,null,null,null,null,null,null,null,null,null,null,null,null,null,null,null,"ok"]
[null,null,null,null,null,null,null,null,null,null,null,null,null,null,null,null,null,null,null,null,null,null,null,"ok"]
[null,null,null,null,null,null,null,null,null,null,null,null,null,null,null,null,null,null,null,null,null,null,null,"ok"]
[null,null,null,null,null,null,null,null,null,null,null,null,null,null,null,null,null,null,null,null,null,null,null,"ok"]
[null,null,null,null,null,null,null,null,null,null,null,null,null,null,null,null,null,null,null,null,null,null,null,"ok"]
[null,null,null,null,null,null,null,null,null,null,null,null,null,null,null,null,null,null,null,null,null,null,null,"ok"]
[null,null,null,null,null,null,null,null,null,null,null,null,null,null,null,null,null,null,null,null,null,null,null,"ok"]
[null,null,null,null,null,null,null,null,null,null,null,null,null,null,null,null,null,null,null,null,null,null,null,"ok"]
[null,null,null,null,null,null,null,null,null,null,null,null,null,null,null,null,null,null,null,null,null,null,null,{"$f":"IF(W619=B619,\"ok\",\"b\")","v":"ok"}]
[null,null,null,null,null,null,null,null,null,null,null,null,null,null,null,null,null,null,null,null,null,null,null,"ok"]
[null,null,null,null,null,null,null,null,null,null,null,null,null,null,null,null,null,null,null,null,null,null,null,"ok"]
[null,null,null,null,null,null,null,null,null,null,null,null,null,null,null,null,null,null,null,null,null,null,null,"ok"]
[null,null,null,null,null,null,null,null,null,null,null,null,null,null,null,null,null,null,null,null,null,null,null,"ok"]
[null,null,null,null,null,null,null,null,null,null,null,null,null,null,null,null,null,null,null,null,null,null,null,"ok"]
[null,null,null,null,null,null,null,null,null,null,null,null,null,null,null,null,null,null,null,null,null,null,null,"ok"]
[null,null,null,null,null,null,null,null,null,null,null,null,null,null,null,null,null,null,null,null,null,null,null,"ok"]
[null,null,null,null,null,null,null,null,null,null,null,null,null,null,null,null,null,null,null,null,null,null,null,"ok"]
[null,null,null,null,null,null,null,null,null,null,null,null,null,null,null,null,null,null,null,null,null,null,null,"ok"]
[null,null,null,null,null,null,null,null,null,null,null,null,null,null,null,null,null,null,null,null,null,null,null,"ok"]
[null,null,null,null,null,null,null,null,null,null,null,null,null,null,null,null,null,null,null,null,null,null,null,"ok"]
[null,null,null,null,null,null,null,null,null,null,null,null,null,null,null,null,null,null,null,null,null,null,null,"ok"]
[null,null,null,null,null,null,null,null,null,null,null,null,null,null,null,null,null,null,null,null,null,null,null,"ok"]
[null,null,null,null,null,null,null,null,null,null,null,null,null,null,null,null,null,null,null,null,null,null,null,"ok"]
[null,null,null,null,null,null,null,null,null,null,null,null,null,null,null,null,null,null,null,null,null,null,null,"ok"]
[null,null,null,null,null,null,null,null,null,null,null,null,null,null,null,null,null,null,null,null,null,null,null,"ok"]
[null,null,null,null,null,null,null,null,null,null,null,null,null,null,null,null,null,null,null,null,null,null,null,"ok"]
[null,null,null,null,null,null,null,null,null,null,null,null,null,null,null,null,null,null,null,null,null,null,null,"ok"]
[null,null,null,null,null,null,null,null,null,null,null,null,null,null,null,null,null,null,null,null,null,null,null,"ok"]
[null,null,null,null,null,null,null,null,null,null,null,null,null,null,null,null,null,null,null,null,null,null,null,"ok"]
[null,null,null,null,null,null,null,null,null,null,null,null,null,null,null,null,null,null,null,null,null,null,null,"ok"]
[null,null,null,null,null,null,null,null,null,null,null,null,null,null,null,null,null,null,null,null,null,null,null,"ok"]
[null,null,null,null,null,null,null,null,null,null,null,null,null,null,null,null,null,null,null,null,null,null,null,"ok"]
[null,null,null,null,null,null,null,null,null,null,null,null,null,null,null,null,null,null,null,null,null,null,null,"ok"]
[null,null,null,null,null,null,null,null,null,null,null,null,null,null,null,null,null,null,null,null,null,null,null,"ok"]
[null,null,null,null,null,null,null,null,null,null,null,null,null,null,null,null,null,null,null,null,null,null,null,"ok"]
[null,null,null,null,null,null,null,null,null,null,null,null,null,null,null,null,null,null,null,null,null,null,null,"ok"]
[null,null,null,null,null,null,null,null,null,null,null,null,null,null,null,null,null,null,null,null,null,null,null,"ok"]
[null,null,null,null,null,null,null,null,null,null,null,null,null,null,null,null,null,null,null,null,null,null,null,"ok"]
[null,null,null,null,null,null,null,null,null,null,null,null,null,null,null,null,null,null,null,null,null,null,null,"ok"]
[null,null,null,null,null,null,null,null,null,null,null,null,null,null,null,null,null,null,null,null,null,null,null,"ok"]
[null,null,null,null,null,null,null,null,null,null,null,null,null,null,null,null,null,null,null,null,null,null,null,"ok"]
[null,null,null,null,null,null,null,null,null,null,null,null,null,null,null,null,null,null,null,null,null,null,null,"ok"]
[null,null,null,null,null,null,null,null,null,null,null,null,null,null,null,null,null,null,null,null,null,null,null,"ok"]
[null,null,null,null,null,null,null,null,null,null,null,null,null,null,null,null,null,null,null,null,null,null,null,"ok"]
[null,null,null,null,null,null,null,null,null,null,null,null,null,null,null,null,null,null,null,null,null,null,null,"ok"]
[null,null,null,null,null,null,null,null,null,null,null,null,null,null,null,null,null,null,null,null,null,null,null,"ok"]
[null,null,null,null,null,null,null,null,null,null,null,null,null,null,null,null,null,null,null,null,null,null,null,"ok"]
[null,null,null,null,null,null,null,null,null,null,null,null,null,null,null,null,null,null,null,null,null,null,null,"ok"]
[null,null,null,null,null,null,null,null,null,null,null,null,null,null,null,null,null,null,null,null,null,null,null,"ok"]
[null,null,null,null,null,null,null,null,null,null,null,null,null,null,null,null,null,null,null,null,null,null,null,"ok"]
[null,null,null,null,null,null,null,null,null,null,null,null,null,null,null,null,null,null,null,null,null,null,null,"ok"]
[null,null,null,null,null,null,null,null,null,null,null,null,null,null,null,null,null,null,null,null,null,null,null,"ok"]
[null,null,null,null,null,null,null,null,null,null,null,null,null,null,null,null,null,null,null,null,null,null,null,"ok"]
[null,null,null,null,null,null,null,null,null,null,null,null,null,null,null,null,null,null,null,null,null,null,null,"ok"]
[null,null,null,null,null,null,null,null,null,null,null,null,null,null,null,null,null,null,null,null,null,null,null,"ok"]
[null,null,null,null,null,null,null,null,null,null,null,null,null,null,null,null,null,null,null,null,null,null,null,"ok"]
[null,null,null,null,null,null,null,null,null,null,null,null,null,null,null,null,null,null,null,null,null,null,null,"ok"]
[null,null,null,null,null,null,null,null,null,null,null,null,null,null,null,null,null,null,null,null,null,null,null,"ok"]
[null,null,null,null,null,null,null,null,null,null,null,null,null,null,null,null,null,null,null,null,null,null,null,"ok"]
[null,null,null,null,null,null,null,null,null,null,null,null,null,null,null,null,null,null,null,null,null,null,null,"ok"]
[null,null,null,null,null,null,null,null,null,null,null,null,null,null,null,null,null,null,null,null,null,null,null,"ok"]
[null,null,null,null,null,null,null,null,null,null,null,null,null,null,null,null,null,null,null,null,null,null,null,"ok"]
[null,null,null,null,null,null,null,null,null,null,null,null,null,null,null,null,null,null,null,null,null,null,null,"ok"]
[null,null,null,null,null,null,null,null,null,null,null,null,null,null,null,null,null,null,null,null,null,null,null,"ok"]
[null,null,null,null,null,null,null,null,null,null,null,null,null,null,null,null,null,null,null,null,null,null,null,"ok"]
[null,null,null,null,null,null,null,null,null,null,null,null,null,null,null,null,null,null,null,null,null,null,null,"ok"]
[null,null,null,null,null,null,null,null,null,null,null,null,null,null,null,null,null,null,null,null,null,null,null,"ok"]
[null,null,null,null,null,null,null,null,null,null,null,null,null,null,null,null,null,null,null,null,null,null,null,"ok"]
[null,null,null,null,null,null,null,null,null,null,null,null,null,null,null,null,null,null,null,null,null,null,null,"ok"]
[null,null,null,null,null,null,null,null,null,null,null,null,null,null,null,null,null,null,null,null,null,null,null,"ok"]
[null,null,null,null,null,null,null,null,null,null,null,null,null,null,null,null,null,null,null,null,null,null,null,"ok"]
[null,null,null,null,null,null,null,null,null,null,null,null,null,null,null,null,null,null,null,null,null,null,null,"ok"]
[null,null,null,null,null,null,null,null,null,null,null,null,null,null,null,null,null,null,null,null,null,null,null,{"$f":"IF(W683=B683,\"ok\",\"b\")","v":"ok"}]
[null,null,null,null,null,null,null,null,null,null,null,null,null,null,null,null,null,null,null,null,null,null,null,"ok"]
[null,null,null,null,null,null,null,null,null,null,null,null,null,null,null,null,null,null,null,null,null,null,null,"ok"]
[null,null,null,null,null,null,null,null,null,null,null,null,null,null,null,null,null,null,null,null,null,null,null,"ok"]
[null,null,null,null,null,null,null,null,null,null,null,null,null,null,null,null,null,null,null,null,null,null,null,"ok"]
[null,null,null,null,null,null,null,null,null,null,null,null,null,null,null,null,null,null,null,null,null,null,null,"ok"]
[null,null,null,null,null,null,null,null,null,null,null,null,null,null,null,null,null,null,null,null,null,null,null,"ok"]
[null,null,null,null,null,null,null,null,null,null,null,null,null,null,null,null,null,null,null,null,null,null,null,"ok"]
[null,null,null,null,null,null,null,null,null,null,null,null,null,null,null,null,null,null,null,null,null,null,null,"ok"]
[null,null,null,null,null,null,null,null,null,null,null,null,null,null,null,null,null,null,null,null,null,null,null,"ok"]
[null,null,null,null,null,null,null,null,null,null,null,null,null,null,null,null,null,null,null,null,null,null,null,"ok"]
[null,null,null,null,null,null,null,null,null,null,null,null,null,null,null,null,null,null,null,null,null,null,null,"ok"]
[null,null,null,null,null,null,null,null,null,null,null,null,null,null,null,null,null,null,null,null,null,null,null,"ok"]
[null,null,null,null,null,null,null,null,null,null,null,null,null,null,null,null,null,null,null,null,null,null,null,"ok"]
[null,null,null,null,null,null,null,null,null,null,null,null,null,null,null,null,null,null,null,null,null,null,null,"ok"]
[null,null,null,null,null,null,null,null,null,null,null,null,null,null,null,null,null,null,null,null,null,null,null,"ok"]
[null,null,null,null,null,null,null,null,null,null,null,null,null,null,null,null,null,null,null,null,null,null,null,"ok"]
[null,null,null,null,null,null,null,null,null,null,null,null,null,null,null,null,null,null,null,null,null,null,null,"ok"]
[null,null,null,null,null,null,null,null,null,null,null,null,null,null,null,null,null,null,null,null,null,null,null,"ok"]
[null,null,null,null,null,null,null,null,null,null,null,null,null,null,null,null,null,null,null,null,null,null,null,"ok"]
[null,null,null,null,null,null,null,null,null,null,null,null,null,null,null,null,null,null,null,null,null,null,null,"ok"]
[null,null,null,null,null,null,null,null,null,null,null,null,null,null,null,null,null,null,null,null,null,null,null,"ok"]
[null,null,null,null,null,null,null,null,null,null,null,null,null,null,null,null,null,null,null,null,null,null,null,"ok"]
[null,null,null,null,null,null,null,null,null,null,null,null,null,null,null,null,null,null,null,null,null,null,null,"ok"]
[null,null,null,null,null,null,null,null,null,null,null,null,null,null,null,null,null,null,null,null,null,null,null,"ok"]
[null,null,null,null,null,null,null,null,null,null,null,null,null,null,null,null,null,null,null,null,null,null,null,"ok"]
[null,null,null,null,null,null,null,null,null,null,null,null,null,null,null,null,null,null,null,null,null,null,null,"ok"]
[null,null,null,null,null,null,null,null,null,null,null,null,null,null,null,null,null,null,null,null,null,null,null,"ok"]
[null,null,null,null,null,null,null,null,null,null,null,null,null,null,null,null,null,null,null,null,null,null,null,"ok"]
[null,null,null,null,null,null,null,null,null,null,null,null,null,null,null,null,null,null,null,null,null,null,null,"ok"]
[null,null,null,null,null,null,null,null,null,null,null,null,null,null,null,null,null,null,null,null,null,null,null,"ok"]
[null,null,null,null,null,null,null,null,null,null,null,null,null,null,null,null,null,null,null,null,null,null,null,"ok"]
[null,null,null,null,null,null,null,null,null,null,null,null,null,null,null,null,null,null,null,null,null,null,null,"ok"]
[null,null,null,null,null,null,null,null,null,null,null,null,null,null,null,null,null,null,null,null,null,null,null,"ok"]
[null,null,null,null,null,null,null,null,null,null,null,null,null,null,null,null,null,null,null,null,null,null,null,"ok"]
[null,null,null,null,null,null,null,null,null,null,null,null,null,null,null,null,null,null,null,null,null,null,null,"ok"]
[null,null,null,null,null,null,null,null,null,null,null,null,null,null,null,null,null,null,null,null,null,null,null,"ok"]
[null,null,null,null,null,null,null,null,null,null,null,null,null,null,null,null,null,null,null,null,null,null,null,"ok"]
[null,null,null,null,null,null,null,null,null,null,null,null,null,null,null,null,null,null,null,null,null,null,null,"ok"]
[null,null,null,null,null,null,null,null,null,null,null,null,null,null,null,null,null,null,null,null,null,null,null,"ok"]
[null,null,null,null,null,null,null,null,null,null,null,null,null,null,null,null,null,null,null,null,null,null,null,"ok"]
[null,null,null,null,null,null,null,null,null,null,null,null,null,null,null,null,null,null,null,null,null,null,null,"ok"]
[null,null,null,null,null,null,null,null,null,null,null,null,null,null,null,null,null,null,null,null,null,null,null,"ok"]
[null,null,null,null,null,null,null,null,null,null,null,null,null,null,null,null,null,null,null,null,null,null,null,"ok"]
[null,null,null,null,null,null,null,null,null,null,null,null,null,null,null,null,null,null,null,null,null,null,null,"ok"]
[null,null,null,null,null,null,null,null,null,null,null,null,null,null,null,null,null,null,null,null,null,null,null,"ok"]
[null,null,null,null,null,null,null,null,null,null,null,null,null,null,null,null,null,null,null,null,null,null,null,"ok"]
[null,null,null,null,null,null,null,null,null,null,null,null,null,null,null,null,null,null,null,null,null,null,null,"ok"]
[null,null,null,null,null,null,null,null,null,null,null,null,null,null,null,null,null,null,null,null,null,null,null,"ok"]
[null,null,null,null,null,null,null,null,null,null,null,null,null,null,null,null,null,null,null,null,null,null,null,"ok"]
[null,null,null,null,null,null,null,null,null,null,null,null,null,null,null,null,null,null,null,null,null,null,null,"ok"]
[null,null,null,null,null,null,null,null,null,null,null,null,null,null,null,null,null,null,null,null,null,null,null,"ok"]
[null,null,null,null,null,null,null,null,null,null,null,null,null,null,null,null,null,null,null,null,null,null,null,"ok"]
[null,null,null,null,null,null,null,null,null,null,null,null,null,null,null,null,null,null,null,null,null,null,null,"ok"]
[null,null,null,null,null,null,null,null,null,null,null,null,null,null,null,null,null,null,null,null,null,null,null,"ok"]
[null,null,null,null,null,null,null,null,null,null,null,null,null,null,null,null,null,null,null,null,null,null,null,"ok"]
[null,null,null,null,null,null,null,null,null,null,null,null,null,null,null,null,null,null,null,null,null,null,null,"ok"]
[null,null,null,null,null,null,null,null,null,null,null,null,null,null,null,null,null,null,null,null,null,null,null,"ok"]
[null,null,null,null,null,null,null,null,null,null,null,null,null,null,null,null,null,null,null,null,null,null,null,"ok"]
[null,null,null,null,null,null,null,null,null,null,null,null,null,null,null,null,null,null,null,null,null,null,null,"ok"]
[null,null,null,null,null,null,null,null,null,null,null,null,null,null,null,null,null,null,null,null,null,null,null,"ok"]
[null,null,null,null,null,null,null,null,null,null,null,null,null,null,null,null,null,null,null,null,null,null,null,"ok"]
[null,null,null,null,null,null,null,null,null,null,null,null,null,null,null,null,null,null,null,null,null,null,null,"ok"]
[null,null,null,null,null,null,null,null,null,null,null,null,null,null,null,null,null,null,null,null,null,null,null,"ok"]
[null,null,null,null,null,null,null,null,null,null,null,null,null,null,null,null,null,null,null,null,null,null,null,{"$f":"IF(W747=B747,\"ok\",\"b\")","v":"ok"}]
[null,null,null,null,null,null,null,null,null,null,null,null,null,null,null,null,null,null,null,null,null,null,null,"ok"]
[null,null,null,null,null,null,null,null,null,null,null,null,null,null,null,null,null,null,null,null,null,null,null,"ok"]
[null,null,null,null,null,null,null,null,null,null,null,null,null,null,null,null,null,null,null,null,null,null,null,"ok"]
[null,null,null,null,null,null,null,null,null,null,null,null,null,null,null,null,null,null,null,null,null,null,null,"ok"]
[null,null,null,null,null,null,null,null,null,null,null,null,null,null,null,null,null,null,null,null,null,null,null,"ok"]
[null,null,null,null,null,null,null,null,null,null,null,null,null,null,null,null,null,null,null,null,null,null,null,"ok"]
[null,null,null,null,null,null,null,null,null,null,null,null,null,null,null,null,null,null,null,null,null,null,null,"ok"]
[null,null,null,null,null,null,null,null,null,null,null,null,null,null,null,null,null,null,null,null,null,null,null,"ok"]
[null,null,null,null,null,null,null,null,null,null,null,null,null,null,null,null,null,null,null,null,null,null,null,"ok"]
[null,null,null,null,null,null,null,null,null,null,null,null,null,null,null,null,null,null,null,null,null,null,null,"ok"]
[null,null,null,null,null,null,null,null,null,null,null,null,null,null,null,null,null,null,null,null,null,null,null,"ok"]
[null,null,null,null,null,null,null,null,null,null,null,null,null,null,null,null,null,null,null,null,null,null,null,"ok"]
[null,null,null,null,null,null,null,null,null,null,null,null,null,null,null,null,null,null,null,null,null,null,null,"ok"]
[null,null,null,null,null,null,null,null,null,null,null,null,null,null,null,null,null,null,null,null,null,null,null,"ok"]
[null,null,null,null,null,null,null,null,null,null,null,null,null,null,null,null,null,null,null,null,null,null,null,"ok"]
[null,null,null,null,null,null,null,null,null,null,null,null,null,null,null,null,null,null,null,null,null,null,null,"ok"]
[null,null,null,null,null,null,null,null,null,null,null,null,null,null,null,null,null,null,null,null,null,null,null,"ok"]
[null,null,null,null,null,null,null,null,null,null,null,null,null,null,null,null,null,null,null,null,null,null,null,"ok"]
[null,null,null,null,null,null,null,null,null,null,null,null,null,null,null,null,null,null,null,null,null,null,null,"ok"]
[null,null,null,null,null,null,null,null,null,null,null,null,null,null,null,null,null,null,null,null,null,null,null,"ok"]
[null,null,null,null,null,null,null,null,null,null,null,null,null,null,null,null,null,null,null,null,null,null,null,"ok"]
[null,null,null,null,null,null,null,null,null,null,null,null,null,null,null,null,null,null,null,null,null,null,null,"ok"]
[null,null,null,null,null,null,null,null,null,null,null,null,null,null,null,null,null,null,null,null,null,null,null,"ok"]
[null,null,null,null,null,null,null,null,null,null,null,null,null,null,null,null,null,null,null,null,null,null,null,"ok"]
[null,null,null,null,null,null,null,null,null,null,null,null,null,null,null,null,null,null,null,null,null,null,null,"ok"]
[null,null,null,null,null,null,null,null,null,null,null,null,null,null,null,null,null,null,null,null,null,null,null,"ok"]
[null,null,null,null,null,null,null,null,null,null,null,null,null,null,null,null,null,null,null,null,null,null,null,"ok"]
[null,null,null,null,null,null,null,null,null,null,null,null,null,null,null,null,null,null,null,null,null,null,null,"ok"]
[null,null,null,null,null,null,null,null,null,null,null,null,null,null,null,null,null,null,null,null,null,null,null,"ok"]
[null,null,null,null,null,null,null,null,null,null,null,null,null,null,null,null,null,null,null,null,null,null,null,"ok"]
[null,null,null,null,null,null,null,null,null,null,null,null,null,null,null,null,null,null,null,null,null,null,null,"ok"]
[null,null,null,null,null,null,null,null,null,null,null,null,null,null,null,null,null,null,null,null,null,null,null,"ok"]
[null,null,null,null,null,null,null,null,null,null,null,null,null,null,null,null,null,null,null,null,null,null,null,"ok"]
[null,null,null,null,null,null,null,null,null,null,null,null,null,null,null,null,null,null,null,null,null,null,null,"ok"]
[null,null,null,null,null,null,null,null,null,null,null,null,null,null,null,null,null,null,null,null,null,null,null,"ok"]
[null,null,null,null,null,null,null,null,null,null,null,null,null,null,null,null,null,null,null,null,null,null,null,"ok"]
[null,null,null,null,null,null,null,null,null,null,null,null,null,null,null,null,null,null,null,null,null,null,null,"ok"]
[null,null,null,null,null,null,null,null,null,null,null,null,null,null,null,null,null,null,null,null,null,null,null,"ok"]
[null,null,null,null,null,null,null,null,null,null,null,null,null,null,null,null,null,null,null,null,null,null,null,"ok"]
[null,null,null,null,null,null,null,null,null,null,null,null,null,null,null,null,null,null,null,null,null,null,null,"ok"]
[null,null,null,null,null,null,null,null,null,null,null,null,null,null,null,null,null,null,null,null,null,null,null,"ok"]
[null,null,null,null,null,null,null,null,null,null,null,null,null,null,null,null,null,null,null,null,null,null,null,"ok"]
[null,null,null,null,null,null,null,null,null,null,null,null,null,null,null,null,null,null,null,null,null,null,null,"ok"]
[null,null,null,null,null,null,null,null,null,null,null,null,null,null,null,null,null,null,null,null,null,null,null,"ok"]
[null,null,null,null,null,null,null,null,null,null,null,null,null,null,null,null,null,null,null,null,null,null,null,"ok"]
[null,null,null,null,null,null,null,null,null,null,null,null,null,null,null,null,null,null,null,null,null,null,null,"ok"]
[null,null,null,null,null,null,null,null,null,null,null,null,null,null,null,null,null,null,null,null,null,null,null,"ok"]
[null,null,null,null,null,null,null,null,null,null,null,null,null,null,null,null,null,null,null,null,null,null,null,"ok"]
[null,null,null,null,null,null,null,null,null,null,null,null,null,null,null,null,null,null,null,null,null,null,null,"ok"]
[null,null,null,null,null,null,null,null,null,null,null,null,null,null,null,null,null,null,null,null,null,null,null,"ok"]
[null,null,null,null,null,null,null,null,null,null,null,null,null,null,null,null,null,null,null,null,null,null,null,"ok"]
[null,null,null,null,null,null,null,null,null,null,null,null,null,null,null,null,null,null,null,null,null,null,null,"ok"]
[null,null,null,null,null,null,null,null,null,null,null,null,null,null,null,null,null,null,null,null,null,null,null,"ok"]
[null,null,null,null,null,null,null,null,null,null,null,null,null,null,null,null,null,null,null,null,null,null,null,"ok"]
[null,null,null,null,null,null,null,null,null,null,null,null,null,null,null,null,null,null,null,null,null,null,null,"ok"]
[null,null,null,null,null,null,null,null,null,null,null,null,null,null,null,null,null,null,null,null,null,null,null,"ok"]
[null,null,null,null,null,null,null,null,null,null,null,null,null,null,null,null,null,null,null,null,null,null,null,"ok"]
[null,null,null,null,null,null,null,null,null,null,null,null,null,null,null,null,null,null,null,null,null,null,null,"ok"]
[null,null,null,null,null,null,null,null,null,null,null,null,null,null,null,null,null,null,null,null,null,null,null,"ok"]
[null,null,null,null,null,null,null,null,null,null,null,null,null,null,null,null,null,null,null,null,null,null,null,"ok"]
[null,null,null,null,null,null,null,null,null,null,null,null,null,null,null,null,null,null,null,null,null,null,null,"ok"]
[null,null,null,null,null,null,null,null,null,null,null,null,null,null,null,null,null,null,null,null,null,null,null,"ok"]
[null,null,null,null,null,null,null,null,null,null,null,null,null,null,null,null,null,null,null,null,null,null,null,"ok"]
[null,null,null,null,null,null,null,null,null,null,null,null,null,null,null,null,null,null,null,null,null,null,null,{"$f":"IF(W811=B811,\"ok\",\"b\")","v":"ok"}]
[null,null,null,null,null,null,null,null,null,null,null,null,null,null,null,null,null,null,null,null,null,null,null,"ok"]
[null,null,null,null,null,null,null,null,null,null,null,null,null,null,null,null,null,null,null,null,null,null,null,"ok"]
[null,null,null,null,null,null,null,null,null,null,null,null,null,null,null,null,null,null,null,null,null,null,null,"ok"]
[null,null,null,null,null,null,null,null,null,null,null,null,null,null,null,null,null,null,null,null,null,null,null,"ok"]
[null,null,null,null,null,null,null,null,null,null,null,null,null,null,null,null,null,null,null,null,null,null,null,"ok"]
[null,null,null,null,null,null,null,null,null,null,null,null,null,null,null,null,null,null,null,null,null,null,null,"ok"]
[null,null,null,null,null,null,null,null,null,null,null,null,null,null,null,null,null,null,null,null,null,null,null,"ok"]
[null,null,null,null,null,null,null,null,null,null,null,null,null,null,null,null,null,null,null,null,null,null,null,"ok"]
[null,null,null,null,null,null,null,null,null,null,null,null,null,null,null,null,null,null,null,null,null,null,null,"ok"]
[null,null,null,null,null,null,null,null,null,null,null,null,null,null,null,null,null,null,null,null,null,null,null,"ok"]
[null,null,null,null,null,null,null,null,null,null,null,null,null,null,null,null,null,null,null,null,null,null,null,"ok"]
[null,null,null,null,null,null,null,null,null,null,null,null,null,null,null,null,null,null,null,null,null,null,null,"ok"]
[null,null,null,null,null,null,null,null,null,null,null,null,null,null,null,null,null,null,null,null,null,null,null,"ok"]
[null,null,null,null,null,null,null,null,null,null,null,null,null,null,null,null,null,null,null,null,null,null,null,"ok"]
[null,null,null,null,null,null,null,null,null,null,null,null,null,null,null,null,null,null,null,null,null,null,null,"ok"]
[null,null,null,null,null,null,null,null,null,null,null,null,null,null,null,null,null,null,null,null,null,null,null,"ok"]
[null,null,null,null,null,null,null,null,null,null,null,null,null,null,null,null,null,null,null,null,null,null,null,"ok"]
[null,null,null,null,null,null,null,null,null,null,null,null,null,null,null,null,null,null,null,null,null,null,null,"ok"]
[null,null,null,null,null,null,null,null,null,null,null,null,null,null,null,null,null,null,null,null,null,null,null,"ok"]
[null,null,null,null,null,null,null,null,null,null,null,null,null,null,null,null,null,null,null,null,null,null,null,"ok"]
[null,null,null,null,null,null,null,null,null,null,null,null,null,null,null,null,null,null,null,null,null,null,null,"ok"]
[null,null,null,null,null,null,null,null,null,null,null,null,null,null,null,null,null,null,null,null,null,null,null,"ok"]
[null,null,null,null,null,null,null,null,null,null,null,null,null,null,null,null,null,null,null,null,null,null,null,"ok"]
[null,null,null,null,null,null,null,null,null,null,null,null,null,null,null,null,null,null,null,null,null,null,null,"ok"]
[null,null,null,null,null,null,null,null,null,null,null,null,null,null,null,null,null,null,null,null,null,null,null,"ok"]
[null,null,null,null,null,null,null,null,null,null,null,null,null,null,null,null,null,null,null,null,null,null,null,"ok"]
[null,null,null,null,null,null,null,null,null,null,null,null,null,null,null,null,null,null,null,null,null,null,null,"ok"]
[null,null,null,null,null,null,null,null,null,null,null,null,null,null,null,null,null,null,null,null,null,null,null,"ok"]
[null,null,null,null,null,null,null,null,null,null,null,null,null,null,null,null,null,null,null,null,null,null,null,"ok"]
[null,null,null,null,null,null,null,null,null,null,null,null,null,null,null,null,null,null,null,null,null,null,null,"ok"]
[null,null,null,null,null,null,null,null,null,null,null,null,null,null,null,null,null,null,null,null,null,null,null,"ok"]
[null,null,null,null,null,null,null,null,null,null,null,null,null,null,null,null,null,null,null,null,null,null,null,"ok"]
[null,null,null,null,null,null,null,null,null,null,null,null,null,null,null,null,null,null,null,null,null,null,null,"ok"]
[null,null,null,null,null,null,null,null,null,null,null,null,null,null,null,null,null,null,null,null,null,null,null,"ok"]
[null,null,null,null,null,null,null,null,null,null,null,null,null,null,null,null,null,null,null,null,null,null,null,"ok"]
[null,null,null,null,null,null,null,null,null,null,null,null,null,null,null,null,null,null,null,null,null,null,null,"ok"]
[null,null,null,null,null,null,null,null,null,null,null,null,null,null,null,null,null,null,null,null,null,null,null,"ok"]
[null,null,null,null,null,null,null,null,null,null,null,null,null,null,null,null,null,null,null,null,null,null,null,"ok"]
[null,null,null,null,null,null,null,null,null,null,null,null,null,null,null,null,null,null,null,null,null,null,null,"ok"]
[null,null,null,null,null,null,null,null,null,null,null,null,null,null,null,null,null,null,null,null,null,null,null,"ok"]
[null,null,null,null,null,null,null,null,null,null,null,null,null,null,null,null,null,null,null,null,null,null,null,"ok"]
[null,null,null,null,null,null,null,null,null,null,null,null,null,null,null,null,null,null,null,null,null,null,null,"ok"]
[null,null,null,null,null,null,null,null,null,null,null,null,null,null,null,null,null,null,null,null,null,null,null,"ok"]
[null,null,null,null,null,null,null,null,null,null,null,null,null,null,null,null,null,null,null,null,null,null,null,"ok"]
[null,null,null,null,null,null,null,null,null,null,null,null,null,null,null,null,null,null,null,null,null,null,null,"ok"]
[null,null,null,null,null,null,null,null,null,null,null,null,null,null,null,null,null,null,null,null,null,null,null,"ok"]
[null,null,null,null,null,null,null,null,null,null,null,null,null,null,null,null,null,null,null,null,null,null,null,"ok"]
[null,null,null,null,null,null,null,null,null,null,null,null,null,null,null,null,null,null,null,null,null,null,null,"ok"]
[null,null,null,null,null,null,null,null,null,null,null,null,null,null,null,null,null,null,null,null,null,null,null,"ok"]
[null,null,null,null,null,null,null,null,null,null,null,null,null,null,null,null,null,null,null,null,null,null,null,"ok"]
[null,null,null,null,null,null,null,null,null,null,null,null,null,null,null,null,null,null,null,null,null,null,null,"ok"]
[null,null,null,null,null,null,null,null,null,null,null,null,null,null,null,null,null,null,null,null,null,null,null,"ok"]
[null,null,null,null,null,null,null,null,null,null,null,null,null,null,null,null,null,null,null,null,null,null,null,"ok"]
[null,null,null,null,null,null,null,null,null,null,null,null,null,null,null,null,null,null,null,null,null,null,null,"ok"]
[null,null,null,null,null,null,null,null,null,null,null,null,null,null,null,null,null,null,null,null,null,null,null,"ok"]
[null,null,null,null,null,null,null,null,null,null,null,null,null,null,null,null,null,null,null,null,null,null,null,"ok"]
[null,null,null,null,null,null,null,null,null,null,null,null,null,null,null,null,null,null,null,null,null,null,null,"ok"]
[null,null,null,null,null,null,null,null,null,null,null,null,null,null,null,null,null,null,null,null,null,null,null,"ok"]
[null,null,null,null,null,null,null,null,null,null,null,null,null,null,null,null,null,null,null,null,null,null,null,"ok"]
[null,null,null,null,null,null,null,null,null,null,null,null,null,null,null,null,null,null,null,null,null,null,null,"ok"]
[null,null,null,null,null,null,null,null,null,null,null,null,null,null,null,null,null,null,null,null,null,null,null,"ok"]
[null,null,null,null,null,null,null,null,null,null,null,null,null,null,null,null,null,null,null,null,null,null,null,"ok"]
[null,null,null,null,null,null,null,null,null,null,null,null,null,null,null,null,null,null,null,null,null,null,null,"ok"]
[null,null,null,null,null,null,null,null,null,null,null,null,null,null,null,null,null,null,null,null,null,null,null,{"$f":"IF(W875=B875,\"ok\",\"b\")","v":"ok"}]
[null,null,null,null,null,null,null,null,null,null,null,null,null,null,null,null,null,null,null,null,null,null,null,"ok"]
[null,null,null,null,null,null,null,null,null,null,null,null,null,null,null,null,null,null,null,null,null,null,null,"ok"]
[null,null,null,null,null,null,null,null,null,null,null,null,null,null,null,null,null,null,null,null,null,null,null,"ok"]
[null,null,null,null,null,null,null,null,null,null,null,null,null,null,null,null,null,null,null,null,null,null,null,"ok"]
[null,null,null,null,null,null,null,null,null,null,null,null,null,null,null,null,null,null,null,null,null,null,null,"ok"]
[null,null,null,null,null,null,null,null,null,null,null,null,null,null,null,null,null,null,null,null,null,null,null,"ok"]
[null,null,null,null,null,null,null,null,null,null,null,null,null,null,null,null,null,null,null,null,null,null,null,"ok"]
[null,null,null,null,null,null,null,null,null,null,null,null,null,null,null,null,null,null,null,null,null,null,null,"ok"]
[null,null,null,null,null,null,null,null,null,null,null,null,null,null,null,null,null,null,null,null,null,null,null,"ok"]
[null,null,null,null,null,null,null,null,null,null,null,null,null,null,null,null,null,null,null,null,null,null,null,"ok"]
[null,null,null,null,null,null,null,null,null,null,null,null,null,null,null,null,null,null,null,null,null,null,null,"ok"]
[null,null,null,null,null,null,null,null,null,null,null,null,null,null,null,null,null,null,null,null,null,null,null,"ok"]
[null,null,null,null,null,null,null,null,null,null,null,null,null,null,null,null,null,null,null,null,null,null,null,"ok"]
[null,null,null,null,null,null,null,null,null,null,null,null,null,null,null,null,null,null,null,null,null,null,null,"ok"]
[null,null,null,null,null,null,null,null,null,null,null,null,null,null,null,null,null,null,null,null,null,null,null,"ok"]
[null,null,null,null,null,null,null,null,null,null,null,null,null,null,null,null,null,null,null,null,null,null,null,"ok"]
[null,null,null,null,null,null,null,null,null,null,null,null,null,null,null,null,null,null,null,null,null,null,null,"ok"]

{"sheet":"CONFIGURACIÓN_PARTICIPANTES","index":1,"n_rows":876,"n_cols":31,"rows_kept":876,"cut":false,"hidden":false,"merged":[[1,1,2,17]]}
[]
[null,"CONFIGURACIÓN DE ÁREAS PARTICIPANTES Y PORCENTAJES DE PARTICIPACIÓN"]
[]
[]
[null,"Cod° Act. Prod","Producto","Actividad","Área/Dep 1 ","Part.  % Act.\nÁrea/Dep 1","Área/Dep 2","Part.  % Act.\nÁrea/Dep 2 ","Área/Dep 3","Part.  % Act.\nÁrea/Dep 3 ","Área/Dep 4","Part.  % Act.\nÁrea/Dep 4 ","Área/Dep 5","Part.  % Act.\nÁrea/Dep 5 ","Área/Dep 6","Part.  % Act.\nÁrea/Dep 6 ","Área/Dep 7","Part.  % Act.\nÁrea/Dep 7 ",null,"CÓDIGOS_CONCATENADOS","Área/Dep 1 ","Área/Dep 2","Área/Dep 3","Área/Dep 4","Área/Dep 5","Área/Dep 6","Área/Dep 7",null,"Participantes  Finales ","Áreas/Dependencias Participantes\n (# de ficha)","MBORRAR"]
[null,null,null,null,null,null,null,null,null,null,null,null,null,null,null,null,null,null,null,{"$f":"IF(AND(B6=\"\",C6=\"\"),\"\",IF(AND(D6<>\"\"),U6&\"-\"&V6&\"-\"&W6&\"-\"&X6&\"-\"&Y6&\"-\"&Z6&\"-\"&AA6,IF(AND(C6<>\"\"),\"LA RELACIÓN DE ACTIVIDADES DEBE SER A PARTIR DE LA SIGUIENTE FILA\",)))","v":""},{"$f":"IF(ISERROR(VLOOKUP(E6,[2]LISTAS!$A$15:$B$50,2,0)),\"\",VLOOKUP(E6,[2]LISTAS!$A$15:$B$50,2,0))","v":""},{"$f":"IF(ISERROR(VLOOKUP(G6,[2]LISTAS!$A$15:$B$50,2,0)),\"\",VLOOKUP(G6,[2]LISTAS!$A$15:$B$50,2,0))","v":""},{"$f":"IF(ISERROR(VLOOKUP(I6,[2]LISTAS!$A$15:$B$50,2,0)),\"\",VLOOKUP(I6,[2]LISTAS!$A$15:$B$50,2,0))","v":""},{"$f":"IF(ISERROR(VLOOKUP(K6,[2]LISTAS!$A$15:$B$50,2,0)),\"\",VLOOKUP(K6,[2]LISTAS!$A$15:$B$50,2,0))","v":""},{"$f":"IF(ISERROR(VLOOKUP(M6,[2]LISTAS!$A$15:$B$50,2,0)),\"\",VLOOKUP(M6,[2]LISTAS!$A$15:$B$50,2,0))","v":""},{"$f":"IF(ISERROR(VLOOKUP(O6,[2]LISTAS!$A$15:$B$50,2,0)),\"\",VLOOKUP(O6,[2]LISTAS!$A$15:$B$50,2,0))","v":""},{"$f":"IF(ISERROR(VLOOKUP(6,[2]LISTAS!$A$15:$B$50,2,0)),\"\",VLOOKUP(6,[2]LISTAS!$A$15:$B$50,2,0))","v":""},null,{"$f":"_xlfn.IFS(T6=\"------\",AD6,T6=\"LA RELACIÓN DE ACTIVIDADES DEBE SER A PARTIR DE LA SIGUIENTE FILA\",\"LA RELACIÓN DE ACTIVIDADES DEBE SER A PARTIR DE LA SIGUIENTE FILA\",T6<>\"------\",T6)","v":""},null,"ok"]
[null,null,null,null,null,null,null,null,null,null,null,null,null,null,null,null,null,null,null,"",{"$f":"IF(ISERROR(VLOOKUP(E7,[2]LISTAS!$A$15:$B$50,2,0)),\"\",VLOOKUP(E7,[2]LISTAS!$A$15:$B$50,2,0))","v":""},{"$f":"IF(ISERROR(VLOOKUP(G7,[2]LISTAS!$A$15:$B$50,2,0)),\"\",VLOOKUP(G7,[2]LISTAS!$A$15:$B$50,2,0))","v":""},{"$f":"IF(ISERROR(VLOOKUP(I7,[2]LISTAS!$A$15:$B$50,2,0)),\"\",VLOOKUP(I7,[2]LISTAS!$A$15:$B$50,2,0))","v":""},{"$f":"IF(ISERROR(VLOOKUP(K7,[2]LISTAS!$A$15:$B$50,2,0)),\"\",VLOOKUP(K7,[2]LISTAS!$A$15:$B$50,2,0))","v":""},{"$f":"IF(ISERROR(VLOOKUP(M7,[2]LISTAS!$A$15:$B$50,2,0)),\"\",VLOOKUP(M7,[2]LISTAS!$A$15:$B$50,2,0))","v":""},{"$f":"IF(ISERROR(VLOOKUP(O7,[2]LISTAS!$A$15:$B$50,2,0)),\"\",VLOOKUP(O7,[2]LISTAS!$A$15:$B$50,2,0))","v":""},{"$f":"IF(ISERROR(VLOOKUP(6,[2]LISTAS!$A$15:$B$50,2,0)),\"\",VLOOKUP(6,[2]LISTAS!$A$15:$B$50,2,0))","v":""},null,{"$f":"_xlfn.IFS(T7=\"------\",AD7,T7=\"LA RELACIÓN DE ACTIVIDADES DEBE SER A PARTIR DE LA SIGUIENTE FILA\",\"LA RELACIÓN DE ACTIVIDADES DEBE SER A PARTIR DE LA SIGUIENTE FILA\",T7<>\"------\",T7)","v":""},null,"ok"]
[null,null,null,null,null,null,null,null,null,null,null,null,null,null,null,null,null,null,null,"",{"$f":"IF(ISERROR(VLOOKUP(E8,[2]LISTAS!$A$15:$B$50,2,0)),\"\",VLOOKUP(E8,[2]LISTAS!$A$15:$B$50,2,0))","v":""},{"$f":"IF(ISERROR(VLOOKUP(G8,[2]LISTAS!$A$15:$B$50,2,0)),\"\",VLOOKUP(G8,[2]LISTAS!$A$15:$B$50,2,0))","v":""},{"$f":"IF(ISERROR(VLOOKUP(I8,[2]LISTAS!$A$15:$B$50,2,0)),\"\",VLOOKUP(I8,[2]LISTAS!$A$15:$B$50,2,0))","v":""},{"$f":"IF(ISERROR(VLOOKUP(K8,[2]LISTAS!$A$15:$B$50,2,0)),\"\",VLOOKUP(K8,[2]LISTAS!$A$15:$B$50,2,0))","v":""},{"$f":"IF(ISERROR(VLOOKUP(M8,[2]LISTAS!$A$15:$B$50,2,0)),\"\",VLOOKUP(M8,[2]LISTAS!$A$15:$B$50,2,0))","v":""},{"$f":"IF(ISERROR(VLOOKUP(O8,[2]LISTAS!$A$15:$B$50,2,0)),\"\",VLOOKUP(O8,[2]LISTAS!$A$15:$B$50,2,0))","v":""},{"$f":"IF(ISERROR(VLOOKUP(6,[2]LISTAS!$A$15:$B$50,2,0)),\"\",VLOOKUP(6,[2]LISTAS!$A$15:$B$50,2,0))","v":""},null,{"$f":"_xlfn.IFS(T8=\"------\",AD8,T8=\"LA RELACIÓN DE ACTIVIDADES DEBE SER A PARTIR DE LA SIGUIENTE FILA\",\"LA RELACIÓN DE ACTIVIDADES DEBE SER A PARTIR DE LA SIGUIENTE FILA\",T8<>\"------\",T8)","v":""},null,"ok"]
[null,null,null,null,null,null,null,null,null,null,null,null,null,null,null,null,null,null,null,"",{"$f":"IF(ISERROR(VLOOKUP(E9,[2]LISTAS!$A$15:$B$50,2,0)),\"\",VLOOKUP(E9,[2]LISTAS!$A$15:$B$50,2,0))","v":""},{"$f":"IF(ISERROR(VLOOKUP(G9,[2]LISTAS!$A$15:$B$50,2,0)),\"\",VLOOKUP(G9,[2]LISTAS!$A$15:$B$50,2,0))","v":""},{"$f":"IF(ISERROR(VLOOKUP(I9,[2]LISTAS!$A$15:$B$50,2,0)),\"\",VLOOKUP(I9,[2]LISTAS!$A$15:$B$50,2,0))","v":""},{"$f":"IF(ISERROR(VLOOKUP(K9,[2]LISTAS!$A$15:$B$50,2,0)),\"\",VLOOKUP(K9,[2]LISTAS!$A$15:$B$50,2,0))","v":""},{"$f":"IF(ISERROR(VLOOKUP(M9,[2]LISTAS!$A$15:$B$50,2,0)),\"\",VLOOKUP(M9,[2]LISTAS!$A$15:$B$50,2,0))","v":""},{"$f":"IF(ISERROR(VLOOKUP(O9,[2]LISTAS!$A$15:$B$50,2,0)),\"\",VLOOKUP(O9,[2]LISTAS!$A$15:$B$50,2,0))","v":""},{"$f":"IF(ISERROR(VLOOKUP(6,[2]LISTAS!$A$15:$B$50,2,0)),\"\",VLOOKUP(6,[2]LISTAS!$A$15:$B$50,2,0))","v":""},null,{"$f":"_xlfn.IFS(T9=\"------\",AD9,T9=\"LA RELACIÓN DE ACTIVIDADES DEBE SER A PARTIR DE LA SIGUIENTE FILA\",\"LA RELACIÓN DE ACTIVIDADES DEBE SER A PARTIR DE LA SIGUIENTE FILA\",T9<>\"------\",T9)","v":""},null,"ok"]
[null,null,null,null,null,null,null,null,null,null,null,null,null,null,null,null,null,null,null,"",{"$f":"IF(ISERROR(VLOOKUP(E10,[2]LISTAS!$A$15:$B$50,2,0)),\"\",VLOOKUP(E10,[2]LISTAS!$A$15:$B$50,2,0))","v":""},{"$f":"IF(ISERROR(VLOOKUP(G10,[2]LISTAS!$A$15:$B$50,2,0)),\"\",VLOOKUP(G10,[2]LISTAS!$A$15:$B$50,2,0))","v":""},{"$f":"IF(ISERROR(VLOOKUP(I10,[2]LISTAS!$A$15:$B$50,2,0)),\"\",VLOOKUP(I10,[2]LISTAS!$A$15:$B$50,2,0))","v":""},{"$f":"IF(ISERROR(VLOOKUP(K10,[2]LISTAS!$A$15:$B$50,2,0)),\"\",VLOOKUP(K10,[2]LISTAS!$A$15:$B$50,2,0))","v":""},{"$f":"IF(ISERROR(VLOOKUP(M10,[2]LISTAS!$A$15:$B$50,2,0)),\"\",VLOOKUP(M10,[2]LISTAS!$A$15:$B$50,2,0))","v":""},{"$f":"IF(ISERROR(VLOOKUP(O10,[2]LISTAS!$A$15:$B$50,2,0)),\"\",VLOOKUP(O10,[2]LISTAS!$A$15:$B$50,2,0))","v":""},{"$f":"IF(ISERROR(VLOOKUP(6,[2]LISTAS!$A$15:$B$50,2,0)),\"\",VLOOKUP(6,[2]LISTAS!$A$15:$B$50,2,0))","v":""},null,{"$f":"_xlfn.IFS(T10=\"------\",AD10,T10=\"LA RELACIÓN DE ACTIVIDADES DEBE SER A PARTIR DE LA SIGUIENTE FILA\",\"LA RELACIÓN DE ACTIVIDADES DEBE SER A PARTIR DE LA SIGUIENTE FILA\",T10<>\"------\",T10)","v":""},null,"ok"]
[null,null,null,null,null,null,null,null,null,null,null,null,null,null,null,null,null,null,null,"",{"$f":"IF(ISERROR(VLOOKUP(E11,[2]LISTAS!$A$15:$B$50,2,0)),\"\",VLOOKUP(E11,[2]LISTAS!$A$15:$B$50,2,0))","v":""},{"$f":"IF(ISERROR(VLOOKUP(G11,[2]LISTAS!$A$15:$B$50,2,0)),\"\",VLOOKUP(G11,[2]LISTAS!$A$15:$B$50,2,0))","v":""},{"$f":"IF(ISERROR(VLOOKUP(I11,[2]LISTAS!$A$15:$B$50,2,0)),\"\",VLOOKUP(I11,[2]LISTAS!$A$15:$B$50,2,0))","v":""},{"$f":"IF(ISERROR(VLOOKUP(K11,[2]LISTAS!$A$15:$B$50,2,0)),\"\",VLOOKUP(K11,[2]LISTAS!$A$15:$B$50,2,0))","v":""},{"$f":"IF(ISERROR(VLOOKUP(M11,[2]LISTAS!$A$15:$B$50,2,0)),\"\",VLOOKUP(M11,[2]LISTAS!$A$15:$B$50,2,0))","v":""},{"$f":"IF(ISERROR(VLOOKUP(O11,[2]LISTAS!$A$15:$B$50,2,0)),\"\",VLOOKUP(O11,[2]LISTAS!$A$15:$B$50,2,0))","v":""},{"$f":"IF(ISERROR(VLOOKUP(6,[2]LISTAS!$A$15:$B$50,2,0)),\"\",VLOOKUP(6,[2]LISTAS!$A$15:$B$50,2,0))","v":""},null,{"$f":"_xlfn.IFS(T11=\"------\",AD11,T11=\"LA RELACIÓN DE ACTIVIDADES DEBE SER A PARTIR DE LA SIGUIENTE FILA\",\"LA RELACIÓN DE ACTIVIDADES DEBE SER A PARTIR DE LA SIGUIENTE FILA\",T11<>\"------\",T11)","v":""},null,"ok"]
[null,null,null,null,null,null,null,null,null,null,null,null,null,null,null,null,null,null,null,"",{"$f":"IF(ISERROR(VLOOKUP(E12,[2]LISTAS!$A$15:$B$50,2,0)),\"\",VLOOKUP(E12,[2]LISTAS!$A$15:$B$50,2,0))","v":""},{"$f":"IF(ISERROR(VLOOKUP(G12,[2]LISTAS!$A$15:$B$50,2,0)),\"\",VLOOKUP(G12,[2]LISTAS!$A$15:$B$50,2,0))","v":""},{"$f":"IF(ISERROR(VLOOKUP(I12,[2]LISTAS!$A$15:$B$50,2,0)),\"\",VLOOKUP(I12,[2]LISTAS!$A$15:$B$50,2,0))","v":""},{"$f":"IF(ISERROR(VLOOKUP(K12,[2]LISTAS!$A$15:$B$50,2,0)),\"\",VLOOKUP(K12,[2]LISTAS!$A$15:$B$50,2,0))","v":""},{"$f":"IF(ISERROR(VLOOKUP(M12,[2]LISTAS!$A$15:$B$50,2,0)),\"\",VLOOKUP(M12,[2]LISTAS!$A$15:$B$50,2,0))","v":""},{"$f":"IF(ISERROR(VLOOKUP(O12,[2]LISTAS!$A$15:$B$50,2,0)),\"\",VLOOKUP(O12,[2]LISTAS!$A$15:$B$50,2,0))","v":""},{"$f":"IF(ISERROR(VLOOKUP(6,[2]LISTAS!$A$15:$B$50,2,0)),\"\",VLOOKUP(6,[2]LISTAS!$A$15:$B$50,2,0))","v":""},null,{"$f":"_xlfn.IFS(T12=\"------\",AD12,T12=\"LA RELACIÓN DE ACTIVIDADES DEBE SER A PARTIR DE LA SIGUIENTE FILA\",\"LA RELACIÓN DE ACTIVIDADES DEBE SER A PARTIR DE LA SIGUIENTE FILA\",T12<>\"------\",T12)","v":""},null,"ok"]
[null,null,null,null,null,null,null,null,null,null,null,null,null,null,null,null,null,null,null,"",{"$f":"IF(ISERROR(VLOOKUP(E13,[2]LISTAS!$A$15:$B$50,2,0)),\"\",VLOOKUP(E13,[2]LISTAS!$A$15:$B$50,2,0))","v":""},{"$f":"IF(ISERROR(VLOOKUP(G13,[2]LISTAS!$A$15:$B$50,2,0)),\"\",VLOOKUP(G13,[2]LISTAS!$A$15:$B$50,2,0))","v":""},{"$f":"IF(ISERROR(VLOOKUP(I13,[2]LISTAS!$A$15:$B$50,2,0)),\"\",VLOOKUP(I13,[2]LISTAS!$A$15:$B$50,2,0))","v":""},{"$f":"IF(ISERROR(VLOOKUP(K13,[2]LISTAS!$A$15:$B$50,2,0)),\"\",VLOOKUP(K13,[2]LISTAS!$A$15:$B$50,2,0))","v":""},{"$f":"IF(ISERROR(VLOOKUP(M13,[2]LISTAS!$A$15:$B$50,2,0)),\"\",VLOOKUP(M13,[2]LISTAS!$A$15:$B$50,2,0))","v":""},{"$f":"IF(ISERROR(VLOOKUP(O13,[2]LISTAS!$A$15:$B$50,2,0)),\"\",VLOOKUP(O13,[2]LISTAS!$A$15:$B$50,2,0))","v":""},{"$f":"IF(ISERROR(VLOOKUP(6,[2]LISTAS!$A$15:$B$50,2,0)),\"\",VLOOKUP(6,[2]LISTAS!$A$15:$B$50,2,0))","v":""},null,{"$f":"_xlfn.IFS(T13=\"------\",AD13,T13=\"LA RELACIÓN DE ACTIVIDADES DEBE SER A PARTIR DE LA SIGUIENTE FILA\",\"LA RELACIÓN DE ACTIVIDADES DEBE SER A PARTIR DE LA SIGUIENTE FILA\",T13<>\"------\",T13)","v":""},null,"ok"]
[null,null,null,null,null,null,null,null,null,null,null,null,null,null,null,null,null,null,null,"",{"$f":"IF(ISERROR(VLOOKUP(E14,[2]LISTAS!$A$15:$B$50,2,0)),\"\",VLOOKUP(E14,[2]LISTAS!$A$15:$B$50,2,0))","v":""},{"$f":"IF(ISERROR(VLOOKUP(G14,[2]LISTAS!$A$15:$B$50,2,0)),\"\",VLOOKUP(G14,[2]LISTAS!$A$15:$B$50,2,0))","v":""},{"$f":"IF(ISERROR(VLOOKUP(I14,[2]LISTAS!$A$15:$B$50,2,0)),\"\",VLOOKUP(I14,[2]LISTAS!$A$15:$B$50,2,0))","v":""},{"$f":"IF(ISERROR(VLOOKUP(K14,[2]LISTAS!$A$15:$B$50,2,0)),\"\",VLOOKUP(K14,[2]LISTAS!$A$15:$B$50,2,0))","v":""},{"$f":"IF(ISERROR(VLOOKUP(M14,[2]LISTAS!$A$15:$B$50,2,0)),\"\",VLOOKUP(M14,[2]LISTAS!$A$15:$B$50,2,0))","v":""},{"$f":"IF(ISERROR(VLOOKUP(O14,[2]LISTAS!$A$15:$B$50,2,0)),\"\",VLOOKUP(O14,[2]LISTAS!$A$15:$B$50,2,0))","v":""},{"$f":"IF(ISERROR(VLOOKUP(6,[2]LISTAS!$A$15:$B$50,2,0)),\"\",VLOOKUP(6,[2]LISTAS!$A$15:$B$50,2,0))","v":""},null,{"$f":"_xlfn.IFS(T14=\"------\",AD14,T14=\"LA RELACIÓN DE ACTIVIDADES DEBE SER A PARTIR DE LA SIGUIENTE FILA\",\"LA RELACIÓN DE ACTIVIDADES DEBE SER A PARTIR DE LA SIGUIENTE FILA\",T14<>\"------\",T14)","v":""},null,"ok"]
[null,null,null,null,null,null,null,null,null,null,null,null,null,null,null,null,null,null,null,"",{"$f":"IF(ISERROR(VLOOKUP(E15,[2]LISTAS!$A$15:$B$50,2,0)),\"\",VLOOKUP(E15,[2]LISTAS!$A$15:$B$50,2,0))","v":""},{"$f":"IF(ISERROR(VLOOKUP(G15,[2]LISTAS!$A$15:$B$50,2,0)),\"\",VLOOKUP(G15,[2]LISTAS!$A$15:$B$50,2,0))","v":""},{"$f":"IF(ISERROR(VLOOKUP(I15,[2]LISTAS!$A$15:$B$50,2,0)),\"\",VLOOKUP(I15,[2]LISTAS!$A$15:$B$50,2,0))","v":""},{"$f":"IF(ISERROR(VLOOKUP(K15,[2]LISTAS!$A$15:$B$50,2,0)),\"\",VLOOKUP(K15,[2]LISTAS!$A$15:$B$50,2,0))","v":""},{"$f":"IF(ISERROR(VLOOKUP(M15,[2]LISTAS!$A$15:$B$50,2,0)),\"\",VLOOKUP(M15,[2]LISTAS!$A$15:$B$50,2,0))","v":""},{"$f":"IF(ISERROR(VLOOKUP(O15,[2]LISTAS!$A$15:$B$50,2,0)),\"\",VLOOKUP(O15,[2]LISTAS!$A$15:$B$50,2,0))","v":""},{"$f":"IF(ISERROR(VLOOKUP(6,[2]LISTAS!$A$15:$B$50,2,0)),\"\",VLOOKUP(6,[2]LISTAS!$A$15:$B$50,2,0))","v":""},null,{"$f":"_xlfn.IFS(T15=\"------\",AD15,T15=\"LA RELACIÓN DE ACTIVIDADES DEBE SER A PARTIR DE LA SIGUIENTE FILA\",\"LA RELACIÓN DE ACTIVIDADES DEBE SER A PARTIR DE LA SIGUIENTE FILA\",T15<>\"------\",T15)","v":""},null,"ok"]
[null,null,null,null,null,null,null,null,null,null,null,null,null,null,null,null,null,null,null,"",{"$f":"IF(ISERROR(VLOOKUP(E16,[2]LISTAS!$A$15:$B$50,2,0)),\"\",VLOOKUP(E16,[2]LISTAS!$A$15:$B$50,2,0))","v":""},{"$f":"IF(ISERROR(VLOOKUP(G16,[2]LISTAS!$A$15:$B$50,2,0)),\"\",VLOOKUP(G16,[2]LISTAS!$A$15:$B$50,2,0))","v":""},{"$f":"IF(ISERROR(VLOOKUP(I16,[2]LISTAS!$A$15:$B$50,2,0)),\"\",VLOOKUP(I16,[2]LISTAS!$A$15:$B$50,2,0))","v":""},{"$f":"IF(ISERROR(VLOOKUP(K16,[2]LISTAS!$A$15:$B$50,2,0)),\"\",VLOOKUP(K16,[2]LISTAS!$A$15:$B$50,2,0))","v":""},{"$f":"IF(ISERROR(VLOOKUP(M16,[2]LISTAS!$A$15:$B$50,2,0)),\"\",VLOOKUP(M16,[2]LISTAS!$A$15:$B$50,2,0))","v":""},{"$f":"IF(ISERROR(VLOOKUP(O16,[2]LISTAS!$A$15:$B$50,2,0)),\"\",VLOOKUP(O16,[2]LISTAS!$A$15:$B$50,2,0))","v":""},{"$f":"IF(ISERROR(VLOOKUP(6,[2]LISTAS!$A$15:$B$50,2,0)),\"\",VLOOKUP(6,[2]LISTAS!$A$15:$B$50,2,0))","v":""},null,{"$f":"_xlfn.IFS(T16=\"------\",AD16,T16=\"LA RELACIÓN DE ACTIVIDADES DEBE SER A PARTIR DE LA SIGUIENTE FILA\",\"LA RELACIÓN DE ACTIVIDADES DEBE SER A PARTIR DE LA SIGUIENTE FILA\",T16<>\"------\",T16)","v":""},null,"ok"]
[null,null,null,null,null,null,null,null,null,null,null,null,null,null,null,null,null,null,null,"",{"$f":"IF(ISERROR(VLOOKUP(E17,[2]LISTAS!$A$15:$B$50,2,0)),\"\",VLOOKUP(E17,[2]LISTAS!$A$15:$B$50,2,0))","v":""},{"$f":"IF(ISERROR(VLOOKUP(G17,[2]LISTAS!$A$15:$B$50,2,0)),\"\",VLOOKUP(G17,[2]LISTAS!$A$15:$B$50,2,0))","v":""},{"$f":"IF(ISERROR(VLOOKUP(I17,[2]LISTAS!$A$15:$B$50,2,0)),\"\",VLOOKUP(I17,[2]LISTAS!$A$15:$B$50,2,0))","v":""},{"$f":"IF(ISERROR(VLOOKUP(K17,[2]LISTAS!$A$15:$B$50,2,0)),\"\",VLOOKUP(K17,[2]LISTAS!$A$15:$B$50,2,0))","v":""},{"$f":"IF(ISERROR(VLOOKUP(M17,[2]LISTAS!$A$15:$B$50,2,0)),\"\",VLOOKUP(M17,[2]LISTAS!$A$15:$B$50,2,0))","v":""},{"$f":"IF(ISERROR(VLOOKUP(O17,[2]LISTAS!$A$15:$B$50,2,0)),\"\",VLOOKUP(O17,[2]LISTAS!$A$15:$B$50,2,0))","v":""},{"$f":"IF(ISERROR(VLOOKUP(6,[2]LISTAS!$A$15:$B$50,2,0)),\"\",VLOOKUP(6,[2]LISTAS!$A$15:$B$50,2,0))","v":""},null,{"$f":"_xlfn.IFS(T17=\"------\",AD17,T17=\"LA RELACIÓN DE ACTIVIDADES DEBE SER A PARTIR DE LA SIGUIENTE FILA\",\"LA RELACIÓN DE ACTIVIDADES DEBE SER A PARTIR DE LA SIGUIENTE FILA\",T17<>\"------\",T17)","v":""},null,"ok"]
[null,null,null,null,null,null,null,null,null,null,null,null,null,null,null,null,null,null,null,"",{"$f":"IF(ISERROR(VLOOKUP(E18,[2]LISTAS!$A$15:$B$50,2,0)),\"\",VLOOKUP(E18,[2]LISTAS!$A$15:$B$50,2,0))","v":""},{"$f":"IF(ISERROR(VLOOKUP(G18,[2]LISTAS!$A$15:$B$50,2,0)),\"\",VLOOKUP(G18,[2]LISTAS!$A$15:$B$50,2,0))","v":""},{"$f":"IF(ISERROR(VLOOKUP(I18,[2]LISTAS!$A$15:$B$50,2,0)),\"\",VLOOKUP(I18,[2]LISTAS!$A$15:$B$50,2,0))","v":""},{"$f":"IF(ISERROR(VLOOKUP(K18,[2]LISTAS!$A$15:$B$50,2,0)),\"\",VLOOKUP(K18,[2]LISTAS!$A$15:$B$50,2,0))","v":""},{"$f":"IF(ISERROR(VLOOKUP(M18,[2]LISTAS!$A$15:$B$50,2,0)),\"\",VLOOKUP(M18,[2]LISTAS!$A$15:$B$50,2,0))","v":""},{"$f":"IF(ISERROR(VLOOKUP(O18,[2]LISTAS!$A$15:$B$50,2,0)),\"\",VLOOKUP(O18,[2]LISTAS!$A$15:$B$50,2,0))","v":""},{"$f":"IF(ISERROR(VLOOKUP(6,[2]LISTAS!$A$15:$B$50,2,0)),\"\",VLOOKUP(6,[2]LISTAS!$A$15:$B$50,2,0))","v":""},null,{"$f":"_xlfn.IFS(T18=\"------\",AD18,T18=\"LA RELACIÓN DE ACTIVIDADES DEBE SER A PARTIR DE LA SIGUIENTE FILA\",\"LA RELACIÓN DE ACTIVIDADES DEBE SER A PARTIR DE LA SIGUIENTE FILA\",T18<>\"------\",T18)","v":""},null,"ok"]
[null,null,null,null,null,null,null,null,null,null,null,null,null,null,null,null,null,null,null,"",{"$f":"IF(ISERROR(VLOOKUP(E19,[2]LISTAS!$A$15:$B$50,2,0)),\"\",VLOOKUP(E19,[2]LISTAS!$A$15:$B$50,2,0))","v":""},{"$f":"IF(ISERROR(VLOOKUP(G19,[2]LISTAS!$A$15:$B$50,2,0)),\"\",VLOOKUP(G19,[2]LISTAS!$A$15:$B$50,2,0))","v":""},{"$f":"IF(ISERROR(VLOOKUP(I19,[2]LISTAS!$A$15:$B$50,2,0)),\"\",VLOOKUP(I19,[2]LISTAS!$A$15:$B$50,2,0))","v":""},{"$f":"IF(ISERROR(VLOOKUP(K19,[2]LISTAS!$A$15:$B$50,2,0)),\"\",VLOOKUP(K19,[2]LISTAS!$A$15:$B$50,2,0))","v":""},{"$f":"IF(ISERROR(VLOOKUP(M19,[2]LISTAS!$A$15:$B$50,2,0)),\"\",VLOOKUP(M19,[2]LISTAS!$A$15:$B$50,2,0))","v":""},{"$f":"IF(ISERROR(VLOOKUP(O19,[2]LISTAS!$A$15:$B$50,2,0)),\"\",VLOOKUP(O19,[2]LISTAS!$A$15:$B$50,2,0))","v":""},{"$f":"IF(ISERROR(VLOOKUP(6,[2]LISTAS!$A$15:$B$50,2,0)),\"\",VLOOKUP(6,[2]LISTAS!$A$15:$B$50,2,0))","v":""},null,{"$f":"_xlfn.IFS(T19=\"------\",AD19,T19=\"LA RELACIÓN DE ACTIVIDADES DEBE SER A PARTIR DE LA SIGUIENTE FILA\",\"LA RELACIÓN DE ACTIVIDADES DEBE SER A PARTIR DE LA SIGUIENTE FILA\",T19<>\"------\",T19)","v":""},null,"ok"]
[null,null,null,null,null,null,null,null,null,null,null,null,null,null,null,null,null,null,null,"",{"$f":"IF(ISERROR(VLOOKUP(E20,[2]LISTAS!$A$15:$B$50,2,0)),\"\",VLOOKUP(E20,[2]LISTAS!$A$15:$B$50,2,0))","v":""},{"$f":"IF(ISERROR(VLOOKUP(G20,[2]LISTAS!$A$15:$B$50,2,0)),\"\",VLOOKUP(G20,[2]LISTAS!$A$15:$B$50,2,0))","v":""},{"$f":"IF(ISERROR(VLOOKUP(I20,[2]LISTAS!$A$15:$B$50,2,0)),\"\",VLOOKUP(I20,[2]LISTAS!$A$15:$B$50,2,0))","v":""},{"$f":"IF(ISERROR(VLOOKUP(K20,[2]LISTAS!$A$15:$B$50,2,0)),\"\",VLOOKUP(K20,[2]LISTAS!$A$15:$B$50,2,0))","v":""},{"$f":"IF(ISERROR(VLOOKUP(M20,[2]LISTAS!$A$15:$B$50,2,0)),\"\",VLOOKUP(M20,[2]LISTAS!$A$15:$B$50,2,0))","v":""},{"$f":"IF(ISERROR(VLOOKUP(O20,[2]LISTAS!$A$15:$B$50,2,0)),\"\",VLOOKUP(O20,[2]LISTAS!$A$15:$B$50,2,0))","v":""},{"$f":"IF(ISERROR(VLOOKUP(6,[2]LISTAS!$A$15:$B$50,2,0)),\"\",VLOOKUP(6,[2]LISTAS!$A$15:$B$50,2,0))","v":""},null,{"$f":"_xlfn.IFS(T20=\"------\",AD20,T20=\"LA RELACIÓN DE ACTIVIDADES DEBE SER A PARTIR DE LA SIGUIENTE FILA\",\"LA RELACIÓN DE ACTIVIDADES DEBE SER A PARTIR DE LA SIGUIENTE FILA\",T20<>\"------\",T20)","v":""},null,"ok"]
[null,null,null,null,null,null,null,null,null,null,null,null,null,null,null,null,null,null,null,"",{"$f":"IF(ISERROR(VLOOKUP(E21,[2]LISTAS!$A$15:$B$50,2,0)),\"\",VLOOKUP(E21,[2]LISTAS!$A$15:$B$50,2,0))","v":""},{"$f":"IF(ISERROR(VLOOKUP(G21,[2]LISTAS!$A$15:$B$50,2,0)),\"\",VLOOKUP(G21,[2]LISTAS!$A$15:$B$50,2,0))","v":""},{"$f":"IF(ISERROR(VLOOKUP(I21,[2]LISTAS!$A$15:$B$50,2,0)),\"\",VLOOKUP(I21,[2]LISTAS!$A$15:$B$50,2,0))","v":""},{"$f":"IF(ISERROR(VLOOKUP(K21,[2]LISTAS!$A$15:$B$50,2,0)),\"\",VLOOKUP(K21,[2]LISTAS!$A$15:$B$50,2,0))","v":""},{"$f":"IF(ISERROR(VLOOKUP(M21,[2]LISTAS!$A$15:$B$50,2,0)),\"\",VLOOKUP(M21,[2]LISTAS!$A$15:$B$50,2,0))","v":""},{"$f":"IF(ISERROR(VLOOKUP(O21,[2]LISTAS!$A$15:$B$50,2,0)),\"\",VLOOKUP(O21,[2]LISTAS!$A$15:$B$50,2,0))","v":""},{"$f":"IF(ISERROR(VLOOKUP(6,[2]LISTAS!$A$15:$B$50,2,0)),\"\",VLOOKUP(6,[2]LISTAS!$A$15:$B$50,2,0))","v":""},null,{"$f":"_xlfn.IFS(T21=\"------\",AD21,T21=\"LA RELACIÓN DE ACTIVIDADES DEBE SER A PARTIR DE LA SIGUIENTE FILA\",\"LA RELACIÓN DE ACTIVIDADES DEBE SER A PARTIR DE LA SIGUIENTE FILA\",T21<>\"------\",T21)","v":""},null,"ok"]
[null,null,null,null,null,null,null,null,null,null,null,null,null,null,null,null,null,null,null,"",{"$f":"IF(ISERROR(VLOOKUP(E22,[2]LISTAS!$A$15:$B$50,2,0)),\"\",VLOOKUP(E22,[2]LISTAS!$A$15:$B$50,2,0))","v":""},{"$f":"IF(ISERROR(VLOOKUP(G22,[2]LISTAS!$A$15:$B$50,2,0)),\"\",VLOOKUP(G22,[2]LISTAS!$A$15:$B$50,2,0))","v":""},{"$f":"IF(ISERROR(VLOOKUP(I22,[2]LISTAS!$A$15:$B$50,2,0)),\"\",VLOOKUP(I22,[2]LISTAS!$A$15:$B$50,2,0))","v":""},{"$f":"IF(ISERROR(VLOOKUP(K22,[2]LISTAS!$A$15:$B$50,2,0)),\"\",VLOOKUP(K22,[2]LISTAS!$A$15:$B$50,2,0))","v":""},{"$f":"IF(ISERROR(VLOOKUP(M22,[2]LISTAS!$A$15:$B$50,2,0)),\"\",VLOOKUP(M22,[2]LISTAS!$A$15:$B$50,2,0))","v":""},{"$f":"IF(ISERROR(VLOOKUP(O22,[2]LISTAS!$A$15:$B$50,2,0)),\"\",VLOOKUP(O22,[2]LISTAS!$A$15:$B$50,2,0))","v":""},{"$f":"IF(ISERROR(VLOOKUP(6,[2]LISTAS!$A$15:$B$50,2,0)),\"\",VLOOKUP(6,[2]LISTAS!$A$15:$B$50,2,0))","v":""},null,{"$f":"_xlfn.IFS(T22=\"------\",AD22,T22=\"LA RELACIÓN DE ACTIVIDADES DEBE SER A PARTIR DE LA SIGUIENTE FILA\",\"LA RELACIÓN DE ACTIVIDADES DEBE SER A PARTIR DE LA SIGUIENTE FILA\",T22<>\"------\",T22)","v":""},null,"ok"]
[null,null,null,null,null,null,null,null,null,null,null,null,null,null,null,null,null,null,null,"",{"$f":"IF(ISERROR(VLOOKUP(E23,[2]LISTAS!$A$15:$B$50,2,0)),\"\",VLOOKUP(E23,[2]LISTAS!$A$15:$B$50,2,0))","v":""},{"$f":"IF(ISERROR(VLOOKUP(G23,[2]LISTAS!$A$15:$B$50,2,0)),\"\",VLOOKUP(G23,[2]LISTAS!$A$15:$B$50,2,0))","v":""},{"$f":"IF(ISERROR(VLOOKUP(I23,[2]LISTAS!$A$15:$B$50,2,0)),\"\",VLOOKUP(I23,[2]LISTAS!$A$15:$B$50,2,0))","v":""},{"$f":"IF(ISERROR(VLOOKUP(K23,[2]LISTAS!$A$15:$B$50,2,0)),\"\",VLOOKUP(K23,[2]LISTAS!$A$15:$B$50,2,0))","v":""},{"$f":"IF(ISERROR(VLOOKUP(M23,[2]LISTAS!$A$15:$B$50,2,0)),\"\",VLOOKUP(M23,[2]LISTAS!$A$15:$B$50,2,0))","v":""},{"$f":"IF(ISERROR(VLOOKUP(O23,[2]LISTAS!$A$15:$B$50,2,0)),\"\",VLOOKUP(O23,[2]LISTAS!$A$15:$B$50,2,0))","v":""},{"$f":"IF(ISERROR(VLOOKUP(6,[2]LISTAS!$A$15:$B$50,2,0)),\"\",VLOOKUP(6,[2]LISTAS!$A$15:$B$50,2,0))","v":""},null,{"$f":"_xlfn.IFS(T23=\"------\",AD23,T23=\"LA RELACIÓN DE ACTIVIDADES DEBE SER A PARTIR DE LA SIGUIENTE FILA\",\"LA RELACIÓN DE ACTIVIDADES DEBE SER A PARTIR DE LA SIGUIENTE FILA\",T23<>\"------\",T23)","v":""},null,"ok"]
[null,null,null,null,null,null,null,null,null,null,null,null,null,null,null,null,null,null,null,"",{"$f":"IF(ISERROR(VLOOKUP(E24,[2]LISTAS!$A$15:$B$50,2,0)),\"\",VLOOKUP(E24,[2]LISTAS!$A$15:$B$50,2,0))","v":""},{"$f":"IF(ISERROR(VLOOKUP(G24,[2]LISTAS!$A$15:$B$50,2,0)),\"\",VLOOKUP(G24,[2]LISTAS!$A$15:$B$50,2,0))","v":""},{"$f":"IF(ISERROR(VLOOKUP(I24,[2]LISTAS!$A$15:$B$50,2,0)),\"\",VLOOKUP(I24,[2]LISTAS!$A$15:$B$50,2,0))","v":""},{"$f":"IF(ISERROR(VLOOKUP(K24,[2]LISTAS!$A$15:$B$50,2,0)),\"\",VLOOKUP(K24,[2]LISTAS!$A$15:$B$50,2,0))","v":""},{"$f":"IF(ISERROR(VLOOKUP(M24,[2]LISTAS!$A$15:$B$50,2,0)),\"\",VLOOKUP(M24,[2]LISTAS!$A$15:$B$50,2,0))","v":""},{"$f":"IF(ISERROR(VLOOKUP(O24,[2]LISTAS!$A$15:$B$50,2,0)),\"\",VLOOKUP(O24,[2]LISTAS!$A$15:$B$50,2,0))","v":""},{"$f":"IF(ISERROR(VLOOKUP(6,[2]LISTAS!$A$15:$B$50,2,0)),\"\",VLOOKUP(6,[2]LISTAS!$A$15:$B$50,2,0))","v":""},null,{"$f":"_xlfn.IFS(T24=\"------\",AD24,T24=\"LA RELACIÓN DE ACTIVIDADES DEBE SER A PARTIR DE LA SIGUIENTE FILA\",\"LA RELACIÓN DE ACTIVIDADES DEBE SER A PARTIR DE LA SIGUIENTE FILA\",T24<>\"------\",T24)","v":""},null,"ok"]
[null,null,null,null,null,null,null,null,null,null,null,null,null,null,null,null,null,null,null,"",{"$f":"IF(ISERROR(VLOOKUP(E25,[2]LISTAS!$A$15:$B$50,2,0)),\"\",VLOOKUP(E25,[2]LISTAS!$A$15:$B$50,2,0))","v":""},{"$f":"IF(ISERROR(VLOOKUP(G25,[2]LISTAS!$A$15:$B$50,2,0)),\"\",VLOOKUP(G25,[2]LISTAS!$A$15:$B$50,2,0))","v":""},{"$f":"IF(ISERROR(VLOOKUP(I25,[2]LISTAS!$A$15:$B$50,2,0)),\"\",VLOOKUP(I25,[2]LISTAS!$A$15:$B$50,2,0))","v":""},{"$f":"IF(ISERROR(VLOOKUP(K25,[2]LISTAS!$A$15:$B$50,2,0)),\"\",VLOOKUP(K25,[2]LISTAS!$A$15:$B$50,2,0))","v":""},{"$f":"IF(ISERROR(VLOOKUP(M25,[2]LISTAS!$A$15:$B$50,2,0)),\"\",VLOOKUP(M25,[2]LISTAS!$A$15:$B$50,2,0))","v":""},{"$f":"IF(ISERROR(VLOOKUP(O25,[2]LISTAS!$A$15:$B$50,2,0)),\"\",VLOOKUP(O25,[2]LISTAS!$A$15:$B$50,2,0))","v":""},{"$f":"IF(ISERROR(VLOOKUP(6,[2]LISTAS!$A$15:$B$50,2,0)),\"\",VLOOKUP(6,[2]LISTAS!$A$15:$B$50,2,0))","v":""},null,{"$f":"_xlfn.IFS(T25=\"------\",AD25,T25=\"LA RELACIÓN DE ACTIVIDADES DEBE SER A PARTIR DE LA SIGUIENTE FILA\",\"LA RELACIÓN DE ACTIVIDADES DEBE SER A PARTIR DE LA SIGUIENTE FILA\",T25<>\"------\",T25)","v":""},null,"ok"]
[null,null,null,null,null,null,null,null,null,null,null,null,null,null,null,null,null,null,null,"",{"$f":"IF(ISERROR(VLOOKUP(E26,[2]LISTAS!$A$15:$B$50,2,0)),\"\",VLOOKUP(E26,[2]LISTAS!$A$15:$B$50,2,0))","v":""},{"$f":"IF(ISERROR(VLOOKUP(G26,[2]LISTAS!$A$15:$B$50,2,0)),\"\",VLOOKUP(G26,[2]LISTAS!$A$15:$B$50,2,0))","v":""},{"$f":"IF(ISERROR(VLOOKUP(I26,[2]LISTAS!$A$15:$B$50,2,0)),\"\",VLOOKUP(I26,[2]LISTAS!$A$15:$B$50,2,0))","v":""},{"$f":"IF(ISERROR(VLOOKUP(K26,[2]LISTAS!$A$15:$B$50,2,0)),\"\",VLOOKUP(K26,[2]LISTAS!$A$15:$B$50,2,0))","v":""},{"$f":"IF(ISERROR(VLOOKUP(M26,[2]LISTAS!$A$15:$B$50,2,0)),\"\",VLOOKUP(M26,[2]LISTAS!$A$15:$B$50,2,0))","v":""},{"$f":"IF(ISERROR(VLOOKUP(O26,[2]LISTAS!$A$15:$B$50,2,0)),\"\",VLOOKUP(O26,[2]LISTAS!$A$15:$B$50,2,0))","v":""},{"$f":"IF(ISERROR(VLOOKUP(6,[2]LISTAS!$A$15:$B$50,2,0)),\"\",VLOOKUP(6,[2]LISTAS!$A$15:$B$50,2,0))","v":""},null,{"$f":"_xlfn.IFS(T26=\"------\",AD26,T26=\"LA RELACIÓN DE ACTIVIDADES DEBE SER A PARTIR DE LA SIGUIENTE FILA\",\"LA RELACIÓN DE ACTIVIDADES DEBE SER A PARTIR DE LA SIGUIENTE FILA\",T26<>\"------\",T26)","v":""},null,"ok"]
[null,null,null,null,null,null,null,null,null,null,null,null,null,null,null,null,null,null,null,"",{"$f":"IF(ISERROR(VLOOKUP(E27,[2]LISTAS!$A$15:$B$50,2,0)),\"\",VLOOKUP(E27,[2]LISTAS!$A$15:$B$50,2,0))","v":""},{"$f":"IF(ISERROR(VLOOKUP(G27,[2]LISTAS!$A$15:$B$50,2,0)),\"\",VLOOKUP(G27,[2]LISTAS!$A$15:$B$50,2,0))","v":""},{"$f":"IF(ISERROR(VLOOKUP(I27,[2]LISTAS!$A$15:$B$50,2,0)),\"\",VLOOKUP(I27,[2]LISTAS!$A$15:$B$50,2,0))","v":""},{"$f":"IF(ISERROR(VLOOKUP(K27,[2]LISTAS!$A$15:$B$50,2,0)),\"\",VLOOKUP(K27,[2]LISTAS!$A$15:$B$50,2,0))","v":""},{"$f":"IF(ISERROR(VLOOKUP(M27,[2]LISTAS!$A$15:$B$50,2,0)),\"\",VLOOKUP(M27,[2]LISTAS!$A$15:$B$50,2,0))","v":""},{"$f":"IF(ISERROR(VLOOKUP(O27,[2]LISTAS!$A$15:$B$50,2,0)),\"\",VLOOKUP(O27,[2]LISTAS!$A$15:$B$50,2,0))","v":""},{"$f":"IF(ISERROR(VLOOKUP(6,[2]LISTAS!$A$15:$B$50,2,0)),\"\",VLOOKUP(6,[2]LISTAS!$A$15:$B$50,2,0))","v":""},null,{"$f":"_xlfn.IFS(T27=\"------\",AD27,T27=\"LA RELACIÓN DE ACTIVIDADES DEBE SER A PARTIR DE LA SIGUIENTE FILA\",\"LA RELACIÓN DE ACTIVIDADES DEBE SER A PARTIR DE LA SIGUIENTE FILA\",T27<>\"------\",T27)","v":""},null,"ok"]
[null,null,null,null,null,null,null,null,null,null,null,null,null,null,null,null,null,null,null,"",{"$f":"IF(ISERROR(VLOOKUP(E28,[2]LISTAS!$A$15:$B$50,2,0)),\"\",VLOOKUP(E28,[2]LISTAS!$A$15:$B$50,2,0))","v":""},{"$f":"IF(ISERROR(VLOOKUP(G28,[2]LISTAS!$A$15:$B$50,2,0)),\"\",VLOOKUP(G28,[2]LISTAS!$A$15:$B$50,2,0))","v":""},{"$f":"IF(ISERROR(VLOOKUP(I28,[2]LISTAS!$A$15:$B$50,2,0)),\"\",VLOOKUP(I28,[2]LISTAS!$A$15:$B$50,2,0))","v":""},{"$f":"IF(ISERROR(VLOOKUP(K28,[2]LISTAS!$A$15:$B$50,2,0)),\"\",VLOOKUP(K28,[2]LISTAS!$A$15:$B$50,2,0))","v":""},{"$f":"IF(ISERROR(VLOOKUP(M28,[2]LISTAS!$A$15:$B$50,2,0)),\"\",VLOOKUP(M28,[2]LISTAS!$A$15:$B$50,2,0))","v":""},{"$f":"IF(ISERROR(VLOOKUP(O28,[2]LISTAS!$A$15:$B$50,2,0)),\"\",VLOOKUP(O28,[2]LISTAS!$A$15:$B$50,2,0))","v":""},{"$f":"IF(ISERROR(VLOOKUP(6,[2]LISTAS!$A$15:$B$50,2,0)),\"\",VLOOKUP(6,[2]LISTAS!$A$15:$B$50,2,0))","v":""},null,{"$f":"_xlfn.IFS(T28=\"------\",AD28,T28=\"LA RELACIÓN DE ACTIVIDADES DEBE SER A PARTIR DE LA SIGUIENTE FILA\",\"LA RELACIÓN DE ACTIVIDADES DEBE SER A PARTIR DE LA SIGUIENTE FILA\",T28<>\"------\",T28)","v":""},null,"ok"]
[null,null,null,null,null,null,null,null,null,null,null,null,null,null,null,null,null,null,null,"",{"$f":"IF(ISERROR(VLOOKUP(E29,[2]LISTAS!$A$15:$B$50,2,0)),\"\",VLOOKUP(E29,[2]LISTAS!$A$15:$B$50,2,0))","v":""},{"$f":"IF(ISERROR(VLOOKUP(G29,[2]LISTAS!$A$15:$B$50,2,0)),\"\",VLOOKUP(G29,[2]LISTAS!$A$15:$B$50,2,0))","v":""},{"$f":"IF(ISERROR(VLOOKUP(I29,[2]LISTAS!$A$15:$B$50,2,0)),\"\",VLOOKUP(I29,[2]LISTAS!$A$15:$B$50,2,0))","v":""},{"$f":"IF(ISERROR(VLOOKUP(K29,[2]LISTAS!$A$15:$B$50,2,0)),\"\",VLOOKUP(K29,[2]LISTAS!$A$15:$B$50,2,0))","v":""},{"$f":"IF(ISERROR(VLOOKUP(M29,[2]LISTAS!$A$15:$B$50,2,0)),\"\",VLOOKUP(M29,[2]LISTAS!$A$15:$B$50,2,0))","v":""},{"$f":"IF(ISERROR(VLOOKUP(O29,[2]LISTAS!$A$15:$B$50,2,0)),\"\",VLOOKUP(O29,[2]LISTAS!$A$15:$B$50,2,0))","v":""},{"$f":"IF(ISERROR(VLOOKUP(6,[2]LISTAS!$A$15:$B$50,2,0)),\"\",VLOOKUP(6,[2]LISTAS!$A$15:$B$50,2,0))","v":""},null,{"$f":"_xlfn.IFS(T29=\"------\",AD29,T29=\"LA RELACIÓN DE ACTIVIDADES DEBE SER A PARTIR DE LA SIGUIENTE FILA\",\"LA RELACIÓN DE ACTIVIDADES DEBE SER A PARTIR DE LA SIGUIENTE FILA\",T29<>\"------\",T29)","v":""},null,"ok"]
[null,null,null,null,null,null,null,null,null,null,null,null,null,null,null,null,null,null,null,"",{"$f":"IF(ISERROR(VLOOKUP(E30,[2]LISTAS!$A$15:$B$50,2,0)),\"\",VLOOKUP(E30,[2]LISTAS!$A$15:$B$50,2,0))","v":""},{"$f":"IF(ISERROR(VLOOKUP(G30,[2]LISTAS!$A$15:$B$50,2,0)),\"\",VLOOKUP(G30,[2]LISTAS!$A$15:$B$50,2,0))","v":""},{"$f":"IF(ISERROR(VLOOKUP(I30,[2]LISTAS!$A$15:$B$50,2,0)),\"\",VLOOKUP(I30,[2]LISTAS!$A$15:$B$50,2,0))","v":""},{"$f":"IF(ISERROR(VLOOKUP(K30,[2]LISTAS!$A$15:$B$50,2,0)),\"\",VLOOKUP(K30,[2]LISTAS!$A$15:$B$50,2,0))","v":""},{"$f":"IF(ISERROR(VLOOKUP(M30,[2]LISTAS!$A$15:$B$50,2,0)),\"\",VLOOKUP(M30,[2]LISTAS!$A$15:$B$50,2,0))","v":""},{"$f":"IF(ISERROR(VLOOKUP(O30,[2]LISTAS!$A$15:$B$50,2,0)),\"\",VLOOKUP(O30,[2]LISTAS!$A$15:$B$50,2,0))","v":""},{"$f":"IF(ISERROR(VLOOKUP(6,[2]LISTAS!$A$15:$B$50,2,0)),\"\",VLOOKUP(6,[2]LISTAS!$A$15:$B$50,2,0))","v":""},null,{"$f":"_xlfn.IFS(T30=\"------\",AD30,T30=\"LA RELACIÓN DE ACTIVIDADES DEBE SER A PARTIR DE LA SIGUIENTE FILA\",\"LA RELACIÓN DE ACTIVIDADES DEBE SER A PARTIR DE LA SIGUIENTE FILA\",T30<>\"------\",T30)","v":""},null,"ok"]
[null,null,null,null,null,null,null,null,null,null,null,null,null,null,null,null,null,null,null,"",{"$f":"IF(ISERROR(VLOOKUP(E31,[2]LISTAS!$A$15:$B$50,2,0)),\"\",VLOOKUP(E31,[2]LISTAS!$A$15:$B$50,2,0))","v":""},{"$f":"IF(ISERROR(VLOOKUP(G31,[2]LISTAS!$A$15:$B$50,2,0)),\"\",VLOOKUP(G31,[2]LISTAS!$A$15:$B$50,2,0))","v":""},{"$f":"IF(ISERROR(VLOOKUP(I31,[2]LISTAS!$A$15:$B$50,2,0)),\"\",VLOOKUP(I31,[2]LISTAS!$A$15:$B$50,2,0))","v":""},{"$f":"IF(ISERROR(VLOOKUP(K31,[2]LISTAS!$A$15:$B$50,2,0)),\"\",VLOOKUP(K31,[2]LISTAS!$A$15:$B$50,2,0))","v":""},{"$f":"IF(ISERROR(VLOOKUP(M31,[2]LISTAS!$A$15:$B$50,2,0)),\"\",VLOOKUP(M31,[2]LISTAS!$A$15:$B$50,2,0))","v":""},{"$f":"IF(ISERROR(VLOOKUP(O31,[2]LISTAS!$A$15:$B$50,2,0)),\"\",VLOOKUP(O31,[2]LISTAS!$A$15:$B$50,2,0))","v":""},{"$f":"IF(ISERROR(VLOOKUP(6,[2]LISTAS!$A$15:$B$50,2,0)),\"\",VLOOKUP(6,[2]LISTAS!$A$15:$B$50,2,0))","v":""},null,{"$f":"_xlfn.IFS(T31=\"------\",AD31,T31=\"LA RELACIÓN DE ACTIVIDADES DEBE SER A PARTIR DE LA SIGUIENTE FILA\",\"LA RELACIÓN DE ACTIVIDADES DEBE SER A PARTIR DE LA SIGUIENTE FILA\",T31<>\"------\",T31)","v":""},null,"ok"]
[null,null,null,null,null,null,null,null,null,null,null,null,null,null,null,null,null,null,null,"",{"$f":"IF(ISERROR(VLOOKUP(E32,[2]LISTAS!$A$15:$B$50,2,0)),\"\",VLOOKUP(E32,[2]LISTAS!$A$15:$B$50,2,0))","v":""},{"$f":"IF(ISERROR(VLOOKUP(G32,[2]LISTAS!$A$15:$B$50,2,0)),\"\",VLOOKUP(G32,[2]LISTAS!$A$15:$B$50,2,0))","v":""},{"$f":"IF(ISERROR(VLOOKUP(I32,[2]LISTAS!$A$15:$B$50,2,0)),\"\",VLOOKUP(I32,[2]LISTAS!$A$15:$B$50,2,0))","v":""},{"$f":"IF(ISERROR(VLOOKUP(K32,[2]LISTAS!$A$15:$B$50,2,0)),\"\",VLOOKUP(K32,[2]LISTAS!$A$15:$B$50,2,0))","v":""},{"$f":"IF(ISERROR(VLOOKUP(M32,[2]LISTAS!$A$15:$B$50,2,0)),\"\",VLOOKUP(M32,[2]LISTAS!$A$15:$B$50,2,0))","v":""},{"$f":"IF(ISERROR(VLOOKUP(O32,[2]LISTAS!$A$15:$B$50,2,0)),\"\",VLOOKUP(O32,[2]LISTAS!$A$15:$B$50,2,0))","v":""},{"$f":"IF(ISERROR(VLOOKUP(6,[2]LISTAS!$A$15:$B$50,2,0)),\"\",VLOOKUP(6,[2]LISTAS!$A$15:$B$50,2,0))","v":""},null,{"$f":"_xlfn.IFS(T32=\"------\",AD32,T32=\"LA RELACIÓN DE ACTIVIDADES DEBE SER A PARTIR DE LA SIGUIENTE FILA\",\"LA RELACIÓN DE ACTIVIDADES DEBE SER A PARTIR DE LA SIGUIENTE FILA\",T32<>\"------\",T32)","v":""},null,"ok"]
[null,null,null,null,null,null,null,null,null,null,null,null,null,null,null,null,null,null,null,"",{"$f":"IF(ISERROR(VLOOKUP(E33,[2]LISTAS!$A$15:$B$50,2,0)),\"\",VLOOKUP(E33,[2]LISTAS!$A$15:$B$50,2,0))","v":""},{"$f":"IF(ISERROR(VLOOKUP(G33,[2]LISTAS!$A$15:$B$50,2,0)),\"\",VLOOKUP(G33,[2]LISTAS!$A$15:$B$50,2,0))","v":""},{"$f":"IF(ISERROR(VLOOKUP(I33,[2]LISTAS!$A$15:$B$50,2,0)),\"\",VLOOKUP(I33,[2]LISTAS!$A$15:$B$50,2,0))","v":""},{"$f":"IF(ISERROR(VLOOKUP(K33,[2]LISTAS!$A$15:$B$50,2,0)),\"\",VLOOKUP(K33,[2]LISTAS!$A$15:$B$50,2,0))","v":""},{"$f":"IF(ISERROR(VLOOKUP(M33,[2]LISTAS!$A$15:$B$50,2,0)),\"\",VLOOKUP(M33,[2]LISTAS!$A$15:$B$50,2,0))","v":""},{"$f":"IF(ISERROR(VLOOKUP(O33,[2]LISTAS!$A$15:$B$50,2,0)),\"\",VLOOKUP(O33,[2]LISTAS!$A$15:$B$50,2,0))","v":""},{"$f":"IF(ISERROR(VLOOKUP(6,[2]LISTAS!$A$15:$B$50,2,0)),\"\",VLOOKUP(6,[2]LISTAS!$A$15:$B$50,2,0))","v":""},null,{"$f":"_xlfn.IFS(T33=\"------\",AD33,T33=\"LA RELACIÓN DE ACTIVIDADES DEBE SER A PARTIR DE LA SIGUIENTE FILA\",\"LA RELACIÓN DE ACTIVIDADES DEBE SER A PARTIR DE LA SIGUIENTE FILA\",T33<>\"------\",T33)","v":""},null,"ok"]
[null,null,null,null,null,null,null,null,null,null,null,null,null,null,null,null,null,null,null,"",{"$f":"IF(ISERROR(VLOOKUP(E34,[2]LISTAS!$A$15:$B$50,2,0)),\"\",VLOOKUP(E34,[2]LISTAS!$A$15:$B$50,2,0))","v":""},{"$f":"IF(ISERROR(VLOOKUP(G34,[2]LISTAS!$A$15:$B$50,2,0)),\"\",VLOOKUP(G34,[2]LISTAS!$A$15:$B$50,2,0))","v":""},{"$f":"IF(ISERROR(VLOOKUP(I34,[2]LISTAS!$A$15:$B$50,2,0)),\"\",VLOOKUP(I34,[2]LISTAS!$A$15:$B$50,2,0))","v":""},{"$f":"IF(ISERROR(VLOOKUP(K34,[2]LISTAS!$A$15:$B$50,2,0)),\"\",VLOOKUP(K34,[2]LISTAS!$A$15:$B$50,2,0))","v":""},{"$f":"IF(ISERROR(VLOOKUP(M34,[2]LISTAS!$A$15:$B$50,2,0)),\"\",VLOOKUP(M34,[2]LISTAS!$A$15:$B$50,2,0))","v":""},{"$f":"IF(ISERROR(VLOOKUP(O34,[2]LISTAS!$A$15:$B$50,2,0)),\"\",VLOOKUP(O34,[2]LISTAS!$A$15:$B$50,2,0))","v":""},{"$f":"IF(ISERROR(VLOOKUP(6,[2]LISTAS!$A$15:$B$50,2,0)),\"\",VLOOKUP(6,[2]LISTAS!$A$15:$B$50,2,0))","v":""},null,{"$f":"_xlfn.IFS(T34=\"------\",AD34,T34=\"LA RELACIÓN DE ACTIVIDADES DEBE SER A PARTIR DE LA SIGUIENTE FILA\",\"LA RELACIÓN DE ACTIVIDADES DEBE SER A PARTIR DE LA SIGUIENTE FILA\",T34<>\"------\",T34)","v":""},null,"ok"]
[null,null,null,null,null,null,null,null,null,null,null,null,null,null,null,null,null,null,null,"",{"$f":"IF(ISERROR(VLOOKUP(E35,[2]LISTAS!$A$15:$B$50,2,0)),\"\",VLOOKUP(E35,[2]LISTAS!$A$15:$B$50,2,0))","v":""},{"$f":"IF(ISERROR(VLOOKUP(G35,[2]LISTAS!$A$15:$B$50,2,0)),\"\",VLOOKUP(G35,[2]LISTAS!$A$15:$B$50,2,0))","v":""},{"$f":"IF(ISERROR(VLOOKUP(I35,[2]LISTAS!$A$15:$B$50,2,0)),\"\",VLOOKUP(I35,[2]LISTAS!$A$15:$B$50,2,0))","v":""},{"$f":"IF(ISERROR(VLOOKUP(K35,[2]LISTAS!$A$15:$B$50,2,0)),\"\",VLOOKUP(K35,[2]LISTAS!$A$15:$B$50,2,0))","v":""},{"$f":"IF(ISERROR(VLOOKUP(M35,[2]LISTAS!$A$15:$B$50,2,0)),\"\",VLOOKUP(M35,[2]LISTAS!$A$15:$B$50,2,0))","v":""},{"$f":"IF(ISERROR(VLOOKUP(O35,[2]LISTAS!$A$15:$B$50,2,0)),\"\",VLOOKUP(O35,[2]LISTAS!$A$15:$B$50,2,0))","v":""},{"$f":"IF(ISERROR(VLOOKUP(6,[2]LISTAS!$A$15:$B$50,2,0)),\"\",VLOOKUP(6,[2]LISTAS!$A$15:$B$50,2,0))","v":""},null,{"$f":"_xlfn.IFS(T35=\"------\",AD35,T35=\"LA RELACIÓN DE ACTIVIDADES DEBE SER A PARTIR DE LA SIGUIENTE FILA\",\"LA RELACIÓN DE ACTIVIDADES DEBE SER A PARTIR DE LA SIGUIENTE FILA\",T35<>\"------\",T35)","v":""},null,"ok"]
[null,null,null,null,null,null,null,null,null,null,null,null,null,null,null,null,null,null,null,"",{"$f":"IF(ISERROR(VLOOKUP(E36,[2]LISTAS!$A$15:$B$50,2,0)),\"\",VLOOKUP(E36,[2]LISTAS!$A$15:$B$50,2,0))","v":""},{"$f":"IF(ISERROR(VLOOKUP(G36,[2]LISTAS!$A$15:$B$50,2,0)),\"\",VLOOKUP(G36,[2]LISTAS!$A$15:$B$50,2,0))","v":""},{"$f":"IF(ISERROR(VLOOKUP(I36,[2]LISTAS!$A$15:$B$50,2,0)),\"\",VLOOKUP(I36,[2]LISTAS!$A$15:$B$50,2,0))","v":""},{"$f":"IF(ISERROR(VLOOKUP(K36,[2]LISTAS!$A$15:$B$50,2,0)),\"\",VLOOKUP(K36,[2]LISTAS!$A$15:$B$50,2,0))","v":""},{"$f":"IF(ISERROR(VLOOKUP(M36,[2]LISTAS!$A$15:$B$50,2,0)),\"\",VLOOKUP(M36,[2]LISTAS!$A$15:$B$50,2,0))","v":""},{"$f":"IF(ISERROR(VLOOKUP(O36,[2]LISTAS!$A$15:$B$50,2,0)),\"\",VLOOKUP(O36,[2]LISTAS!$A$15:$B$50,2,0))","v":""},{"$f":"IF(ISERROR(VLOOKUP(6,[2]LISTAS!$A$15:$B$50,2,0)),\"\",VLOOKUP(6,[2]LISTAS!$A$15:$B$50,2,0))","v":""},null,{"$f":"_xlfn.IFS(T36=\"------\",AD36,T36=\"LA RELACIÓN DE ACTIVIDADES DEBE SER A PARTIR DE LA SIGUIENTE FILA\",\"LA RELACIÓN DE ACTIVIDADES DEBE SER A PARTIR DE LA SIGUIENTE FILA\",T36<>\"------\",T36)","v":""},null,"ok"]
[null,null,null,null,null,null,null,null,null,null,null,null,null,null,null,null,null,null,null,"",{"$f":"IF(ISERROR(VLOOKUP(E37,[2]LISTAS!$A$15:$B$50,2,0)),\"\",VLOOKUP(E37,[2]LISTAS!$A$15:$B$50,2,0))","v":""},{"$f":"IF(ISERROR(VLOOKUP(G37,[2]LISTAS!$A$15:$B$50,2,0)),\"\",VLOOKUP(G37,[2]LISTAS!$A$15:$B$50,2,0))","v":""},{"$f":"IF(ISERROR(VLOOKUP(I37,[2]LISTAS!$A$15:$B$50,2,0)),\"\",VLOOKUP(I37,[2]LISTAS!$A$15:$B$50,2,0))","v":""},{"$f":"IF(ISERROR(VLOOKUP(K37,[2]LISTAS!$A$15:$B$50,2,0)),\"\",VLOOKUP(K37,[2]LISTAS!$A$15:$B$50,2,0))","v":""},{"$f":"IF(ISERROR(VLOOKUP(M37,[2]LISTAS!$A$15:$B$50,2,0)),\"\",VLOOKUP(M37,[2]LISTAS!$A$15:$B$50,2,0))","v":""},{"$f":"IF(ISERROR(VLOOKUP(O37,[2]LISTAS!$A$15:$B$50,2,0)),\"\",VLOOKUP(O37,[2]LISTAS!$A$15:$B$50,2,0))","v":""},{"$f":"IF(ISERROR(VLOOKUP(6,[2]LISTAS!$A$15:$B$50,2,0)),\"\",VLOOKUP(6,[2]LISTAS!$A$15:$B$50,2,0))","v":""},null,{"$f":"_xlfn.IFS(T37=\"------\",AD37,T37=\"LA RELACIÓN DE ACTIVIDADES DEBE SER A PARTIR DE LA SIGUIENTE FILA\",\"LA RELACIÓN DE ACTIVIDADES DEBE SER A PARTIR DE LA SIGUIENTE FILA\",T37<>\"------\",T37)","v":""},null,"ok"]
[null,null,null,null,null,null,null,null,null,null,null,null,null,null,null,null,null,null,null,"",{"$f":"IF(ISERROR(VLOOKUP(E38,[2]LISTAS!$A$15:$B$50,2,0)),\"\",VLOOKUP(E38,[2]LISTAS!$A$15:$B$50,2,0))","v":""},{"$f":"IF(ISERROR(VLOOKUP(G38,[2]LISTAS!$A$15:$B$50,2,0)),\"\",VLOOKUP(G38,[2]LISTAS!$A$15:$B$50,2,0))","v":""},{"$f":"IF(ISERROR(VLOOKUP(I38,[2]LISTAS!$A$15:$B$50,2,0)),\"\",VLOOKUP(I38,[2]LISTAS!$A$15:$B$50,2,0))","v":""},{"$f":"IF(ISERROR(VLOOKUP(K38,[2]LISTAS!$A$15:$B$50,2,0)),\"\",VLOOKUP(K38,[2]LISTAS!$A$15:$B$50,2,0))","v":""},{"$f":"IF(ISERROR(VLOOKUP(M38,[2]LISTAS!$A$15:$B$50,2,0)),\"\",VLOOKUP(M38,[2]LISTAS!$A$15:$B$50,2,0))","v":""},{"$f":"IF(ISERROR(VLOOKUP(O38,[2]LISTAS!$A$15:$B$50,2,0)),\"\",VLOOKUP(O38,[2]LISTAS!$A$15:$B$50,2,0))","v":""},{"$f":"IF(ISERROR(VLOOKUP(6,[2]LISTAS!$A$15:$B$50,2,0)),\"\",VLOOKUP(6,[2]LISTAS!$A$15:$B$50,2,0))","v":""},null,{"$f":"_xlfn.IFS(T38=\"------\",AD38,T38=\"LA RELACIÓN DE ACTIVIDADES DEBE SER A PARTIR DE LA SIGUIENTE FILA\",\"LA RELACIÓN DE ACTIVIDADES DEBE SER A PARTIR DE LA SIGUIENTE FILA\",T38<>\"------\",T38)","v":""},null,"ok"]
[null,null,null,null,null,null,null,null,null,null,null,null,null,null,null,null,null,null,null,"",{"$f":"IF(ISERROR(VLOOKUP(E39,[2]LISTAS!$A$15:$B$50,2,0)),\"\",VLOOKUP(E39,[2]LISTAS!$A$15:$B$50,2,0))","v":""},{"$f":"IF(ISERROR(VLOOKUP(G39,[2]LISTAS!$A$15:$B$50,2,0)),\"\",VLOOKUP(G39,[2]LISTAS!$A$15:$B$50,2,0))","v":""},{"$f":"IF(ISERROR(VLOOKUP(I39,[2]LISTAS!$A$15:$B$50,2,0)),\"\",VLOOKUP(I39,[2]LISTAS!$A$15:$B$50,2,0))","v":""},{"$f":"IF(ISERROR(VLOOKUP(K39,[2]LISTAS!$A$15:$B$50,2,0)),\"\",VLOOKUP(K39,[2]LISTAS!$A$15:$B$50,2,0))","v":""},{"$f":"IF(ISERROR(VLOOKUP(M39,[2]LISTAS!$A$15:$B$50,2,0)),\"\",VLOOKUP(M39,[2]LISTAS!$A$15:$B$50,2,0))","v":""},{"$f":"IF(ISERROR(VLOOKUP(O39,[2]LISTAS!$A$15:$B$50,2,0)),\"\",VLOOKUP(O39,[2]LISTAS!$A$15:$B$50,2,0))","v":""},{"$f":"IF(ISERROR(VLOOKUP(6,[2]LISTAS!$A$15:$B$50,2,0)),\"\",VLOOKUP(6,[2]LISTAS!$A$15:$B$50,2,0))","v":""},null,{"$f":"_xlfn.IFS(T39=\"------\",AD39,T39=\"LA RELACIÓN DE ACTIVIDADES DEBE SER A PARTIR DE LA SIGUIENTE FILA\",\"LA RELACIÓN DE ACTIVIDADES DEBE SER A PARTIR DE LA SIGUIENTE FILA\",T39<>\"------\",T39)","v":""},null,"ok"]
[null,null,null,null,null,null,null,null,null,null,null,null,null,null,null,null,null,null,null,"",{"$f":"IF(ISERROR(VLOOKUP(E40,[2]LISTAS!$A$15:$B$50,2,0)),\"\",VLOOKUP(E40,[2]LISTAS!$A$15:$B$50,2,0))","v":""},{"$f":"IF(ISERROR(VLOOKUP(G40,[2]LISTAS!$A$15:$B$50,2,0)),\"\",VLOOKUP(G40,[2]LISTAS!$A$15:$B$50,2,0))","v":""},{"$f":"IF(ISERROR(VLOOKUP(I40,[2]LISTAS!$A$15:$B$50,2,0)),\"\",VLOOKUP(I40,[2]LISTAS!$A$15:$B$50,2,0))","v":""},{"$f":"IF(ISERROR(VLOOKUP(K40,[2]LISTAS!$A$15:$B$50,2,0)),\"\",VLOOKUP(K40,[2]LISTAS!$A$15:$B$50,2,0))","v":""},{"$f":"IF(ISERROR(VLOOKUP(M40,[2]LISTAS!$A$15:$B$50,2,0)),\"\",VLOOKUP(M40,[2]LISTAS!$A$15:$B$50,2,0))","v":""},{"$f":"IF(ISERROR(VLOOKUP(O40,[2]LISTAS!$A$15:$B$50,2,0)),\"\",VLOOKUP(O40,[2]LISTAS!$A$15:$B$50,2,0))","v":""},{"$f":"IF(ISERROR(VLOOKUP(6,[2]LISTAS!$A$15:$B$50,2,0)),\"\",VLOOKUP(6,[2]LISTAS!$A$15:$B$50,2,0))","v":""},null,{"$f":"_xlfn.IFS(T40=\"------\",AD40,T40=\"LA RELACIÓN DE ACTIVIDADES DEBE SER A PARTIR DE LA SIGUIENTE FILA\",\"LA RELACIÓN DE ACTIVIDADES DEBE SER A PARTIR DE LA SIGUIENTE FILA\",T40<>\"------\",T40)","v":""},null,"ok"]
[null,null,null,null,null,null,null,null,null,null,null,null,null,null,null,null,null,null,null,"",{"$f":"IF(ISERROR(VLOOKUP(E41,[2]LISTAS!$A$15:$B$50,2,0)),\"\",VLOOKUP(E41,[2]LISTAS!$A$15:$B$50,2,0))","v":""},{"$f":"IF(ISERROR(VLOOKUP(G41,[2]LISTAS!$A$15:$B$50,2,0)),\"\",VLOOKUP(G41,[2]LISTAS!$A$15:$B$50,2,0))","v":""},{"$f":"IF(ISERROR(VLOOKUP(I41,[2]LISTAS!$A$15:$B$50,2,0)),\"\",VLOOKUP(I41,[2]LISTAS!$A$15:$B$50,2,0))","v":""},{"$f":"IF(ISERROR(VLOOKUP(K41,[2]LISTAS!$A$15:$B$50,2,0)),\"\",VLOOKUP(K41,[2]LISTAS!$A$15:$B$50,2,0))","v":""},{"$f":"IF(ISERROR(VLOOKUP(M41,[2]LISTAS!$A$15:$B$50,2,0)),\"\",VLOOKUP(M41,[2]LISTAS!$A$15:$B$50,2,0))","v":""},{"$f":"IF(ISERROR(VLOOKUP(O41,[2]LISTAS!$A$15:$B$50,2,0)),\"\",VLOOKUP(O41,[2]LISTAS!$A$15:$B$50,2,0))","v":""},{"$f":"IF(ISERROR(VLOOKUP(6,[2]LISTAS!$A$15:$B$50,2,0)),\"\",VLOOKUP(6,[2]LISTAS!$A$15:$B$50,2,0))","v":""},null,{"$f":"_xlfn.IFS(T41=\"------\",AD41,T41=\"LA RELACIÓN DE ACTIVIDADES DEBE SER A PARTIR DE LA SIGUIENTE FILA\",\"LA RELACIÓN DE ACTIVIDADES DEBE SER A PARTIR DE LA SIGUIENTE FILA\",T41<>\"------\",T41)","v":""},null,"ok"]
[null,null,null,null,null,null,null,null,null,null,null,null,null,null,null,null,null,null,null,"",{"$f":"IF(ISERROR(VLOOKUP(E42,[2]LISTAS!$A$15:$B$50,2,0)),\"\",VLOOKUP(E42,[2]LISTAS!$A$15:$B$50,2,0))","v":""},{"$f":"IF(ISERROR(VLOOKUP(G42,[2]LISTAS!$A$15:$B$50,2,0)),\"\",VLOOKUP(G42,[2]LISTAS!$A$15:$B$50,2,0))","v":""},{"$f":"IF(ISERROR(VLOOKUP(I42,[2]LISTAS!$A$15:$B$50,2,0)),\"\",VLOOKUP(I42,[2]LISTAS!$A$15:$B$50,2,0))","v":""},{"$f":"IF(ISERROR(VLOOKUP(K42,[2]LISTAS!$A$15:$B$50,2,0)),\"\",VLOOKUP(K42,[2]LISTAS!$A$15:$B$50,2,0))","v":""},{"$f":"IF(ISERROR(VLOOKUP(M42,[2]LISTAS!$A$15:$B$50,2,0)),\"\",VLOOKUP(M42,[2]LISTAS!$A$15:$B$50,2,0))","v":""},{"$f":"IF(ISERROR(VLOOKUP(O42,[2]LISTAS!$A$15:$B$50,2,0)),\"\",VLOOKUP(O42,[2]LISTAS!$A$15:$B$50,2,0))","v":""},{"$f":"IF(ISERROR(VLOOKUP(6,[2]LISTAS!$A$15:$B$50,2,0)),\"\",VLOOKUP(6,[2]LISTAS!$A$15:$B$50,2,0))","v":""},null,{"$f":"_xlfn.IFS(T42=\"------\",AD42,T42=\"LA RELACIÓN DE ACTIVIDADES DEBE SER A PARTIR DE LA SIGUIENTE FILA\",\"LA RELACIÓN DE ACTIVIDADES DEBE SER A PARTIR DE LA SIGUIENTE FILA\",T42<>\"------\",T42)","v":""},null,"ok"]
[null,null,null,null,null,null,null,null,null,null,null,null,null,null,null,null,null,null,null,"",{"$f":"IF(ISERROR(VLOOKUP(E43,[2]LISTAS!$A$15:$B$50,2,0)),\"\",VLOOKUP(E43,[2]LISTAS!$A$15:$B$50,2,0))","v":""},{"$f":"IF(ISERROR(VLOOKUP(G43,[2]LISTAS!$A$15:$B$50,2,0)),\"\",VLOOKUP(G43,[2]LISTAS!$A$15:$B$50,2,0))","v":""},{"$f":"IF(ISERROR(VLOOKUP(I43,[2]LISTAS!$A$15:$B$50,2,0)),\"\",VLOOKUP(I43,[2]LISTAS!$A$15:$B$50,2,0))","v":""},{"$f":"IF(ISERROR(VLOOKUP(K43,[2]LISTAS!$A$15:$B$50,2,0)),\"\",VLOOKUP(K43,[2]LISTAS!$A$15:$B$50,2,0))","v":""},{"$f":"IF(ISERROR(VLOOKUP(M43,[2]LISTAS!$A$15:$B$50,2,0)),\"\",VLOOKUP(M43,[2]LISTAS!$A$15:$B$50,2,0))","v":""},{"$f":"IF(ISERROR(VLOOKUP(O43,[2]LISTAS!$A$15:$B$50,2,0)),\"\",VLOOKUP(O43,[2]LISTAS!$A$15:$B$50,2,0))","v":""},{"$f":"IF(ISERROR(VLOOKUP(6,[2]LISTAS!$A$15:$B$50,2,0)),\"\",VLOOKUP(6,[2]LISTAS!$A$15:$B$50,2,0))","v":""},null,{"$f":"_xlfn.IFS(T43=\"------\",AD43,T43=\"LA RELACIÓN DE ACTIVIDADES DEBE SER A PARTIR DE LA SIGUIENTE FILA\",\"LA RELACIÓN DE ACTIVIDADES DEBE SER A PARTIR DE LA SIGUIENTE FILA\",T43<>\"------\",T43)","v":""},null,"ok"]
[null,null,null,null,null,null,null,null,null,null,null,null,null,null,null,null,null,null,null,"",{"$f":"IF(ISERROR(VLOOKUP(E44,[2]LISTAS!$A$15:$B$50,2,0)),\"\",VLOOKUP(E44,[2]LISTAS!$A$15:$B$50,2,0))","v":""},{"$f":"IF(ISERROR(VLOOKUP(G44,[2]LISTAS!$A$15:$B$50,2,0)),\"\",VLOOKUP(G44,[2]LISTAS!$A$15:$B$50,2,0))","v":""},{"$f":"IF(ISERROR(VLOOKUP(I44,[2]LISTAS!$A$15:$B$50,2,0)),\"\",VLOOKUP(I44,[2]LISTAS!$A$15:$B$50,2,0))","v":""},{"$f":"IF(ISERROR(VLOOKUP(K44,[2]LISTAS!$A$15:$B$50,2,0)),\"\",VLOOKUP(K44,[2]LISTAS!$A$15:$B$50,2,0))","v":""},{"$f":"IF(ISERROR(VLOOKUP(M44,[2]LISTAS!$A$15:$B$50,2,0)),\"\",VLOOKUP(M44,[2]LISTAS!$A$15:$B$50,2,0))","v":""},{"$f":"IF(ISERROR(VLOOKUP(O44,[2]LISTAS!$A$15:$B$50,2,0)),\"\",VLOOKUP(O44,[2]LISTAS!$A$15:$B$50,2,0))","v":""},{"$f":"IF(ISERROR(VLOOKUP(6,[2]LISTAS!$A$15:$B$50,2,0)),\"\",VLOOKUP(6,[2]LISTAS!$A$15:$B$50,2,0))","v":""},null,{"$f":"_xlfn.IFS(T44=\"------\",AD44,T44=\"LA RELACIÓN DE ACTIVIDADES DEBE SER A PARTIR DE LA SIGUIENTE FILA\",\"LA RELACIÓN DE ACTIVIDADES DEBE SER A PARTIR DE LA SIGUIENTE FILA\",T44<>\"------\",T44)","v":""},null,"ok"]
[null,null,null,null,null,null,null,null,null,null,null,null,null,null,null,null,null,null,null,"",{"$f":"IF(ISERROR(VLOOKUP(E45,[2]LISTAS!$A$15:$B$50,2,0)),\"\",VLOOKUP(E45,[2]LISTAS!$A$15:$B$50,2,0))","v":""},{"$f":"IF(ISERROR(VLOOKUP(G45,[2]LISTAS!$A$15:$B$50,2,0)),\"\",VLOOKUP(G45,[2]LISTAS!$A$15:$B$50,2,0))","v":""},{"$f":"IF(ISERROR(VLOOKUP(I45,[2]LISTAS!$A$15:$B$50,2,0)),\"\",VLOOKUP(I45,[2]LISTAS!$A$15:$B$50,2,0))","v":""},{"$f":"IF(ISERROR(VLOOKUP(K45,[2]LISTAS!$A$15:$B$50,2,0)),\"\",VLOOKUP(K45,[2]LISTAS!$A$15:$B$50,2,0))","v":""},{"$f":"IF(ISERROR(VLOOKUP(M45,[2]LISTAS!$A$15:$B$50,2,0)),\"\",VLOOKUP(M45,[2]LISTAS!$A$15:$B$50,2,0))","v":""},{"$f":"IF(ISERROR(VLOOKUP(O45,[2]LISTAS!$A$15:$B$50,2,0)),\"\",VLOOKUP(O45,[2]LISTAS!$A$15:$B$50,2,0))","v":""},{"$f":"IF(ISERROR(VLOOKUP(6,[2]LISTAS!$A$15:$B$50,2,0)),\"\",VLOOKUP(6,[2]LISTAS!$A$15:$B$50,2,0))","v":""},null,{"$f":"_xlfn.IFS(T45=\"------\",AD45,T45=\"LA RELACIÓN DE ACTIVIDADES DEBE SER A PARTIR DE LA SIGUIENTE FILA\",\"LA RELACIÓN DE ACTIVIDADES DEBE SER A PARTIR DE LA SIGUIENTE FILA\",T45<>\"------\",T45)","v":""},null,"ok"]
[null,null,null,null,null,null,null,null,null,null,null,null,null,null,null,null,null,null,null,"",{"$f":"IF(ISERROR(VLOOKUP(E46,[2]LISTAS!$A$15:$B$50,2,0)),\"\",VLOOKUP(E46,[2]LISTAS!$A$15:$B$50,2,0))","v":""},{"$f":"IF(ISERROR(VLOOKUP(G46,[2]LISTAS!$A$15:$B$50,2,0)),\"\",VLOOKUP(G46,[2]LISTAS!$A$15:$B$50,2,0))","v":""},{"$f":"IF(ISERROR(VLOOKUP(I46,[2]LISTAS!$A$15:$B$50,2,0)),\"\",VLOOKUP(I46,[2]LISTAS!$A$15:$B$50,2,0))","v":""},{"$f":"IF(ISERROR(VLOOKUP(K46,[2]LISTAS!$A$15:$B$50,2,0)),\"\",VLOOKUP(K46,[2]LISTAS!$A$15:$B$50,2,0))","v":""},{"$f":"IF(ISERROR(VLOOKUP(M46,[2]LISTAS!$A$15:$B$50,2,0)),\"\",VLOOKUP(M46,[2]LISTAS!$A$15:$B$50,2,0))","v":""},{"$f":"IF(ISERROR(VLOOKUP(O46,[2]LISTAS!$A$15:$B$50,2,0)),\"\",VLOOKUP(O46,[2]LISTAS!$A$15:$B$50,2,0))","v":""},{"$f":"IF(ISERROR(VLOOKUP(6,[2]LISTAS!$A$15:$B$50,2,0)),\"\",VLOOKUP(6,[2]LISTAS!$A$15:$B$50,2,0))","v":""},null,{"$f":"_xlfn.IFS(T46=\"------\",AD46,T46=\"LA RELACIÓN DE ACTIVIDADES DEBE SER A PARTIR DE LA SIGUIENTE FILA\",\"LA RELACIÓN DE ACTIVIDADES DEBE SER A PARTIR DE LA SIGUIENTE FILA\",T46<>\"------\",T46)","v":""},null,"ok"]
[null,null,null,null,null,null,null,null,null,null,null,null,null,null,null,null,null,null,null,"",{"$f":"IF(ISERROR(VLOOKUP(E47,[2]LISTAS!$A$15:$B$50,2,0)),\"\",VLOOKUP(E47,[2]LISTAS!$A$15:$B$50,2,0))","v":""},{"$f":"IF(ISERROR(VLOOKUP(G47,[2]LISTAS!$A$15:$B$50,2,0)),\"\",VLOOKUP(G47,[2]LISTAS!$A$15:$B$50,2,0))","v":""},{"$f":"IF(ISERROR(VLOOKUP(I47,[2]LISTAS!$A$15:$B$50,2,0)),\"\",VLOOKUP(I47,[2]LISTAS!$A$15:$B$50,2,0))","v":""},{"$f":"IF(ISERROR(VLOOKUP(K47,[2]LISTAS!$A$15:$B$50,2,0)),\"\",VLOOKUP(K47,[2]LISTAS!$A$15:$B$50,2,0))","v":""},{"$f":"IF(ISERROR(VLOOKUP(M47,[2]LISTAS!$A$15:$B$50,2,0)),\"\",VLOOKUP(M47,[2]LISTAS!$A$15:$B$50,2,0))","v":""},{"$f":"IF(ISERROR(VLOOKUP(O47,[2]LISTAS!$A$15:$B$50,2,0)),\"\",VLOOKUP(O47,[2]LISTAS!$A$15:$B$50,2,0))","v":""},{"$f":"IF(ISERROR(VLOOKUP(6,[2]LISTAS!$A$15:$B$50,2,0)),\"\",VLOOKUP(6,[2]LISTAS!$A$15:$B$50,2,0))","v":""},null,{"$f":"_xlfn.IFS(T47=\"------\",AD47,T47=\"LA RELACIÓN DE ACTIVIDADES DEBE SER A PARTIR DE LA SIGUIENTE FILA\",\"LA RELACIÓN DE ACTIVIDADES DEBE SER A PARTIR DE LA SIGUIENTE FILA\",T47<>\"------\",T47)","v":""},null,"ok"]
[null,null,null,null,null,null,null,null,null,null,null,null,null,null,null,null,null,null,null,"",{"$f":"IF(ISERROR(VLOOKUP(E48,[2]LISTAS!$A$15:$B$50,2,0)),\"\",VLOOKUP(E48,[2]LISTAS!$A$15:$B$50,2,0))","v":""},{"$f":"IF(ISERROR(VLOOKUP(G48,[2]LISTAS!$A$15:$B$50,2,0)),\"\",VLOOKUP(G48,[2]LISTAS!$A$15:$B$50,2,0))","v":""},{"$f":"IF(ISERROR(VLOOKUP(I48,[2]LISTAS!$A$15:$B$50,2,0)),\"\",VLOOKUP(I48,[2]LISTAS!$A$15:$B$50,2,0))","v":""},{"$f":"IF(ISERROR(VLOOKUP(K48,[2]LISTAS!$A$15:$B$50,2,0)),\"\",VLOOKUP(K48,[2]LISTAS!$A$15:$B$50,2,0))","v":""},{"$f":"IF(ISERROR(VLOOKUP(M48,[2]LISTAS!$A$15:$B$50,2,0)),\"\",VLOOKUP(M48,[2]LISTAS!$A$15:$B$50,2,0))","v":""},{"$f":"IF(ISERROR(VLOOKUP(O48,[2]LISTAS!$A$15:$B$50,2,0)),\"\",VLOOKUP(O48,[2]LISTAS!$A$15:$B$50,2,0))","v":""},{"$f":"IF(ISERROR(VLOOKUP(6,[2]LISTAS!$A$15:$B$50,2,0)),\"\",VLOOKUP(6,[2]LISTAS!$A$15:$B$50,2,0))","v":""},null,{"$f":"_xlfn.IFS(T48=\"------\",AD48,T48=\"LA RELACIÓN DE ACTIVIDADES DEBE SER A PARTIR DE LA SIGUIENTE FILA\",\"LA RELACIÓN DE ACTIVIDADES DEBE SER A PARTIR DE LA SIGUIENTE FILA\",T48<>\"------\",T48)","v":""},null,"ok"]
[null,null,null,null,null,null,null,null,null,null,null,null,null,null,null,null,null,null,null,"",{"$f":"IF(ISERROR(VLOOKUP(E49,[2]LISTAS!$A$15:$B$50,2,0)),\"\",VLOOKUP(E49,[2]LISTAS!$A$15:$B$50,2,0))","v":""},{"$f":"IF(ISERROR(VLOOKUP(G49,[2]LISTAS!$A$15:$B$50,2,0)),\"\",VLOOKUP(G49,[2]LISTAS!$A$15:$B$50,2,0))","v":""},{"$f":"IF(ISERROR(VLOOKUP(I49,[2]LISTAS!$A$15:$B$50,2,0)),\"\",VLOOKUP(I49,[2]LISTAS!$A$15:$B$50,2,0))","v":""},{"$f":"IF(ISERROR(VLOOKUP(K49,[2]LISTAS!$A$15:$B$50,2,0)),\"\",VLOOKUP(K49,[2]LISTAS!$A$15:$B$50,2,0))","v":""},{"$f":"IF(ISERROR(VLOOKUP(M49,[2]LISTAS!$A$15:$B$50,2,0)),\"\",VLOOKUP(M49,[2]LISTAS!$A$15:$B$50,2,0))","v":""},{"$f":"IF(ISERROR(VLOOKUP(O49,[2]LISTAS!$A$15:$B$50,2,0)),\"\",VLOOKUP(O49,[2]LISTAS!$A$15:$B$50,2,0))","v":""},{"$f":"IF(ISERROR(VLOOKUP(6,[2]LISTAS!$A$15:$B$50,2,0)),\"\",VLOOKUP(6,[2]LISTAS!$A$15:$B$50,2,0))","v":""},null,{"$f":"_xlfn.IFS(T49=\"------\",AD49,T49=\"LA RELACIÓN DE ACTIVIDADES DEBE SER A PARTIR DE LA SIGUIENTE FILA\",\"LA RELACIÓN DE ACTIVIDADES DEBE SER A PARTIR DE LA SIGUIENTE FILA\",T49<>\"------\",T49)","v":""},null,"ok"]
[null,null,null,null,null,null,null,null,null,null,null,null,null,null,null,null,null,null,null,"",{"$f":"IF(ISERROR(VLOOKUP(E50,[2]LISTAS!$A$15:$B$50,2,0)),\"\",VLOOKUP(E50,[2]LISTAS!$A$15:$B$50,2,0))","v":""},{"$f":"IF(ISERROR(VLOOKUP(G50,[2]LISTAS!$A$15:$B$50,2,0)),\"\",VLOOKUP(G50,[2]LISTAS!$A$15:$B$50,2,0))","v":""},{"$f":"IF(ISERROR(VLOOKUP(I50,[2]LISTAS!$A$15:$B$50,2,0)),\"\",VLOOKUP(I50,[2]LISTAS!$A$15:$B$50,2,0))","v":""},{"$f":"IF(ISERROR(VLOOKUP(K50,[2]LISTAS!$A$15:$B$50,2,0)),\"\",VLOOKUP(K50,[2]LISTAS!$A$15:$B$50,2,0))","v":""},{"$f":"IF(ISERROR(VLOOKUP(M50,[2]LISTAS!$A$15:$B$50,2,0)),\"\",VLOOKUP(M50,[2]LISTAS!$A$15:$B$50,2,0))","v":""},{"$f":"IF(ISERROR(VLOOKUP(O50,[2]LISTAS!$A$15:$B$50,2,0)),\"\",VLOOKUP(O50,[2]LISTAS!$A$15:$B$50,2,0))","v":""},{"$f":"IF(ISERROR(VLOOKUP(6,[2]LISTAS!$A$15:$B$50,2,0)),\"\",VLOOKUP(6,[2]LISTAS!$A$15:$B$50,2,0))","v":""},null,{"$f":"_xlfn.IFS(T50=\"------\",AD50,T50=\"LA RELACIÓN DE ACTIVIDADES DEBE SER A PARTIR DE LA SIGUIENTE FILA\",\"LA RELACIÓN DE ACTIVIDADES DEBE SER A PARTIR DE LA SIGUIENTE FILA\",T50<>\"------\",T50)","v":""},null,"ok"]
[null,null,null,null,null,null,null,null,null,null,null,null,null,null,null,null,null,null,null,"",{"$f":"IF(ISERROR(VLOOKUP(E51,[2]LISTAS!$A$15:$B$50,2,0)),\"\",VLOOKUP(E51,[2]LISTAS!$A$15:$B$50,2,0))","v":""},{"$f":"IF(ISERROR(VLOOKUP(G51,[2]LISTAS!$A$15:$B$50,2,0)),\"\",VLOOKUP(G51,[2]LISTAS!$A$15:$B$50,2,0))","v":""},{"$f":"IF(ISERROR(VLOOKUP(I51,[2]LISTAS!$A$15:$B$50,2,0)),\"\",VLOOKUP(I51,[2]LISTAS!$A$15:$B$50,2,0))","v":""},{"$f":"IF(ISERROR(VLOOKUP(K51,[2]LISTAS!$A$15:$B$50,2,0)),\"\",VLOOKUP(K51,[2]LISTAS!$A$15:$B$50,2,0))","v":""},{"$f":"IF(ISERROR(VLOOKUP(M51,[2]LISTAS!$A$15:$B$50,2,0)),\"\",VLOOKUP(M51,[2]LISTAS!$A$15:$B$50,2,0))","v":""},{"$f":"IF(ISERROR(VLOOKUP(O51,[2]LISTAS!$A$15:$B$50,2,0)),\"\",VLOOKUP(O51,[2]LISTAS!$A$15:$B$50,2,0))","v":""},{"$f":"IF(ISERROR(VLOOKUP(6,[2]LISTAS!$A$15:$B$50,2,0)),\"\",VLOOKUP(6,[2]LISTAS!$A$15:$B$50,2,0))","v":""},null,{"$f":"_xlfn.IFS(T51=\"------\",AD51,T51=\"LA RELACIÓN DE ACTIVIDADES DEBE SER A PARTIR DE LA SIGUIENTE FILA\",\"LA RELACIÓN DE ACTIVIDADES DEBE SER A PARTIR DE LA SIGUIENTE FILA\",T51<>\"------\",T51)","v":""},null,"ok"]
[null,null,null,null,null,null,null,null,null,null,null,null,null,null,null,null,null,null,null,"",{"$f":"IF(ISERROR(VLOOKUP(E52,[2]LISTAS!$A$15:$B$50,2,0)),\"\",VLOOKUP(E52,[2]LISTAS!$A$15:$B$50,2,0))","v":""},{"$f":"IF(ISERROR(VLOOKUP(G52,[2]LISTAS!$A$15:$B$50,2,0)),\"\",VLOOKUP(G52,[2]LISTAS!$A$15:$B$50,2,0))","v":""},{"$f":"IF(ISERROR(VLOOKUP(I52,[2]LISTAS!$A$15:$B$50,2,0)),\"\",VLOOKUP(I52,[2]LISTAS!$A$15:$B$50,2,0))","v":""},{"$f":"IF(ISERROR(VLOOKUP(K52,[2]LISTAS!$A$15:$B$50,2,0)),\"\",VLOOKUP(K52,[2]LISTAS!$A$15:$B$50,2,0))","v":""},{"$f":"IF(ISERROR(VLOOKUP(M52,[2]LISTAS!$A$15:$B$50,2,0)),\"\",VLOOKUP(M52,[2]LISTAS!$A$15:$B$50,2,0))","v":""},{"$f":"IF(ISERROR(VLOOKUP(O52,[2]LISTAS!$A$15:$B$50,2,0)),\"\",VLOOKUP(O52,[2]LISTAS!$A$15:$B$50,2,0))","v":""},{"$f":"IF(ISERROR(VLOOKUP(6,[2]LISTAS!$A$15:$B$50,2,0)),\"\",VLOOKUP(6,[2]LISTAS!$A$15:$B$50,2,0))","v":""},null,{"$f":"_xlfn.IFS(T52=\"------\",AD52,T52=\"LA RELACIÓN DE ACTIVIDADES DEBE SER A PARTIR DE LA SIGUIENTE FILA\",\"LA RELACIÓN DE ACTIVIDADES DEBE SER A PARTIR DE LA SIGUIENTE FILA\",T52<>\"------\",T52)","v":""},null,"ok"]
[null,null,null,null,null,null,null,null,null,null,null,null,null,null,null,null,null,null,null,"",{"$f":"IF(ISERROR(VLOOKUP(E53,[2]LISTAS!$A$15:$B$50,2,0)),\"\",VLOOKUP(E53,[2]LISTAS!$A$15:$B$50,2,0))","v":""},{"$f":"IF(ISERROR(VLOOKUP(G53,[2]LISTAS!$A$15:$B$50,2,0)),\"\",VLOOKUP(G53,[2]LISTAS!$A$15:$B$50,2,0))","v":""},{"$f":"IF(ISERROR(VLOOKUP(I53,[2]LISTAS!$A$15:$B$50,2,0)),\"\",VLOOKUP(I53,[2]LISTAS!$A$15:$B$50,2,0))","v":""},{"$f":"IF(ISERROR(VLOOKUP(K53,[2]LISTAS!$A$15:$B$50,2,0)),\"\",VLOOKUP(K53,[2]LISTAS!$A$15:$B$50,2,0))","v":""},{"$f":"IF(ISERROR(VLOOKUP(M53,[2]LISTAS!$A$15:$B$50,2,0)),\"\",VLOOKUP(M53,[2]LISTAS!$A$15:$B$50,2,0))","v":""},{"$f":"IF(ISERROR(VLOOKUP(O53,[2]LISTAS!$A$15:$B$50,2,0)),\"\",VLOOKUP(O53,[2]LISTAS!$A$15:$B$50,2,0))","v":""},{"$f":"IF(ISERROR(VLOOKUP(6,[2]LISTAS!$A$15:$B$50,2,0)),\"\",VLOOKUP(6,[2]LISTAS!$A$15:$B$50,2,0))","v":""},null,{"$f":"_xlfn.IFS(T53=\"------\",AD53,T53=\"LA RELACIÓN DE ACTIVIDADES DEBE SER A PARTIR DE LA SIGUIENTE FILA\",\"LA RELACIÓN DE ACTIVIDADES DEBE SER A PARTIR DE LA SIGUIENTE FILA\",T53<>\"------\",T53)","v":""},null,"ok"]
[null,null,null,null,null,null,null,null,null,null,null,null,null,null,null,null,null,null,null,"",{"$f":"IF(ISERROR(VLOOKUP(E54,[2]LISTAS!$A$15:$B$50,2,0)),\"\",VLOOKUP(E54,[2]LISTAS!$A$15:$B$50,2,0))","v":""},{"$f":"IF(ISERROR(VLOOKUP(G54,[2]LISTAS!$A$15:$B$50,2,0)),\"\",VLOOKUP(G54,[2]LISTAS!$A$15:$B$50,2,0))","v":""},{"$f":"IF(ISERROR(VLOOKUP(I54,[2]LISTAS!$A$15:$B$50,2,0)),\"\",VLOOKUP(I54,[2]LISTAS!$A$15:$B$50,2,0))","v":""},{"$f":"IF(ISERROR(VLOOKUP(K54,[2]LISTAS!$A$15:$B$50,2,0)),\"\",VLOOKUP(K54,[2]LISTAS!$A$15:$B$50,2,0))","v":""},{"$f":"IF(ISERROR(VLOOKUP(M54,[2]LISTAS!$A$15:$B$50,2,0)),\"\",VLOOKUP(M54,[2]LISTAS!$A$15:$B$50,2,0))","v":""},{"$f":"IF(ISERROR(VLOOKUP(O54,[2]LISTAS!$A$15:$B$50,2,0)),\"\",VLOOKUP(O54,[2]LISTAS!$A$15:$B$50,2,0))","v":""},{"$f":"IF(ISERROR(VLOOKUP(6,[2]LISTAS!$A$15:$B$50,2,0)),\"\",VLOOKUP(6,[2]LISTAS!$A$15:$B$50,2,0))","v":""},null,{"$f":"_xlfn.IFS(T54=\"------\",AD54,T54=\"LA RELACIÓN DE ACTIVIDADES DEBE SER A PARTIR DE LA SIGUIENTE FILA\",\"LA RELACIÓN DE ACTIVIDADES DEBE SER A PARTIR DE LA SIGUIENTE FILA\",T54<>\"------\",T54)","v":""},null,"ok"]
[null,null,null,null,null,null,null,null,null,null,null,null,null,null,null,null,null,null,null,{"$f":"IF(AND(B55=\"\",C55=\"\"),\"\",IF(AND(D55<>\"\"),U55&\"-\"&V55&\"-\"&W55&\"-\"&X55&\"-\"&Y55&\"-\"&Z55&\"-\"&AA55,IF(AND(C55<>\"\"),\"LA RELACIÓN DE ACTIVIDADES DEBE SER A PARTIR DE LA SIGUIENTE FILA\",)))","v":""},{"$f":"IF(ISERROR(VLOOKUP(E55,[2]LISTAS!$A$15:$B$50,2,0)),\"\",VLOOKUP(E55,[2]LISTAS!$A$15:$B$50,2,0))","v":""},{"$f":"IF(ISERROR(VLOOKUP(G55,[2]LISTAS!$A$15:$B$50,2,0)),\"\",VLOOKUP(G55,[2]LISTAS!$A$15:$B$50,2,0))","v":""},{"$f":"IF(ISERROR(VLOOKUP(I55,[2]LISTAS!$A$15:$B$50,2,0)),\"\",VLOOKUP(I55,[2]LISTAS!$A$15:$B$50,2,0))","v":""},{"$f":"IF(ISERROR(VLOOKUP(K55,[2]LISTAS!$A$15:$B$50,2,0)),\"\",VLOOKUP(K55,[2]LISTAS!$A$15:$B$50,2,0))","v":""},{"$f":"IF(ISERROR(VLOOKUP(M55,[2]LISTAS!$A$15:$B$50,2,0)),\"\",VLOOKUP(M55,[2]LISTAS!$A$15:$B$50,2,0))","v":""},{"$f":"IF(ISERROR(VLOOKUP(O55,[2]LISTAS!$A$15:$B$50,2,0)),\"\",VLOOKUP(O55,[2]LISTAS!$A$15:$B$50,2,0))","v":""},{"$f":"IF(ISERROR(VLOOKUP(6,[2]LISTAS!$A$15:$B$50,2,0)),\"\",VLOOKUP(6,[2]LISTAS!$A$15:$B$50,2,0))","v":""},null,{"$f":"_xlfn.IFS(T55=\"------\",AD55,T55=\"LA RELACIÓN DE ACTIVIDADES DEBE SER A PARTIR DE LA SIGUIENTE FILA\",\"LA RELACIÓN DE ACTIVIDADES DEBE SER A PARTIR DE LA SIGUIENTE FILA\",T55<>\"------\",T55)","v":""},null,"ok"]
[null,null,null,null,null,null,null,null,null,null,null,null,null,null,null,null,null,null,null,"",{"$f":"IF(ISERROR(VLOOKUP(E56,[2]LISTAS!$A$15:$B$50,2,0)),\"\",VLOOKUP(E56,[2]LISTAS!$A$15:$B$50,2,0))","v":""},{"$f":"IF(ISERROR(VLOOKUP(G56,[2]LISTAS!$A$15:$B$50,2,0)),\"\",VLOOKUP(G56,[2]LISTAS!$A$15:$B$50,2,0))","v":""},{"$f":"IF(ISERROR(VLOOKUP(I56,[2]LISTAS!$A$15:$B$50,2,0)),\"\",VLOOKUP(I56,[2]LISTAS!$A$15:$B$50,2,0))","v":""},{"$f":"IF(ISERROR(VLOOKUP(K56,[2]LISTAS!$A$15:$B$50,2,0)),\"\",VLOOKUP(K56,[2]LISTAS!$A$15:$B$50,2,0))","v":""},{"$f":"IF(ISERROR(VLOOKUP(M56,[2]LISTAS!$A$15:$B$50,2,0)),\"\",VLOOKUP(M56,[2]LISTAS!$A$15:$B$50,2,0))","v":""},{"$f":"IF(ISERROR(VLOOKUP(O56,[2]LISTAS!$A$15:$B$50,2,0)),\"\",VLOOKUP(O56,[2]LISTAS!$A$15:$B$50,2,0))","v":""},{"$f":"IF(ISERROR(VLOOKUP(6,[2]LISTAS!$A$15:$B$50,2,0)),\"\",VLOOKUP(6,[2]LISTAS!$A$15:$B$50,2,0))","v":""},null,{"$f":"_xlfn.IFS(T56=\"------\",AD56,T56=\"LA RELACIÓN DE ACTIVIDADES DEBE SER A PARTIR DE LA SIGUIENTE FILA\",\"LA RELACIÓN DE ACTIVIDADES DEBE SER A PARTIR DE LA SIGUIENTE FILA\",T56<>\"------\",T56)","v":""},null,"ok"]
[null,null,null,null,null,null,null,null,null,null,null,null,null,null,null,null,null,null,null,"",{"$f":"IF(ISERROR(VLOOKUP(E57,[2]LISTAS!$A$15:$B$50,2,0)),\"\",VLOOKUP(E57,[2]LISTAS!$A$15:$B$50,2,0))","v":""},{"$f":"IF(ISERROR(VLOOKUP(G57,[2]LISTAS!$A$15:$B$50,2,0)),\"\",VLOOKUP(G57,[2]LISTAS!$A$15:$B$50,2,0))","v":""},{"$f":"IF(ISERROR(VLOOKUP(I57,[2]LISTAS!$A$15:$B$50,2,0)),\"\",VLOOKUP(I57,[2]LISTAS!$A$15:$B$50,2,0))","v":""},{"$f":"IF(ISERROR(VLOOKUP(K57,[2]LISTAS!$A$15:$B$50,2,0)),\"\",VLOOKUP(K57,[2]LISTAS!$A$15:$B$50,2,0))","v":""},{"$f":"IF(ISERROR(VLOOKUP(M57,[2]LISTAS!$A$15:$B$50,2,0)),\"\",VLOOKUP(M57,[2]LISTAS!$A$15:$B$50,2,0))","v":""},{"$f":"IF(ISERROR(VLOOKUP(O57,[2]LISTAS!$A$15:$B$50,2,0)),\"\",VLOOKUP(O57,[2]LISTAS!$A$15:$B$50,2,0))","v":""},{"$f":"IF(ISERROR(VLOOKUP(6,[2]LISTAS!$A$15:$B$50,2,0)),\"\",VLOOKUP(6,[2]LISTAS!$A$15:$B$50,2,0))","v":""},null,{"$f":"_xlfn.IFS(T57=\"------\",AD57,T57=\"LA RELACIÓN DE ACTIVIDADES DEBE SER A PARTIR DE LA SIGUIENTE FILA\",\"LA RELACIÓN DE ACTIVIDADES DEBE SER A PARTIR DE LA SIGUIENTE FILA\",T57<>\"------\",T57)","v":""},null,"ok"]
[null,null,null,null,null,null,null,null,null,null,null,null,null,null,null,null,null,null,null,"",{"$f":"IF(ISERROR(VLOOKUP(E58,[2]LISTAS!$A$15:$B$50,2,0)),\"\",VLOOKUP(E58,[2]LISTAS!$A$15:$B$50,2,0))","v":""},{"$f":"IF(ISERROR(VLOOKUP(G58,[2]LISTAS!$A$15:$B$50,2,0)),\"\",VLOOKUP(G58,[2]LISTAS!$A$15:$B$50,2,0))","v":""},{"$f":"IF(ISERROR(VLOOKUP(I58,[2]LISTAS!$A$15:$B$50,2,0)),\"\",VLOOKUP(I58,[2]LISTAS!$A$15:$B$50,2,0))","v":""},{"$f":"IF(ISERROR(VLOOKUP(K58,[2]LISTAS!$A$15:$B$50,2,0)),\"\",VLOOKUP(K58,[2]LISTAS!$A$15:$B$50,2,0))","v":""},{"$f":"IF(ISERROR(VLOOKUP(M58,[2]LISTAS!$A$15:$B$50,2,0)),\"\",VLOOKUP(M58,[2]LISTAS!$A$15:$B$50,2,0))","v":""},{"$f":"IF(ISERROR(VLOOKUP(O58,[2]LISTAS!$A$15:$B$50,2,0)),\"\",VLOOKUP(O58,[2]LISTAS!$A$15:$B$50,2,0))","v":""},{"$f":"IF(ISERROR(VLOOKUP(6,[2]LISTAS!$A$15:$B$50,2,0)),\"\",VLOOKUP(6,[2]LISTAS!$A$15:$B$50,2,0))","v":""},null,{"$f":"_xlfn.IFS(T58=\"------\",AD58,T58=\"LA RELACIÓN DE ACTIVIDADES DEBE SER A PARTIR DE LA SIGUIENTE FILA\",\"LA RELACIÓN DE ACTIVIDADES DEBE SER A PARTIR DE LA SIGUIENTE FILA\",T58<>\"------\",T58)","v":""},null,"ok"]
[null,null,null,null,null,null,null,null,null,null,null,null,null,null,null,null,null,null,null,"",{"$f":"IF(ISERROR(VLOOKUP(E59,[2]LISTAS!$A$15:$B$50,2,0)),\"\",VLOOKUP(E59,[2]LISTAS!$A$15:$B$50,2,0))","v":""},{"$f":"IF(ISERROR(VLOOKUP(G59,[2]LISTAS!$A$15:$B$50,2,0)),\"\",VLOOKUP(G59,[2]LISTAS!$A$15:$B$50,2,0))","v":""},{"$f":"IF(ISERROR(VLOOKUP(I59,[2]LISTAS!$A$15:$B$50,2,0)),\"\",VLOOKUP(I59,[2]LISTAS!$A$15:$B$50,2,0))","v":""},{"$f":"IF(ISERROR(VLOOKUP(K59,[2]LISTAS!$A$15:$B$50,2,0)),\"\",VLOOKUP(K59,[2]LISTAS!$A$15:$B$50,2,0))","v":""},{"$f":"IF(ISERROR(VLOOKUP(M59,[2]LISTAS!$A$15:$B$50,2,0)),\"\",VLOOKUP(M59,[2]LISTAS!$A$15:$B$50,2,0))","v":""},{"$f":"IF(ISERROR(VLOOKUP(O59,[2]LISTAS!$A$15:$B$50,2,0)),\"\",VLOOKUP(O59,[2]LISTAS!$A$15:$B$50,2,0))","v":""},{"$f":"IF(ISERROR(VLOOKUP(6,[2]LISTAS!$A$15:$B$50,2,0)),\"\",VLOOKUP(6,[2]LISTAS!$A$15:$B$50,2,0))","v":""},null,{"$f":"_xlfn.IFS(T59=\"------\",AD59,T59=\"LA RELACIÓN DE ACTIVIDADES DEBE SER A PARTIR DE LA SIGUIENTE FILA\",\"LA RELACIÓN DE ACTIVIDADES DEBE SER A PARTIR DE LA SIGUIENTE FILA\",T59<>\"------\",T59)","v":""},null,"ok"]
[null,null,null,null,null,null,null,null,null,null,null,null,null,null,null,null,null,null,null,"",{"$f":"IF(ISERROR(VLOOKUP(E60,[2]LISTAS!$A$15:$B$50,2,0)),\"\",VLOOKUP(E60,[2]LISTAS!$A$15:$B$50,2,0))","v":""},{"$f":"IF(ISERROR(VLOOKUP(G60,[2]LISTAS!$A$15:$B$50,2,0)),\"\",VLOOKUP(G60,[2]LISTAS!$A$15:$B$50,2,0))","v":""},{"$f":"IF(ISERROR(VLOOKUP(I60,[2]LISTAS!$A$15:$B$50,2,0)),\"\",VLOOKUP(I60,[2]LISTAS!$A$15:$B$50,2,0))","v":""},{"$f":"IF(ISERROR(VLOOKUP(K60,[2]LISTAS!$A$15:$B$50,2,0)),\"\",VLOOKUP(K60,[2]LISTAS!$A$15:$B$50,2,0))","v":""},{"$f":"IF(ISERROR(VLOOKUP(M60,[2]LISTAS!$A$15:$B$50,2,0)),\"\",VLOOKUP(M60,[2]LISTAS!$A$15:$B$50,2,0))","v":""},{"$f":"IF(ISERROR(VLOOKUP(O60,[2]LISTAS!$A$15:$B$50,2,0)),\"\",VLOOKUP(O60,[2]LISTAS!$A$15:$B$50,2,0))","v":""},{"$f":"IF(ISERROR(VLOOKUP(6,[2]LISTAS!$A$15:$B$50,2,0)),\"\",VLOOKUP(6,[2]LISTAS!$A$15:$B$50,2,0))","v":""},null,{"$f":"_xlfn.IFS(T60=\"------\",AD60,T60=\"LA RELACIÓN DE ACTIVIDADES DEBE SER A PARTIR DE LA SIGUIENTE FILA\",\"LA RELACIÓN DE ACTIVIDADES DEBE SER A PARTIR DE LA SIGUIENTE FILA\",T60<>\"------\",T60)","v":""},null,"ok"]
[null,null,null,null,null,null,null,null,null,null,null,null,null,null,null,null,null,null,null,"",{"$f":"IF(ISERROR(VLOOKUP(E61,[2]LISTAS!$A$15:$B$50,2,0)),\"\",VLOOKUP(E61,[2]LISTAS!$A$15:$B$50,2,0))","v":""},{"$f":"IF(ISERROR(VLOOKUP(G61,[2]LISTAS!$A$15:$B$50,2,0)),\"\",VLOOKUP(G61,[2]LISTAS!$A$15:$B$50,2,0))","v":""},{"$f":"IF(ISERROR(VLOOKUP(I61,[2]LISTAS!$A$15:$B$50,2,0)),\"\",VLOOKUP(I61,[2]LISTAS!$A$15:$B$50,2,0))","v":""},{"$f":"IF(ISERROR(VLOOKUP(K61,[2]LISTAS!$A$15:$B$50,2,0)),\"\",VLOOKUP(K61,[2]LISTAS!$A$15:$B$50,2,0))","v":""},{"$f":"IF(ISERROR(VLOOKUP(M61,[2]LISTAS!$A$15:$B$50,2,0)),\"\",VLOOKUP(M61,[2]LISTAS!$A$15:$B$50,2,0))","v":""},{"$f":"IF(ISERROR(VLOOKUP(O61,[2]LISTAS!$A$15:$B$50,2,0)),\"\",VLOOKUP(O61,[2]LISTAS!$A$15:$B$50,2,0))","v":""},{"$f":"IF(ISERROR(VLOOKUP(6,[2]LISTAS!$A$15:$B$50,2,0)),\"\",VLOOKUP(6,[2]LISTAS!$A$15:$B$50,2,0))","v":""},null,{"$f":"_xlfn.IFS(T61=\"------\",AD61,T61=\"LA RELACIÓN DE ACTIVIDADES DEBE SER A PARTIR DE LA SIGUIENTE FILA\",\"LA RELACIÓN DE ACTIVIDADES DEBE SER A PARTIR DE LA SIGUIENTE FILA\",T61<>\"------\",T61)","v":""},null,"ok"]
[null,null,null,null,null,null,null,null,null,null,null,null,null,null,null,null,null,null,null,"",{"$f":"IF(ISERROR(VLOOKUP(E62,[2]LISTAS!$A$15:$B$50,2,0)),\"\",VLOOKUP(E62,[2]LISTAS!$A$15:$B$50,2,0))","v":""},{"$f":"IF(ISERROR(VLOOKUP(G62,[2]LISTAS!$A$15:$B$50,2,0)),\"\",VLOOKUP(G62,[2]LISTAS!$A$15:$B$50,2,0))","v":""},{"$f":"IF(ISERROR(VLOOKUP(I62,[2]LISTAS!$A$15:$B$50,2,0)),\"\",VLOOKUP(I62,[2]LISTAS!$A$15:$B$50,2,0))","v":""},{"$f":"IF(ISERROR(VLOOKUP(K62,[2]LISTAS!$A$15:$B$50,2,0)),\"\",VLOOKUP(K62,[2]LISTAS!$A$15:$B$50,2,0))","v":""},{"$f":"IF(ISERROR(VLOOKUP(M62,[2]LISTAS!$A$15:$B$50,2,0)),\"\",VLOOKUP(M62,[2]LISTAS!$A$15:$B$50,2,0))","v":""},{"$f":"IF(ISERROR(VLOOKUP(O62,[2]LISTAS!$A$15:$B$50,2,0)),\"\",VLOOKUP(O62,[2]LISTAS!$A$15:$B$50,2,0))","v":""},{"$f":"IF(ISERROR(VLOOKUP(6,[2]LISTAS!$A$15:$B$50,2,0)),\"\",VLOOKUP(6,[2]LISTAS!$A$15:$B$50,2,0))","v":""},null,{"$f":"_xlfn.IFS(T62=\"------\",AD62,T62=\"LA RELACIÓN DE ACTIVIDADES DEBE SER A PARTIR DE LA SIGUIENTE FILA\",\"LA RELACIÓN DE ACTIVIDADES DEBE SER A PARTIR DE LA SIGUIENTE FILA\",T62<>\"------\",T62)","v":""},null,"ok"]
[null,null,null,null,null,null,null,null,null,null,null,null,null,null,null,null,null,null,null,"",{"$f":"IF(ISERROR(VLOOKUP(E63,[2]LISTAS!$A$15:$B$50,2,0)),\"\",VLOOKUP(E63,[2]LISTAS!$A$15:$B$50,2,0))","v":""},{"$f":"IF(ISERROR(VLOOKUP(G63,[2]LISTAS!$A$15:$B$50,2,0)),\"\",VLOOKUP(G63,[2]LISTAS!$A$15:$B$50,2,0))","v":""},{"$f":"IF(ISERROR(VLOOKUP(I63,[2]LISTAS!$A$15:$B$50,2,0)),\"\",VLOOKUP(I63,[2]LISTAS!$A$15:$B$50,2,0))","v":""},{"$f":"IF(ISERROR(VLOOKUP(K63,[2]LISTAS!$A$15:$B$50,2,0)),\"\",VLOOKUP(K63,[2]LISTAS!$A$15:$B$50,2,0))","v":""},{"$f":"IF(ISERROR(VLOOKUP(M63,[2]LISTAS!$A$15:$B$50,2,0)),\"\",VLOOKUP(M63,[2]LISTAS!$A$15:$B$50,2,0))","v":""},{"$f":"IF(ISERROR(VLOOKUP(O63,[2]LISTAS!$A$15:$B$50,2,0)),\"\",VLOOKUP(O63,[2]LISTAS!$A$15:$B$50,2,0))","v":""},{"$f":"IF(ISERROR(VLOOKUP(6,[2]LISTAS!$A$15:$B$50,2,0)),\"\",VLOOKUP(6,[2]LISTAS!$A$15:$B$50,2,0))","v":""},null,{"$f":"_xlfn.IFS(T63=\"------\",AD63,T63=\"LA RELACIÓN DE ACTIVIDADES DEBE SER A PARTIR DE LA SIGUIENTE FILA\",\"LA RELACIÓN DE ACTIVIDADES DEBE SER A PARTIR DE LA SIGUIENTE FILA\",T63<>\"------\",T63)","v":""},null,"ok"]
[null,null,null,null,null,null,null,null,null,null,null,null,null,null,null,null,null,null,null,"",{"$f":"IF(ISERROR(VLOOKUP(E64,[2]LISTAS!$A$15:$B$50,2,0)),\"\",VLOOKUP(E64,[2]LISTAS!$A$15:$B$50,2,0))","v":""},{"$f":"IF(ISERROR(VLOOKUP(G64,[2]LISTAS!$A$15:$B$50,2,0)),\"\",VLOOKUP(G64,[2]LISTAS!$A$15:$B$50,2,0))","v":""},{"$f":"IF(ISERROR(VLOOKUP(I64,[2]LISTAS!$A$15:$B$50,2,0)),\"\",VLOOKUP(I64,[2]LISTAS!$A$15:$B$50,2,0))","v":""},{"$f":"IF(ISERROR(VLOOKUP(K64,[2]LISTAS!$A$15:$B$50,2,0)),\"\",VLOOKUP(K64,[2]LISTAS!$A$15:$B$50,2,0))","v":""},{"$f":"IF(ISERROR(VLOOKUP(M64,[2]LISTAS!$A$15:$B$50,2,0)),\"\",VLOOKUP(M64,[2]LISTAS!$A$15:$B$50,2,0))","v":""},{"$f":"IF(ISERROR(VLOOKUP(O64,[2]LISTAS!$A$15:$B$50,2,0)),\"\",VLOOKUP(O64,[2]LISTAS!$A$15:$B$50,2,0))","v":""},{"$f":"IF(ISERROR(VLOOKUP(6,[2]LISTAS!$A$15:$B$50,2,0)),\"\",VLOOKUP(6,[2]LISTAS!$A$15:$B$50,2,0))","v":""},null,{"$f":"_xlfn.IFS(T64=\"------\",AD64,T64=\"LA RELACIÓN DE ACTIVIDADES DEBE SER A PARTIR DE LA SIGUIENTE FILA\",\"LA RELACIÓN DE ACTIVIDADES DEBE SER A PARTIR DE LA SIGUIENTE FILA\",T64<>\"------\",T64)","v":""},null,"ok"]
[null,null,null,null,null,null,null,null,null,null,null,null,null,null,null,null,null,null,null,"",{"$f":"IF(ISERROR(VLOOKUP(E65,[2]LISTAS!$A$15:$B$50,2,0)),\"\",VLOOKUP(E65,[2]LISTAS!$A$15:$B$50,2,0))","v":""},{"$f":"IF(ISERROR(VLOOKUP(G65,[2]LISTAS!$A$15:$B$50,2,0)),\"\",VLOOKUP(G65,[2]LISTAS!$A$15:$B$50,2,0))","v":""},{"$f":"IF(ISERROR(VLOOKUP(I65,[2]LISTAS!$A$15:$B$50,2,0)),\"\",VLOOKUP(I65,[2]LISTAS!$A$15:$B$50,2,0))","v":""},{"$f":"IF(ISERROR(VLOOKUP(K65,[2]LISTAS!$A$15:$B$50,2,0)),\"\",VLOOKUP(K65,[2]LISTAS!$A$15:$B$50,2,0))","v":""},{"$f":"IF(ISERROR(VLOOKUP(M65,[2]LISTAS!$A$15:$B$50,2,0)),\"\",VLOOKUP(M65,[2]LISTAS!$A$15:$B$50,2,0))","v":""},{"$f":"IF(ISERROR(VLOOKUP(O65,[2]LISTAS!$A$15:$B$50,2,0)),\"\",VLOOKUP(O65,[2]LISTAS!$A$15:$B$50,2,0))","v":""},{"$f":"IF(ISERROR(VLOOKUP(6,[2]LISTAS!$A$15:$B$50,2,0)),\"\",VLOOKUP(6,[2]LISTAS!$A$15:$B$50,2,0))","v":""},null,{"$f":"_xlfn.IFS(T65=\"------\",AD65,T65=\"LA RELACIÓN DE ACTIVIDADES DEBE SER A PARTIR DE LA SIGUIENTE FILA\",\"LA RELACIÓN DE ACTIVIDADES DEBE SER A PARTIR DE LA SIGUIENTE FILA\",T65<>\"------\",T65)","v":""},null,"ok"]
[null,null,null,null,null,null,null,null,null,null,null,null,null,null,null,null,null,null,null,"",{"$f":"IF(ISERROR(VLOOKUP(E66,[2]LISTAS!$A$15:$B$50,2,0)),\"\",VLOOKUP(E66,[2]LISTAS!$A$15:$B$50,2,0))","v":""},{"$f":"IF(ISERROR(VLOOKUP(G66,[2]LISTAS!$A$15:$B$50,2,0)),\"\",VLOOKUP(G66,[2]LISTAS!$A$15:$B$50,2,0))","v":""},{"$f":"IF(ISERROR(VLOOKUP(I66,[2]LISTAS!$A$15:$B$50,2,0)),\"\",VLOOKUP(I66,[2]LISTAS!$A$15:$B$50,2,0))","v":""},{"$f":"IF(ISERROR(VLOOKUP(K66,[2]LISTAS!$A$15:$B$50,2,0)),\"\",VLOOKUP(K66,[2]LISTAS!$A$15:$B$50,2,0))","v":""},{"$f":"IF(ISERROR(VLOOKUP(M66,[2]LISTAS!$A$15:$B$50,2,0)),\"\",VLOOKUP(M66,[2]LISTAS!$A$15:$B$50,2,0))","v":""},{"$f":"IF(ISERROR(VLOOKUP(O66,[2]LISTAS!$A$15:$B$50,2,0)),\"\",VLOOKUP(O66,[2]LISTAS!$A$15:$B$50,2,0))","v":""},{"$f":"IF(ISERROR(VLOOKUP(6,[2]LISTAS!$A$15:$B$50,2,0)),\"\",VLOOKUP(6,[2]LISTAS!$A$15:$B$50,2,0))","v":""},null,{"$f":"_xlfn.IFS(T66=\"------\",AD66,T66=\"LA RELACIÓN DE ACTIVIDADES DEBE SER A PARTIR DE LA SIGUIENTE FILA\",\"LA RELACIÓN DE ACTIVIDADES DEBE SER A PARTIR DE LA SIGUIENTE FILA\",T66<>\"------\",T66)","v":""},null,"ok"]
[null,null,null,null,null,null,null,null,null,null,null,null,null,null,null,null,null,null,null,"",{"$f":"IF(ISERROR(VLOOKUP(E67,[2]LISTAS!$A$15:$B$50,2,0)),\"\",VLOOKUP(E67,[2]LISTAS!$A$15:$B$50,2,0))","v":""},{"$f":"IF(ISERROR(VLOOKUP(G67,[2]LISTAS!$A$15:$B$50,2,0)),\"\",VLOOKUP(G67,[2]LISTAS!$A$15:$B$50,2,0))","v":""},{"$f":"IF(ISERROR(VLOOKUP(I67,[2]LISTAS!$A$15:$B$50,2,0)),\"\",VLOOKUP(I67,[2]LISTAS!$A$15:$B$50,2,0))","v":""},{"$f":"IF(ISERROR(VLOOKUP(K67,[2]LISTAS!$A$15:$B$50,2,0)),\"\",VLOOKUP(K67,[2]LISTAS!$A$15:$B$50,2,0))","v":""},{"$f":"IF(ISERROR(VLOOKUP(M67,[2]LISTAS!$A$15:$B$50,2,0)),\"\",VLOOKUP(M67,[2]LISTAS!$A$15:$B$50,2,0))","v":""},{"$f":"IF(ISERROR(VLOOKUP(O67,[2]LISTAS!$A$15:$B$50,2,0)),\"\",VLOOKUP(O67,[2]LISTAS!$A$15:$B$50,2,0))","v":""},{"$f":"IF(ISERROR(VLOOKUP(6,[2]LISTAS!$A$15:$B$50,2,0)),\"\",VLOOKUP(6,[2]LISTAS!$A$15:$B$50,2,0))","v":""},null,{"$f":"_xlfn.IFS(T67=\"------\",AD67,T67=\"LA RELACIÓN DE ACTIVIDADES DEBE SER A PARTIR DE LA SIGUIENTE FILA\",\"LA RELACIÓN DE ACTIVIDADES DEBE SER A PARTIR DE LA SIGUIENTE FILA\",T67<>\"------\",T67)","v":""},null,"ok"]
[null,null,null,null,null,null,null,null,null,null,null,null,null,null,null,null,null,null,null,"",{"$f":"IF(ISERROR(VLOOKUP(E68,[2]LISTAS!$A$15:$B$50,2,0)),\"\",VLOOKUP(E68,[2]LISTAS!$A$15:$B$50,2,0))","v":""},{"$f":"IF(ISERROR(VLOOKUP(G68,[2]LISTAS!$A$15:$B$50,2,0)),\"\",VLOOKUP(G68,[2]LISTAS!$A$15:$B$50,2,0))","v":""},{"$f":"IF(ISERROR(VLOOKUP(I68,[2]LISTAS!$A$15:$B$50,2,0)),\"\",VLOOKUP(I68,[2]LISTAS!$A$15:$B$50,2,0))","v":""},{"$f":"IF(ISERROR(VLOOKUP(K68,[2]LISTAS!$A$15:$B$50,2,0)),\"\",VLOOKUP(K68,[2]LISTAS!$A$15:$B$50,2,0))","v":""},{"$f":"IF(ISERROR(VLOOKUP(M68,[2]LISTAS!$A$15:$B$50,2,0)),\"\",VLOOKUP(M68,[2]LISTAS!$A$15:$B$50,2,0))","v":""},{"$f":"IF(ISERROR(VLOOKUP(O68,[2]LISTAS!$A$15:$B$50,2,0)),\"\",VLOOKUP(O68,[2]LISTAS!$A$15:$B$50,2,0))","v":""},{"$f":"IF(ISERROR(VLOOKUP(6,[2]LISTAS!$A$15:$B$50,2,0)),\"\",VLOOKUP(6,[2]LISTAS!$A$15:$B$50,2,0))","v":""},null,{"$f":"_xlfn.IFS(T68=\"------\",AD68,T68=\"LA RELACIÓN DE ACTIVIDADES DEBE SER A PARTIR DE LA SIGUIENTE FILA\",\"LA RELACIÓN DE ACTIVIDADES DEBE SER A PARTIR DE LA SIGUIENTE FILA\",T68<>\"------\",T68)","v":""},null,"ok"]
[null,null,null,null,null,null,null,null,null,null,null,null,null,null,null,null,null,null,null,"",{"$f":"IF(ISERROR(VLOOKUP(E69,[2]LISTAS!$A$15:$B$50,2,0)),\"\",VLOOKUP(E69,[2]LISTAS!$A$15:$B$50,2,0))","v":""},{"$f":"IF(ISERROR(VLOOKUP(G69,[2]LISTAS!$A$15:$B$50,2,0)),\"\",VLOOKUP(G69,[2]LISTAS!$A$15:$B$50,2,0))","v":""},{"$f":"IF(ISERROR(VLOOKUP(I69,[2]LISTAS!$A$15:$B$50,2,0)),\"\",VLOOKUP(I69,[2]LISTAS!$A$15:$B$50,2,0))","v":""},{"$f":"IF(ISERROR(VLOOKUP(K69,[2]LISTAS!$A$15:$B$50,2,0)),\"\",VLOOKUP(K69,[2]LISTAS!$A$15:$B$50,2,0))","v":""},{"$f":"IF(ISERROR(VLOOKUP(M69,[2]LISTAS!$A$15:$B$50,2,0)),\"\",VLOOKUP(M69,[2]LISTAS!$A$15:$B$50,2,0))","v":""},{"$f":"IF(ISERROR(VLOOKUP(O69,[2]LISTAS!$A$15:$B$50,2,0)),\"\",VLOOKUP(O69,[2]LISTAS!$A$15:$B$50,2,0))","v":""},{"$f":"IF(ISERROR(VLOOKUP(6,[2]LISTAS!$A$15:$B$50,2,0)),\"\",VLOOKUP(6,[2]LISTAS!$A$15:$B$50,2,0))","v":""},null,{"$f":"_xlfn.IFS(T69=\"------\",AD69,T69=\"LA RELACIÓN DE ACTIVIDADES DEBE SER A PARTIR DE LA SIGUIENTE FILA\",\"LA RELACIÓN DE ACTIVIDADES DEBE SER A PARTIR DE LA SIGUIENTE FILA\",T69<>\"------\",T69)","v":""},null,"ok"]
[null,null,null,null,null,null,null,null,null,null,null,null,null,null,null,null,null,null,null,"",{"$f":"IF(ISERROR(VLOOKUP(E70,[2]LISTAS!$A$15:$B$50,2,0)),\"\",VLOOKUP(E70,[2]LISTAS!$A$15:$B$50,2,0))","v":""},{"$f":"IF(ISERROR(VLOOKUP(G70,[2]LISTAS!$A$15:$B$50,2,0)),\"\",VLOOKUP(G70,[2]LISTAS!$A$15:$B$50,2,0))","v":""},{"$f":"IF(ISERROR(VLOOKUP(I70,[2]LISTAS!$A$15:$B$50,2,0)),\"\",VLOOKUP(I70,[2]LISTAS!$A$15:$B$50,2,0))","v":""},{"$f":"IF(ISERROR(VLOOKUP(K70,[2]LISTAS!$A$15:$B$50,2,0)),\"\",VLOOKUP(K70,[2]LISTAS!$A$15:$B$50,2,0))","v":""},{"$f":"IF(ISERROR(VLOOKUP(M70,[2]LISTAS!$A$15:$B$50,2,0)),\"\",VLOOKUP(M70,[2]LISTAS!$A$15:$B$50,2,0))","v":""},{"$f":"IF(ISERROR(VLOOKUP(O70,[2]LISTAS!$A$15:$B$50,2,0)),\"\",VLOOKUP(O70,[2]LISTAS!$A$15:$B$50,2,0))","v":""},{"$f":"IF(ISERROR(VLOOKUP(6,[2]LISTAS!$A$15:$B$50,2,0)),\"\",VLOOKUP(6,[2]LISTAS!$A$15:$B$50,2,0))","v":""},null,{"$f":"_xlfn.IFS(T70=\"------\",AD70,T70=\"LA RELACIÓN DE ACTIVIDADES DEBE SER A PARTIR DE LA SIGUIENTE FILA\",\"LA RELACIÓN DE ACTIVIDADES DEBE SER A PARTIR DE LA SIGUIENTE FILA\",T70<>\"------\",T70)","v":""},null,"ok"]
[null,null,null,null,null,null,null,null,null,null,null,null,null,null,null,null,null,null,null,"",{"$f":"IF(ISERROR(VLOOKUP(E71,[2]LISTAS!$A$15:$B$50,2,0)),\"\",VLOOKUP(E71,[2]LISTAS!$A$15:$B$50,2,0))","v":""},{"$f":"IF(ISERROR(VLOOKUP(G71,[2]LISTAS!$A$15:$B$50,2,0)),\"\",VLOOKUP(G71,[2]LISTAS!$A$15:$B$50,2,0))","v":""},{"$f":"IF(ISERROR(VLOOKUP(I71,[2]LISTAS!$A$15:$B$50,2,0)),\"\",VLOOKUP(I71,[2]LISTAS!$A$15:$B$50,2,0))","v":""},{"$f":"IF(ISERROR(VLOOKUP(K71,[2]LISTAS!$A$15:$B$50,2,0)),\"\",VLOOKUP(K71,[2]LISTAS!$A$15:$B$50,2,0))","v":""},{"$f":"IF(ISERROR(VLOOKUP(M71,[2]LISTAS!$A$15:$B$50,2,0)),\"\",VLOOKUP(M71,[2]LISTAS!$A$15:$B$50,2,0))","v":""},{"$f":"IF(ISERROR(VLOOKUP(O71,[2]LISTAS!$A$15:$B$50,2,0)),\"\",VLOOKUP(O71,[2]LISTAS!$A$15:$B$50,2,0))","v":""},{"$f":"IF(ISERROR(VLOOKUP(6,[2]LISTAS!$A$15:$B$50,2,0)),\"\",VLOOKUP(6,[2]LISTAS!$A$15:$B$50,2,0))","v":""},null,{"$f":"_xlfn.IFS(T71=\"------\",AD71,T71=\"LA RELACIÓN DE ACTIVIDADES DEBE SER A PARTIR DE LA SIGUIENTE FILA\",\"LA RELACIÓN DE ACTIVIDADES DEBE SER A PARTIR DE LA SIGUIENTE FILA\",T71<>\"------\",T71)","v":""},null,"ok"]
[null,null,null,null,null,null,null,null,null,null,null,null,null,null,null,null,null,null,null,"",{"$f":"IF(ISERROR(VLOOKUP(E72,[2]LISTAS!$A$15:$B$50,2,0)),\"\",VLOOKUP(E72,[2]LISTAS!$A$15:$B$50,2,0))","v":""},{"$f":"IF(ISERROR(VLOOKUP(G72,[2]LISTAS!$A$15:$B$50,2,0)),\"\",VLOOKUP(G72,[2]LISTAS!$A$15:$B$50,2,0))","v":""},{"$f":"IF(ISERROR(VLOOKUP(I72,[2]LISTAS!$A$15:$B$50,2,0)),\"\",VLOOKUP(I72,[2]LISTAS!$A$15:$B$50,2,0))","v":""},{"$f":"IF(ISERROR(VLOOKUP(K72,[2]LISTAS!$A$15:$B$50,2,0)),\"\",VLOOKUP(K72,[2]LISTAS!$A$15:$B$50,2,0))","v":""},{"$f":"IF(ISERROR(VLOOKUP(M72,[2]LISTAS!$A$15:$B$50,2,0)),\"\",VLOOKUP(M72,[2]LISTAS!$A$15:$B$50,2,0))","v":""},{"$f":"IF(ISERROR(VLOOKUP(O72,[2]LISTAS!$A$15:$B$50,2,0)),\"\",VLOOKUP(O72,[2]LISTAS!$A$15:$B$50,2,0))","v":""},{"$f":"IF(ISERROR(VLOOKUP(6,[2]LISTAS!$A$15:$B$50,2,0)),\"\",VLOOKUP(6,[2]LISTAS!$A$15:$B$50,2,0))","v":""},null,{"$f":"_xlfn.IFS(T72=\"------\",AD72,T72=\"LA RELACIÓN DE ACTIVIDADES DEBE SER A PARTIR DE LA SIGUIENTE FILA\",\"LA RELACIÓN DE ACTIVIDADES DEBE SER A PARTIR DE LA SIGUIENTE FILA\",T72<>\"------\",T72)","v":""},null,"ok"]
[null,null,null,null,null,null,null,null,null,null,null,null,null,null,null,null,null,null,null,"",{"$f":"IF(ISERROR(VLOOKUP(E73,[2]LISTAS!$A$15:$B$50,2,0)),\"\",VLOOKUP(E73,[2]LISTAS!$A$15:$B$50,2,0))","v":""},{"$f":"IF(ISERROR(VLOOKUP(G73,[2]LISTAS!$A$15:$B$50,2,0)),\"\",VLOOKUP(G73,[2]LISTAS!$A$15:$B$50,2,0))","v":""},{"$f":"IF(ISERROR(VLOOKUP(I73,[2]LISTAS!$A$15:$B$50,2,0)),\"\",VLOOKUP(I73,[2]LISTAS!$A$15:$B$50,2,0))","v":""},{"$f":"IF(ISERROR(VLOOKUP(K73,[2]LISTAS!$A$15:$B$50,2,0)),\"\",VLOOKUP(K73,[2]LISTAS!$A$15:$B$50,2,0))","v":""},{"$f":"IF(ISERROR(VLOOKUP(M73,[2]LISTAS!$A$15:$B$50,2,0)),\"\",VLOOKUP(M73,[2]LISTAS!$A$15:$B$50,2,0))","v":""},{"$f":"IF(ISERROR(VLOOKUP(O73,[2]LISTAS!$A$15:$B$50,2,0)),\"\",VLOOKUP(O73,[2]LISTAS!$A$15:$B$50,2,0))","v":""},{"$f":"IF(ISERROR(VLOOKUP(6,[2]LISTAS!$A$15:$B$50,2,0)),\"\",VLOOKUP(6,[2]LISTAS!$A$15:$B$50,2,0))","v":""},null,{"$f":"_xlfn.IFS(T73=\"------\",AD73,T73=\"LA RELACIÓN DE ACTIVIDADES DEBE SER A PARTIR DE LA SIGUIENTE FILA\",\"LA RELACIÓN DE ACTIVIDADES DEBE SER A PARTIR DE LA SIGUIENTE FILA\",T73<>\"------\",T73)","v":""},null,"ok"]
[null,null,null,null,null,null,null,null,null,null,null,null,null,null,null,null,null,null,null,"",{"$f":"IF(ISERROR(VLOOKUP(E74,[2]LISTAS!$A$15:$B$50,2,0)),\"\",VLOOKUP(E74,[2]LISTAS!$A$15:$B$50,2,0))","v":""},{"$f":"IF(ISERROR(VLOOKUP(G74,[2]LISTAS!$A$15:$B$50,2,0)),\"\",VLOOKUP(G74,[2]LISTAS!$A$15:$B$50,2,0))","v":""},{"$f":"IF(ISERROR(VLOOKUP(I74,[2]LISTAS!$A$15:$B$50,2,0)),\"\",VLOOKUP(I74,[2]LISTAS!$A$15:$B$50,2,0))","v":""},{"$f":"IF(ISERROR(VLOOKUP(K74,[2]LISTAS!$A$15:$B$50,2,0)),\"\",VLOOKUP(K74,[2]LISTAS!$A$15:$B$50,2,0))","v":""},{"$f":"IF(ISERROR(VLOOKUP(M74,[2]LISTAS!$A$15:$B$50,2,0)),\"\",VLOOKUP(M74,[2]LISTAS!$A$15:$B$50,2,0))","v":""},{"$f":"IF(ISERROR(VLOOKUP(O74,[2]LISTAS!$A$15:$B$50,2,0)),\"\",VLOOKUP(O74,[2]LISTAS!$A$15:$B$50,2,0))","v":""},{"$f":"IF(ISERROR(VLOOKUP(6,[2]LISTAS!$A$15:$B$50,2,0)),\"\",VLOOKUP(6,[2]LISTAS!$A$15:$B$50,2,0))","v":""},null,{"$f":"_xlfn.IFS(T74=\"------\",AD74,T74=\"LA RELACIÓN DE ACTIVIDADES DEBE SER A PARTIR DE LA SIGUIENTE FILA\",\"LA RELACIÓN DE ACTIVIDADES DEBE SER A PARTIR DE LA SIGUIENTE FILA\",T74<>\"------\",T74)","v":""},null,"ok"]
[null,null,null,null,null,null,null,null,null,null,null,null,null,null,null,null,null,null,null,"",{"$f":"IF(ISERROR(VLOOKUP(E75,[2]LISTAS!$A$15:$B$50,2,0)),\"\",VLOOKUP(E75,[2]LISTAS!$A$15:$B$50,2,0))","v":""},{"$f":"IF(ISERROR(VLOOKUP(G75,[2]LISTAS!$A$15:$B$50,2,0)),\"\",VLOOKUP(G75,[2]LISTAS!$A$15:$B$50,2,0))","v":""},{"$f":"IF(ISERROR(VLOOKUP(I75,[2]LISTAS!$A$15:$B$50,2,0)),\"\",VLOOKUP(I75,[2]LISTAS!$A$15:$B$50,2,0))","v":""},{"$f":"IF(ISERROR(VLOOKUP(K75,[2]LISTAS!$A$15:$B$50,2,0)),\"\",VLOOKUP(K75,[2]LISTAS!$A$15:$B$50,2,0))","v":""},{"$f":"IF(ISERROR(VLOOKUP(M75,[2]LISTAS!$A$15:$B$50,2,0)),\"\",VLOOKUP(M75,[2]LISTAS!$A$15:$B$50,2,0))","v":""},{"$f":"IF(ISERROR(VLOOKUP(O75,[2]LISTAS!$A$15:$B$50,2,0)),\"\",VLOOKUP(O75,[2]LISTAS!$A$15:$B$50,2,0))","v":""},{"$f":"IF(ISERROR(VLOOKUP(6,[2]LISTAS!$A$15:$B$50,2,0)),\"\",VLOOKUP(6,[2]LISTAS!$A$15:$B$50,2,0))","v":""},null,{"$f":"_xlfn.IFS(T75=\"------\",AD75,T75=\"LA RELACIÓN DE ACTIVIDADES DEBE SER A PARTIR DE LA SIGUIENTE FILA\",\"LA RELACIÓN DE ACTIVIDADES DEBE SER A PARTIR DE LA SIGUIENTE FILA\",T75<>\"------\",T75)","v":""},null,"ok"]
[null,null,null,null,null,null,null,null,null,null,null,null,null,null,null,null,null,null,null,"",{"$f":"IF(ISERROR(VLOOKUP(E76,[2]LISTAS!$A$15:$B$50,2,0)),\"\",VLOOKUP(E76,[2]LISTAS!$A$15:$B$50,2,0))","v":""},{"$f":"IF(ISERROR(VLOOKUP(G76,[2]LISTAS!$A$15:$B$50,2,0)),\"\",VLOOKUP(G76,[2]LISTAS!$A$15:$B$50,2,0))","v":""},{"$f":"IF(ISERROR(VLOOKUP(I76,[2]LISTAS!$A$15:$B$50,2,0)),\"\",VLOOKUP(I76,[2]LISTAS!$A$15:$B$50,2,0))","v":""},{"$f":"IF(ISERROR(VLOOKUP(K76,[2]LISTAS!$A$15:$B$50,2,0)),\"\",VLOOKUP(K76,[2]LISTAS!$A$15:$B$50,2,0))","v":""},{"$f":"IF(ISERROR(VLOOKUP(M76,[2]LISTAS!$A$15:$B$50,2,0)),\"\",VLOOKUP(M76,[2]LISTAS!$A$15:$B$50,2,0))","v":""},{"$f":"IF(ISERROR(VLOOKUP(O76,[2]LISTAS!$A$15:$B$50,2,0)),\"\",VLOOKUP(O76,[2]LISTAS!$A$15:$B$50,2,0))","v":""},{"$f":"IF(ISERROR(VLOOKUP(6,[2]LISTAS!$A$15:$B$50,2,0)),\"\",VLOOKUP(6,[2]LISTAS!$A$15:$B$50,2,0))","v":""},null,{"$f":"_xlfn.IFS(T76=\"------\",AD76,T76=\"LA RELACIÓN DE ACTIVIDADES DEBE SER A PARTIR DE LA SIGUIENTE FILA\",\"LA RELACIÓN DE ACTIVIDADES DEBE SER A PARTIR DE LA SIGUIENTE FILA\",T76<>\"------\",T76)","v":""},null,"ok"]
[null,null,null,null,null,null,null,null,null,null,null,null,null,null,null,null,null,null,null,"",{"$f":"IF(ISERROR(VLOOKUP(E77,[2]LISTAS!$A$15:$B$50,2,0)),\"\",VLOOKUP(E77,[2]LISTAS!$A$15:$B$50,2,0))","v":""},{"$f":"IF(ISERROR(VLOOKUP(G77,[2]LISTAS!$A$15:$B$50,2,0)),\"\",VLOOKUP(G77,[2]LISTAS!$A$15:$B$50,2,0))","v":""},{"$f":"IF(ISERROR(VLOOKUP(I77,[2]LISTAS!$A$15:$B$50,2,0)),\"\",VLOOKUP(I77,[2]LISTAS!$A$15:$B$50,2,0))","v":""},{"$f":"IF(ISERROR(VLOOKUP(K77,[2]LISTAS!$A$15:$B$50,2,0)),\"\",VLOOKUP(K77,[2]LISTAS!$A$15:$B$50,2,0))","v":""},{"$f":"IF(ISERROR(VLOOKUP(M77,[2]LISTAS!$A$15:$B$50,2,0)),\"\",VLOOKUP(M77,[2]LISTAS!$A$15:$B$50,2,0))","v":""},{"$f":"IF(ISERROR(VLOOKUP(O77,[2]LISTAS!$A$15:$B$50,2,0)),\"\",VLOOKUP(O77,[2]LISTAS!$A$15:$B$50,2,0))","v":""},{"$f":"IF(ISERROR(VLOOKUP(6,[2]LISTAS!$A$15:$B$50,2,0)),\"\",VLOOKUP(6,[2]LISTAS!$A$15:$B$50,2,0))","v":""},null,{"$f":"_xlfn.IFS(T77=\"------\",AD77,T77=\"LA RELACIÓN DE ACTIVIDADES DEBE SER A PARTIR DE LA SIGUIENTE FILA\",\"LA RELACIÓN DE ACTIVIDADES DEBE SER A PARTIR DE LA SIGUIENTE FILA\",T77<>\"------\",T77)","v":""},null,"ok"]
[null,null,null,null,null,null,null,null,null,null,null,null,null,null,null,null,null,null,null,"",{"$f":"IF(ISERROR(VLOOKUP(E78,[2]LISTAS!$A$15:$B$50,2,0)),\"\",VLOOKUP(E78,[2]LISTAS!$A$15:$B$50,2,0))","v":""},{"$f":"IF(ISERROR(VLOOKUP(G78,[2]LISTAS!$A$15:$B$50,2,0)),\"\",VLOOKUP(G78,[2]LISTAS!$A$15:$B$50,2,0))","v":""},{"$f":"IF(ISERROR(VLOOKUP(I78,[2]LISTAS!$A$15:$B$50,2,0)),\"\",VLOOKUP(I78,[2]LISTAS!$A$15:$B$50,2,0))","v":""},{"$f":"IF(ISERROR(VLOOKUP(K78,[2]LISTAS!$A$15:$B$50,2,0)),\"\",VLOOKUP(K78,[2]LISTAS!$A$15:$B$50,2,0))","v":""},{"$f":"IF(ISERROR(VLOOKUP(M78,[2]LISTAS!$A$15:$B$50,2,0)),\"\",VLOOKUP(M78,[2]LISTAS!$A$15:$B$50,2,0))","v":""},{"$f":"IF(ISERROR(VLOOKUP(O78,[2]LISTAS!$A$15:$B$50,2,0)),\"\",VLOOKUP(O78,[2]LISTAS!$A$15:$B$50,2,0))","v":""},{"$f":"IF(ISERROR(VLOOKUP(6,[2]LISTAS!$A$15:$B$50,2,0)),\"\",VLOOKUP(6,[2]LISTAS!$A$15:$B$50,2,0))","v":""},null,{"$f":"_xlfn.IFS(T78=\"------\",AD78,T78=\"LA RELACIÓN DE ACTIVIDADES DEBE SER A PARTIR DE LA SIGUIENTE FILA\",\"LA RELACIÓN DE ACTIVIDADES DEBE SER A PARTIR DE LA SIGUIENTE FILA\",T78<>\"------\",T78)","v":""},null,"ok"]
[null,null,null,null,null,null,null,null,null,null,null,null,null,null,null,null,null,null,null,"",{"$f":"IF(ISERROR(VLOOKUP(E79,[2]LISTAS!$A$15:$B$50,2,0)),\"\",VLOOKUP(E79,[2]LISTAS!$A$15:$B$50,2,0))","v":""},{"$f":"IF(ISERROR(VLOOKUP(G79,[2]LISTAS!$A$15:$B$50,2,0)),\"\",VLOOKUP(G79,[2]LISTAS!$A$15:$B$50,2,0))","v":""},{"$f":"IF(ISERROR(VLOOKUP(I79,[2]LISTAS!$A$15:$B$50,2,0)),\"\",VLOOKUP(I79,[2]LISTAS!$A$15:$B$50,2,0))","v":""},{"$f":"IF(ISERROR(VLOOKUP(K79,[2]LISTAS!$A$15:$B$50,2,0)),\"\",VLOOKUP(K79,[2]LISTAS!$A$15:$B$50,2,0))","v":""},{"$f":"IF(ISERROR(VLOOKUP(M79,[2]LISTAS!$A$15:$B$50,2,0)),\"\",VLOOKUP(M79,[2]LISTAS!$A$15:$B$50,2,0))","v":""},{"$f":"IF(ISERROR(VLOOKUP(O79,[2]LISTAS!$A$15:$B$50,2,0)),\"\",VLOOKUP(O79,[2]LISTAS!$A$15:$B$50,2,0))","v":""},{"$f":"IF(ISERROR(VLOOKUP(6,[2]LISTAS!$A$15:$B$50,2,0)),\"\",VLOOKUP(6,[2]LISTAS!$A$15:$B$50,2,0))","v":""},null,{"$f":"_xlfn.IFS(T79=\"------\",AD79,T79=\"LA RELACIÓN DE ACTIVIDADES DEBE SER A PARTIR DE LA SIGUIENTE FILA\",\"LA RELACIÓN DE ACTIVIDADES DEBE SER A PARTIR DE LA SIGUIENTE FILA\",T79<>\"------\",T79)","v":""},null,"ok"]
[null,null,null,null,null,null,null,null,null,null,null,null,null,null,null,null,null,null,null,"",{"$f":"IF(ISERROR(VLOOKUP(E80,[2]LISTAS!$A$15:$B$50,2,0)),\"\",VLOOKUP(E80,[2]LISTAS!$A$15:$B$50,2,0))","v":""},{"$f":"IF(ISERROR(VLOOKUP(G80,[2]LISTAS!$A$15:$B$50,2,0)),\"\",VLOOKUP(G80,[2]LISTAS!$A$15:$B$50,2,0))","v":""},{"$f":"IF(ISERROR(VLOOKUP(I80,[2]LISTAS!$A$15:$B$50,2,0)),\"\",VLOOKUP(I80,[2]LISTAS!$A$15:$B$50,2,0))","v":""},{"$f":"IF(ISERROR(VLOOKUP(K80,[2]LISTAS!$A$15:$B$50,2,0)),\"\",VLOOKUP(K80,[2]LISTAS!$A$15:$B$50,2,0))","v":""},{"$f":"IF(ISERROR(VLOOKUP(M80,[2]LISTAS!$A$15:$B$50,2,0)),\"\",VLOOKUP(M80,[2]LISTAS!$A$15:$B$50,2,0))","v":""},{"$f":"IF(ISERROR(VLOOKUP(O80,[2]LISTAS!$A$15:$B$50,2,0)),\"\",VLOOKUP(O80,[2]LISTAS!$A$15:$B$50,2,0))","v":""},{"$f":"IF(ISERROR(VLOOKUP(6,[2]LISTAS!$A$15:$B$50,2,0)),\"\",VLOOKUP(6,[2]LISTAS!$A$15:$B$50,2,0))","v":""},null,{"$f":"_xlfn.IFS(T80=\"------\",AD80,T80=\"LA RELACIÓN DE ACTIVIDADES DEBE SER A PARTIR DE LA SIGUIENTE FILA\",\"LA RELACIÓN DE ACTIVIDADES DEBE SER A PARTIR DE LA SIGUIENTE FILA\",T80<>\"------\",T80)","v":""},null,"ok"]
[null,null,null,null,null,null,null,null,null,null,null,null,null,null,null,null,null,null,null,"",{"$f":"IF(ISERROR(VLOOKUP(E81,[2]LISTAS!$A$15:$B$50,2,0)),\"\",VLOOKUP(E81,[2]LISTAS!$A$15:$B$50,2,0))","v":""},{"$f":"IF(ISERROR(VLOOKUP(G81,[2]LISTAS!$A$15:$B$50,2,0)),\"\",VLOOKUP(G81,[2]LISTAS!$A$15:$B$50,2,0))","v":""},{"$f":"IF(ISERROR(VLOOKUP(I81,[2]LISTAS!$A$15:$B$50,2,0)),\"\",VLOOKUP(I81,[2]LISTAS!$A$15:$B$50,2,0))","v":""},{"$f":"IF(ISERROR(VLOOKUP(K81,[2]LISTAS!$A$15:$B$50,2,0)),\"\",VLOOKUP(K81,[2]LISTAS!$A$15:$B$50,2,0))","v":""},{"$f":"IF(ISERROR(VLOOKUP(M81,[2]LISTAS!$A$15:$B$50,2,0)),\"\",VLOOKUP(M81,[2]LISTAS!$A$15:$B$50,2,0))","v":""},{"$f":"IF(ISERROR(VLOOKUP(O81,[2]LISTAS!$A$15:$B$50,2,0)),\"\",VLOOKUP(O81,[2]LISTAS!$A$15:$B$50,2,0))","v":""},{"$f":"IF(ISERROR(VLOOKUP(6,[2]LISTAS!$A$15:$B$50,2,0)),\"\",VLOOKUP(6,[2]LISTAS!$A$15:$B$50,2,0))","v":""},null,{"$f":"_xlfn.IFS(T81=\"------\",AD81,T81=\"LA RELACIÓN DE ACTIVIDADES DEBE SER A PARTIR DE LA SIGUIENTE FILA\",\"LA RELACIÓN DE ACTIVIDADES DEBE SER A PARTIR DE LA SIGUIENTE FILA\",T81<>\"------\",T81)","v":""},null,"ok"]
[null,null,null,null,null,null,null,null,null,null,null,null,null,null,null,null,null,null,null,"",{"$f":"IF(ISERROR(VLOOKUP(E82,[2]LISTAS!$A$15:$B$50,2,0)),\"\",VLOOKUP(E82,[2]LISTAS!$A$15:$B$50,2,0))","v":""},{"$f":"IF(ISERROR(VLOOKUP(G82,[2]LISTAS!$A$15:$B$50,2,0)),\"\",VLOOKUP(G82,[2]LISTAS!$A$15:$B$50,2,0))","v":""},{"$f":"IF(ISERROR(VLOOKUP(I82,[2]LISTAS!$A$15:$B$50,2,0)),\"\",VLOOKUP(I82,[2]LISTAS!$A$15:$B$50,2,0))","v":""},{"$f":"IF(ISERROR(VLOOKUP(K82,[2]LISTAS!$A$15:$B$50,2,0)),\"\",VLOOKUP(K82,[2]LISTAS!$A$15:$B$50,2,0))","v":""},{"$f":"IF(ISERROR(VLOOKUP(M82,[2]LISTAS!$A$15:$B$50,2,0)),\"\",VLOOKUP(M82,[2]LISTAS!$A$15:$B$50,2,0))","v":""},{"$f":"IF(ISERROR(VLOOKUP(O82,[2]LISTAS!$A$15:$B$50,2,0)),\"\",VLOOKUP(O82,[2]LISTAS!$A$15:$B$50,2,0))","v":""},{"$f":"IF(ISERROR(VLOOKUP(6,[2]LISTAS!$A$15:$B$50,2,0)),\"\",VLOOKUP(6,[2]LISTAS!$A$15:$B$50,2,0))","v":""},null,{"$f":"_xlfn.IFS(T82=\"------\",AD82,T82=\"LA RELACIÓN DE ACTIVIDADES DEBE SER A PARTIR DE LA SIGUIENTE FILA\",\"LA RELACIÓN DE ACTIVIDADES DEBE SER A PARTIR DE LA SIGUIENTE FILA\",T82<>\"------\",T82)","v":""},null,"ok"]
[null,null,null,null,null,null,null,null,null,null,null,null,null,null,null,null,null,null,null,"",{"$f":"IF(ISERROR(VLOOKUP(E83,[2]LISTAS!$A$15:$B$50,2,0)),\"\",VLOOKUP(E83,[2]LISTAS!$A$15:$B$50,2,0))","v":""},{"$f":"IF(ISERROR(VLOOKUP(G83,[2]LISTAS!$A$15:$B$50,2,0)),\"\",VLOOKUP(G83,[2]LISTAS!$A$15:$B$50,2,0))","v":""},{"$f":"IF(ISERROR(VLOOKUP(I83,[2]LISTAS!$A$15:$B$50,2,0)),\"\",VLOOKUP(I83,[2]LISTAS!$A$15:$B$50,2,0))","v":""},{"$f":"IF(ISERROR(VLOOKUP(K83,[2]LISTAS!$A$15:$B$50,2,0)),\"\",VLOOKUP(K83,[2]LISTAS!$A$15:$B$50,2,0))","v":""},{"$f":"IF(ISERROR(VLOOKUP(M83,[2]LISTAS!$A$15:$B$50,2,0)),\"\",VLOOKUP(M83,[2]LISTAS!$A$15:$B$50,2,0))","v":""},{"$f":"IF(ISERROR(VLOOKUP(O83,[2]LISTAS!$A$15:$B$50,2,0)),\"\",VLOOKUP(O83,[2]LISTAS!$A$15:$B$50,2,0))","v":""},{"$f":"IF(ISERROR(VLOOKUP(6,[2]LISTAS!$A$15:$B$50,2,0)),\"\",VLOOKUP(6,[2]LISTAS!$A$15:$B$50,2,0))","v":""},null,{"$f":"_xlfn.IFS(T83=\"------\",AD83,T83=\"LA RELACIÓN DE ACTIVIDADES DEBE SER A PARTIR DE LA SIGUIENTE FILA\",\"LA RELACIÓN DE ACTIVIDADES DEBE SER A PARTIR DE LA SIGUIENTE FILA\",T83<>\"------\",T83)","v":""},null,"ok"]
[null,null,null,null,null,null,null,null,null,null,null,null,null,null,null,null,null,null,null,"",{"$f":"IF(ISERROR(VLOOKUP(E84,[2]LISTAS!$A$15:$B$50,2,0)),\"\",VLOOKUP(E84,[2]LISTAS!$A$15:$B$50,2,0))","v":""},{"$f":"IF(ISERROR(VLOOKUP(G84,[2]LISTAS!$A$15:$B$50,2,0)),\"\",VLOOKUP(G84,[2]LISTAS!$A$15:$B$50,2,0))","v":""},{"$f":"IF(ISERROR(VLOOKUP(I84,[2]LISTAS!$A$15:$B$50,2,0)),\"\",VLOOKUP(I84,[2]LISTAS!$A$15:$B$50,2,0))","v":""},{"$f":"IF(ISERROR(VLOOKUP(K84,[2]LISTAS!$A$15:$B$50,2,0)),\"\",VLOOKUP(K84,[2]LISTAS!$A$15:$B$50,2,0))","v":""},{"$f":"IF(ISERROR(VLOOKUP(M84,[2]LISTAS!$A$15:$B$50,2,0)),\"\",VLOOKUP(M84,[2]LISTAS!$A$15:$B$50,2,0))","v":""},{"$f":"IF(ISERROR(VLOOKUP(O84,[2]LISTAS!$A$15:$B$50,2,0)),\"\",VLOOKUP(O84,[2]LISTAS!$A$15:$B$50,2,0))","v":""},{"$f":"IF(ISERROR(VLOOKUP(6,[2]LISTAS!$A$15:$B$50,2,0)),\"\",VLOOKUP(6,[2]LISTAS!$A$15:$B$50,2,0))","v":""},null,{"$f":"_xlfn.IFS(T84=\"------\",AD84,T84=\"LA RELACIÓN DE ACTIVIDADES DEBE SER A PARTIR DE LA SIGUIENTE FILA\",\"LA RELACIÓN DE ACTIVIDADES DEBE SER A PARTIR DE LA SIGUIENTE FILA\",T84<>\"------\",T84)","v":""},null,"ok"]
[null,null,null,null,null,null,null,null,null,null,null,null,null,null,null,null,null,null,null,"",{"$f":"IF(ISERROR(VLOOKUP(E85,[2]LISTAS!$A$15:$B$50,2,0)),\"\",VLOOKUP(E85,[2]LISTAS!$A$15:$B$50,2,0))","v":""},{"$f":"IF(ISERROR(VLOOKUP(G85,[2]LISTAS!$A$15:$B$50,2,0)),\"\",VLOOKUP(G85,[2]LISTAS!$A$15:$B$50,2,0))","v":""},{"$f":"IF(ISERROR(VLOOKUP(I85,[2]LISTAS!$A$15:$B$50,2,0)),\"\",VLOOKUP(I85,[2]LISTAS!$A$15:$B$50,2,0))","v":""},{"$f":"IF(ISERROR(VLOOKUP(K85,[2]LISTAS!$A$15:$B$50,2,0)),\"\",VLOOKUP(K85,[2]LISTAS!$A$15:$B$50,2,0))","v":""},{"$f":"IF(ISERROR(VLOOKUP(M85,[2]LISTAS!$A$15:$B$50,2,0)),\"\",VLOOKUP(M85,[2]LISTAS!$A$15:$B$50,2,0))","v":""},{"$f":"IF(ISERROR(VLOOKUP(O85,[2]LISTAS!$A$15:$B$50,2,0)),\"\",VLOOKUP(O85,[2]LISTAS!$A$15:$B$50,2,0))","v":""},{"$f":"IF(ISERROR(VLOOKUP(6,[2]LISTAS!$A$15:$B$50,2,0)),\"\",VLOOKUP(6,[2]LISTAS!$A$15:$B$50,2,0))","v":""},null,{"$f":"_xlfn.IFS(T85=\"------\",AD85,T85=\"LA RELACIÓN DE ACTIVIDADES DEBE SER A PARTIR DE LA SIGUIENTE FILA\",\"LA RELACIÓN DE ACTIVIDADES DEBE SER A PARTIR DE LA SIGUIENTE FILA\",T85<>\"------\",T85)","v":""},null,"ok"]
[null,null,null,null,null,null,null,null,null,null,null,null,null,null,null,null,null,null,null,"",{"$f":"IF(ISERROR(VLOOKUP(E86,[2]LISTAS!$A$15:$B$50,2,0)),\"\",VLOOKUP(E86,[2]LISTAS!$A$15:$B$50,2,0))","v":""},{"$f":"IF(ISERROR(VLOOKUP(G86,[2]LISTAS!$A$15:$B$50,2,0)),\"\",VLOOKUP(G86,[2]LISTAS!$A$15:$B$50,2,0))","v":""},{"$f":"IF(ISERROR(VLOOKUP(I86,[2]LISTAS!$A$15:$B$50,2,0)),\"\",VLOOKUP(I86,[2]LISTAS!$A$15:$B$50,2,0))","v":""},{"$f":"IF(ISERROR(VLOOKUP(K86,[2]LISTAS!$A$15:$B$50,2,0)),\"\",VLOOKUP(K86,[2]LISTAS!$A$15:$B$50,2,0))","v":""},{"$f":"IF(ISERROR(VLOOKUP(M86,[2]LISTAS!$A$15:$B$50,2,0)),\"\",VLOOKUP(M86,[2]LISTAS!$A$15:$B$50,2,0))","v":""},{"$f":"IF(ISERROR(VLOOKUP(O86,[2]LISTAS!$A$15:$B$50,2,0)),\"\",VLOOKUP(O86,[2]LISTAS!$A$15:$B$50,2,0))","v":""},{"$f":"IF(ISERROR(VLOOKUP(6,[2]LISTAS!$A$15:$B$50,2,0)),\"\",VLOOKUP(6,[2]LISTAS!$A$15:$B$50,2,0))","v":""},null,{"$f":"_xlfn.IFS(T86=\"------\",AD86,T86=\"LA RELACIÓN DE ACTIVIDADES DEBE SER A PARTIR DE LA SIGUIENTE FILA\",\"LA RELACIÓN DE ACTIVIDADES DEBE SER A PARTIR DE LA SIGUIENTE FILA\",T86<>\"------\",T86)","v":""},null,"ok"]
[null,null,null,null,null,null,null,null,null,null,null,null,null,null,null,null,null,null,null,"",{"$f":"IF(ISERROR(VLOOKUP(E87,[2]LISTAS!$A$15:$B$50,2,0)),\"\",VLOOKUP(E87,[2]LISTAS!$A$15:$B$50,2,0))","v":""},{"$f":"IF(ISERROR(VLOOKUP(G87,[2]LISTAS!$A$15:$B$50,2,0)),\"\",VLOOKUP(G87,[2]LISTAS!$A$15:$B$50,2,0))","v":""},{"$f":"IF(ISERROR(VLOOKUP(I87,[2]LISTAS!$A$15:$B$50,2,0)),\"\",VLOOKUP(I87,[2]LISTAS!$A$15:$B$50,2,0))","v":""},{"$f":"IF(ISERROR(VLOOKUP(K87,[2]LISTAS!$A$15:$B$50,2,0)),\"\",VLOOKUP(K87,[2]LISTAS!$A$15:$B$50,2,0))","v":""},{"$f":"IF(ISERROR(VLOOKUP(M87,[2]LISTAS!$A$15:$B$50,2,0)),\"\",VLOOKUP(M87,[2]LISTAS!$A$15:$B$50,2,0))","v":""},{"$f":"IF(ISERROR(VLOOKUP(O87,[2]LISTAS!$A$15:$B$50,2,0)),\"\",VLOOKUP(O87,[2]LISTAS!$A$15:$B$50,2,0))","v":""},{"$f":"IF(ISERROR(VLOOKUP(6,[2]LISTAS!$A$15:$B$50,2,0)),\"\",VLOOKUP(6,[2]LISTAS!$A$15:$B$50,2,0))","v":""},null,{"$f":"_xlfn.IFS(T87=\"------\",AD87,T87=\"LA RELACIÓN DE ACTIVIDADES DEBE SER A PARTIR DE LA SIGUIENTE FILA\",\"LA RELACIÓN DE ACTIVIDADES DEBE SER A PARTIR DE LA SIGUIENTE FILA\",T87<>\"------\",T87)","v":""},null,"ok"]
[null,null,null,null,null,null,null,null,null,null,null,null,null,null,null,null,null,null,null,"",{"$f":"IF(ISERROR(VLOOKUP(E88,[2]LISTAS!$A$15:$B$50,2,0)),\"\",VLOOKUP(E88,[2]LISTAS!$A$15:$B$50,2,0))","v":""},{"$f":"IF(ISERROR(VLOOKUP(G88,[2]LISTAS!$A$15:$B$50,2,0)),\"\",VLOOKUP(G88,[2]LISTAS!$A$15:$B$50,2,0))","v":""},{"$f":"IF(ISERROR(VLOOKUP(I88,[2]LISTAS!$A$15:$B$50,2,0)),\"\",VLOOKUP(I88,[2]LISTAS!$A$15:$B$50,2,0))","v":""},{"$f":"IF(ISERROR(VLOOKUP(K88,[2]LISTAS!$A$15:$B$50,2,0)),\"\",VLOOKUP(K88,[2]LISTAS!$A$15:$B$50,2,0))","v":""},{"$f":"IF(ISERROR(VLOOKUP(M88,[2]LISTAS!$A$15:$B$50,2,0)),\"\",VLOOKUP(M88,[2]LISTAS!$A$15:$B$50,2,0))","v":""},{"$f":"IF(ISERROR(VLOOKUP(O88,[2]LISTAS!$A$15:$B$50,2,0)),\"\",VLOOKUP(O88,[2]LISTAS!$A$15:$B$50,2,0))","v":""},{"$f":"IF(ISERROR(VLOOKUP(6,[2]LISTAS!$A$15:$B$50,2,0)),\"\",VLOOKUP(6,[2]LISTAS!$A$15:$B$50,2,0))","v":""},null,{"$f":"_xlfn.IFS(T88=\"------\",AD88,T88=\"LA RELACIÓN DE ACTIVIDADES DEBE SER A PARTIR DE LA SIGUIENTE FILA\",\"LA RELACIÓN DE ACTIVIDADES DEBE SER A PARTIR DE LA SIGUIENTE FILA\",T88<>\"------\",T88)","v":""},null,"ok"]
[null,null,null,null,null,null,null,null,null,null,null,null,null,null,null,null,null,null,null,"",{"$f":"IF(ISERROR(VLOOKUP(E89,[2]LISTAS!$A$15:$B$50,2,0)),\"\",VLOOKUP(E89,[2]LISTAS!$A$15:$B$50,2,0))","v":""},{"$f":"IF(ISERROR(VLOOKUP(G89,[2]LISTAS!$A$15:$B$50,2,0)),\"\",VLOOKUP(G89,[2]LISTAS!$A$15:$B$50,2,0))","v":""},{"$f":"IF(ISERROR(VLOOKUP(I89,[2]LISTAS!$A$15:$B$50,2,0)),\"\",VLOOKUP(I89,[2]LISTAS!$A$15:$B$50,2,0))","v":""},{"$f":"IF(ISERROR(VLOOKUP(K89,[2]LISTAS!$A$15:$B$50,2,0)),\"\",VLOOKUP(K89,[2]LISTAS!$A$15:$B$50,2,0))","v":""},{"$f":"IF(ISERROR(VLOOKUP(M89,[2]LISTAS!$A$15:$B$50,2,0)),\"\",VLOOKUP(M89,[2]LISTAS!$A$15:$B$50,2,0))","v":""},{"$f":"IF(ISERROR(VLOOKUP(O89,[2]LISTAS!$A$15:$B$50,2,0)),\"\",VLOOKUP(O89,[2]LISTAS!$A$15:$B$50,2,0))","v":""},{"$f":"IF(ISERROR(VLOOKUP(6,[2]LISTAS!$A$15:$B$50,2,0)),\"\",VLOOKUP(6,[2]LISTAS!$A$15:$B$50,2,0))","v":""},null,{"$f":"_xlfn.IFS(T89=\"------\",AD89,T89=\"LA RELACIÓN DE ACTIVIDADES DEBE SER A PARTIR DE LA SIGUIENTE FILA\",\"LA RELACIÓN DE ACTIVIDADES DEBE SER A PARTIR DE LA SIGUIENTE FILA\",T89<>\"------\",T89)","v":""},null,"ok"]
[null,null,null,null,null,null,null,null,null,null,null,null,null,null,null,null,null,null,null,"",{"$f":"IF(ISERROR(VLOOKUP(E90,[2]LISTAS!$A$15:$B$50,2,0)),\"\",VLOOKUP(E90,[2]LISTAS!$A$15:$B$50,2,0))","v":""},{"$f":"IF(ISERROR(VLOOKUP(G90,[2]LISTAS!$A$15:$B$50,2,0)),\"\",VLOOKUP(G90,[2]LISTAS!$A$15:$B$50,2,0))","v":""},{"$f":"IF(ISERROR(VLOOKUP(I90,[2]LISTAS!$A$15:$B$50,2,0)),\"\",VLOOKUP(I90,[2]LISTAS!$A$15:$B$50,2,0))","v":""},{"$f":"IF(ISERROR(VLOOKUP(K90,[2]LISTAS!$A$15:$B$50,2,0)),\"\",VLOOKUP(K90,[2]LISTAS!$A$15:$B$50,2,0))","v":""},{"$f":"IF(ISERROR(VLOOKUP(M90,[2]LISTAS!$A$15:$B$50,2,0)),\"\",VLOOKUP(M90,[2]LISTAS!$A$15:$B$50,2,0))","v":""},{"$f":"IF(ISERROR(VLOOKUP(O90,[2]LISTAS!$A$15:$B$50,2,0)),\"\",VLOOKUP(O90,[2]LISTAS!$A$15:$B$50,2,0))","v":""},{"$f":"IF(ISERROR(VLOOKUP(6,[2]LISTAS!$A$15:$B$50,2,0)),\"\",VLOOKUP(6,[2]LISTAS!$A$15:$B$50,2,0))","v":""},null,{"$f":"_xlfn.IFS(T90=\"------\",AD90,T90=\"LA RELACIÓN DE ACTIVIDADES DEBE SER A PARTIR DE LA SIGUIENTE FILA\",\"LA RELACIÓN DE ACTIVIDADES DEBE SER A PARTIR DE LA SIGUIENTE FILA\",T90<>\"------\",T90)","v":""},null,"ok"]
[null,null,null,null,null,null,null,null,null,null,null,null,null,null,null,null,null,null,null,"",{"$f":"IF(ISERROR(VLOOKUP(E91,[2]LISTAS!$A$15:$B$50,2,0)),\"\",VLOOKUP(E91,[2]LISTAS!$A$15:$B$50,2,0))","v":""},{"$f":"IF(ISERROR(VLOOKUP(G91,[2]LISTAS!$A$15:$B$50,2,0)),\"\",VLOOKUP(G91,[2]LISTAS!$A$15:$B$50,2,0))","v":""},{"$f":"IF(ISERROR(VLOOKUP(I91,[2]LISTAS!$A$15:$B$50,2,0)),\"\",VLOOKUP(I91,[2]LISTAS!$A$15:$B$50,2,0))","v":""},{"$f":"IF(ISERROR(VLOOKUP(K91,[2]LISTAS!$A$15:$B$50,2,0)),\"\",VLOOKUP(K91,[2]LISTAS!$A$15:$B$50,2,0))","v":""},{"$f":"IF(ISERROR(VLOOKUP(M91,[2]LISTAS!$A$15:$B$50,2,0)),\"\",VLOOKUP(M91,[2]LISTAS!$A$15:$B$50,2,0))","v":""},{"$f":"IF(ISERROR(VLOOKUP(O91,[2]LISTAS!$A$15:$B$50,2,0)),\"\",VLOOKUP(O91,[2]LISTAS!$A$15:$B$50,2,0))","v":""},{"$f":"IF(ISERROR(VLOOKUP(6,[2]LISTAS!$A$15:$B$50,2,0)),\"\",VLOOKUP(6,[2]LISTAS!$A$15:$B$50,2,0))","v":""},null,{"$f":"_xlfn.IFS(T91=\"------\",AD91,T91=\"LA RELACIÓN DE ACTIVIDADES DEBE SER A PARTIR DE LA SIGUIENTE FILA\",\"LA RELACIÓN DE ACTIVIDADES DEBE SER A PARTIR DE LA SIGUIENTE FILA\",T91<>\"------\",T91)","v":""},null,"ok"]
[null,null,null,null,null,null,null,null,null,null,null,null,null,null,null,null,null,null,null,"",{"$f":"IF(ISERROR(VLOOKUP(E92,[2]LISTAS!$A$15:$B$50,2,0)),\"\",VLOOKUP(E92,[2]LISTAS!$A$15:$B$50,2,0))","v":""},{"$f":"IF(ISERROR(VLOOKUP(G92,[2]LISTAS!$A$15:$B$50,2,0)),\"\",VLOOKUP(G92,[2]LISTAS!$A$15:$B$50,2,0))","v":""},{"$f":"IF(ISERROR(VLOOKUP(I92,[2]LISTAS!$A$15:$B$50,2,0)),\"\",VLOOKUP(I92,[2]LISTAS!$A$15:$B$50,2,0))","v":""},{"$f":"IF(ISERROR(VLOOKUP(K92,[2]LISTAS!$A$15:$B$50,2,0)),\"\",VLOOKUP(K92,[2]LISTAS!$A$15:$B$50,2,0))","v":""},{"$f":"IF(ISERROR(VLOOKUP(M92,[2]LISTAS!$A$15:$B$50,2,0)),\"\",VLOOKUP(M92,[2]LISTAS!$A$15:$B$50,2,0))","v":""},{"$f":"IF(ISERROR(VLOOKUP(O92,[2]LISTAS!$A$15:$B$50,2,0)),\"\",VLOOKUP(O92,[2]LISTAS!$A$15:$B$50,2,0))","v":""},{"$f":"IF(ISERROR(VLOOKUP(6,[2]LISTAS!$A$15:$B$50,2,0)),\"\",VLOOKUP(6,[2]LISTAS!$A$15:$B$50,2,0))","v":""},null,{"$f":"_xlfn.IFS(T92=\"------\",AD92,T92=\"LA RELACIÓN DE ACTIVIDADES DEBE SER A PARTIR DE LA SIGUIENTE FILA\",\"LA RELACIÓN DE ACTIVIDADES DEBE SER A PARTIR DE LA SIGUIENTE FILA\",T92<>\"------\",T92)","v":""},null,"ok"]
[null,null,null,null,null,null,null,null,null,null,null,null,null,null,null,null,null,null,null,"",{"$f":"IF(ISERROR(VLOOKUP(E93,[2]LISTAS!$A$15:$B$50,2,0)),\"\",VLOOKUP(E93,[2]LISTAS!$A$15:$B$50,2,0))","v":""},{"$f":"IF(ISERROR(VLOOKUP(G93,[2]LISTAS!$A$15:$B$50,2,0)),\"\",VLOOKUP(G93,[2]LISTAS!$A$15:$B$50,2,0))","v":""},{"$f":"IF(ISERROR(VLOOKUP(I93,[2]LISTAS!$A$15:$B$50,2,0)),\"\",VLOOKUP(I93,[2]LISTAS!$A$15:$B$50,2,0))","v":""},{"$f":"IF(ISERROR(VLOOKUP(K93,[2]LISTAS!$A$15:$B$50,2,0)),\"\",VLOOKUP(K93,[2]LISTAS!$A$15:$B$50,2,0))","v":""},{"$f":"IF(ISERROR(VLOOKUP(M93,[2]LISTAS!$A$15:$B$50,2,0)),\"\",VLOOKUP(M93,[2]LISTAS!$A$15:$B$50,2,0))","v":""},{"$f":"IF(ISERROR(VLOOKUP(O93,[2]LISTAS!$A$15:$B$50,2,0)),\"\",VLOOKUP(O93,[2]LISTAS!$A$15:$B$50,2,0))","v":""},{"$f":"IF(ISERROR(VLOOKUP(6,[2]LISTAS!$A$15:$B$50,2,0)),\"\",VLOOKUP(6,[2]LISTAS!$A$15:$B$50,2,0))","v":""},null,{"$f":"_xlfn.IFS(T93=\"------\",AD93,T93=\"LA RELACIÓN DE ACTIVIDADES DEBE SER A PARTIR DE LA SIGUIENTE FILA\",\"LA RELACIÓN DE ACTIVIDADES DEBE SER A PARTIR DE LA SIGUIENTE FILA\",T93<>\"------\",T93)","v":""},null,"ok"]
[null,null,null,null,null,null,null,null,null,null,null,null,null,null,null,null,null,null,null,"",{"$f":"IF(ISERROR(VLOOKUP(E94,[2]LISTAS!$A$15:$B$50,2,0)),\"\",VLOOKUP(E94,[2]LISTAS!$A$15:$B$50,2,0))","v":""},{"$f":"IF(ISERROR(VLOOKUP(G94,[2]LISTAS!$A$15:$B$50,2,0)),\"\",VLOOKUP(G94,[2]LISTAS!$A$15:$B$50,2,0))","v":""},{"$f":"IF(ISERROR(VLOOKUP(I94,[2]LISTAS!$A$15:$B$50,2,0)),\"\",VLOOKUP(I94,[2]LISTAS!$A$15:$B$50,2,0))","v":""},{"$f":"IF(ISERROR(VLOOKUP(K94,[2]LISTAS!$A$15:$B$50,2,0)),\"\",VLOOKUP(K94,[2]LISTAS!$A$15:$B$50,2,0))","v":""},{"$f":"IF(ISERROR(VLOOKUP(M94,[2]LISTAS!$A$15:$B$50,2,0)),\"\",VLOOKUP(M94,[2]LISTAS!$A$15:$B$50,2,0))","v":""},{"$f":"IF(ISERROR(VLOOKUP(O94,[2]LISTAS!$A$15:$B$50,2,0)),\"\",VLOOKUP(O94,[2]LISTAS!$A$15:$B$50,2,0))","v":""},{"$f":"IF(ISERROR(VLOOKUP(6,[2]LISTAS!$A$15:$B$50,2,0)),\"\",VLOOKUP(6,[2]LISTAS!$A$15:$B$50,2,0))","v":""},null,{"$f":"_xlfn.IFS(T94=\"------\",AD94,T94=\"LA RELACIÓN DE ACTIVIDADES DEBE SER A PARTIR DE LA SIGUIENTE FILA\",\"LA RELACIÓN DE ACTIVIDADES DEBE SER A PARTIR DE LA SIGUIENTE FILA\",T94<>\"------\",T94)","v":""},null,"ok"]
[null,null,null,null,null,null,null,null,null,null,null,null,null,null,null,null,null,null,null,"",{"$f":"IF(ISERROR(VLOOKUP(E95,[2]LISTAS!$A$15:$B$50,2,0)),\"\",VLOOKUP(E95,[2]LISTAS!$A$15:$B$50,2,0))","v":""},{"$f":"IF(ISERROR(VLOOKUP(G95,[2]LISTAS!$A$15:$B$50,2,0)),\"\",VLOOKUP(G95,[2]LISTAS!$A$15:$B$50,2,0))","v":""},{"$f":"IF(ISERROR(VLOOKUP(I95,[2]LISTAS!$A$15:$B$50,2,0)),\"\",VLOOKUP(I95,[2]LISTAS!$A$15:$B$50,2,0))","v":""},{"$f":"IF(ISERROR(VLOOKUP(K95,[2]LISTAS!$A$15:$B$50,2,0)),\"\",VLOOKUP(K95,[2]LISTAS!$A$15:$B$50,2,0))","v":""},{"$f":"IF(ISERROR(VLOOKUP(M95,[2]LISTAS!$A$15:$B$50,2,0)),\"\",VLOOKUP(M95,[2]LISTAS!$A$15:$B$50,2,0))","v":""},{"$f":"IF(ISERROR(VLOOKUP(O95,[2]LISTAS!$A$15:$B$50,2,0)),\"\",VLOOKUP(O95,[2]LISTAS!$A$15:$B$50,2,0))","v":""},{"$f":"IF(ISERROR(VLOOKUP(6,[2]LISTAS!$A$15:$B$50,2,0)),\"\",VLOOKUP(6,[2]LISTAS!$A$15:$B$50,2,0))","v":""},null,{"$f":"_xlfn.IFS(T95=\"------\",AD95,T95=\"LA RELACIÓN DE ACTIVIDADES DEBE SER A PARTIR DE LA SIGUIENTE FILA\",\"LA RELACIÓN DE ACTIVIDADES DEBE SER A PARTIR DE LA SIGUIENTE FILA\",T95<>\"------\",T95)","v":""},null,"ok"]
[null,null,null,null,null,null,null,null,null,null,null,null,null,null,null,null,null,null,null,"",{"$f":"IF(ISERROR(VLOOKUP(E96,[2]LISTAS!$A$15:$B$50,2,0)),\"\",VLOOKUP(E96,[2]LISTAS!$A$15:$B$50,2,0))","v":""},{"$f":"IF(ISERROR(VLOOKUP(G96,[2]LISTAS!$A$15:$B$50,2,0)),\"\",VLOOKUP(G96,[2]LISTAS!$A$15:$B$50,2,0))","v":""},{"$f":"IF(ISERROR(VLOOKUP(I96,[2]LISTAS!$A$15:$B$50,2,0)),\"\",VLOOKUP(I96,[2]LISTAS!$A$15:$B$50,2,0))","v":""},{"$f":"IF(ISERROR(VLOOKUP(K96,[2]LISTAS!$A$15:$B$50,2,0)),\"\",VLOOKUP(K96,[2]LISTAS!$A$15:$B$50,2,0))","v":""},{"$f":"IF(ISERROR(VLOOKUP(M96,[2]LISTAS!$A$15:$B$50,2,0)),\"\",VLOOKUP(M96,[2]LISTAS!$A$15:$B$50,2,0))","v":""},{"$f":"IF(ISERROR(VLOOKUP(O96,[2]LISTAS!$A$15:$B$50,2,0)),\"\",VLOOKUP(O96,[2]LISTAS!$A$15:$B$50,2,0))","v":""},{"$f":"IF(ISERROR(VLOOKUP(6,[2]LISTAS!$A$15:$B$50,2,0)),\"\",VLOOKUP(6,[2]LISTAS!$A$15:$B$50,2,0))","v":""},null,{"$f":"_xlfn.IFS(T96=\"------\",AD96,T96=\"LA RELACIÓN DE ACTIVIDADES DEBE SER A PARTIR DE LA SIGUIENTE FILA\",\"LA RELACIÓN DE ACTIVIDADES DEBE SER A PARTIR DE LA SIGUIENTE FILA\",T96<>\"------\",T96)","v":""},null,"ok"]
[null,null,null,null,null,null,null,null,null,null,null,null,null,null,null,null,null,null,null,"",{"$f":"IF(ISERROR(VLOOKUP(E97,[2]LISTAS!$A$15:$B$50,2,0)),\"\",VLOOKUP(E97,[2]LISTAS!$A$15:$B$50,2,0))","v":""},{"$f":"IF(ISERROR(VLOOKUP(G97,[2]LISTAS!$A$15:$B$50,2,0)),\"\",VLOOKUP(G97,[2]LISTAS!$A$15:$B$50,2,0))","v":""},{"$f":"IF(ISERROR(VLOOKUP(I97,[2]LISTAS!$A$15:$B$50,2,0)),\"\",VLOOKUP(I97,[2]LISTAS!$A$15:$B$50,2,0))","v":""},{"$f":"IF(ISERROR(VLOOKUP(K97,[2]LISTAS!$A$15:$B$50,2,0)),\"\",VLOOKUP(K97,[2]LISTAS!$A$15:$B$50,2,0))","v":""},{"$f":"IF(ISERROR(VLOOKUP(M97,[2]LISTAS!$A$15:$B$50,2,0)),\"\",VLOOKUP(M97,[2]LISTAS!$A$15:$B$50,2,0))","v":""},{"$f":"IF(ISERROR(VLOOKUP(O97,[2]LISTAS!$A$15:$B$50,2,0)),\"\",VLOOKUP(O97,[2]LISTAS!$A$15:$B$50,2,0))","v":""},{"$f":"IF(ISERROR(VLOOKUP(6,[2]LISTAS!$A$15:$B$50,2,0)),\"\",VLOOKUP(6,[2]LISTAS!$A$15:$B$50,2,0))","v":""},null,{"$f":"_xlfn.IFS(T97=\"------\",AD97,T97=\"LA RELACIÓN DE ACTIVIDADES DEBE SER A PARTIR DE LA SIGUIENTE FILA\",\"LA RELACIÓN DE ACTIVIDADES DEBE SER A PARTIR DE LA SIGUIENTE FILA\",T97<>\"------\",T97)","v":""},null,"ok"]
[null,null,null,null,null,null,null,null,null,null,null,null,null,null,null,null,null,null,null,"",{"$f":"IF(ISERROR(VLOOKUP(E98,[2]LISTAS!$A$15:$B$50,2,0)),\"\",VLOOKUP(E98,[2]LISTAS!$A$15:$B$50,2,0))","v":""},{"$f":"IF(ISERROR(VLOOKUP(G98,[2]LISTAS!$A$15:$B$50,2,0)),\"\",VLOOKUP(G98,[2]LISTAS!$A$15:$B$50,2,0))","v":""},{"$f":"IF(ISERROR(VLOOKUP(I98,[2]LISTAS!$A$15:$B$50,2,0)),\"\",VLOOKUP(I98,[2]LISTAS!$A$15:$B$50,2,0))","v":""},{"$f":"IF(ISERROR(VLOOKUP(K98,[2]LISTAS!$A$15:$B$50,2,0)),\"\",VLOOKUP(K98,[2]LISTAS!$A$15:$B$50,2,0))","v":""},{"$f":"IF(ISERROR(VLOOKUP(M98,[2]LISTAS!$A$15:$B$50,2,0)),\"\",VLOOKUP(M98,[2]LISTAS!$A$15:$B$50,2,0))","v":""},{"$f":"IF(ISERROR(VLOOKUP(O98,[2]LISTAS!$A$15:$B$50,2,0)),\"\",VLOOKUP(O98,[2]LISTAS!$A$15:$B$50,2,0))","v":""},{"$f":"IF(ISERROR(VLOOKUP(6,[2]LISTAS!$A$15:$B$50,2,0)),\"\",VLOOKUP(6,[2]LISTAS!$A$15:$B$50,2,0))","v":""},null,{"$f":"_xlfn.IFS(T98=\"------\",AD98,T98=\"LA RELACIÓN DE ACTIVIDADES DEBE SER A PARTIR DE LA SIGUIENTE FILA\",\"LA RELACIÓN DE ACTIVIDADES DEBE SER A PARTIR DE LA SIGUIENTE FILA\",T98<>\"------\",T98)","v":""},null,"ok"]
[null,null,null,null,null,null,null,null,null,null,null,null,null,null,null,null,null,null,null,"",{"$f":"IF(ISERROR(VLOOKUP(E99,[2]LISTAS!$A$15:$B$50,2,0)),\"\",VLOOKUP(E99,[2]LISTAS!$A$15:$B$50,2,0))","v":""},{"$f":"IF(ISERROR(VLOOKUP(G99,[2]LISTAS!$A$15:$B$50,2,0)),\"\",VLOOKUP(G99,[2]LISTAS!$A$15:$B$50,2,0))","v":""},{"$f":"IF(ISERROR(VLOOKUP(I99,[2]LISTAS!$A$15:$B$50,2,0)),\"\",VLOOKUP(I99,[2]LISTAS!$A$15:$B$50,2,0))","v":""},{"$f":"IF(ISERROR(VLOOKUP(K99,[2]LISTAS!$A$15:$B$50,2,0)),\"\",VLOOKUP(K99,[2]LISTAS!$A$15:$B$50,2,0))","v":""},{"$f":"IF(ISERROR(VLOOKUP(M99,[2]LISTAS!$A$15:$B$50,2,0)),\"\",VLOOKUP(M99,[2]LISTAS!$A$15:$B$50,2,0))","v":""},{"$f":"IF(ISERROR(VLOOKUP(O99,[2]LISTAS!$A$15:$B$50,2,0)),\"\",VLOOKUP(O99,[2]LISTAS!$A$15:$B$50,2,0))","v":""},{"$f":"IF(ISERROR(VLOOKUP(6,[2]LISTAS!$A$15:$B$50,2,0)),\"\",VLOOKUP(6,[2]LISTAS!$A$15:$B$50,2,0))","v":""},null,{"$f":"_xlfn.IFS(T99=\"------\",AD99,T99=\"LA RELACIÓN DE ACTIVIDADES DEBE SER A PARTIR DE LA SIGUIENTE FILA\",\"LA RELACIÓN DE ACTIVIDADES DEBE SER A PARTIR DE LA SIGUIENTE FILA\",T99<>\"------\",T99)","v":""},null,"ok"]
[null,null,null,null,null,null,null,null,null,null,null,null,null,null,null,null,null,null,null,"",{"$f":"IF(ISERROR(VLOOKUP(E100,[2]LISTAS!$A$15:$B$50,2,0)),\"\",VLOOKUP(E100,[2]LISTAS!$A$15:$B$50,2,0))","v":""},{"$f":"IF(ISERROR(VLOOKUP(G100,[2]LISTAS!$A$15:$B$50,2,0)),\"\",VLOOKUP(G100,[2]LISTAS!$A$15:$B$50,2,0))","v":""},{"$f":"IF(ISERROR(VLOOKUP(I100,[2]LISTAS!$A$15:$B$50,2,0)),\"\",VLOOKUP(I100,[2]LISTAS!$A$15:$B$50,2,0))","v":""},{"$f":"IF(ISERROR(VLOOKUP(K100,[2]LISTAS!$A$15:$B$50,2,0)),\"\",VLOOKUP(K100,[2]LISTAS!$A$15:$B$50,2,0))","v":""},{"$f":"IF(ISERROR(VLOOKUP(M100,[2]LISTAS!$A$15:$B$50,2,0)),\"\",VLOOKUP(M100,[2]LISTAS!$A$15:$B$50,2,0))","v":""},{"$f":"IF(ISERROR(VLOOKUP(O100,[2]LISTAS!$A$15:$B$50,2,0)),\"\",VLOOKUP(O100,[2]LISTAS!$A$15:$B$50,2,0))","v":""},{"$f":"IF(ISERROR(VLOOKUP(6,[2]LISTAS!$A$15:$B$50,2,0)),\"\",VLOOKUP(6,[2]LISTAS!$A$15:$B$50,2,0))","v":""},null,{"$f":"_xlfn.IFS(T100=\"------\",AD100,T100=\"LA RELACIÓN DE ACTIVIDADES DEBE SER A PARTIR DE LA SIGUIENTE FILA\",\"LA RELACIÓN DE ACTIVIDADES DEBE SER A PARTIR DE LA SIGUIENTE FILA\",T100<>\"------\",T100)","v":""},null,"ok"]
[null,null,null,null,null,null,null,null,null,null,null,null,null,null,null,null,null,null,null,"",{"$f":"IF(ISERROR(VLOOKUP(E101,[2]LISTAS!$A$15:$B$50,2,0)),\"\",VLOOKUP(E101,[2]LISTAS!$A$15:$B$50,2,0))","v":""},{"$f":"IF(ISERROR(VLOOKUP(G101,[2]LISTAS!$A$15:$B$50,2,0)),\"\",VLOOKUP(G101,[2]LISTAS!$A$15:$B$50,2,0))","v":""},{"$f":"IF(ISERROR(VLOOKUP(I101,[2]LISTAS!$A$15:$B$50,2,0)),\"\",VLOOKUP(I101,[2]LISTAS!$A$15:$B$50,2,0))","v":""},{"$f":"IF(ISERROR(VLOOKUP(K101,[2]LISTAS!$A$15:$B$50,2,0)),\"\",VLOOKUP(K101,[2]LISTAS!$A$15:$B$50,2,0))","v":""},{"$f":"IF(ISERROR(VLOOKUP(M101,[2]LISTAS!$A$15:$B$50,2,0)),\"\",VLOOKUP(M101,[2]LISTAS!$A$15:$B$50,2,0))","v":""},{"$f":"IF(ISERROR(VLOOKUP(O101,[2]LISTAS!$A$15:$B$50,2,0)),\"\",VLOOKUP(O101,[2]LISTAS!$A$15:$B$50,2,0))","v":""},{"$f":"IF(ISERROR(VLOOKUP(6,[2]LISTAS!$A$15:$B$50,2,0)),\"\",VLOOKUP(6,[2]LISTAS!$A$15:$B$50,2,0))","v":""},null,{"$f":"_xlfn.IFS(T101=\"------\",AD101,T101=\"LA RELACIÓN DE ACTIVIDADES DEBE SER A PARTIR DE LA SIGUIENTE FILA\",\"LA RELACIÓN DE ACTIVIDADES DEBE SER A PARTIR DE LA SIGUIENTE FILA\",T101<>\"------\",T101)","v":""},null,"ok"]
[null,null,null,null,null,null,null,null,null,null,null,null,null,null,null,null,null,null,null,"",{"$f":"IF(ISERROR(VLOOKUP(E102,[2]LISTAS!$A$15:$B$50,2,0)),\"\",VLOOKUP(E102,[2]LISTAS!$A$15:$B$50,2,0))","v":""},{"$f":"IF(ISERROR(VLOOKUP(G102,[2]LISTAS!$A$15:$B$50,2,0)),\"\",VLOOKUP(G102,[2]LISTAS!$A$15:$B$50,2,0))","v":""},{"$f":"IF(ISERROR(VLOOKUP(I102,[2]LISTAS!$A$15:$B$50,2,0)),\"\",VLOOKUP(I102,[2]LISTAS!$A$15:$B$50,2,0))","v":""},{"$f":"IF(ISERROR(VLOOKUP(K102,[2]LISTAS!$A$15:$B$50,2,0)),\"\",VLOOKUP(K102,[2]LISTAS!$A$15:$B$50,2,0))","v":""},{"$f":"IF(ISERROR(VLOOKUP(M102,[2]LISTAS!$A$15:$B$50,2,0)),\"\",VLOOKUP(M102,[2]LISTAS!$A$15:$B$50,2,0))","v":""},{"$f":"IF(ISERROR(VLOOKUP(O102,[2]LISTAS!$A$15:$B$50,2,0)),\"\",VLOOKUP(O102,[2]LISTAS!$A$15:$B$50,2,0))","v":""},{"$f":"IF(ISERROR(VLOOKUP(6,[2]LISTAS!$A$15:$B$50,2,0)),\"\",VLOOKUP(6,[2]LISTAS!$A$15:$B$50,2,0))","v":""},null,{"$f":"_xlfn.IFS(T102=\"------\",AD102,T102=\"LA RELACIÓN DE ACTIVIDADES DEBE SER A PARTIR DE LA SIGUIENTE FILA\",\"LA RELACIÓN DE ACTIVIDADES DEBE SER A PARTIR DE LA SIGUIENTE FILA\",T102<>\"------\",T102)","v":""},null,"ok"]
[null,null,null,null,null,null,null,null,null,null,null,null,null,null,null,null,null,null,null,"",{"$f":"IF(ISERROR(VLOOKUP(E103,[2]LISTAS!$A$15:$B$50,2,0)),\"\",VLOOKUP(E103,[2]LISTAS!$A$15:$B$50,2,0))","v":""},{"$f":"IF(ISERROR(VLOOKUP(G103,[2]LISTAS!$A$15:$B$50,2,0)),\"\",VLOOKUP(G103,[2]LISTAS!$A$15:$B$50,2,0))","v":""},{"$f":"IF(ISERROR(VLOOKUP(I103,[2]LISTAS!$A$15:$B$50,2,0)),\"\",VLOOKUP(I103,[2]LISTAS!$A$15:$B$50,2,0))","v":""},{"$f":"IF(ISERROR(VLOOKUP(K103,[2]LISTAS!$A$15:$B$50,2,0)),\"\",VLOOKUP(K103,[2]LISTAS!$A$15:$B$50,2,0))","v":""},{"$f":"IF(ISERROR(VLOOKUP(M103,[2]LISTAS!$A$15:$B$50,2,0)),\"\",VLOOKUP(M103,[2]LISTAS!$A$15:$B$50,2,0))","v":""},{"$f":"IF(ISERROR(VLOOKUP(O103,[2]LISTAS!$A$15:$B$50,2,0)),\"\",VLOOKUP(O103,[2]LISTAS!$A$15:$B$50,2,0))","v":""},{"$f":"IF(ISERROR(VLOOKUP(6,[2]LISTAS!$A$15:$B$50,2,0)),\"\",VLOOKUP(6,[2]LISTAS!$A$15:$B$50,2,0))","v":""},null,{"$f":"_xlfn.IFS(T103=\"------\",AD103,T103=\"LA RELACIÓN DE ACTIVIDADES DEBE SER A PARTIR DE LA SIGUIENTE FILA\",\"LA RELACIÓN DE ACTIVIDADES DEBE SER A PARTIR DE LA SIGUIENTE FILA\",T103<>\"------\",T103)","v":""},null,"ok"]
[null,null,null,null,null,null,null,null,null,null,null,null,null,null,null,null,null,null,null,"",{"$f":"IF(ISERROR(VLOOKUP(E104,[2]LISTAS!$A$15:$B$50,2,0)),\"\",VLOOKUP(E104,[2]LISTAS!$A$15:$B$50,2,0))","v":""},{"$f":"IF(ISERROR(VLOOKUP(G104,[2]LISTAS!$A$15:$B$50,2,0)),\"\",VLOOKUP(G104,[2]LISTAS!$A$15:$B$50,2,0))","v":""},{"$f":"IF(ISERROR(VLOOKUP(I104,[2]LISTAS!$A$15:$B$50,2,0)),\"\",VLOOKUP(I104,[2]LISTAS!$A$15:$B$50,2,0))","v":""},{"$f":"IF(ISERROR(VLOOKUP(K104,[2]LISTAS!$A$15:$B$50,2,0)),\"\",VLOOKUP(K104,[2]LISTAS!$A$15:$B$50,2,0))","v":""},{"$f":"IF(ISERROR(VLOOKUP(M104,[2]LISTAS!$A$15:$B$50,2,0)),\"\",VLOOKUP(M104,[2]LISTAS!$A$15:$B$50,2,0))","v":""},{"$f":"IF(ISERROR(VLOOKUP(O104,[2]LISTAS!$A$15:$B$50,2,0)),\"\",VLOOKUP(O104,[2]LISTAS!$A$15:$B$50,2,0))","v":""},{"$f":"IF(ISERROR(VLOOKUP(6,[2]LISTAS!$A$15:$B$50,2,0)),\"\",VLOOKUP(6,[2]LISTAS!$A$15:$B$50,2,0))","v":""},null,{"$f":"_xlfn.IFS(T104=\"------\",AD104,T104=\"LA RELACIÓN DE ACTIVIDADES DEBE SER A PARTIR DE LA SIGUIENTE FILA\",\"LA RELACIÓN DE ACTIVIDADES DEBE SER A PARTIR DE LA SIGUIENTE FILA\",T104<>\"------\",T104)","v":""},null,"ok"]
[null,null,null,null,null,null,null,null,null,null,null,null,null,null,null,null,null,null,null,"",{"$f":"IF(ISERROR(VLOOKUP(E105,[2]LISTAS!$A$15:$B$50,2,0)),\"\",VLOOKUP(E105,[2]LISTAS!$A$15:$B$50,2,0))","v":""},{"$f":"IF(ISERROR(VLOOKUP(G105,[2]LISTAS!$A$15:$B$50,2,0)),\"\",VLOOKUP(G105,[2]LISTAS!$A$15:$B$50,2,0))","v":""},{"$f":"IF(ISERROR(VLOOKUP(I105,[2]LISTAS!$A$15:$B$50,2,0)),\"\",VLOOKUP(I105,[2]LISTAS!$A$15:$B$50,2,0))","v":""},{"$f":"IF(ISERROR(VLOOKUP(K105,[2]LISTAS!$A$15:$B$50,2,0)),\"\",VLOOKUP(K105,[2]LISTAS!$A$15:$B$50,2,0))","v":""},{"$f":"IF(ISERROR(VLOOKUP(M105,[2]LISTAS!$A$15:$B$50,2,0)),\"\",VLOOKUP(M105,[2]LISTAS!$A$15:$B$50,2,0))","v":""},{"$f":"IF(ISERROR(VLOOKUP(O105,[2]LISTAS!$A$15:$B$50,2,0)),\"\",VLOOKUP(O105,[2]LISTAS!$A$15:$B$50,2,0))","v":""},{"$f":"IF(ISERROR(VLOOKUP(6,[2]LISTAS!$A$15:$B$50,2,0)),\"\",VLOOKUP(6,[2]LISTAS!$A$15:$B$50,2,0))","v":""},null,{"$f":"_xlfn.IFS(T105=\"------\",AD105,T105=\"LA RELACIÓN DE ACTIVIDADES DEBE SER A PARTIR DE LA SIGUIENTE FILA\",\"LA RELACIÓN DE ACTIVIDADES DEBE SER A PARTIR DE LA SIGUIENTE FILA\",T105<>\"------\",T105)","v":""},null,"ok"]
[null,null,null,null,null,null,null,null,null,null,null,null,null,null,null,null,null,null,null,"",{"$f":"IF(ISERROR(VLOOKUP(E106,[2]LISTAS!$A$15:$B$50,2,0)),\"\",VLOOKUP(E106,[2]LISTAS!$A$15:$B$50,2,0))","v":""},{"$f":"IF(ISERROR(VLOOKUP(G106,[2]LISTAS!$A$15:$B$50,2,0)),\"\",VLOOKUP(G106,[2]LISTAS!$A$15:$B$50,2,0))","v":""},{"$f":"IF(ISERROR(VLOOKUP(I106,[2]LISTAS!$A$15:$B$50,2,0)),\"\",VLOOKUP(I106,[2]LISTAS!$A$15:$B$50,2,0))","v":""},{"$f":"IF(ISERROR(VLOOKUP(K106,[2]LISTAS!$A$15:$B$50,2,0)),\"\",VLOOKUP(K106,[2]LISTAS!$A$15:$B$50,2,0))","v":""},{"$f":"IF(ISERROR(VLOOKUP(M106,[2]LISTAS!$A$15:$B$50,2,0)),\"\",VLOOKUP(M106,[2]LISTAS!$A$15:$B$50,2,0))","v":""},{"$f":"IF(ISERROR(VLOOKUP(O106,[2]LISTAS!$A$15:$B$50,2,0)),\"\",VLOOKUP(O106,[2]LISTAS!$A$15:$B$50,2,0))","v":""},{"$f":"IF(ISERROR(VLOOKUP(6,[2]LISTAS!$A$15:$B$50,2,0)),\"\",VLOOKUP(6,[2]LISTAS!$A$15:$B$50,2,0))","v":""},null,{"$f":"_xlfn.IFS(T106=\"------\",AD106,T106=\"LA RELACIÓN DE ACTIVIDADES DEBE SER A PARTIR DE LA SIGUIENTE FILA\",\"LA RELACIÓN DE ACTIVIDADES DEBE SER A PARTIR DE LA SIGUIENTE FILA\",T106<>\"------\",T106)","v":""},null,"ok"]
[null,null,null,null,null,null,null,null,null,null,null,null,null,null,null,null,null,null,null,"",{"$f":"IF(ISERROR(VLOOKUP(E107,[2]LISTAS!$A$15:$B$50,2,0)),\"\",VLOOKUP(E107,[2]LISTAS!$A$15:$B$50,2,0))","v":""},{"$f":"IF(ISERROR(VLOOKUP(G107,[2]LISTAS!$A$15:$B$50,2,0)),\"\",VLOOKUP(G107,[2]LISTAS!$A$15:$B$50,2,0))","v":""},{"$f":"IF(ISERROR(VLOOKUP(I107,[2]LISTAS!$A$15:$B$50,2,0)),\"\",VLOOKUP(I107,[2]LISTAS!$A$15:$B$50,2,0))","v":""},{"$f":"IF(ISERROR(VLOOKUP(K107,[2]LISTAS!$A$15:$B$50,2,0)),\"\",VLOOKUP(K107,[2]LISTAS!$A$15:$B$50,2,0))","v":""},{"$f":"IF(ISERROR(VLOOKUP(M107,[2]LISTAS!$A$15:$B$50,2,0)),\"\",VLOOKUP(M107,[2]LISTAS!$A$15:$B$50,2,0))","v":""},{"$f":"IF(ISERROR(VLOOKUP(O107,[2]LISTAS!$A$15:$B$50,2,0)),\"\",VLOOKUP(O107,[2]LISTAS!$A$15:$B$50,2,0))","v":""},{"$f":"IF(ISERROR(VLOOKUP(6,[2]LISTAS!$A$15:$B$50,2,0)),\"\",VLOOKUP(6,[2]LISTAS!$A$15:$B$50,2,0))","v":""},null,{"$f":"_xlfn.IFS(T107=\"------\",AD107,T107=\"LA RELACIÓN DE ACTIVIDADES DEBE SER A PARTIR DE LA SIGUIENTE FILA\",\"LA RELACIÓN DE ACTIVIDADES DEBE SER A PARTIR DE LA SIGUIENTE FILA\",T107<>\"------\",T107)","v":""},null,"ok"]
[null,null,null,null,null,null,null,null,null,null,null,null,null,null,null,null,null,null,null,"",{"$f":"IF(ISERROR(VLOOKUP(E108,[2]LISTAS!$A$15:$B$50,2,0)),\"\",VLOOKUP(E108,[2]LISTAS!$A$15:$B$50,2,0))","v":""},{"$f":"IF(ISERROR(VLOOKUP(G108,[2]LISTAS!$A$15:$B$50,2,0)),\"\",VLOOKUP(G108,[2]LISTAS!$A$15:$B$50,2,0))","v":""},{"$f":"IF(ISERROR(VLOOKUP(I108,[2]LISTAS!$A$15:$B$50,2,0)),\"\",VLOOKUP(I108,[2]LISTAS!$A$15:$B$50,2,0))","v":""},{"$f":"IF(ISERROR(VLOOKUP(K108,[2]LISTAS!$A$15:$B$50,2,0)),\"\",VLOOKUP(K108,[2]LISTAS!$A$15:$B$50,2,0))","v":""},{"$f":"IF(ISERROR(VLOOKUP(M108,[2]LISTAS!$A$15:$B$50,2,0)),\"\",VLOOKUP(M108,[2]LISTAS!$A$15:$B$50,2,0))","v":""},{"$f":"IF(ISERROR(VLOOKUP(O108,[2]LISTAS!$A$15:$B$50,2,0)),\"\",VLOOKUP(O108,[2]LISTAS!$A$15:$B$50,2,0))","v":""},{"$f":"IF(ISERROR(VLOOKUP(6,[2]LISTAS!$A$15:$B$50,2,0)),\"\",VLOOKUP(6,[2]LISTAS!$A$15:$B$50,2,0))","v":""},null,{"$f":"_xlfn.IFS(T108=\"------\",AD108,T108=\"LA RELACIÓN DE ACTIVIDADES DEBE SER A PARTIR DE LA SIGUIENTE FILA\",\"LA RELACIÓN DE ACTIVIDADES DEBE SER A PARTIR DE LA SIGUIENTE FILA\",T108<>\"------\",T108)","v":""},null,"ok"]
[null,null,null,null,null,null,null,null,null,null,null,null,null,null,null,null,null,null,null,"",{"$f":"IF(ISERROR(VLOOKUP(E109,[2]LISTAS!$A$15:$B$50,2,0)),\"\",VLOOKUP(E109,[2]LISTAS!$A$15:$B$50,2,0))","v":""},{"$f":"IF(ISERROR(VLOOKUP(G109,[2]LISTAS!$A$15:$B$50,2,0)),\"\",VLOOKUP(G109,[2]LISTAS!$A$15:$B$50,2,0))","v":""},{"$f":"IF(ISERROR(VLOOKUP(I109,[2]LISTAS!$A$15:$B$50,2,0)),\"\",VLOOKUP(I109,[2]LISTAS!$A$15:$B$50,2,0))","v":""},{"$f":"IF(ISERROR(VLOOKUP(K109,[2]LISTAS!$A$15:$B$50,2,0)),\"\",VLOOKUP(K109,[2]LISTAS!$A$15:$B$50,2,0))","v":""},{"$f":"IF(ISERROR(VLOOKUP(M109,[2]LISTAS!$A$15:$B$50,2,0)),\"\",VLOOKUP(M109,[2]LISTAS!$A$15:$B$50,2,0))","v":""},{"$f":"IF(ISERROR(VLOOKUP(O109,[2]LISTAS!$A$15:$B$50,2,0)),\"\",VLOOKUP(O109,[2]LISTAS!$A$15:$B$50,2,0))","v":""},{"$f":"IF(ISERROR(VLOOKUP(6,[2]LISTAS!$A$15:$B$50,2,0)),\"\",VLOOKUP(6,[2]LISTAS!$A$15:$B$50,2,0))","v":""},null,{"$f":"_xlfn.IFS(T109=\"------\",AD109,T109=\"LA RELACIÓN DE ACTIVIDADES DEBE SER A PARTIR DE LA SIGUIENTE FILA\",\"LA RELACIÓN DE ACTIVIDADES DEBE SER A PARTIR DE LA SIGUIENTE FILA\",T109<>\"------\",T109)","v":""},null,"ok"]
[null,null,null,null,null,null,null,null,null,null,null,null,null,null,null,null,null,null,null,"",{"$f":"IF(ISERROR(VLOOKUP(E110,[2]LISTAS!$A$15:$B$50,2,0)),\"\",VLOOKUP(E110,[2]LISTAS!$A$15:$B$50,2,0))","v":""},{"$f":"IF(ISERROR(VLOOKUP(G110,[2]LISTAS!$A$15:$B$50,2,0)),\"\",VLOOKUP(G110,[2]LISTAS!$A$15:$B$50,2,0))","v":""},{"$f":"IF(ISERROR(VLOOKUP(I110,[2]LISTAS!$A$15:$B$50,2,0)),\"\",VLOOKUP(I110,[2]LISTAS!$A$15:$B$50,2,0))","v":""},{"$f":"IF(ISERROR(VLOOKUP(K110,[2]LISTAS!$A$15:$B$50,2,0)),\"\",VLOOKUP(K110,[2]LISTAS!$A$15:$B$50,2,0))","v":""},{"$f":"IF(ISERROR(VLOOKUP(M110,[2]LISTAS!$A$15:$B$50,2,0)),\"\",VLOOKUP(M110,[2]LISTAS!$A$15:$B$50,2,0))","v":""},{"$f":"IF(ISERROR(VLOOKUP(O110,[2]LISTAS!$A$15:$B$50,2,0)),\"\",VLOOKUP(O110,[2]LISTAS!$A$15:$B$50,2,0))","v":""},{"$f":"IF(ISERROR(VLOOKUP(6,[2]LISTAS!$A$15:$B$50,2,0)),\"\",VLOOKUP(6,[2]LISTAS!$A$15:$B$50,2,0))","v":""},null,{"$f":"_xlfn.IFS(T110=\"------\",AD110,T110=\"LA RELACIÓN DE ACTIVIDADES DEBE SER A PARTIR DE LA SIGUIENTE FILA\",\"LA RELACIÓN DE ACTIVIDADES DEBE SER A PARTIR DE LA SIGUIENTE FILA\",T110<>\"------\",T110)","v":""},null,"ok"]
[null,null,null,null,null,null,null,null,null,null,null,null,null,null,null,null,null,null,null,"",{"$f":"IF(ISERROR(VLOOKUP(E111,[2]LISTAS!$A$15:$B$50,2,0)),\"\",VLOOKUP(E111,[2]LISTAS!$A$15:$B$50,2,0))","v":""},{"$f":"IF(ISERROR(VLOOKUP(G111,[2]LISTAS!$A$15:$B$50,2,0)),\"\",VLOOKUP(G111,[2]LISTAS!$A$15:$B$50,2,0))","v":""},{"$f":"IF(ISERROR(VLOOKUP(I111,[2]LISTAS!$A$15:$B$50,2,0)),\"\",VLOOKUP(I111,[2]LISTAS!$A$15:$B$50,2,0))","v":""},{"$f":"IF(ISERROR(VLOOKUP(K111,[2]LISTAS!$A$15:$B$50,2,0)),\"\",VLOOKUP(K111,[2]LISTAS!$A$15:$B$50,2,0))","v":""},{"$f":"IF(ISERROR(VLOOKUP(M111,[2]LISTAS!$A$15:$B$50,2,0)),\"\",VLOOKUP(M111,[2]LISTAS!$A$15:$B$50,2,0))","v":""},{"$f":"IF(ISERROR(VLOOKUP(O111,[2]LISTAS!$A$15:$B$50,2,0)),\"\",VLOOKUP(O111,[2]LISTAS!$A$15:$B$50,2,0))","v":""},{"$f":"IF(ISERROR(VLOOKUP(6,[2]LISTAS!$A$15:$B$50,2,0)),\"\",VLOOKUP(6,[2]LISTAS!$A$15:$B$50,2,0))","v":""},null,{"$f":"_xlfn.IFS(T111=\"------\",AD111,T111=\"LA RELACIÓN DE ACTIVIDADES DEBE SER A PARTIR DE LA SIGUIENTE FILA\",\"LA RELACIÓN DE ACTIVIDADES DEBE SER A PARTIR DE LA SIGUIENTE FILA\",T111<>\"------\",T111)","v":""},null,"ok"]
[null,null,null,null,null,null,null,null,null,null,null,null,null,null,null,null,null,null,null,"",{"$f":"IF(ISERROR(VLOOKUP(E112,[2]LISTAS!$A$15:$B$50,2,0)),\"\",VLOOKUP(E112,[2]LISTAS!$A$15:$B$50,2,0))","v":""},{"$f":"IF(ISERROR(VLOOKUP(G112,[2]LISTAS!$A$15:$B$50,2,0)),\"\",VLOOKUP(G112,[2]LISTAS!$A$15:$B$50,2,0))","v":""},{"$f":"IF(ISERROR(VLOOKUP(I112,[2]LISTAS!$A$15:$B$50,2,0)),\"\",VLOOKUP(I112,[2]LISTAS!$A$15:$B$50,2,0))","v":""},{"$f":"IF(ISERROR(VLOOKUP(K112,[2]LISTAS!$A$15:$B$50,2,0)),\"\",VLOOKUP(K112,[2]LISTAS!$A$15:$B$50,2,0))","v":""},{"$f":"IF(ISERROR(VLOOKUP(M112,[2]LISTAS!$A$15:$B$50,2,0)),\"\",VLOOKUP(M112,[2]LISTAS!$A$15:$B$50,2,0))","v":""},{"$f":"IF(ISERROR(VLOOKUP(O112,[2]LISTAS!$A$15:$B$50,2,0)),\"\",VLOOKUP(O112,[2]LISTAS!$A$15:$B$50,2,0))","v":""},{"$f":"IF(ISERROR(VLOOKUP(6,[2]LISTAS!$A$15:$B$50,2,0)),\"\",VLOOKUP(6,[2]LISTAS!$A$15:$B$50,2,0))","v":""},null,{"$f":"_xlfn.IFS(T112=\"------\",AD112,T112=\"LA RELACIÓN DE ACTIVIDADES DEBE SER A PARTIR DE LA SIGUIENTE FILA\",\"LA RELACIÓN DE ACTIVIDADES DEBE SER A PARTIR DE LA SIGUIENTE FILA\",T112<>\"------\",T112)","v":""},null,"ok"]
[null,null,null,null,null,null,null,null,null,null,null,null,null,null,null,null,null,null,null,"",{"$f":"IF(ISERROR(VLOOKUP(E113,[2]LISTAS!$A$15:$B$50,2,0)),\"\",VLOOKUP(E113,[2]LISTAS!$A$15:$B$50,2,0))","v":""},{"$f":"IF(ISERROR(VLOOKUP(G113,[2]LISTAS!$A$15:$B$50,2,0)),\"\",VLOOKUP(G113,[2]LISTAS!$A$15:$B$50,2,0))","v":""},{"$f":"IF(ISERROR(VLOOKUP(I113,[2]LISTAS!$A$15:$B$50,2,0)),\"\",VLOOKUP(I113,[2]LISTAS!$A$15:$B$50,2,0))","v":""},{"$f":"IF(ISERROR(VLOOKUP(K113,[2]LISTAS!$A$15:$B$50,2,0)),\"\",VLOOKUP(K113,[2]LISTAS!$A$15:$B$50,2,0))","v":""},{"$f":"IF(ISERROR(VLOOKUP(M113,[2]LISTAS!$A$15:$B$50,2,0)),\"\",VLOOKUP(M113,[2]LISTAS!$A$15:$B$50,2,0))","v":""},{"$f":"IF(ISERROR(VLOOKUP(O113,[2]LISTAS!$A$15:$B$50,2,0)),\"\",VLOOKUP(O113,[2]LISTAS!$A$15:$B$50,2,0))","v":""},{"$f":"IF(ISERROR(VLOOKUP(6,[2]LISTAS!$A$15:$B$50,2,0)),\"\",VLOOKUP(6,[2]LISTAS!$A$15:$B$50,2,0))","v":""},null,{"$f":"_xlfn.IFS(T113=\"------\",AD113,T113=\"LA RELACIÓN DE ACTIVIDADES DEBE SER A PARTIR DE LA SIGUIENTE FILA\",\"LA RELACIÓN DE ACTIVIDADES DEBE SER A PARTIR DE LA SIGUIENTE FILA\",T113<>\"------\",T113)","v":""},null,"ok"]
[null,null,null,null,null,null,null,null,null,null,null,null,null,null,null,null,null,null,null,"",{"$f":"IF(ISERROR(VLOOKUP(E114,[2]LISTAS!$A$15:$B$50,2,0)),\"\",VLOOKUP(E114,[2]LISTAS!$A$15:$B$50,2,0))","v":""},{"$f":"IF(ISERROR(VLOOKUP(G114,[2]LISTAS!$A$15:$B$50,2,0)),\"\",VLOOKUP(G114,[2]LISTAS!$A$15:$B$50,2,0))","v":""},{"$f":"IF(ISERROR(VLOOKUP(I114,[2]LISTAS!$A$15:$B$50,2,0)),\"\",VLOOKUP(I114,[2]LISTAS!$A$15:$B$50,2,0))","v":""},{"$f":"IF(ISERROR(VLOOKUP(K114,[2]LISTAS!$A$15:$B$50,2,0)),\"\",VLOOKUP(K114,[2]LISTAS!$A$15:$B$50,2,0))","v":""},{"$f":"IF(ISERROR(VLOOKUP(M114,[2]LISTAS!$A$15:$B$50,2,0)),\"\",VLOOKUP(M114,[2]LISTAS!$A$15:$B$50,2,0))","v":""},{"$f":"IF(ISERROR(VLOOKUP(O114,[2]LISTAS!$A$15:$B$50,2,0)),\"\",VLOOKUP(O114,[2]LISTAS!$A$15:$B$50,2,0))","v":""},{"$f":"IF(ISERROR(VLOOKUP(6,[2]LISTAS!$A$15:$B$50,2,0)),\"\",VLOOKUP(6,[2]LISTAS!$A$15:$B$50,2,0))","v":""},null,{"$f":"_xlfn.IFS(T114=\"------\",AD114,T114=\"LA RELACIÓN DE ACTIVIDADES DEBE SER A PARTIR DE LA SIGUIENTE FILA\",\"LA RELACIÓN DE ACTIVIDADES DEBE SER A PARTIR DE LA SIGUIENTE FILA\",T114<>\"------\",T114)","v":""},null,"ok"]
[null,null,null,null,null,null,null,null,null,null,null,null,null,null,null,null,null,null,null,"",{"$f":"IF(ISERROR(VLOOKUP(E115,[2]LISTAS!$A$15:$B$50,2,0)),\"\",VLOOKUP(E115,[2]LISTAS!$A$15:$B$50,2,0))","v":""},{"$f":"IF(ISERROR(VLOOKUP(G115,[2]LISTAS!$A$15:$B$50,2,0)),\"\",VLOOKUP(G115,[2]LISTAS!$A$15:$B$50,2,0))","v":""},{"$f":"IF(ISERROR(VLOOKUP(I115,[2]LISTAS!$A$15:$B$50,2,0)),\"\",VLOOKUP(I115,[2]LISTAS!$A$15:$B$50,2,0))","v":""},{"$f":"IF(ISERROR(VLOOKUP(K115,[2]LISTAS!$A$15:$B$50,2,0)),\"\",VLOOKUP(K115,[2]LISTAS!$A$15:$B$50,2,0))","v":""},{"$f":"IF(ISERROR(VLOOKUP(M115,[2]LISTAS!$A$15:$B$50,2,0)),\"\",VLOOKUP(M115,[2]LISTAS!$A$15:$B$50,2,0))","v":""},{"$f":"IF(ISERROR(VLOOKUP(O115,[2]LISTAS!$A$15:$B$50,2,0)),\"\",VLOOKUP(O115,[2]LISTAS!$A$15:$B$50,2,0))","v":""},{"$f":"IF(ISERROR(VLOOKUP(6,[2]LISTAS!$A$15:$B$50,2,0)),\"\",VLOOKUP(6,[2]LISTAS!$A$15:$B$50,2,0))","v":""},null,{"$f":"_xlfn.IFS(T115=\"------\",AD115,T115=\"LA RELACIÓN DE ACTIVIDADES DEBE SER A PARTIR DE LA SIGUIENTE FILA\",\"LA RELACIÓN DE ACTIVIDADES DEBE SER A PARTIR DE LA SIGUIENTE FILA\",T115<>\"------\",T115)","v":""},null,"ok"]
[null,null,null,null,null,null,null,null,null,null,null,null,null,null,null,null,null,null,null,"",{"$f":"IF(ISERROR(VLOOKUP(E116,[2]LISTAS!$A$15:$B$50,2,0)),\"\",VLOOKUP(E116,[2]LISTAS!$A$15:$B$50,2,0))","v":""},{"$f":"IF(ISERROR(VLOOKUP(G116,[2]LISTAS!$A$15:$B$50,2,0)),\"\",VLOOKUP(G116,[2]LISTAS!$A$15:$B$50,2,0))","v":""},{"$f":"IF(ISERROR(VLOOKUP(I116,[2]LISTAS!$A$15:$B$50,2,0)),\"\",VLOOKUP(I116,[2]LISTAS!$A$15:$B$50,2,0))","v":""},{"$f":"IF(ISERROR(VLOOKUP(K116,[2]LISTAS!$A$15:$B$50,2,0)),\"\",VLOOKUP(K116,[2]LISTAS!$A$15:$B$50,2,0))","v":""},{"$f":"IF(ISERROR(VLOOKUP(M116,[2]LISTAS!$A$15:$B$50,2,0)),\"\",VLOOKUP(M116,[2]LISTAS!$A$15:$B$50,2,0))","v":""},{"$f":"IF(ISERROR(VLOOKUP(O116,[2]LISTAS!$A$15:$B$50,2,0)),\"\",VLOOKUP(O116,[2]LISTAS!$A$15:$B$50,2,0))","v":""},{"$f":"IF(ISERROR(VLOOKUP(6,[2]LISTAS!$A$15:$B$50,2,0)),\"\",VLOOKUP(6,[2]LISTAS!$A$15:$B$50,2,0))","v":""},null,{"$f":"_xlfn.IFS(T116=\"------\",AD116,T116=\"LA RELACIÓN DE ACTIVIDADES DEBE SER A PARTIR DE LA SIGUIENTE FILA\",\"LA RELACIÓN DE ACTIVIDADES DEBE SER A PARTIR DE LA SIGUIENTE FILA\",T116<>\"------\",T116)","v":""},null,"ok"]
[null,null,null,null,null,null,null,null,null,null,null,null,null,null,null,null,null,null,null,"",{"$f":"IF(ISERROR(VLOOKUP(E117,[2]LISTAS!$A$15:$B$50,2,0)),\"\",VLOOKUP(E117,[2]LISTAS!$A$15:$B$50,2,0))","v":""},{"$f":"IF(ISERROR(VLOOKUP(G117,[2]LISTAS!$A$15:$B$50,2,0)),\"\",VLOOKUP(G117,[2]LISTAS!$A$15:$B$50,2,0))","v":""},{"$f":"IF(ISERROR(VLOOKUP(I117,[2]LISTAS!$A$15:$B$50,2,0)),\"\",VLOOKUP(I117,[2]LISTAS!$A$15:$B$50,2,0))","v":""},{"$f":"IF(ISERROR(VLOOKUP(K117,[2]LISTAS!$A$15:$B$50,2,0)),\"\",VLOOKUP(K117,[2]LISTAS!$A$15:$B$50,2,0))","v":""},{"$f":"IF(ISERROR(VLOOKUP(M117,[2]LISTAS!$A$15:$B$50,2,0)),\"\",VLOOKUP(M117,[2]LISTAS!$A$15:$B$50,2,0))","v":""},{"$f":"IF(ISERROR(VLOOKUP(O117,[2]LISTAS!$A$15:$B$50,2,0)),\"\",VLOOKUP(O117,[2]LISTAS!$A$15:$B$50,2,0))","v":""},{"$f":"IF(ISERROR(VLOOKUP(6,[2]LISTAS!$A$15:$B$50,2,0)),\"\",VLOOKUP(6,[2]LISTAS!$A$15:$B$50,2,0))","v":""},null,{"$f":"_xlfn.IFS(T117=\"------\",AD117,T117=\"LA RELACIÓN DE ACTIVIDADES DEBE SER A PARTIR DE LA SIGUIENTE FILA\",\"LA RELACIÓN DE ACTIVIDADES DEBE SER A PARTIR DE LA SIGUIENTE FILA\",T117<>\"------\",T117)","v":""},null,"ok"]
[null,null,null,null,null,null,null,null,null,null,null,null,null,null,null,null,null,null,null,"",{"$f":"IF(ISERROR(VLOOKUP(E118,[2]LISTAS!$A$15:$B$50,2,0)),\"\",VLOOKUP(E118,[2]LISTAS!$A$15:$B$50,2,0))","v":""},{"$f":"IF(ISERROR(VLOOKUP(G118,[2]LISTAS!$A$15:$B$50,2,0)),\"\",VLOOKUP(G118,[2]LISTAS!$A$15:$B$50,2,0))","v":""},{"$f":"IF(ISERROR(VLOOKUP(I118,[2]LISTAS!$A$15:$B$50,2,0)),\"\",VLOOKUP(I118,[2]LISTAS!$A$15:$B$50,2,0))","v":""},{"$f":"IF(ISERROR(VLOOKUP(K118,[2]LISTAS!$A$15:$B$50,2,0)),\"\",VLOOKUP(K118,[2]LISTAS!$A$15:$B$50,2,0))","v":""},{"$f":"IF(ISERROR(VLOOKUP(M118,[2]LISTAS!$A$15:$B$50,2,0)),\"\",VLOOKUP(M118,[2]LISTAS!$A$15:$B$50,2,0))","v":""},{"$f":"IF(ISERROR(VLOOKUP(O118,[2]LISTAS!$A$15:$B$50,2,0)),\"\",VLOOKUP(O118,[2]LISTAS!$A$15:$B$50,2,0))","v":""},{"$f":"IF(ISERROR(VLOOKUP(6,[2]LISTAS!$A$15:$B$50,2,0)),\"\",VLOOKUP(6,[2]LISTAS!$A$15:$B$50,2,0))","v":""},null,{"$f":"_xlfn.IFS(T118=\"------\",AD118,T118=\"LA RELACIÓN DE ACTIVIDADES DEBE SER A PARTIR DE LA SIGUIENTE FILA\",\"LA RELACIÓN DE ACTIVIDADES DEBE SER A PARTIR DE LA SIGUIENTE FILA\",T118<>\"------\",T118)","v":""},null,"ok"]
[null,null,null,null,null,null,null,null,null,null,null,null,null,null,null,null,null,null,null,{"$f":"IF(AND(B119=\"\",C119=\"\"),\"\",IF(AND(D119<>\"\"),U119&\"-\"&V119&\"-\"&W119&\"-\"&X119&\"-\"&Y119&\"-\"&Z119&\"-\"&AA119,IF(AND(C119<>\"\"),\"LA RELACIÓN DE ACTIVIDADES DEBE SER A PARTIR DE LA SIGUIENTE FILA\",)))","v":""},{"$f":"IF(ISERROR(VLOOKUP(E119,[2]LISTAS!$A$15:$B$50,2,0)),\"\",VLOOKUP(E119,[2]LISTAS!$A$15:$B$50,2,0))","v":""},{"$f":"IF(ISERROR(VLOOKUP(G119,[2]LISTAS!$A$15:$B$50,2,0)),\"\",VLOOKUP(G119,[2]LISTAS!$A$15:$B$50,2,0))","v":""},{"$f":"IF(ISERROR(VLOOKUP(I119,[2]LISTAS!$A$15:$B$50,2,0)),\"\",VLOOKUP(I119,[2]LISTAS!$A$15:$B$50,2,0))","v":""},{"$f":"IF(ISERROR(VLOOKUP(K119,[2]LISTAS!$A$15:$B$50,2,0)),\"\",VLOOKUP(K119,[2]LISTAS!$A$15:$B$50,2,0))","v":""},{"$f":"IF(ISERROR(VLOOKUP(M119,[2]LISTAS!$A$15:$B$50,2,0)),\"\",VLOOKUP(M119,[2]LISTAS!$A$15:$B$50,2,0))","v":""},{"$f":"IF(ISERROR(VLOOKUP(O119,[2]LISTAS!$A$15:$B$50,2,0)),\"\",VLOOKUP(O119,[2]LISTAS!$A$15:$B$50,2,0))","v":""},{"$f":"IF(ISERROR(VLOOKUP(6,[2]LISTAS!$A$15:$B$50,2,0)),\"\",VLOOKUP(6,[2]LISTAS!$A$15:$B$50,2,0))","v":""},null,{"$f":"_xlfn.IFS(T119=\"------\",AD119,T119=\"LA RELACIÓN DE ACTIVIDADES DEBE SER A PARTIR DE LA SIGUIENTE FILA\",\"LA RELACIÓN DE ACTIVIDADES DEBE SER A PARTIR DE LA SIGUIENTE FILA\",T119<>\"------\",T119)","v":""},null,"ok"]
[null,null,null,null,null,null,null,null,null,null,null,null,null,null,null,null,null,null,null,"",{"$f":"IF(ISERROR(VLOOKUP(E120,[2]LISTAS!$A$15:$B$50,2,0)),\"\",VLOOKUP(E120,[2]LISTAS!$A$15:$B$50,2,0))","v":""},{"$f":"IF(ISERROR(VLOOKUP(G120,[2]LISTAS!$A$15:$B$50,2,0)),\"\",VLOOKUP(G120,[2]LISTAS!$A$15:$B$50,2,0))","v":""},{"$f":"IF(ISERROR(VLOOKUP(I120,[2]LISTAS!$A$15:$B$50,2,0)),\"\",VLOOKUP(I120,[2]LISTAS!$A$15:$B$50,2,0))","v":""},{"$f":"IF(ISERROR(VLOOKUP(K120,[2]LISTAS!$A$15:$B$50,2,0)),\"\",VLOOKUP(K120,[2]LISTAS!$A$15:$B$50,2,0))","v":""},{"$f":"IF(ISERROR(VLOOKUP(M120,[2]LISTAS!$A$15:$B$50,2,0)),\"\",VLOOKUP(M120,[2]LISTAS!$A$15:$B$50,2,0))","v":""},{"$f":"IF(ISERROR(VLOOKUP(O120,[2]LISTAS!$A$15:$B$50,2,0)),\"\",VLOOKUP(O120,[2]LISTAS!$A$15:$B$50,2,0))","v":""},{"$f":"IF(ISERROR(VLOOKUP(6,[2]LISTAS!$A$15:$B$50,2,0)),\"\",VLOOKUP(6,[2]LISTAS!$A$15:$B$50,2,0))","v":""},null,{"$f":"_xlfn.IFS(T120=\"------\",AD120,T120=\"LA RELACIÓN DE ACTIVIDADES DEBE SER A PARTIR DE LA SIGUIENTE FILA\",\"LA RELACIÓN DE ACTIVIDADES DEBE SER A PARTIR DE LA SIGUIENTE FILA\",T120<>\"------\",T120)","v":""},null,"ok"]
[null,null,null,null,null,null,null,null,null,null,null,null,null,null,null,null,null,null,null,"",{"$f":"IF(ISERROR(VLOOKUP(E121,[2]LISTAS!$A$15:$B$50,2,0)),\"\",VLOOKUP(E121,[2]LISTAS!$A$15:$B$50,2,0))","v":""},{"$f":"IF(ISERROR(VLOOKUP(G121,[2]LISTAS!$A$15:$B$50,2,0)),\"\",VLOOKUP(G121,[2]LISTAS!$A$15:$B$50,2,0))","v":""},{"$f":"IF(ISERROR(VLOOKUP(I121,[2]LISTAS!$A$15:$B$50,2,0)),\"\",VLOOKUP(I121,[2]LISTAS!$A$15:$B$50,2,0))","v":""},{"$f":"IF(ISERROR(VLOOKUP(K121,[2]LISTAS!$A$15:$B$50,2,0)),\"\",VLOOKUP(K121,[2]LISTAS!$A$15:$B$50,2,0))","v":""},{"$f":"IF(ISERROR(VLOOKUP(M121,[2]LISTAS!$A$15:$B$50,2,0)),\"\",VLOOKUP(M121,[2]LISTAS!$A$15:$B$50,2,0))","v":""},{"$f":"IF(ISERROR(VLOOKUP(O121,[2]LISTAS!$A$15:$B$50,2,0)),\"\",VLOOKUP(O121,[2]LISTAS!$A$15:$B$50,2,0))","v":""},{"$f":"IF(ISERROR(VLOOKUP(6,[2]LISTAS!$A$15:$B$50,2,0)),\"\",VLOOKUP(6,[2]LISTAS!$A$15:$B$50,2,0))","v":""},null,{"$f":"_xlfn.IFS(T121=\"------\",AD121,T121=\"LA RELACIÓN DE ACTIVIDADES DEBE SER A PARTIR DE LA SIGUIENTE FILA\",\"LA RELACIÓN DE ACTIVIDADES DEBE SER A PARTIR DE LA SIGUIENTE FILA\",T121<>\"------\",T121)","v":""},null,"ok"]
[null,null,null,null,null,null,null,null,null,null,null,null,null,null,null,null,null,null,null,"",{"$f":"IF(ISERROR(VLOOKUP(E122,[2]LISTAS!$A$15:$B$50,2,0)),\"\",VLOOKUP(E122,[2]LISTAS!$A$15:$B$50,2,0))","v":""},{"$f":"IF(ISERROR(VLOOKUP(G122,[2]LISTAS!$A$15:$B$50,2,0)),\"\",VLOOKUP(G122,[2]LISTAS!$A$15:$B$50,2,0))","v":""},{"$f":"IF(ISERROR(VLOOKUP(I122,[2]LISTAS!$A$15:$B$50,2,0)),\"\",VLOOKUP(I122,[2]LISTAS!$A$15:$B$50,2,0))","v":""},{"$f":"IF(ISERROR(VLOOKUP(K122,[2]LISTAS!$A$15:$B$50,2,0)),\"\",VLOOKUP(K122,[2]LISTAS!$A$15:$B$50,2,0))","v":""},{"$f":"IF(ISERROR(VLOOKUP(M122,[2]LISTAS!$A$15:$B$50,2,0)),\"\",VLOOKUP(M122,[2]LISTAS!$A$15:$B$50,2,0))","v":""},{"$f":"IF(ISERROR(VLOOKUP(O122,[2]LISTAS!$A$15:$B$50,2,0)),\"\",VLOOKUP(O122,[2]LISTAS!$A$15:$B$50,2,0))","v":""},{"$f":"IF(ISERROR(VLOOKUP(6,[2]LISTAS!$A$15:$B$50,2,0)),\"\",VLOOKUP(6,[2]LISTAS!$A$15:$B$50,2,0))","v":""},null,{"$f":"_xlfn.IFS(T122=\"------\",AD122,T122=\"LA RELACIÓN DE ACTIVIDADES DEBE SER A PARTIR DE LA SIGUIENTE FILA\",\"LA RELACIÓN DE ACTIVIDADES DEBE SER A PARTIR DE LA SIGUIENTE FILA\",T122<>\"------\",T122)","v":""},null,"ok"]
[null,null,null,null,null,null,null,null,null,null,null,null,null,null,null,null,null,null,null,"",{"$f":"IF(ISERROR(VLOOKUP(E123,[2]LISTAS!$A$15:$B$50,2,0)),\"\",VLOOKUP(E123,[2]LISTAS!$A$15:$B$50,2,0))","v":""},{"$f":"IF(ISERROR(VLOOKUP(G123,[2]LISTAS!$A$15:$B$50,2,0)),\"\",VLOOKUP(G123,[2]LISTAS!$A$15:$B$50,2,0))","v":""},{"$f":"IF(ISERROR(VLOOKUP(I123,[2]LISTAS!$A$15:$B$50,2,0)),\"\",VLOOKUP(I123,[2]LISTAS!$A$15:$B$50,2,0))","v":""},{"$f":"IF(ISERROR(VLOOKUP(K123,[2]LISTAS!$A$15:$B$50,2,0)),\"\",VLOOKUP(K123,[2]LISTAS!$A$15:$B$50,2,0))","v":""},{"$f":"IF(ISERROR(VLOOKUP(M123,[2]LISTAS!$A$15:$B$50,2,0)),\"\",VLOOKUP(M123,[2]LISTAS!$A$15:$B$50,2,0))","v":""},{"$f":"IF(ISERROR(VLOOKUP(O123,[2]LISTAS!$A$15:$B$50,2,0)),\"\",VLOOKUP(O123,[2]LISTAS!$A$15:$B$50,2,0))","v":""},{"$f":"IF(ISERROR(VLOOKUP(6,[2]LISTAS!$A$15:$B$50,2,0)),\"\",VLOOKUP(6,[2]LISTAS!$A$15:$B$50,2,0))","v":""},null,{"$f":"_xlfn.IFS(T123=\"------\",AD123,T123=\"LA RELACIÓN DE ACTIVIDADES DEBE SER A PARTIR DE LA SIGUIENTE FILA\",\"LA RELACIÓN DE ACTIVIDADES DEBE SER A PARTIR DE LA SIGUIENTE FILA\",T123<>\"------\",T123)","v":""},null,"ok"]
[null,null,null,null,null,null,null,null,null,null,null,null,null,null,null,null,null,null,null,"",{"$f":"IF(ISERROR(VLOOKUP(E124,[2]LISTAS!$A$15:$B$50,2,0)),\"\",VLOOKUP(E124,[2]LISTAS!$A$15:$B$50,2,0))","v":""},{"$f":"IF(ISERROR(VLOOKUP(G124,[2]LISTAS!$A$15:$B$50,2,0)),\"\",VLOOKUP(G124,[2]LISTAS!$A$15:$B$50,2,0))","v":""},{"$f":"IF(ISERROR(VLOOKUP(I124,[2]LISTAS!$A$15:$B$50,2,0)),\"\",VLOOKUP(I124,[2]LISTAS!$A$15:$B$50,2,0))","v":""},{"$f":"IF(ISERROR(VLOOKUP(K124,[2]LISTAS!$A$15:$B$50,2,0)),\"\",VLOOKUP(K124,[2]LISTAS!$A$15:$B$50,2,0))","v":""},{"$f":"IF(ISERROR(VLOOKUP(M124,[2]LISTAS!$A$15:$B$50,2,0)),\"\",VLOOKUP(M124,[2]LISTAS!$A$15:$B$50,2,0))","v":""},{"$f":"IF(ISERROR(VLOOKUP(O124,[2]LISTAS!$A$15:$B$50,2,0)),\"\",VLOOKUP(O124,[2]LISTAS!$A$15:$B$50,2,0))","v":""},{"$f":"IF(ISERROR(VLOOKUP(6,[2]LISTAS!$A$15:$B$50,2,0)),\"\",VLOOKUP(6,[2]LISTAS!$A$15:$B$50,2,0))","v":""},null,{"$f":"_xlfn.IFS(T124=\"------\",AD124,T124=\"LA RELACIÓN DE ACTIVIDADES DEBE SER A PARTIR DE LA SIGUIENTE FILA\",\"LA RELACIÓN DE ACTIVIDADES DEBE SER A PARTIR DE LA SIGUIENTE FILA\",T124<>\"------\",T124)","v":""},null,"ok"]
[null,null,null,null,null,null,null,null,null,null,null,null,null,null,null,null,null,null,null,"",{"$f":"IF(ISERROR(VLOOKUP(E125,[2]LISTAS!$A$15:$B$50,2,0)),\"\",VLOOKUP(E125,[2]LISTAS!$A$15:$B$50,2,0))","v":""},{"$f":"IF(ISERROR(VLOOKUP(G125,[2]LISTAS!$A$15:$B$50,2,0)),\"\",VLOOKUP(G125,[2]LISTAS!$A$15:$B$50,2,0))","v":""},{"$f":"IF(ISERROR(VLOOKUP(I125,[2]LISTAS!$A$15:$B$50,2,0)),\"\",VLOOKUP(I125,[2]LISTAS!$A$15:$B$50,2,0))","v":""},{"$f":"IF(ISERROR(VLOOKUP(K125,[2]LISTAS!$A$15:$B$50,2,0)),\"\",VLOOKUP(K125,[2]LISTAS!$A$15:$B$50,2,0))","v":""},{"$f":"IF(ISERROR(VLOOKUP(M125,[2]LISTAS!$A$15:$B$50,2,0)),\"\",VLOOKUP(M125,[2]LISTAS!$A$15:$B$50,2,0))","v":""},{"$f":"IF(ISERROR(VLOOKUP(O125,[2]LISTAS!$A$15:$B$50,2,0)),\"\",VLOOKUP(O125,[2]LISTAS!$A$15:$B$50,2,0))","v":""},{"$f":"IF(ISERROR(VLOOKUP(6,[2]LISTAS!$A$15:$B$50,2,0)),\"\",VLOOKUP(6,[2]LISTAS!$A$15:$B$50,2,0))","v":""},null,{"$f":"_xlfn.IFS(T125=\"------\",AD125,T125=\"LA RELACIÓN DE ACTIVIDADES DEBE SER A PARTIR DE LA SIGUIENTE FILA\",\"LA RELACIÓN DE ACTIVIDADES DEBE SER A PARTIR DE LA SIGUIENTE FILA\",T125<>\"------\",T125)","v":""},null,"ok"]
[null,null,null,null,null,null,null,null,null,null,null,null,null,null,null,null,null,null,null,"",{"$f":"IF(ISERROR(VLOOKUP(E126,[2]LISTAS!$A$15:$B$50,2,0)),\"\",VLOOKUP(E126,[2]LISTAS!$A$15:$B$50,2,0))","v":""},{"$f":"IF(ISERROR(VLOOKUP(G126,[2]LISTAS!$A$15:$B$50,2,0)),\"\",VLOOKUP(G126,[2]LISTAS!$A$15:$B$50,2,0))","v":""},{"$f":"IF(ISERROR(VLOOKUP(I126,[2]LISTAS!$A$15:$B$50,2,0)),\"\",VLOOKUP(I126,[2]LISTAS!$A$15:$B$50,2,0))","v":""},{"$f":"IF(ISERROR(VLOOKUP(K126,[2]LISTAS!$A$15:$B$50,2,0)),\"\",VLOOKUP(K126,[2]LISTAS!$A$15:$B$50,2,0))","v":""},{"$f":"IF(ISERROR(VLOOKUP(M126,[2]LISTAS!$A$15:$B$50,2,0)),\"\",VLOOKUP(M126,[2]LISTAS!$A$15:$B$50,2,0))","v":""},{"$f":"IF(ISERROR(VLOOKUP(O126,[2]LISTAS!$A$15:$B$50,2,0)),\"\",VLOOKUP(O126,[2]LISTAS!$A$15:$B$50,2,0))","v":""},{"$f":"IF(ISERROR(VLOOKUP(6,[2]LISTAS!$A$15:$B$50,2,0)),\"\",VLOOKUP(6,[2]LISTAS!$A$15:$B$50,2,0))","v":""},null,{"$f":"_xlfn.IFS(T126=\"------\",AD126,T126=\"LA RELACIÓN DE ACTIVIDADES DEBE SER A PARTIR DE LA SIGUIENTE FILA\",\"LA RELACIÓN DE ACTIVIDADES DEBE SER A PARTIR DE LA SIGUIENTE FILA\",T126<>\"------\",T126)","v":""},null,"ok"]
[null,null,null,null,null,null,null,null,null,null,null,null,null,null,null,null,null,null,null,"",{"$f":"IF(ISERROR(VLOOKUP(E127,[2]LISTAS!$A$15:$B$50,2,0)),\"\",VLOOKUP(E127,[2]LISTAS!$A$15:$B$50,2,0))","v":""},{"$f":"IF(ISERROR(VLOOKUP(G127,[2]LISTAS!$A$15:$B$50,2,0)),\"\",VLOOKUP(G127,[2]LISTAS!$A$15:$B$50,2,0))","v":""},{"$f":"IF(ISERROR(VLOOKUP(I127,[2]LISTAS!$A$15:$B$50,2,0)),\"\",VLOOKUP(I127,[2]LISTAS!$A$15:$B$50,2,0))","v":""},{"$f":"IF(ISERROR(VLOOKUP(K127,[2]LISTAS!$A$15:$B$50,2,0)),\"\",VLOOKUP(K127,[2]LISTAS!$A$15:$B$50,2,0))","v":""},{"$f":"IF(ISERROR(VLOOKUP(M127,[2]LISTAS!$A$15:$B$50,2,0)),\"\",VLOOKUP(M127,[2]LISTAS!$A$15:$B$50,2,0))","v":""},{"$f":"IF(ISERROR(VLOOKUP(O127,[2]LISTAS!$A$15:$B$50,2,0)),\"\",VLOOKUP(O127,[2]LISTAS!$A$15:$B$50,2,0))","v":""},{"$f":"IF(ISERROR(VLOOKUP(6,[2]LISTAS!$A$15:$B$50,2,0)),\"\",VLOOKUP(6,[2]LISTAS!$A$15:$B$50,2,0))","v":""},null,{"$f":"_xlfn.IFS(T127=\"------\",AD127,T127=\"LA RELACIÓN DE ACTIVIDADES DEBE SER A PARTIR DE LA SIGUIENTE FILA\",\"LA RELACIÓN DE ACTIVIDADES DEBE SER A PARTIR DE LA SIGUIENTE FILA\",T127<>\"------\",T127)","v":""},null,"ok"]
[null,null,null,null,null,null,null,null,null,null,null,null,null,null,null,null,null,null,null,"",{"$f":"IF(ISERROR(VLOOKUP(E128,[2]LISTAS!$A$15:$B$50,2,0)),\"\",VLOOKUP(E128,[2]LISTAS!$A$15:$B$50,2,0))","v":""},{"$f":"IF(ISERROR(VLOOKUP(G128,[2]LISTAS!$A$15:$B$50,2,0)),\"\",VLOOKUP(G128,[2]LISTAS!$A$15:$B$50,2,0))","v":""},{"$f":"IF(ISERROR(VLOOKUP(I128,[2]LISTAS!$A$15:$B$50,2,0)),\"\",VLOOKUP(I128,[2]LISTAS!$A$15:$B$50,2,0))","v":""},{"$f":"IF(ISERROR(VLOOKUP(K128,[2]LISTAS!$A$15:$B$50,2,0)),\"\",VLOOKUP(K128,[2]LISTAS!$A$15:$B$50,2,0))","v":""},{"$f":"IF(ISERROR(VLOOKUP(M128,[2]LISTAS!$A$15:$B$50,2,0)),\"\",VLOOKUP(M128,[2]LISTAS!$A$15:$B$50,2,0))","v":""},{"$f":"IF(ISERROR(VLOOKUP(O128,[2]LISTAS!$A$15:$B$50,2,0)),\"\",VLOOKUP(O128,[2]LISTAS!$A$15:$B$50,2,0))","v":""},{"$f":"IF(ISERROR(VLOOKUP(6,[2]LISTAS!$A$15:$B$50,2,0)),\"\",VLOOKUP(6,[2]LISTAS!$A$15:$B$50,2,0))","v":""},null,{"$f":"_xlfn.IFS(T128=\"------\",AD128,T128=\"LA RELACIÓN DE ACTIVIDADES DEBE SER A PARTIR DE LA SIGUIENTE FILA\",\"LA RELACIÓN DE ACTIVIDADES DEBE SER A PARTIR DE LA SIGUIENTE FILA\",T128<>\"------\",T128)","v":""},null,"ok"]
[null,null,null,null,null,null,null,null,null,null,null,null,null,null,null,null,null,null,null,"",{"$f":"IF(ISERROR(VLOOKUP(E129,[2]LISTAS!$A$15:$B$50,2,0)),\"\",VLOOKUP(E129,[2]LISTAS!$A$15:$B$50,2,0))","v":""},{"$f":"IF(ISERROR(VLOOKUP(G129,[2]LISTAS!$A$15:$B$50,2,0)),\"\",VLOOKUP(G129,[2]LISTAS!$A$15:$B$50,2,0))","v":""},{"$f":"IF(ISERROR(VLOOKUP(I129,[2]LISTAS!$A$15:$B$50,2,0)),\"\",VLOOKUP(I129,[2]LISTAS!$A$15:$B$50,2,0))","v":""},{"$f":"IF(ISERROR(VLOOKUP(K129,[2]LISTAS!$A$15:$B$50,2,0)),\"\",VLOOKUP(K129,[2]LISTAS!$A$15:$B$50,2,0))","v":""},{"$f":"IF(ISERROR(VLOOKUP(M129,[2]LISTAS!$A$15:$B$50,2,0)),\"\",VLOOKUP(M129,[2]LISTAS!$A$15:$B$50,2,0))","v":""},{"$f":"IF(ISERROR(VLOOKUP(O129,[2]LISTAS!$A$15:$B$50,2,0)),\"\",VLOOKUP(O129,[2]LISTAS!$A$15:$B$50,2,0))","v":""},{"$f":"IF(ISERROR(VLOOKUP(6,[2]LISTAS!$A$15:$B$50,2,0)),\"\",VLOOKUP(6,[2]LISTAS!$A$15:$B$50,2,0))","v":""},null,{"$f":"_xlfn.IFS(T129=\"------\",AD129,T129=\"LA RELACIÓN DE ACTIVIDADES DEBE SER A PARTIR DE LA SIGUIENTE FILA\",\"LA RELACIÓN DE ACTIVIDADES DEBE SER A PARTIR DE LA SIGUIENTE FILA\",T129<>\"------\",T129)","v":""},null,"ok"]
[null,null,null,null,null,null,null,null,null,null,null,null,null,null,null,null,null,null,null,"",{"$f":"IF(ISERROR(VLOOKUP(E130,[2]LISTAS!$A$15:$B$50,2,0)),\"\",VLOOKUP(E130,[2]LISTAS!$A$15:$B$50,2,0))","v":""},{"$f":"IF(ISERROR(VLOOKUP(G130,[2]LISTAS!$A$15:$B$50,2,0)),\"\",VLOOKUP(G130,[2]LISTAS!$A$15:$B$50,2,0))","v":""},{"$f":"IF(ISERROR(VLOOKUP(I130,[2]LISTAS!$A$15:$B$50,2,0)),\"\",VLOOKUP(I130,[2]LISTAS!$A$15:$B$50,2,0))","v":""},{"$f":"IF(ISERROR(VLOOKUP(K130,[2]LISTAS!$A$15:$B$50,2,0)),\"\",VLOOKUP(K130,[2]LISTAS!$A$15:$B$50,2,0))","v":""},{"$f":"IF(ISERROR(VLOOKUP(M130,[2]LISTAS!$A$15:$B$50,2,0)),\"\",VLOOKUP(M130,[2]LISTAS!$A$15:$B$50,2,0))","v":""},{"$f":"IF(ISERROR(VLOOKUP(O130,[2]LISTAS!$A$15:$B$50,2,0)),\"\",VLOOKUP(O130,[2]LISTAS!$A$15:$B$50,2,0))","v":""},{"$f":"IF(ISERROR(VLOOKUP(6,[2]LISTAS!$A$15:$B$50,2,0)),\"\",VLOOKUP(6,[2]LISTAS!$A$15:$B$50,2,0))","v":""},null,{"$f":"_xlfn.IFS(T130=\"------\",AD130,T130=\"LA RELACIÓN DE ACTIVIDADES DEBE SER A PARTIR DE LA SIGUIENTE FILA\",\"LA RELACIÓN DE ACTIVIDADES DEBE SER A PARTIR DE LA SIGUIENTE FILA\",T130<>\"------\",T130)","v":""},null,"ok"]
[null,null,null,null,null,null,null,null,null,null,null,null,null,null,null,null,null,null,null,"",{"$f":"IF(ISERROR(VLOOKUP(E131,[2]LISTAS!$A$15:$B$50,2,0)),\"\",VLOOKUP(E131,[2]LISTAS!$A$15:$B$50,2,0))","v":""},{"$f":"IF(ISERROR(VLOOKUP(G131,[2]LISTAS!$A$15:$B$50,2,0)),\"\",VLOOKUP(G131,[2]LISTAS!$A$15:$B$50,2,0))","v":""},{"$f":"IF(ISERROR(VLOOKUP(I131,[2]LISTAS!$A$15:$B$50,2,0)),\"\",VLOOKUP(I131,[2]LISTAS!$A$15:$B$50,2,0))","v":""},{"$f":"IF(ISERROR(VLOOKUP(K131,[2]LISTAS!$A$15:$B$50,2,0)),\"\",VLOOKUP(K131,[2]LISTAS!$A$15:$B$50,2,0))","v":""},{"$f":"IF(ISERROR(VLOOKUP(M131,[2]LISTAS!$A$15:$B$50,2,0)),\"\",VLOOKUP(M131,[2]LISTAS!$A$15:$B$50,2,0))","v":""},{"$f":"IF(ISERROR(VLOOKUP(O131,[2]LISTAS!$A$15:$B$50,2,0)),\"\",VLOOKUP(O131,[2]LISTAS!$A$15:$B$50,2,0))","v":""},{"$f":"IF(ISERROR(VLOOKUP(6,[2]LISTAS!$A$15:$B$50,2,0)),\"\",VLOOKUP(6,[2]LISTAS!$A$15:$B$50,2,0))","v":""},null,{"$f":"_xlfn.IFS(T131=\"------\",AD131,T131=\"LA RELACIÓN DE ACTIVIDADES DEBE SER A PARTIR DE LA SIGUIENTE FILA\",\"LA RELACIÓN DE ACTIVIDADES DEBE SER A PARTIR DE LA SIGUIENTE FILA\",T131<>\"------\",T131)","v":""},null,"ok"]
[null,null,null,null,null,null,null,null,null,null,null,null,null,null,null,null,null,null,null,"",{"$f":"IF(ISERROR(VLOOKUP(E132,[2]LISTAS!$A$15:$B$50,2,0)),\"\",VLOOKUP(E132,[2]LISTAS!$A$15:$B$50,2,0))","v":""},{"$f":"IF(ISERROR(VLOOKUP(G132,[2]LISTAS!$A$15:$B$50,2,0)),\"\",VLOOKUP(G132,[2]LISTAS!$A$15:$B$50,2,0))","v":""},{"$f":"IF(ISERROR(VLOOKUP(I132,[2]LISTAS!$A$15:$B$50,2,0)),\"\",VLOOKUP(I132,[2]LISTAS!$A$15:$B$50,2,0))","v":""},{"$f":"IF(ISERROR(VLOOKUP(K132,[2]LISTAS!$A$15:$B$50,2,0)),\"\",VLOOKUP(K132,[2]LISTAS!$A$15:$B$50,2,0))","v":""},{"$f":"IF(ISERROR(VLOOKUP(M132,[2]LISTAS!$A$15:$B$50,2,0)),\"\",VLOOKUP(M132,[2]LISTAS!$A$15:$B$50,2,0))","v":""},{"$f":"IF(ISERROR(VLOOKUP(O132,[2]LISTAS!$A$15:$B$50,2,0)),\"\",VLOOKUP(O132,[2]LISTAS!$A$15:$B$50,2,0))","v":""},{"$f":"IF(ISERROR(VLOOKUP(6,[2]LISTAS!$A$15:$B$50,2,0)),\"\",VLOOKUP(6,[2]LISTAS!$A$15:$B$50,2,0))","v":""},null,{"$f":"_xlfn.IFS(T132=\"------\",AD132,T132=\"LA RELACIÓN DE ACTIVIDADES DEBE SER A PARTIR DE LA SIGUIENTE FILA\",\"LA RELACIÓN DE ACTIVIDADES DEBE SER A PARTIR DE LA SIGUIENTE FILA\",T132<>\"------\",T132)","v":""},null,"ok"]
[null,null,null,null,null,null,null,null,null,null,null,null,null,null,null,null,null,null,null,"",{"$f":"IF(ISERROR(VLOOKUP(E133,[2]LISTAS!$A$15:$B$50,2,0)),\"\",VLOOKUP(E133,[2]LISTAS!$A$15:$B$50,2,0))","v":""},{"$f":"IF(ISERROR(VLOOKUP(G133,[2]LISTAS!$A$15:$B$50,2,0)),\"\",VLOOKUP(G133,[2]LISTAS!$A$15:$B$50,2,0))","v":""},{"$f":"IF(ISERROR(VLOOKUP(I133,[2]LISTAS!$A$15:$B$50,2,0)),\"\",VLOOKUP(I133,[2]LISTAS!$A$15:$B$50,2,0))","v":""},{"$f":"IF(ISERROR(VLOOKUP(K133,[2]LISTAS!$A$15:$B$50,2,0)),\"\",VLOOKUP(K133,[2]LISTAS!$A$15:$B$50,2,0))","v":""},{"$f":"IF(ISERROR(VLOOKUP(M133,[2]LISTAS!$A$15:$B$50,2,0)),\"\",VLOOKUP(M133,[2]LISTAS!$A$15:$B$50,2,0))","v":""},{"$f":"IF(ISERROR(VLOOKUP(O133,[2]LISTAS!$A$15:$B$50,2,0)),\"\",VLOOKUP(O133,[2]LISTAS!$A$15:$B$50,2,0))","v":""},{"$f":"IF(ISERROR(VLOOKUP(6,[2]LISTAS!$A$15:$B$50,2,0)),\"\",VLOOKUP(6,[2]LISTAS!$A$15:$B$50,2,0))","v":""},null,{"$f":"_xlfn.IFS(T133=\"------\",AD133,T133=\"LA RELACIÓN DE ACTIVIDADES DEBE SER A PARTIR DE LA SIGUIENTE FILA\",\"LA RELACIÓN DE ACTIVIDADES DEBE SER A PARTIR DE LA SIGUIENTE FILA\",T133<>\"------\",T133)","v":""},null,"ok"]
[null,null,null,null,null,null,null,null,null,null,null,null,null,null,null,null,null,null,null,"",{"$f":"IF(ISERROR(VLOOKUP(E134,[2]LISTAS!$A$15:$B$50,2,0)),\"\",VLOOKUP(E134,[2]LISTAS!$A$15:$B$50,2,0))","v":""},{"$f":"IF(ISERROR(VLOOKUP(G134,[2]LISTAS!$A$15:$B$50,2,0)),\"\",VLOOKUP(G134,[2]LISTAS!$A$15:$B$50,2,0))","v":""},{"$f":"IF(ISERROR(VLOOKUP(I134,[2]LISTAS!$A$15:$B$50,2,0)),\"\",VLOOKUP(I134,[2]LISTAS!$A$15:$B$50,2,0))","v":""},{"$f":"IF(ISERROR(VLOOKUP(K134,[2]LISTAS!$A$15:$B$50,2,0)),\"\",VLOOKUP(K134,[2]LISTAS!$A$15:$B$50,2,0))","v":""},{"$f":"IF(ISERROR(VLOOKUP(M134,[2]LISTAS!$A$15:$B$50,2,0)),\"\",VLOOKUP(M134,[2]LISTAS!$A$15:$B$50,2,0))","v":""},{"$f":"IF(ISERROR(VLOOKUP(O134,[2]LISTAS!$A$15:$B$50,2,0)),\"\",VLOOKUP(O134,[2]LISTAS!$A$15:$B$50,2,0))","v":""},{"$f":"IF(ISERROR(VLOOKUP(6,[2]LISTAS!$A$15:$B$50,2,0)),\"\",VLOOKUP(6,[2]LISTAS!$A$15:$B$50,2,0))","v":""},null,{"$f":"_xlfn.IFS(T134=\"------\",AD134,T134=\"LA RELACIÓN DE ACTIVIDADES DEBE SER A PARTIR DE LA SIGUIENTE FILA\",\"LA RELACIÓN DE ACTIVIDADES DEBE SER A PARTIR DE LA SIGUIENTE FILA\",T134<>\"------\",T134)","v":""},null,"ok"]
[null,null,null,null,null,null,null,null,null,null,null,null,null,null,null,null,null,null,null,"",{"$f":"IF(ISERROR(VLOOKUP(E135,[2]LISTAS!$A$15:$B$50,2,0)),\"\",VLOOKUP(E135,[2]LISTAS!$A$15:$B$50,2,0))","v":""},{"$f":"IF(ISERROR(VLOOKUP(G135,[2]LISTAS!$A$15:$B$50,2,0)),\"\",VLOOKUP(G135,[2]LISTAS!$A$15:$B$50,2,0))","v":""},{"$f":"IF(ISERROR(VLOOKUP(I135,[2]LISTAS!$A$15:$B$50,2,0)),\"\",VLOOKUP(I135,[2]LISTAS!$A$15:$B$50,2,0))","v":""},{"$f":"IF(ISERROR(VLOOKUP(K135,[2]LISTAS!$A$15:$B$50,2,0)),\"\",VLOOKUP(K135,[2]LISTAS!$A$15:$B$50,2,0))","v":""},{"$f":"IF(ISERROR(VLOOKUP(M135,[2]LISTAS!$A$15:$B$50,2,0)),\"\",VLOOKUP(M135,[2]LISTAS!$A$15:$B$50,2,0))","v":""},{"$f":"IF(ISERROR(VLOOKUP(O135,[2]LISTAS!$A$15:$B$50,2,0)),\"\",VLOOKUP(O135,[2]LISTAS!$A$15:$B$50,2,0))","v":""},{"$f":"IF(ISERROR(VLOOKUP(6,[2]LISTAS!$A$15:$B$50,2,0)),\"\",VLOOKUP(6,[2]LISTAS!$A$15:$B$50,2,0))","v":""},null,{"$f":"_xlfn.IFS(T135=\"------\",AD135,T135=\"LA RELACIÓN DE ACTIVIDADES DEBE SER A PARTIR DE LA SIGUIENTE FILA\",\"LA RELACIÓN DE ACTIVIDADES DEBE SER A PARTIR DE LA SIGUIENTE FILA\",T135<>\"------\",T135)","v":""},null,"ok"]
[null,null,null,null,null,null,null,null,null,null,null,null,null,null,null,null,null,null,null,"",{"$f":"IF(ISERROR(VLOOKUP(E136,[2]LISTAS!$A$15:$B$50,2,0)),\"\",VLOOKUP(E136,[2]LISTAS!$A$15:$B$50,2,0))","v":""},{"$f":"IF(ISERROR(VLOOKUP(G136,[2]LISTAS!$A$15:$B$50,2,0)),\"\",VLOOKUP(G136,[2]LISTAS!$A$15:$B$50,2,0))","v":""},{"$f":"IF(ISERROR(VLOOKUP(I136,[2]LISTAS!$A$15:$B$50,2,0)),\"\",VLOOKUP(I136,[2]LISTAS!$A$15:$B$50,2,0))","v":""},{"$f":"IF(ISERROR(VLOOKUP(K136,[2]LISTAS!$A$15:$B$50,2,0)),\"\",VLOOKUP(K136,[2]LISTAS!$A$15:$B$50,2,0))","v":""},{"$f":"IF(ISERROR(VLOOKUP(M136,[2]LISTAS!$A$15:$B$50,2,0)),\"\",VLOOKUP(M136,[2]LISTAS!$A$15:$B$50,2,0))","v":""},{"$f":"IF(ISERROR(VLOOKUP(O136,[2]LISTAS!$A$15:$B$50,2,0)),\"\",VLOOKUP(O136,[2]LISTAS!$A$15:$B$50,2,0))","v":""},{"$f":"IF(ISERROR(VLOOKUP(6,[2]LISTAS!$A$15:$B$50,2,0)),\"\",VLOOKUP(6,[2]LISTAS!$A$15:$B$50,2,0))","v":""},null,{"$f":"_xlfn.IFS(T136=\"------\",AD136,T136=\"LA RELACIÓN DE ACTIVIDADES DEBE SER A PARTIR DE LA SIGUIENTE FILA\",\"LA RELACIÓN DE ACTIVIDADES DEBE SER A PARTIR DE LA SIGUIENTE FILA\",T136<>\"------\",T136)","v":""},null,"ok"]
[null,null,null,null,null,null,null,null,null,null,null,null,null,null,null,null,null,null,null,"",{"$f":"IF(ISERROR(VLOOKUP(E137,[2]LISTAS!$A$15:$B$50,2,0)),\"\",VLOOKUP(E137,[2]LISTAS!$A$15:$B$50,2,0))","v":""},{"$f":"IF(ISERROR(VLOOKUP(G137,[2]LISTAS!$A$15:$B$50,2,0)),\"\",VLOOKUP(G137,[2]LISTAS!$A$15:$B$50,2,0))","v":""},{"$f":"IF(ISERROR(VLOOKUP(I137,[2]LISTAS!$A$15:$B$50,2,0)),\"\",VLOOKUP(I137,[2]LISTAS!$A$15:$B$50,2,0))","v":""},{"$f":"IF(ISERROR(VLOOKUP(K137,[2]LISTAS!$A$15:$B$50,2,0)),\"\",VLOOKUP(K137,[2]LISTAS!$A$15:$B$50,2,0))","v":""},{"$f":"IF(ISERROR(VLOOKUP(M137,[2]LISTAS!$A$15:$B$50,2,0)),\"\",VLOOKUP(M137,[2]LISTAS!$A$15:$B$50,2,0))","v":""},{"$f":"IF(ISERROR(VLOOKUP(O137,[2]LISTAS!$A$15:$B$50,2,0)),\"\",VLOOKUP(O137,[2]LISTAS!$A$15:$B$50,2,0))","v":""},{"$f":"IF(ISERROR(VLOOKUP(6,[2]LISTAS!$A$15:$B$50,2,0)),\"\",VLOOKUP(6,[2]LISTAS!$A$15:$B$50,2,0))","v":""},null,{"$f":"_xlfn.IFS(T137=\"------\",AD137,T137=\"LA RELACIÓN DE ACTIVIDADES DEBE SER A PARTIR DE LA SIGUIENTE FILA\",\"LA RELACIÓN DE ACTIVIDADES DEBE SER A PARTIR DE LA SIGUIENTE FILA\",T137<>\"------\",T137)","v":""},null,"ok"]
[null,null,null,null,null,null,null,null,null,null,null,null,null,null,null,null,null,null,null,"",{"$f":"IF(ISERROR(VLOOKUP(E138,[2]LISTAS!$A$15:$B$50,2,0)),\"\",VLOOKUP(E138,[2]LISTAS!$A$15:$B$50,2,0))","v":""},{"$f":"IF(ISERROR(VLOOKUP(G138,[2]LISTAS!$A$15:$B$50,2,0)),\"\",VLOOKUP(G138,[2]LISTAS!$A$15:$B$50,2,0))","v":""},{"$f":"IF(ISERROR(VLOOKUP(I138,[2]LISTAS!$A$15:$B$50,2,0)),\"\",VLOOKUP(I138,[2]LISTAS!$A$15:$B$50,2,0))","v":""},{"$f":"IF(ISERROR(VLOOKUP(K138,[2]LISTAS!$A$15:$B$50,2,0)),\"\",VLOOKUP(K138,[2]LISTAS!$A$15:$B$50,2,0))","v":""},{"$f":"IF(ISERROR(VLOOKUP(M138,[2]LISTAS!$A$15:$B$50,2,0)),\"\",VLOOKUP(M138,[2]LISTAS!$A$15:$B$50,2,0))","v":""},{"$f":"IF(ISERROR(VLOOKUP(O138,[2]LISTAS!$A$15:$B$50,2,0)),\"\",VLOOKUP(O138,[2]LISTAS!$A$15:$B$50,2,0))","v":""},{"$f":"IF(ISERROR(VLOOKUP(6,[2]LISTAS!$A$15:$B$50,2,0)),\"\",VLOOKUP(6,[2]LISTAS!$A$15:$B$50,2,0))","v":""},null,{"$f":"_xlfn.IFS(T138=\"------\",AD138,T138=\"LA RELACIÓN DE ACTIVIDADES DEBE SER A PARTIR DE LA SIGUIENTE FILA\",\"LA RELACIÓN DE ACTIVIDADES DEBE SER A PARTIR DE LA SIGUIENTE FILA\",T138<>\"------\",T138)","v":""},null,"ok"]
[null,null,null,null,null,null,null,null,null,null,null,null,null,null,null,null,null,null,null,"",{"$f":"IF(ISERROR(VLOOKUP(E139,[2]LISTAS!$A$15:$B$50,2,0)),\"\",VLOOKUP(E139,[2]LISTAS!$A$15:$B$50,2,0))","v":""},{"$f":"IF(ISERROR(VLOOKUP(G139,[2]LISTAS!$A$15:$B$50,2,0)),\"\",VLOOKUP(G139,[2]LISTAS!$A$15:$B$50,2,0))","v":""},{"$f":"IF(ISERROR(VLOOKUP(I139,[2]LISTAS!$A$15:$B$50,2,0)),\"\",VLOOKUP(I139,[2]LISTAS!$A$15:$B$50,2,0))","v":""},{"$f":"IF(ISERROR(VLOOKUP(K139,[2]LISTAS!$A$15:$B$50,2,0)),\"\",VLOOKUP(K139,[2]LISTAS!$A$15:$B$50,2,0))","v":""},{"$f":"IF(ISERROR(VLOOKUP(M139,[2]LISTAS!$A$15:$B$50,2,0)),\"\",VLOOKUP(M139,[2]LISTAS!$A$15:$B$50,2,0))","v":""},{"$f":"IF(ISERROR(VLOOKUP(O139,[2]LISTAS!$A$15:$B$50,2,0)),\"\",VLOOKUP(O139,[2]LISTAS!$A$15:$B$50,2,0))","v":""},{"$f":"IF(ISERROR(VLOOKUP(6,[2]LISTAS!$A$15:$B$50,2,0)),\"\",VLOOKUP(6,[2]LISTAS!$A$15:$B$50,2,0))","v":""},null,{"$f":"_xlfn.IFS(T139=\"------\",AD139,T139=\"LA RELACIÓN DE ACTIVIDADES DEBE SER A PARTIR DE LA SIGUIENTE FILA\",\"LA RELACIÓN DE ACTIVIDADES DEBE SER A PARTIR DE LA SIGUIENTE FILA\",T139<>\"------\",T139)","v":""},null,"ok"]
[null,null,null,null,null,null,null,null,null,null,null,null,null,null,null,null,null,null,null,"",{"$f":"IF(ISERROR(VLOOKUP(E140,[2]LISTAS!$A$15:$B$50,2,0)),\"\",VLOOKUP(E140,[2]LISTAS!$A$15:$B$50,2,0))","v":""},{"$f":"IF(ISERROR(VLOOKUP(G140,[2]LISTAS!$A$15:$B$50,2,0)),\"\",VLOOKUP(G140,[2]LISTAS!$A$15:$B$50,2,0))","v":""},{"$f":"IF(ISERROR(VLOOKUP(I140,[2]LISTAS!$A$15:$B$50,2,0)),\"\",VLOOKUP(I140,[2]LISTAS!$A$15:$B$50,2,0))","v":""},{"$f":"IF(ISERROR(VLOOKUP(K140,[2]LISTAS!$A$15:$B$50,2,0)),\"\",VLOOKUP(K140,[2]LISTAS!$A$15:$B$50,2,0))","v":""},{"$f":"IF(ISERROR(VLOOKUP(M140,[2]LISTAS!$A$15:$B$50,2,0)),\"\",VLOOKUP(M140,[2]LISTAS!$A$15:$B$50,2,0))","v":""},{"$f":"IF(ISERROR(VLOOKUP(O140,[2]LISTAS!$A$15:$B$50,2,0)),\"\",VLOOKUP(O140,[2]LISTAS!$A$15:$B$50,2,0))","v":""},{"$f":"IF(ISERROR(VLOOKUP(6,[2]LISTAS!$A$15:$B$50,2,0)),\"\",VLOOKUP(6,[2]LISTAS!$A$15:$B$50,2,0))","v":""},null,{"$f":"_xlfn.IFS(T140=\"------\",AD140,T140=\"LA RELACIÓN DE ACTIVIDADES DEBE SER A PARTIR DE LA SIGUIENTE FILA\",\"LA RELACIÓN DE ACTIVIDADES DEBE SER A PARTIR DE LA SIGUIENTE FILA\",T140<>\"------\",T140)","v":""},null,"ok"]
[null,null,null,null,null,null,null,null,null,null,null,null,null,null,null,null,null,null,null,"",{"$f":"IF(ISERROR(VLOOKUP(E141,[2]LISTAS!$A$15:$B$50,2,0)),\"\",VLOOKUP(E141,[2]LISTAS!$A$15:$B$50,2,0))","v":""},{"$f":"IF(ISERROR(VLOOKUP(G141,[2]LISTAS!$A$15:$B$50,2,0)),\"\",VLOOKUP(G141,[2]LISTAS!$A$15:$B$50,2,0))","v":""},{"$f":"IF(ISERROR(VLOOKUP(I141,[2]LISTAS!$A$15:$B$50,2,0)),\"\",VLOOKUP(I141,[2]LISTAS!$A$15:$B$50,2,0))","v":""},{"$f":"IF(ISERROR(VLOOKUP(K141,[2]LISTAS!$A$15:$B$50,2,0)),\"\",VLOOKUP(K141,[2]LISTAS!$A$15:$B$50,2,0))","v":""},{"$f":"IF(ISERROR(VLOOKUP(M141,[2]LISTAS!$A$15:$B$50,2,0)),\"\",VLOOKUP(M141,[2]LISTAS!$A$15:$B$50,2,0))","v":""},{"$f":"IF(ISERROR(VLOOKUP(O141,[2]LISTAS!$A$15:$B$50,2,0)),\"\",VLOOKUP(O141,[2]LISTAS!$A$15:$B$50,2,0))","v":""},{"$f":"IF(ISERROR(VLOOKUP(6,[2]LISTAS!$A$15:$B$50,2,0)),\"\",VLOOKUP(6,[2]LISTAS!$A$15:$B$50,2,0))","v":""},null,{"$f":"_xlfn.IFS(T141=\"------\",AD141,T141=\"LA RELACIÓN DE ACTIVIDADES DEBE SER A PARTIR DE LA SIGUIENTE FILA\",\"LA RELACIÓN DE ACTIVIDADES DEBE SER A PARTIR DE LA SIGUIENTE FILA\",T141<>\"------\",T141)","v":""},null,"ok"]
[null,null,null,null,null,null,null,null,null,null,null,null,null,null,null,null,null,null,null,"",{"$f":"IF(ISERROR(VLOOKUP(E142,[2]LISTAS!$A$15:$B$50,2,0)),\"\",VLOOKUP(E142,[2]LISTAS!$A$15:$B$50,2,0))","v":""},{"$f":"IF(ISERROR(VLOOKUP(G142,[2]LISTAS!$A$15:$B$50,2,0)),\"\",VLOOKUP(G142,[2]LISTAS!$A$15:$B$50,2,0))","v":""},{"$f":"IF(ISERROR(VLOOKUP(I142,[2]LISTAS!$A$15:$B$50,2,0)),\"\",VLOOKUP(I142,[2]LISTAS!$A$15:$B$50,2,0))","v":""},{"$f":"IF(ISERROR(VLOOKUP(K142,[2]LISTAS!$A$15:$B$50,2,0)),\"\",VLOOKUP(K142,[2]LISTAS!$A$15:$B$50,2,0))","v":""},{"$f":"IF(ISERROR(VLOOKUP(M142,[2]LISTAS!$A$15:$B$50,2,0)),\"\",VLOOKUP(M142,[2]LISTAS!$A$15:$B$50,2,0))","v":""},{"$f":"IF(ISERROR(VLOOKUP(O142,[2]LISTAS!$A$15:$B$50,2,0)),\"\",VLOOKUP(O142,[2]LISTAS!$A$15:$B$50,2,0))","v":""},{"$f":"IF(ISERROR(VLOOKUP(6,[2]LISTAS!$A$15:$B$50,2,0)),\"\",VLOOKUP(6,[2]LISTAS!$A$15:$B$50,2,0))","v":""},null,{"$f":"_xlfn.IFS(T142=\"------\",AD142,T142=\"LA RELACIÓN DE ACTIVIDADES DEBE SER A PARTIR DE LA SIGUIENTE FILA\",\"LA RELACIÓN DE ACTIVIDADES DEBE SER A PARTIR DE LA SIGUIENTE FILA\",T142<>\"------\",T142)","v":""},null,"ok"]
[null,null,null,null,null,null,null,null,null,null,null,null,null,null,null,null,null,null,null,"",{"$f":"IF(ISERROR(VLOOKUP(E143,[2]LISTAS!$A$15:$B$50,2,0)),\"\",VLOOKUP(E143,[2]LISTAS!$A$15:$B$50,2,0))","v":""},{"$f":"IF(ISERROR(VLOOKUP(G143,[2]LISTAS!$A$15:$B$50,2,0)),\"\",VLOOKUP(G143,[2]LISTAS!$A$15:$B$50,2,0))","v":""},{"$f":"IF(ISERROR(VLOOKUP(I143,[2]LISTAS!$A$15:$B$50,2,0)),\"\",VLOOKUP(I143,[2]LISTAS!$A$15:$B$50,2,0))","v":""},{"$f":"IF(ISERROR(VLOOKUP(K143,[2]LISTAS!$A$15:$B$50,2,0)),\"\",VLOOKUP(K143,[2]LISTAS!$A$15:$B$50,2,0))","v":""},{"$f":"IF(ISERROR(VLOOKUP(M143,[2]LISTAS!$A$15:$B$50,2,0)),\"\",VLOOKUP(M143,[2]LISTAS!$A$15:$B$50,2,0))","v":""},{"$f":"IF(ISERROR(VLOOKUP(O143,[2]LISTAS!$A$15:$B$50,2,0)),\"\",VLOOKUP(O143,[2]LISTAS!$A$15:$B$50,2,0))","v":""},{"$f":"IF(ISERROR(VLOOKUP(6,[2]LISTAS!$A$15:$B$50,2,0)),\"\",VLOOKUP(6,[2]LISTAS!$A$15:$B$50,2,0))","v":""},null,{"$f":"_xlfn.IFS(T143=\"------\",AD143,T143=\"LA RELACIÓN DE ACTIVIDADES DEBE SER A PARTIR DE LA SIGUIENTE FILA\",\"LA RELACIÓN DE ACTIVIDADES DEBE SER A PARTIR DE LA SIGUIENTE FILA\",T143<>\"------\",T143)","v":""},null,"ok"]
[null,null,null,null,null,null,null,null,null,null,null,null,null,null,null,null,null,null,null,"",{"$f":"IF(ISERROR(VLOOKUP(E144,[2]LISTAS!$A$15:$B$50,2,0)),\"\",VLOOKUP(E144,[2]LISTAS!$A$15:$B$50,2,0))","v":""},{"$f":"IF(ISERROR(VLOOKUP(G144,[2]LISTAS!$A$15:$B$50,2,0)),\"\",VLOOKUP(G144,[2]LISTAS!$A$15:$B$50,2,0))","v":""},{"$f":"IF(ISERROR(VLOOKUP(I144,[2]LISTAS!$A$15:$B$50,2,0)),\"\",VLOOKUP(I144,[2]LISTAS!$A$15:$B$50,2,0))","v":""},{"$f":"IF(ISERROR(VLOOKUP(K144,[2]LISTAS!$A$15:$B$50,2,0)),\"\",VLOOKUP(K144,[2]LISTAS!$A$15:$B$50,2,0))","v":""},{"$f":"IF(ISERROR(VLOOKUP(M144,[2]LISTAS!$A$15:$B$50,2,0)),\"\",VLOOKUP(M144,[2]LISTAS!$A$15:$B$50,2,0))","v":""},{"$f":"IF(ISERROR(VLOOKUP(O144,[2]LISTAS!$A$15:$B$50,2,0)),\"\",VLOOKUP(O144,[2]LISTAS!$A$15:$B$50,2,0))","v":""},{"$f":"IF(ISERROR(VLOOKUP(6,[2]LISTAS!$A$15:$B$50,2,0)),\"\",VLOOKUP(6,[2]LISTAS!$A$15:$B$50,2,0))","v":""},null,{"$f":"_xlfn.IFS(T144=\"------\",AD144,T144=\"LA RELACIÓN DE ACTIVIDADES DEBE SER A PARTIR DE LA SIGUIENTE FILA\",\"LA RELACIÓN DE ACTIVIDADES DEBE SER A PARTIR DE LA SIGUIENTE FILA\",T144<>\"------\",T144)","v":""},null,"ok"]
[null,null,null,null,null,null,null,null,null,null,null,null,null,null,null,null,null,null,null,"",{"$f":"IF(ISERROR(VLOOKUP(E145,[2]LISTAS!$A$15:$B$50,2,0)),\"\",VLOOKUP(E145,[2]LISTAS!$A$15:$B$50,2,0))","v":""},{"$f":"IF(ISERROR(VLOOKUP(G145,[2]LISTAS!$A$15:$B$50,2,0)),\"\",VLOOKUP(G145,[2]LISTAS!$A$15:$B$50,2,0))","v":""},{"$f":"IF(ISERROR(VLOOKUP(I145,[2]LISTAS!$A$15:$B$50,2,0)),\"\",VLOOKUP(I145,[2]LISTAS!$A$15:$B$50,2,0))","v":""},{"$f":"IF(ISERROR(VLOOKUP(K145,[2]LISTAS!$A$15:$B$50,2,0)),\"\",VLOOKUP(K145,[2]LISTAS!$A$15:$B$50,2,0))","v":""},{"$f":"IF(ISERROR(VLOOKUP(M145,[2]LISTAS!$A$15:$B$50,2,0)),\"\",VLOOKUP(M145,[2]LISTAS!$A$15:$B$50,2,0))","v":""},{"$f":"IF(ISERROR(VLOOKUP(O145,[2]LISTAS!$A$15:$B$50,2,0)),\"\",VLOOKUP(O145,[2]LISTAS!$A$15:$B$50,2,0))","v":""},{"$f":"IF(ISERROR(VLOOKUP(6,[2]LISTAS!$A$15:$B$50,2,0)),\"\",VLOOKUP(6,[2]LISTAS!$A$15:$B$50,2,0))","v":""},null,{"$f":"_xlfn.IFS(T145=\"------\",AD145,T145=\"LA RELACIÓN DE ACTIVIDADES DEBE SER A PARTIR DE LA SIGUIENTE FILA\",\"LA RELACIÓN DE ACTIVIDADES DEBE SER A PARTIR DE LA SIGUIENTE FILA\",T145<>\"------\",T145)","v":""},null,"ok"]
[null,null,null,null,null,null,null,null,null,null,null,null,null,null,null,null,null,null,null,"",{"$f":"IF(ISERROR(VLOOKUP(E146,[2]LISTAS!$A$15:$B$50,2,0)),\"\",VLOOKUP(E146,[2]LISTAS!$A$15:$B$50,2,0))","v":""},{"$f":"IF(ISERROR(VLOOKUP(G146,[2]LISTAS!$A$15:$B$50,2,0)),\"\",VLOOKUP(G146,[2]LISTAS!$A$15:$B$50,2,0))","v":""},{"$f":"IF(ISERROR(VLOOKUP(I146,[2]LISTAS!$A$15:$B$50,2,0)),\"\",VLOOKUP(I146,[2]LISTAS!$A$15:$B$50,2,0))","v":""},{"$f":"IF(ISERROR(VLOOKUP(K146,[2]LISTAS!$A$15:$B$50,2,0)),\"\",VLOOKUP(K146,[2]LISTAS!$A$15:$B$50,2,0))","v":""},{"$f":"IF(ISERROR(VLOOKUP(M146,[2]LISTAS!$A$15:$B$50,2,0)),\"\",VLOOKUP(M146,[2]LISTAS!$A$15:$B$50,2,0))","v":""},{"$f":"IF(ISERROR(VLOOKUP(O146,[2]LISTAS!$A$15:$B$50,2,0)),\"\",VLOOKUP(O146,[2]LISTAS!$A$15:$B$50,2,0))","v":""},{"$f":"IF(ISERROR(VLOOKUP(6,[2]LISTAS!$A$15:$B$50,2,0)),\"\",VLOOKUP(6,[2]LISTAS!$A$15:$B$50,2,0))","v":""},null,{"$f":"_xlfn.IFS(T146=\"------\",AD146,T146=\"LA RELACIÓN DE ACTIVIDADES DEBE SER A PARTIR DE LA SIGUIENTE FILA\",\"LA RELACIÓN DE ACTIVIDADES DEBE SER A PARTIR DE LA SIGUIENTE FILA\",T146<>\"------\",T146)","v":""},null,"ok"]
[null,null,null,null,null,null,null,null,null,null,null,null,null,null,null,null,null,null,null,"",{"$f":"IF(ISERROR(VLOOKUP(E147,[2]LISTAS!$A$15:$B$50,2,0)),\"\",VLOOKUP(E147,[2]LISTAS!$A$15:$B$50,2,0))","v":""},{"$f":"IF(ISERROR(VLOOKUP(G147,[2]LISTAS!$A$15:$B$50,2,0)),\"\",VLOOKUP(G147,[2]LISTAS!$A$15:$B$50,2,0))","v":""},{"$f":"IF(ISERROR(VLOOKUP(I147,[2]LISTAS!$A$15:$B$50,2,0)),\"\",VLOOKUP(I147,[2]LISTAS!$A$15:$B$50,2,0))","v":""},{"$f":"IF(ISERROR(VLOOKUP(K147,[2]LISTAS!$A$15:$B$50,2,0)),\"\",VLOOKUP(K147,[2]LISTAS!$A$15:$B$50,2,0))","v":""},{"$f":"IF(ISERROR(VLOOKUP(M147,[2]LISTAS!$A$15:$B$50,2,0)),\"\",VLOOKUP(M147,[2]LISTAS!$A$15:$B$50,2,0))","v":""},{"$f":"IF(ISERROR(VLOOKUP(O147,[2]LISTAS!$A$15:$B$50,2,0)),\"\",VLOOKUP(O147,[2]LISTAS!$A$15:$B$50,2,0))","v":""},{"$f":"IF(ISERROR(VLOOKUP(6,[2]LISTAS!$A$15:$B$50,2,0)),\"\",VLOOKUP(6,[2]LISTAS!$A$15:$B$50,2,0))","v":""},null,{"$f":"_xlfn.IFS(T147=\"------\",AD147,T147=\"LA RELACIÓN DE ACTIVIDADES DEBE SER A PARTIR DE LA SIGUIENTE FILA\",\"LA RELACIÓN DE ACTIVIDADES DEBE SER A PARTIR DE LA SIGUIENTE FILA\",T147<>\"------\",T147)","v":""},null,"ok"]
[null,null,null,null,null,null,null,null,null,null,null,null,null,null,null,null,null,null,null,"",{"$f":"IF(ISERROR(VLOOKUP(E148,[2]LISTAS!$A$15:$B$50,2,0)),\"\",VLOOKUP(E148,[2]LISTAS!$A$15:$B$50,2,0))","v":""},{"$f":"IF(ISERROR(VLOOKUP(G148,[2]LISTAS!$A$15:$B$50,2,0)),\"\",VLOOKUP(G148,[2]LISTAS!$A$15:$B$50,2,0))","v":""},{"$f":"IF(ISERROR(VLOOKUP(I148,[2]LISTAS!$A$15:$B$50,2,0)),\"\",VLOOKUP(I148,[2]LISTAS!$A$15:$B$50,2,0))","v":""},{"$f":"IF(ISERROR(VLOOKUP(K148,[2]LISTAS!$A$15:$B$50,2,0)),\"\",VLOOKUP(K148,[2]LISTAS!$A$15:$B$50,2,0))","v":""},{"$f":"IF(ISERROR(VLOOKUP(M148,[2]LISTAS!$A$15:$B$50,2,0)),\"\",VLOOKUP(M148,[2]LISTAS!$A$15:$B$50,2,0))","v":""},{"$f":"IF(ISERROR(VLOOKUP(O148,[2]LISTAS!$A$15:$B$50,2,0)),\"\",VLOOKUP(O148,[2]LISTAS!$A$15:$B$50,2,0))","v":""},{"$f":"IF(ISERROR(VLOOKUP(6,[2]LISTAS!$A$15:$B$50,2,0)),\"\",VLOOKUP(6,[2]LISTAS!$A$15:$B$50,2,0))","v":""},null,{"$f":"_xlfn.IFS(T148=\"------\",AD148,T148=\"LA RELACIÓN DE ACTIVIDADES DEBE SER A PARTIR DE LA SIGUIENTE FILA\",\"LA RELACIÓN DE ACTIVIDADES DEBE SER A PARTIR DE LA SIGUIENTE FILA\",T148<>\"------\",T148)","v":""},null,"ok"]
[null,null,null,null,null,null,null,null,null,null,null,null,null,null,null,null,null,null,null,"",{"$f":"IF(ISERROR(VLOOKUP(E149,[2]LISTAS!$A$15:$B$50,2,0)),\"\",VLOOKUP(E149,[2]LISTAS!$A$15:$B$50,2,0))","v":""},{"$f":"IF(ISERROR(VLOOKUP(G149,[2]LISTAS!$A$15:$B$50,2,0)),\"\",VLOOKUP(G149,[2]LISTAS!$A$15:$B$50,2,0))","v":""},{"$f":"IF(ISERROR(VLOOKUP(I149,[2]LISTAS!$A$15:$B$50,2,0)),\"\",VLOOKUP(I149,[2]LISTAS!$A$15:$B$50,2,0))","v":""},{"$f":"IF(ISERROR(VLOOKUP(K149,[2]LISTAS!$A$15:$B$50,2,0)),\"\",VLOOKUP(K149,[2]LISTAS!$A$15:$B$50,2,0))","v":""},{"$f":"IF(ISERROR(VLOOKUP(M149,[2]LISTAS!$A$15:$B$50,2,0)),\"\",VLOOKUP(M149,[2]LISTAS!$A$15:$B$50,2,0))","v":""},{"$f":"IF(ISERROR(VLOOKUP(O149,[2]LISTAS!$A$15:$B$50,2,0)),\"\",VLOOKUP(O149,[2]LISTAS!$A$15:$B$50,2,0))","v":""},{"$f":"IF(ISERROR(VLOOKUP(6,[2]LISTAS!$A$15:$B$50,2,0)),\"\",VLOOKUP(6,[2]LISTAS!$A$15:$B$50,2,0))","v":""},null,{"$f":"_xlfn.IFS(T149=\"------\",AD149,T149=\"LA RELACIÓN DE ACTIVIDADES DEBE SER A PARTIR DE LA SIGUIENTE FILA\",\"LA RELACIÓN DE ACTIVIDADES DEBE SER A PARTIR DE LA SIGUIENTE FILA\",T149<>\"------\",T149)","v":""},null,"ok"]
[null,null,null,null,null,null,null,null,null,null,null,null,null,null,null,null,null,null,null,"",{"$f":"IF(ISERROR(VLOOKUP(E150,[2]LISTAS!$A$15:$B$50,2,0)),\"\",VLOOKUP(E150,[2]LISTAS!$A$15:$B$50,2,0))","v":""},{"$f":"IF(ISERROR(VLOOKUP(G150,[2]LISTAS!$A$15:$B$50,2,0)),\"\",VLOOKUP(G150,[2]LISTAS!$A$15:$B$50,2,0))","v":""},{"$f":"IF(ISERROR(VLOOKUP(I150,[2]LISTAS!$A$15:$B$50,2,0)),\"\",VLOOKUP(I150,[2]LISTAS!$A$15:$B$50,2,0))","v":""},{"$f":"IF(ISERROR(VLOOKUP(K150,[2]LISTAS!$A$15:$B$50,2,0)),\"\",VLOOKUP(K150,[2]LISTAS!$A$15:$B$50,2,0))","v":""},{"$f":"IF(ISERROR(VLOOKUP(M150,[2]LISTAS!$A$15:$B$50,2,0)),\"\",VLOOKUP(M150,[2]LISTAS!$A$15:$B$50,2,0))","v":""},{"$f":"IF(ISERROR(VLOOKUP(O150,[2]LISTAS!$A$15:$B$50,2,0)),\"\",VLOOKUP(O150,[2]LISTAS!$A$15:$B$50,2,0))","v":""},{"$f":"IF(ISERROR(VLOOKUP(6,[2]LISTAS!$A$15:$B$50,2,0)),\"\",VLOOKUP(6,[2]LISTAS!$A$15:$B$50,2,0))","v":""},null,{"$f":"_xlfn.IFS(T150=\"------\",AD150,T150=\"LA RELACIÓN DE ACTIVIDADES DEBE SER A PARTIR DE LA SIGUIENTE FILA\",\"LA RELACIÓN DE ACTIVIDADES DEBE SER A PARTIR DE LA SIGUIENTE FILA\",T150<>\"------\",T150)","v":""},null,"ok"]
[null,null,null,null,null,null,null,null,null,null,null,null,null,null,null,null,null,null,null,"",{"$f":"IF(ISERROR(VLOOKUP(E151,[2]LISTAS!$A$15:$B$50,2,0)),\"\",VLOOKUP(E151,[2]LISTAS!$A$15:$B$50,2,0))","v":""},{"$f":"IF(ISERROR(VLOOKUP(G151,[2]LISTAS!$A$15:$B$50,2,0)),\"\",VLOOKUP(G151,[2]LISTAS!$A$15:$B$50,2,0))","v":""},{"$f":"IF(ISERROR(VLOOKUP(I151,[2]LISTAS!$A$15:$B$50,2,0)),\"\",VLOOKUP(I151,[2]LISTAS!$A$15:$B$50,2,0))","v":""},{"$f":"IF(ISERROR(VLOOKUP(K151,[2]LISTAS!$A$15:$B$50,2,0)),\"\",VLOOKUP(K151,[2]LISTAS!$A$15:$B$50,2,0))","v":""},{"$f":"IF(ISERROR(VLOOKUP(M151,[2]LISTAS!$A$15:$B$50,2,0)),\"\",VLOOKUP(M151,[2]LISTAS!$A$15:$B$50,2,0))","v":""},{"$f":"IF(ISERROR(VLOOKUP(O151,[2]LISTAS!$A$15:$B$50,2,0)),\"\",VLOOKUP(O151,[2]LISTAS!$A$15:$B$50,2,0))","v":""},{"$f":"IF(ISERROR(VLOOKUP(6,[2]LISTAS!$A$15:$B$50,2,0)),\"\",VLOOKUP(6,[2]LISTAS!$A$15:$B$50,2,0))","v":""},null,{"$f":"_xlfn.IFS(T151=\"------\",AD151,T151=\"LA RELACIÓN DE ACTIVIDADES DEBE SER A PARTIR DE LA SIGUIENTE FILA\",\"LA RELACIÓN DE ACTIVIDADES DEBE SER A PARTIR DE LA SIGUIENTE FILA\",T151<>\"------\",T151)","v":""},null,"ok"]
[null,null,null,null,null,null,null,null,null,null,null,null,null,null,null,null,null,null,null,"",{"$f":"IF(ISERROR(VLOOKUP(E152,[2]LISTAS!$A$15:$B$50,2,0)),\"\",VLOOKUP(E152,[2]LISTAS!$A$15:$B$50,2,0))","v":""},{"$f":"IF(ISERROR(VLOOKUP(G152,[2]LISTAS!$A$15:$B$50,2,0)),\"\",VLOOKUP(G152,[2]LISTAS!$A$15:$B$50,2,0))","v":""},{"$f":"IF(ISERROR(VLOOKUP(I152,[2]LISTAS!$A$15:$B$50,2,0)),\"\",VLOOKUP(I152,[2]LISTAS!$A$15:$B$50,2,0))","v":""},{"$f":"IF(ISERROR(VLOOKUP(K152,[2]LISTAS!$A$15:$B$50,2,0)),\"\",VLOOKUP(K152,[2]LISTAS!$A$15:$B$50,2,0))","v":""},{"$f":"IF(ISERROR(VLOOKUP(M152,[2]LISTAS!$A$15:$B$50,2,0)),\"\",VLOOKUP(M152,[2]LISTAS!$A$15:$B$50,2,0))","v":""},{"$f":"IF(ISERROR(VLOOKUP(O152,[2]LISTAS!$A$15:$B$50,2,0)),\"\",VLOOKUP(O152,[2]LISTAS!$A$15:$B$50,2,0))","v":""},{"$f":"IF(ISERROR(VLOOKUP(6,[2]LISTAS!$A$15:$B$50,2,0)),\"\",VLOOKUP(6,[2]LISTAS!$A$15:$B$50,2,0))","v":""},null,{"$f":"_xlfn.IFS(T152=\"------\",AD152,T152=\"LA RELACIÓN DE ACTIVIDADES DEBE SER A PARTIR DE LA SIGUIENTE FILA\",\"LA RELACIÓN DE ACTIVIDADES DEBE SER A PARTIR DE LA SIGUIENTE FILA\",T152<>\"------\",T152)","v":""},null,"ok"]
[null,null,null,null,null,null,null,null,null,null,null,null,null,null,null,null,null,null,null,"",{"$f":"IF(ISERROR(VLOOKUP(E153,[2]LISTAS!$A$15:$B$50,2,0)),\"\",VLOOKUP(E153,[2]LISTAS!$A$15:$B$50,2,0))","v":""},{"$f":"IF(ISERROR(VLOOKUP(G153,[2]LISTAS!$A$15:$B$50,2,0)),\"\",VLOOKUP(G153,[2]LISTAS!$A$15:$B$50,2,0))","v":""},{"$f":"IF(ISERROR(VLOOKUP(I153,[2]LISTAS!$A$15:$B$50,2,0)),\"\",VLOOKUP(I153,[2]LISTAS!$A$15:$B$50,2,0))","v":""},{"$f":"IF(ISERROR(VLOOKUP(K153,[2]LISTAS!$A$15:$B$50,2,0)),\"\",VLOOKUP(K153,[2]LISTAS!$A$15:$B$50,2,0))","v":""},{"$f":"IF(ISERROR(VLOOKUP(M153,[2]LISTAS!$A$15:$B$50,2,0)),\"\",VLOOKUP(M153,[2]LISTAS!$A$15:$B$50,2,0))","v":""},{"$f":"IF(ISERROR(VLOOKUP(O153,[2]LISTAS!$A$15:$B$50,2,0)),\"\",VLOOKUP(O153,[2]LISTAS!$A$15:$B$50,2,0))","v":""},{"$f":"IF(ISERROR(VLOOKUP(6,[2]LISTAS!$A$15:$B$50,2,0)),\"\",VLOOKUP(6,[2]LISTAS!$A$15:$B$50,2,0))","v":""},null,{"$f":"_xlfn.IFS(T153=\"------\",AD153,T153=\"LA RELACIÓN DE ACTIVIDADES DEBE SER A PARTIR DE LA SIGUIENTE FILA\",\"LA RELACIÓN DE ACTIVIDADES DEBE SER A PARTIR DE LA SIGUIENTE FILA\",T153<>\"------\",T153)","v":""},null,"ok"]
[null,null,null,null,null,null,null,null,null,null,null,null,null,null,null,null,null,null,null,"",{"$f":"IF(ISERROR(VLOOKUP(E154,[2]LISTAS!$A$15:$B$50,2,0)),\"\",VLOOKUP(E154,[2]LISTAS!$A$15:$B$50,2,0))","v":""},{"$f":"IF(ISERROR(VLOOKUP(G154,[2]LISTAS!$A$15:$B$50,2,0)),\"\",VLOOKUP(G154,[2]LISTAS!$A$15:$B$50,2,0))","v":""},{"$f":"IF(ISERROR(VLOOKUP(I154,[2]LISTAS!$A$15:$B$50,2,0)),\"\",VLOOKUP(I154,[2]LISTAS!$A$15:$B$50,2,0))","v":""},{"$f":"IF(ISERROR(VLOOKUP(K154,[2]LISTAS!$A$15:$B$50,2,0)),\"\",VLOOKUP(K154,[2]LISTAS!$A$15:$B$50,2,0))","v":""},{"$f":"IF(ISERROR(VLOOKUP(M154,[2]LISTAS!$A$15:$B$50,2,0)),\"\",VLOOKUP(M154,[2]LISTAS!$A$15:$B$50,2,0))","v":""},{"$f":"IF(ISERROR(VLOOKUP(O154,[2]LISTAS!$A$15:$B$50,2,0)),\"\",VLOOKUP(O154,[2]LISTAS!$A$15:$B$50,2,0))","v":""},{"$f":"IF(ISERROR(VLOOKUP(6,[2]LISTAS!$A$15:$B$50,2,0)),\"\",VLOOKUP(6,[2]LISTAS!$A$15:$B$50,2,0))","v":""},null,{"$f":"_xlfn.IFS(T154=\"------\",AD154,T154=\"LA RELACIÓN DE ACTIVIDADES DEBE SER A PARTIR DE LA SIGUIENTE FILA\",\"LA RELACIÓN DE ACTIVIDADES DEBE SER A PARTIR DE LA SIGUIENTE FILA\",T154<>\"------\",T154)","v":""},null,"ok"]
[null,null,null,null,null,null,null,null,null,null,null,null,null,null,null,null,null,null,null,"",{"$f":"IF(ISERROR(VLOOKUP(E155,[2]LISTAS!$A$15:$B$50,2,0)),\"\",VLOOKUP(E155,[2]LISTAS!$A$15:$B$50,2,0))","v":""},{"$f":"IF(ISERROR(VLOOKUP(G155,[2]LISTAS!$A$15:$B$50,2,0)),\"\",VLOOKUP(G155,[2]LISTAS!$A$15:$B$50,2,0))","v":""},{"$f":"IF(ISERROR(VLOOKUP(I155,[2]LISTAS!$A$15:$B$50,2,0)),\"\",VLOOKUP(I155,[2]LISTAS!$A$15:$B$50,2,0))","v":""},{"$f":"IF(ISERROR(VLOOKUP(K155,[2]LISTAS!$A$15:$B$50,2,0)),\"\",VLOOKUP(K155,[2]LISTAS!$A$15:$B$50,2,0))","v":""},{"$f":"IF(ISERROR(VLOOKUP(M155,[2]LISTAS!$A$15:$B$50,2,0)),\"\",VLOOKUP(M155,[2]LISTAS!$A$15:$B$50,2,0))","v":""},{"$f":"IF(ISERROR(VLOOKUP(O155,[2]LISTAS!$A$15:$B$50,2,0)),\"\",VLOOKUP(O155,[2]LISTAS!$A$15:$B$50,2,0))","v":""},{"$f":"IF(ISERROR(VLOOKUP(6,[2]LISTAS!$A$15:$B$50,2,0)),\"\",VLOOKUP(6,[2]LISTAS!$A$15:$B$50,2,0))","v":""},null,{"$f":"_xlfn.IFS(T155=\"------\",AD155,T155=\"LA RELACIÓN DE ACTIVIDADES DEBE SER A PARTIR DE LA SIGUIENTE FILA\",\"LA RELACIÓN DE ACTIVIDADES DEBE SER A PARTIR DE LA SIGUIENTE FILA\",T155<>\"------\",T155)","v":""},null,"ok"]
[null,null,null,null,null,null,null,null,null,null,null,null,null,null,null,null,null,null,null,"",{"$f":"IF(ISERROR(VLOOKUP(E156,[2]LISTAS!$A$15:$B$50,2,0)),\"\",VLOOKUP(E156,[2]LISTAS!$A$15:$B$50,2,0))","v":""},{"$f":"IF(ISERROR(VLOOKUP(G156,[2]LISTAS!$A$15:$B$50,2,0)),\"\",VLOOKUP(G156,[2]LISTAS!$A$15:$B$50,2,0))","v":""},{"$f":"IF(ISERROR(VLOOKUP(I156,[2]LISTAS!$A$15:$B$50,2,0)),\"\",VLOOKUP(I156,[2]LISTAS!$A$15:$B$50,2,0))","v":""},{"$f":"IF(ISERROR(VLOOKUP(K156,[2]LISTAS!$A$15:$B$50,2,0)),\"\",VLOOKUP(K156,[2]LISTAS!$A$15:$B$50,2,0))","v":""},{"$f":"IF(ISERROR(VLOOKUP(M156,[2]LISTAS!$A$15:$B$50,2,0)),\"\",VLOOKUP(M156,[2]LISTAS!$A$15:$B$50,2,0))","v":""},{"$f":"IF(ISERROR(VLOOKUP(O156,[2]LISTAS!$A$15:$B$50,2,0)),\"\",VLOOKUP(O156,[2]LISTAS!$A$15:$B$50,2,0))","v":""},{"$f":"IF(ISERROR(VLOOKUP(6,[2]LISTAS!$A$15:$B$50,2,0)),\"\",VLOOKUP(6,[2]LISTAS!$A$15:$B$50,2,0))","v":""},null,{"$f":"_xlfn.IFS(T156=\"------\",AD156,T156=\"LA RELACIÓN DE ACTIVIDADES DEBE SER A PARTIR DE LA SIGUIENTE FILA\",\"LA RELACIÓN DE ACTIVIDADES DEBE SER A PARTIR DE LA SIGUIENTE FILA\",T156<>\"------\",T156)","v":""},null,"ok"]
[null,null,null,null,null,null,null,null,null,null,null,null,null,null,null,null,null,null,null,"",{"$f":"IF(ISERROR(VLOOKUP(E157,[2]LISTAS!$A$15:$B$50,2,0)),\"\",VLOOKUP(E157,[2]LISTAS!$A$15:$B$50,2,0))","v":""},{"$f":"IF(ISERROR(VLOOKUP(G157,[2]LISTAS!$A$15:$B$50,2,0)),\"\",VLOOKUP(G157,[2]LISTAS!$A$15:$B$50,2,0))","v":""},{"$f":"IF(ISERROR(VLOOKUP(I157,[2]LISTAS!$A$15:$B$50,2,0)),\"\",VLOOKUP(I157,[2]LISTAS!$A$15:$B$50,2,0))","v":""},{"$f":"IF(ISERROR(VLOOKUP(K157,[2]LISTAS!$A$15:$B$50,2,0)),\"\",VLOOKUP(K157,[2]LISTAS!$A$15:$B$50,2,0))","v":""},{"$f":"IF(ISERROR(VLOOKUP(M157,[2]LISTAS!$A$15:$B$50,2,0)),\"\",VLOOKUP(M157,[2]LISTAS!$A$15:$B$50,2,0))","v":""},{"$f":"IF(ISERROR(VLOOKUP(O157,[2]LISTAS!$A$15:$B$50,2,0)),\"\",VLOOKUP(O157,[2]LISTAS!$A$15:$B$50,2,0))","v":""},{"$f":"IF(ISERROR(VLOOKUP(6,[2]LISTAS!$A$15:$B$50,2,0)),\"\",VLOOKUP(6,[2]LISTAS!$A$15:$B$50,2,0))","v":""},null,{"$f":"_xlfn.IFS(T157=\"------\",AD157,T157=\"LA RELACIÓN DE ACTIVIDADES DEBE SER A PARTIR DE LA SIGUIENTE FILA\",\"LA RELACIÓN DE ACTIVIDADES DEBE SER A PARTIR DE LA SIGUIENTE FILA\",T157<>\"------\",T157)","v":""},null,"ok"]
[null,null,null,null,null,null,null,null,null,null,null,null,null,null,null,null,null,null,null,"",{"$f":"IF(ISERROR(VLOOKUP(E158,[2]LISTAS!$A$15:$B$50,2,0)),\"\",VLOOKUP(E158,[2]LISTAS!$A$15:$B$50,2,0))","v":""},{"$f":"IF(ISERROR(VLOOKUP(G158,[2]LISTAS!$A$15:$B$50,2,0)),\"\",VLOOKUP(G158,[2]LISTAS!$A$15:$B$50,2,0))","v":""},{"$f":"IF(ISERROR(VLOOKUP(I158,[2]LISTAS!$A$15:$B$50,2,0)),\"\",VLOOKUP(I158,[2]LISTAS!$A$15:$B$50,2,0))","v":""},{"$f":"IF(ISERROR(VLOOKUP(K158,[2]LISTAS!$A$15:$B$50,2,0)),\"\",VLOOKUP(K158,[2]LISTAS!$A$15:$B$50,2,0))","v":""},{"$f":"IF(ISERROR(VLOOKUP(M158,[2]LISTAS!$A$15:$B$50,2,0)),\"\",VLOOKUP(M158,[2]LISTAS!$A$15:$B$50,2,0))","v":""},{"$f":"IF(ISERROR(VLOOKUP(O158,[2]LISTAS!$A$15:$B$50,2,0)),\"\",VLOOKUP(O158,[2]LISTAS!$A$15:$B$50,2,0))","v":""},{"$f":"IF(ISERROR(VLOOKUP(6,[2]LISTAS!$A$15:$B$50,2,0)),\"\",VLOOKUP(6,[2]LISTAS!$A$15:$B$50,2,0))","v":""},null,{"$f":"_xlfn.IFS(T158=\"------\",AD158,T158=\"LA RELACIÓN DE ACTIVIDADES DEBE SER A PARTIR DE LA SIGUIENTE FILA\",\"LA RELACIÓN DE ACTIVIDADES DEBE SER A PARTIR DE LA SIGUIENTE FILA\",T158<>\"------\",T158)","v":""},null,"ok"]
[null,null,null,null,null,null,null,null,null,null,null,null,null,null,null,null,null,null,null,"",{"$f":"IF(ISERROR(VLOOKUP(E159,[2]LISTAS!$A$15:$B$50,2,0)),\"\",VLOOKUP(E159,[2]LISTAS!$A$15:$B$50,2,0))","v":""},{"$f":"IF(ISERROR(VLOOKUP(G159,[2]LISTAS!$A$15:$B$50,2,0)),\"\",VLOOKUP(G159,[2]LISTAS!$A$15:$B$50,2,0))","v":""},{"$f":"IF(ISERROR(VLOOKUP(I159,[2]LISTAS!$A$15:$B$50,2,0)),\"\",VLOOKUP(I159,[2]LISTAS!$A$15:$B$50,2,0))","v":""},{"$f":"IF(ISERROR(VLOOKUP(K159,[2]LISTAS!$A$15:$B$50,2,0)),\"\",VLOOKUP(K159,[2]LISTAS!$A$15:$B$50,2,0))","v":""},{"$f":"IF(ISERROR(VLOOKUP(M159,[2]LISTAS!$A$15:$B$50,2,0)),\"\",VLOOKUP(M159,[2]LISTAS!$A$15:$B$50,2,0))","v":""},{"$f":"IF(ISERROR(VLOOKUP(O159,[2]LISTAS!$A$15:$B$50,2,0)),\"\",VLOOKUP(O159,[2]LISTAS!$A$15:$B$50,2,0))","v":""},{"$f":"IF(ISERROR(VLOOKUP(6,[2]LISTAS!$A$15:$B$50,2,0)),\"\",VLOOKUP(6,[2]LISTAS!$A$15:$B$50,2,0))","v":""},null,{"$f":"_xlfn.IFS(T159=\"------\",AD159,T159=\"LA RELACIÓN DE ACTIVIDADES DEBE SER A PARTIR DE LA SIGUIENTE FILA\",\"LA RELACIÓN DE ACTIVIDADES DEBE SER A PARTIR DE LA SIGUIENTE FILA\",T159<>\"------\",T159)","v":""},null,"ok"]
[null,null,null,null,null,null,null,null,null,null,null,null,null,null,null,null,null,null,null,"",{"$f":"IF(ISERROR(VLOOKUP(E160,[2]LISTAS!$A$15:$B$50,2,0)),\"\",VLOOKUP(E160,[2]LISTAS!$A$15:$B$50,2,0))","v":""},{"$f":"IF(ISERROR(VLOOKUP(G160,[2]LISTAS!$A$15:$B$50,2,0)),\"\",VLOOKUP(G160,[2]LISTAS!$A$15:$B$50,2,0))","v":""},{"$f":"IF(ISERROR(VLOOKUP(I160,[2]LISTAS!$A$15:$B$50,2,0)),\"\",VLOOKUP(I160,[2]LISTAS!$A$15:$B$50,2,0))","v":""},{"$f":"IF(ISERROR(VLOOKUP(K160,[2]LISTAS!$A$15:$B$50,2,0)),\"\",VLOOKUP(K160,[2]LISTAS!$A$15:$B$50,2,0))","v":""},{"$f":"IF(ISERROR(VLOOKUP(M160,[2]LISTAS!$A$15:$B$50,2,0)),\"\",VLOOKUP(M160,[2]LISTAS!$A$15:$B$50,2,0))","v":""},{"$f":"IF(ISERROR(VLOOKUP(O160,[2]LISTAS!$A$15:$B$50,2,0)),\"\",VLOOKUP(O160,[2]LISTAS!$A$15:$B$50,2,0))","v":""},{"$f":"IF(ISERROR(VLOOKUP(6,[2]LISTAS!$A$15:$B$50,2,0)),\"\",VLOOKUP(6,[2]LISTAS!$A$15:$B$50,2,0))","v":""},null,{"$f":"_xlfn.IFS(T160=\"------\",AD160,T160=\"LA RELACIÓN DE ACTIVIDADES DEBE SER A PARTIR DE LA SIGUIENTE FILA\",\"LA RELACIÓN DE ACTIVIDADES DEBE SER A PARTIR DE LA SIGUIENTE FILA\",T160<>\"------\",T160)","v":""},null,"ok"]
[null,null,null,null,null,null,null,null,null,null,null,null,null,null,null,null,null,null,null,"",{"$f":"IF(ISERROR(VLOOKUP(E161,[2]LISTAS!$A$15:$B$50,2,0)),\"\",VLOOKUP(E161,[2]LISTAS!$A$15:$B$50,2,0))","v":""},{"$f":"IF(ISERROR(VLOOKUP(G161,[2]LISTAS!$A$15:$B$50,2,0)),\"\",VLOOKUP(G161,[2]LISTAS!$A$15:$B$50,2,0))","v":""},{"$f":"IF(ISERROR(VLOOKUP(I161,[2]LISTAS!$A$15:$B$50,2,0)),\"\",VLOOKUP(I161,[2]LISTAS!$A$15:$B$50,2,0))","v":""},{"$f":"IF(ISERROR(VLOOKUP(K161,[2]LISTAS!$A$15:$B$50,2,0)),\"\",VLOOKUP(K161,[2]LISTAS!$A$15:$B$50,2,0))","v":""},{"$f":"IF(ISERROR(VLOOKUP(M161,[2]LISTAS!$A$15:$B$50,2,0)),\"\",VLOOKUP(M161,[2]LISTAS!$A$15:$B$50,2,0))","v":""},{"$f":"IF(ISERROR(VLOOKUP(O161,[2]LISTAS!$A$15:$B$50,2,0)),\"\",VLOOKUP(O161,[2]LISTAS!$A$15:$B$50,2,0))","v":""},{"$f":"IF(ISERROR(VLOOKUP(6,[2]LISTAS!$A$15:$B$50,2,0)),\"\",VLOOKUP(6,[2]LISTAS!$A$15:$B$50,2,0))","v":""},null,{"$f":"_xlfn.IFS(T161=\"------\",AD161,T161=\"LA RELACIÓN DE ACTIVIDADES DEBE SER A PARTIR DE LA SIGUIENTE FILA\",\"LA RELACIÓN DE ACTIVIDADES DEBE SER A PARTIR DE LA SIGUIENTE FILA\",T161<>\"------\",T161)","v":""},null,"ok"]
[null,null,null,null,null,null,null,null,null,null,null,null,null,null,null,null,null,null,null,"",{"$f":"IF(ISERROR(VLOOKUP(E162,[2]LISTAS!$A$15:$B$50,2,0)),\"\",VLOOKUP(E162,[2]LISTAS!$A$15:$B$50,2,0))","v":""},{"$f":"IF(ISERROR(VLOOKUP(G162,[2]LISTAS!$A$15:$B$50,2,0)),\"\",VLOOKUP(G162,[2]LISTAS!$A$15:$B$50,2,0))","v":""},{"$f":"IF(ISERROR(VLOOKUP(I162,[2]LISTAS!$A$15:$B$50,2,0)),\"\",VLOOKUP(I162,[2]LISTAS!$A$15:$B$50,2,0))","v":""},{"$f":"IF(ISERROR(VLOOKUP(K162,[2]LISTAS!$A$15:$B$50,2,0)),\"\",VLOOKUP(K162,[2]LISTAS!$A$15:$B$50,2,0))","v":""},{"$f":"IF(ISERROR(VLOOKUP(M162,[2]LISTAS!$A$15:$B$50,2,0)),\"\",VLOOKUP(M162,[2]LISTAS!$A$15:$B$50,2,0))","v":""},{"$f":"IF(ISERROR(VLOOKUP(O162,[2]LISTAS!$A$15:$B$50,2,0)),\"\",VLOOKUP(O162,[2]LISTAS!$A$15:$B$50,2,0))","v":""},{"$f":"IF(ISERROR(VLOOKUP(6,[2]LISTAS!$A$15:$B$50,2,0)),\"\",VLOOKUP(6,[2]LISTAS!$A$15:$B$50,2,0))","v":""},null,{"$f":"_xlfn.IFS(T162=\"------\",AD162,T162=\"LA RELACIÓN DE ACTIVIDADES DEBE SER A PARTIR DE LA SIGUIENTE FILA\",\"LA RELACIÓN DE ACTIVIDADES DEBE SER A PARTIR DE LA SIGUIENTE FILA\",T162<>\"------\",T162)","v":""},null,"ok"]
[null,null,null,null,null,null,null,null,null,null,null,null,null,null,null,null,null,null,null,"",{"$f":"IF(ISERROR(VLOOKUP(E163,[2]LISTAS!$A$15:$B$50,2,0)),\"\",VLOOKUP(E163,[2]LISTAS!$A$15:$B$50,2,0))","v":""},{"$f":"IF(ISERROR(VLOOKUP(G163,[2]LISTAS!$A$15:$B$50,2,0)),\"\",VLOOKUP(G163,[2]LISTAS!$A$15:$B$50,2,0))","v":""},{"$f":"IF(ISERROR(VLOOKUP(I163,[2]LISTAS!$A$15:$B$50,2,0)),\"\",VLOOKUP(I163,[2]LISTAS!$A$15:$B$50,2,0))","v":""},{"$f":"IF(ISERROR(VLOOKUP(K163,[2]LISTAS!$A$15:$B$50,2,0)),\"\",VLOOKUP(K163,[2]LISTAS!$A$15:$B$50,2,0))","v":""},{"$f":"IF(ISERROR(VLOOKUP(M163,[2]LISTAS!$A$15:$B$50,2,0)),\"\",VLOOKUP(M163,[2]LISTAS!$A$15:$B$50,2,0))","v":""},{"$f":"IF(ISERROR(VLOOKUP(O163,[2]LISTAS!$A$15:$B$50,2,0)),\"\",VLOOKUP(O163,[2]LISTAS!$A$15:$B$50,2,0))","v":""},{"$f":"IF(ISERROR(VLOOKUP(6,[2]LISTAS!$A$15:$B$50,2,0)),\"\",VLOOKUP(6,[2]LISTAS!$A$15:$B$50,2,0))","v":""},null,{"$f":"_xlfn.IFS(T163=\"------\",AD163,T163=\"LA RELACIÓN DE ACTIVIDADES DEBE SER A PARTIR DE LA SIGUIENTE FILA\",\"LA RELACIÓN DE ACTIVIDADES DEBE SER A PARTIR DE LA SIGUIENTE FILA\",T163<>\"------\",T163)","v":""},null,"ok"]
[null,null,null,null,null,null,null,null,null,null,null,null,null,null,null,null,null,null,null,"",{"$f":"IF(ISERROR(VLOOKUP(E164,[2]LISTAS!$A$15:$B$50,2,0)),\"\",VLOOKUP(E164,[2]LISTAS!$A$15:$B$50,2,0))","v":""},{"$f":"IF(ISERROR(VLOOKUP(G164,[2]LISTAS!$A$15:$B$50,2,0)),\"\",VLOOKUP(G164,[2]LISTAS!$A$15:$B$50,2,0))","v":""},{"$f":"IF(ISERROR(VLOOKUP(I164,[2]LISTAS!$A$15:$B$50,2,0)),\"\",VLOOKUP(I164,[2]LISTAS!$A$15:$B$50,2,0))","v":""},{"$f":"IF(ISERROR(VLOOKUP(K164,[2]LISTAS!$A$15:$B$50,2,0)),\"\",VLOOKUP(K164,[2]LISTAS!$A$15:$B$50,2,0))","v":""},{"$f":"IF(ISERROR(VLOOKUP(M164,[2]LISTAS!$A$15:$B$50,2,0)),\"\",VLOOKUP(M164,[2]LISTAS!$A$15:$B$50,2,0))","v":""},{"$f":"IF(ISERROR(VLOOKUP(O164,[2]LISTAS!$A$15:$B$50,2,0)),\"\",VLOOKUP(O164,[2]LISTAS!$A$15:$B$50,2,0))","v":""},{"$f":"IF(ISERROR(VLOOKUP(6,[2]LISTAS!$A$15:$B$50,2,0)),\"\",VLOOKUP(6,[2]LISTAS!$A$15:$B$50,2,0))","v":""},null,{"$f":"_xlfn.IFS(T164=\"------\",AD164,T164=\"LA RELACIÓN DE ACTIVIDADES DEBE SER A PARTIR DE LA SIGUIENTE FILA\",\"LA RELACIÓN DE ACTIVIDADES DEBE SER A PARTIR DE LA SIGUIENTE FILA\",T164<>\"------\",T164)","v":""},null,"ok"]
[null,null,null,null,null,null,null,null,null,null,null,null,null,null,null,null,null,null,null,"",{"$f":"IF(ISERROR(VLOOKUP(E165,[2]LISTAS!$A$15:$B$50,2,0)),\"\",VLOOKUP(E165,[2]LISTAS!$A$15:$B$50,2,0))","v":""},{"$f":"IF(ISERROR(VLOOKUP(G165,[2]LISTAS!$A$15:$B$50,2,0)),\"\",VLOOKUP(G165,[2]LISTAS!$A$15:$B$50,2,0))","v":""},{"$f":"IF(ISERROR(VLOOKUP(I165,[2]LISTAS!$A$15:$B$50,2,0)),\"\",VLOOKUP(I165,[2]LISTAS!$A$15:$B$50,2,0))","v":""},{"$f":"IF(ISERROR(VLOOKUP(K165,[2]LISTAS!$A$15:$B$50,2,0)),\"\",VLOOKUP(K165,[2]LISTAS!$A$15:$B$50,2,0))","v":""},{"$f":"IF(ISERROR(VLOOKUP(M165,[2]LISTAS!$A$15:$B$50,2,0)),\"\",VLOOKUP(M165,[2]LISTAS!$A$15:$B$50,2,0))","v":""},{"$f":"IF(ISERROR(VLOOKUP(O165,[2]LISTAS!$A$15:$B$50,2,0)),\"\",VLOOKUP(O165,[2]LISTAS!$A$15:$B$50,2,0))","v":""},{"$f":"IF(ISERROR(VLOOKUP(6,[2]LISTAS!$A$15:$B$50,2,0)),\"\",VLOOKUP(6,[2]LISTAS!$A$15:$B$50,2,0))","v":""},null,{"$f":"_xlfn.IFS(T165=\"------\",AD165,T165=\"LA RELACIÓN DE ACTIVIDADES DEBE SER A PARTIR DE LA SIGUIENTE FILA\",\"LA RELACIÓN DE ACTIVIDADES DEBE SER A PARTIR DE LA SIGUIENTE FILA\",T165<>\"------\",T165)","v":""},null,"ok"]
[null,null,null,null,null,null,null,null,null,null,null,null,null,null,null,null,null,null,null,"",{"$f":"IF(ISERROR(VLOOKUP(E166,[2]LISTAS!$A$15:$B$50,2,0)),\"\",VLOOKUP(E166,[2]LISTAS!$A$15:$B$50,2,0))","v":""},{"$f":"IF(ISERROR(VLOOKUP(G166,[2]LISTAS!$A$15:$B$50,2,0)),\"\",VLOOKUP(G166,[2]LISTAS!$A$15:$B$50,2,0))","v":""},{"$f":"IF(ISERROR(VLOOKUP(I166,[2]LISTAS!$A$15:$B$50,2,0)),\"\",VLOOKUP(I166,[2]LISTAS!$A$15:$B$50,2,0))","v":""},{"$f":"IF(ISERROR(VLOOKUP(K166,[2]LISTAS!$A$15:$B$50,2,0)),\"\",VLOOKUP(K166,[2]LISTAS!$A$15:$B$50,2,0))","v":""},{"$f":"IF(ISERROR(VLOOKUP(M166,[2]LISTAS!$A$15:$B$50,2,0)),\"\",VLOOKUP(M166,[2]LISTAS!$A$15:$B$50,2,0))","v":""},{"$f":"IF(ISERROR(VLOOKUP(O166,[2]LISTAS!$A$15:$B$50,2,0)),\"\",VLOOKUP(O166,[2]LISTAS!$A$15:$B$50,2,0))","v":""},{"$f":"IF(ISERROR(VLOOKUP(6,[2]LISTAS!$A$15:$B$50,2,0)),\"\",VLOOKUP(6,[2]LISTAS!$A$15:$B$50,2,0))","v":""},null,{"$f":"_xlfn.IFS(T166=\"------\",AD166,T166=\"LA RELACIÓN DE ACTIVIDADES DEBE SER A PARTIR DE LA SIGUIENTE FILA\",\"LA RELACIÓN DE ACTIVIDADES DEBE SER A PARTIR DE LA SIGUIENTE FILA\",T166<>\"------\",T166)","v":""},null,"ok"]
[null,null,null,null,null,null,null,null,null,null,null,null,null,null,null,null,null,null,null,"",{"$f":"IF(ISERROR(VLOOKUP(E167,[2]LISTAS!$A$15:$B$50,2,0)),\"\",VLOOKUP(E167,[2]LISTAS!$A$15:$B$50,2,0))","v":""},{"$f":"IF(ISERROR(VLOOKUP(G167,[2]LISTAS!$A$15:$B$50,2,0)),\"\",VLOOKUP(G167,[2]LISTAS!$A$15:$B$50,2,0))","v":""},{"$f":"IF(ISERROR(VLOOKUP(I167,[2]LISTAS!$A$15:$B$50,2,0)),\"\",VLOOKUP(I167,[2]LISTAS!$A$15:$B$50,2,0))","v":""},{"$f":"IF(ISERROR(VLOOKUP(K167,[2]LISTAS!$A$15:$B$50,2,0)),\"\",VLOOKUP(K167,[2]LISTAS!$A$15:$B$50,2,0))","v":""},{"$f":"IF(ISERROR(VLOOKUP(M167,[2]LISTAS!$A$15:$B$50,2,0)),\"\",VLOOKUP(M167,[2]LISTAS!$A$15:$B$50,2,0))","v":""},{"$f":"IF(ISERROR(VLOOKUP(O167,[2]LISTAS!$A$15:$B$50,2,0)),\"\",VLOOKUP(O167,[2]LISTAS!$A$15:$B$50,2,0))","v":""},{"$f":"IF(ISERROR(VLOOKUP(6,[2]LISTAS!$A$15:$B$50,2,0)),\"\",VLOOKUP(6,[2]LISTAS!$A$15:$B$50,2,0))","v":""},null,{"$f":"_xlfn.IFS(T167=\"------\",AD167,T167=\"LA RELACIÓN DE ACTIVIDADES DEBE SER A PARTIR DE LA SIGUIENTE FILA\",\"LA RELACIÓN DE ACTIVIDADES DEBE SER A PARTIR DE LA SIGUIENTE FILA\",T167<>\"------\",T167)","v":""},null,"ok"]
[null,null,null,null,null,null,null,null,null,null,null,null,null,null,null,null,null,null,null,"",{"$f":"IF(ISERROR(VLOOKUP(E168,[2]LISTAS!$A$15:$B$50,2,0)),\"\",VLOOKUP(E168,[2]LISTAS!$A$15:$B$50,2,0))","v":""},{"$f":"IF(ISERROR(VLOOKUP(G168,[2]LISTAS!$A$15:$B$50,2,0)),\"\",VLOOKUP(G168,[2]LISTAS!$A$15:$B$50,2,0))","v":""},{"$f":"IF(ISERROR(VLOOKUP(I168,[2]LISTAS!$A$15:$B$50,2,0)),\"\",VLOOKUP(I168,[2]LISTAS!$A$15:$B$50,2,0))","v":""},{"$f":"IF(ISERROR(VLOOKUP(K168,[2]LISTAS!$A$15:$B$50,2,0)),\"\",VLOOKUP(K168,[2]LISTAS!$A$15:$B$50,2,0))","v":""},{"$f":"IF(ISERROR(VLOOKUP(M168,[2]LISTAS!$A$15:$B$50,2,0)),\"\",VLOOKUP(M168,[2]LISTAS!$A$15:$B$50,2,0))","v":""},{"$f":"IF(ISERROR(VLOOKUP(O168,[2]LISTAS!$A$15:$B$50,2,0)),\"\",VLOOKUP(O168,[2]LISTAS!$A$15:$B$50,2,0))","v":""},{"$f":"IF(ISERROR(VLOOKUP(6,[2]LISTAS!$A$15:$B$50,2,0)),\"\",VLOOKUP(6,[2]LISTAS!$A$15:$B$50,2,0))","v":""},null,{"$f":"_xlfn.IFS(T168=\"------\",AD168,T168=\"LA RELACIÓN DE ACTIVIDADES DEBE SER A PARTIR DE LA SIGUIENTE FILA\",\"LA RELACIÓN DE ACTIVIDADES DEBE SER A PARTIR DE LA SIGUIENTE FILA\",T168<>\"------\",T168)","v":""},null,"ok"]
[null,null,null,null,null,null,null,null,null,null,null,null,null,null,null,null,null,null,null,"",{"$f":"IF(ISERROR(VLOOKUP(E169,[2]LISTAS!$A$15:$B$50,2,0)),\"\",VLOOKUP(E169,[2]LISTAS!$A$15:$B$50,2,0))","v":""},{"$f":"IF(ISERROR(VLOOKUP(G169,[2]LISTAS!$A$15:$B$50,2,0)),\"\",VLOOKUP(G169,[2]LISTAS!$A$15:$B$50,2,0))","v":""},{"$f":"IF(ISERROR(VLOOKUP(I169,[2]LISTAS!$A$15:$B$50,2,0)),\"\",VLOOKUP(I169,[2]LISTAS!$A$15:$B$50,2,0))","v":""},{"$f":"IF(ISERROR(VLOOKUP(K169,[2]LISTAS!$A$15:$B$50,2,0)),\"\",VLOOKUP(K169,[2]LISTAS!$A$15:$B$50,2,0))","v":""},{"$f":"IF(ISERROR(VLOOKUP(M169,[2]LISTAS!$A$15:$B$50,2,0)),\"\",VLOOKUP(M169,[2]LISTAS!$A$15:$B$50,2,0))","v":""},{"$f":"IF(ISERROR(VLOOKUP(O169,[2]LISTAS!$A$15:$B$50,2,0)),\"\",VLOOKUP(O169,[2]LISTAS!$A$15:$B$50,2,0))","v":""},{"$f":"IF(ISERROR(VLOOKUP(6,[2]LISTAS!$A$15:$B$50,2,0)),\"\",VLOOKUP(6,[2]LISTAS!$A$15:$B$50,2,0))","v":""},null,{"$f":"_xlfn.IFS(T169=\"------\",AD169,T169=\"LA RELACIÓN DE ACTIVIDADES DEBE SER A PARTIR DE LA SIGUIENTE FILA\",\"LA RELACIÓN DE ACTIVIDADES DEBE SER A PARTIR DE LA SIGUIENTE FILA\",T169<>\"------\",T169)","v":""},null,"ok"]
[null,null,null,null,null,null,null,null,null,null,null,null,null,null,null,null,null,null,null,"",{"$f":"IF(ISERROR(VLOOKUP(E170,[2]LISTAS!$A$15:$B$50,2,0)),\"\",VLOOKUP(E170,[2]LISTAS!$A$15:$B$50,2,0))","v":""},{"$f":"IF(ISERROR(VLOOKUP(G170,[2]LISTAS!$A$15:$B$50,2,0)),\"\",VLOOKUP(G170,[2]LISTAS!$A$15:$B$50,2,0))","v":""},{"$f":"IF(ISERROR(VLOOKUP(I170,[2]LISTAS!$A$15:$B$50,2,0)),\"\",VLOOKUP(I170,[2]LISTAS!$A$15:$B$50,2,0))","v":""},{"$f":"IF(ISERROR(VLOOKUP(K170,[2]LISTAS!$A$15:$B$50,2,0)),\"\",VLOOKUP(K170,[2]LISTAS!$A$15:$B$50,2,0))","v":""},{"$f":"IF(ISERROR(VLOOKUP(M170,[2]LISTAS!$A$15:$B$50,2,0)),\"\",VLOOKUP(M170,[2]LISTAS!$A$15:$B$50,2,0))","v":""},{"$f":"IF(ISERROR(VLOOKUP(O170,[2]LISTAS!$A$15:$B$50,2,0)),\"\",VLOOKUP(O170,[2]LISTAS!$A$15:$B$50,2,0))","v":""},{"$f":"IF(ISERROR(VLOOKUP(6,[2]LISTAS!$A$15:$B$50,2,0)),\"\",VLOOKUP(6,[2]LISTAS!$A$15:$B$50,2,0))","v":""},null,{"$f":"_xlfn.IFS(T170=\"------\",AD170,T170=\"LA RELACIÓN DE ACTIVIDADES DEBE SER A PARTIR DE LA SIGUIENTE FILA\",\"LA RELACIÓN DE ACTIVIDADES DEBE SER A PARTIR DE LA SIGUIENTE FILA\",T170<>\"------\",T170)","v":""},null,"ok"]
[null,null,null,null,null,null,null,null,null,null,null,null,null,null,null,null,null,null,null,"",{"$f":"IF(ISERROR(VLOOKUP(E171,[2]LISTAS!$A$15:$B$50,2,0)),\"\",VLOOKUP(E171,[2]LISTAS!$A$15:$B$50,2,0))","v":""},{"$f":"IF(ISERROR(VLOOKUP(G171,[2]LISTAS!$A$15:$B$50,2,0)),\"\",VLOOKUP(G171,[2]LISTAS!$A$15:$B$50,2,0))","v":""},{"$f":"IF(ISERROR(VLOOKUP(I171,[2]LISTAS!$A$15:$B$50,2,0)),\"\",VLOOKUP(I171,[2]LISTAS!$A$15:$B$50,2,0))","v":""},{"$f":"IF(ISERROR(VLOOKUP(K171,[2]LISTAS!$A$15:$B$50,2,0)),\"\",VLOOKUP(K171,[2]LISTAS!$A$15:$B$50,2,0))","v":""},{"$f":"IF(ISERROR(VLOOKUP(M171,[2]LISTAS!$A$15:$B$50,2,0)),\"\",VLOOKUP(M171,[2]LISTAS!$A$15:$B$50,2,0))","v":""},{"$f":"IF(ISERROR(VLOOKUP(O171,[2]LISTAS!$A$15:$B$50,2,0)),\"\",VLOOKUP(O171,[2]LISTAS!$A$15:$B$50,2,0))","v":""},{"$f":"IF(ISERROR(VLOOKUP(6,[2]LISTAS!$A$15:$B$50,2,0)),\"\",VLOOKUP(6,[2]LISTAS!$A$15:$B$50,2,0))","v":""},null,{"$f":"_xlfn.IFS(T171=\"------\",AD171,T171=\"LA RELACIÓN DE ACTIVIDADES DEBE SER A PARTIR DE LA SIGUIENTE FILA\",\"LA RELACIÓN DE ACTIVIDADES DEBE SER A PARTIR DE LA SIGUIENTE FILA\",T171<>\"------\",T171)","v":""},null,"ok"]
[null,null,null,null,null,null,null,null,null,null,null,null,null,null,null,null,null,null,null,"",{"$f":"IF(ISERROR(VLOOKUP(E172,[2]LISTAS!$A$15:$B$50,2,0)),\"\",VLOOKUP(E172,[2]LISTAS!$A$15:$B$50,2,0))","v":""},{"$f":"IF(ISERROR(VLOOKUP(G172,[2]LISTAS!$A$15:$B$50,2,0)),\"\",VLOOKUP(G172,[2]LISTAS!$A$15:$B$50,2,0))","v":""},{"$f":"IF(ISERROR(VLOOKUP(I172,[2]LISTAS!$A$15:$B$50,2,0)),\"\",VLOOKUP(I172,[2]LISTAS!$A$15:$B$50,2,0))","v":""},{"$f":"IF(ISERROR(VLOOKUP(K172,[2]LISTAS!$A$15:$B$50,2,0)),\"\",VLOOKUP(K172,[2]LISTAS!$A$15:$B$50,2,0))","v":""},{"$f":"IF(ISERROR(VLOOKUP(M172,[2]LISTAS!$A$15:$B$50,2,0)),\"\",VLOOKUP(M172,[2]LISTAS!$A$15:$B$50,2,0))","v":""},{"$f":"IF(ISERROR(VLOOKUP(O172,[2]LISTAS!$A$15:$B$50,2,0)),\"\",VLOOKUP(O172,[2]LISTAS!$A$15:$B$50,2,0))","v":""},{"$f":"IF(ISERROR(VLOOKUP(6,[2]LISTAS!$A$15:$B$50,2,0)),\"\",VLOOKUP(6,[2]LISTAS!$A$15:$B$50,2,0))","v":""},null,{"$f":"_xlfn.IFS(T172=\"------\",AD172,T172=\"LA RELACIÓN DE ACTIVIDADES DEBE SER A PARTIR DE LA SIGUIENTE FILA\",\"LA RELACIÓN DE ACTIVIDADES DEBE SER A PARTIR DE LA SIGUIENTE FILA\",T172<>\"------\",T172)","v":""},null,"ok"]
[null,null,null,null,null,null,null,null,null,null,null,null,null,null,null,null,null,null,null,"",{"$f":"IF(ISERROR(VLOOKUP(E173,[2]LISTAS!$A$15:$B$50,2,0)),\"\",VLOOKUP(E173,[2]LISTAS!$A$15:$B$50,2,0))","v":""},{"$f":"IF(ISERROR(VLOOKUP(G173,[2]LISTAS!$A$15:$B$50,2,0)),\"\",VLOOKUP(G173,[2]LISTAS!$A$15:$B$50,2,0))","v":""},{"$f":"IF(ISERROR(VLOOKUP(I173,[2]LISTAS!$A$15:$B$50,2,0)),\"\",VLOOKUP(I173,[2]LISTAS!$A$15:$B$50,2,0))","v":""},{"$f":"IF(ISERROR(VLOOKUP(K173,[2]LISTAS!$A$15:$B$50,2,0)),\"\",VLOOKUP(K173,[2]LISTAS!$A$15:$B$50,2,0))","v":""},{"$f":"IF(ISERROR(VLOOKUP(M173,[2]LISTAS!$A$15:$B$50,2,0)),\"\",VLOOKUP(M173,[2]LISTAS!$A$15:$B$50,2,0))","v":""},{"$f":"IF(ISERROR(VLOOKUP(O173,[2]LISTAS!$A$15:$B$50,2,0)),\"\",VLOOKUP(O173,[2]LISTAS!$A$15:$B$50,2,0))","v":""},{"$f":"IF(ISERROR(VLOOKUP(6,[2]LISTAS!$A$15:$B$50,2,0)),\"\",VLOOKUP(6,[2]LISTAS!$A$15:$B$50,2,0))","v":""},null,{"$f":"_xlfn.IFS(T173=\"------\",AD173,T173=\"LA RELACIÓN DE ACTIVIDADES DEBE SER A PARTIR DE LA SIGUIENTE FILA\",\"LA RELACIÓN DE ACTIVIDADES DEBE SER A PARTIR DE LA SIGUIENTE FILA\",T173<>\"------\",T173)","v":""},null,"ok"]
[null,null,null,null,null,null,null,null,null,null,null,null,null,null,null,null,null,null,null,"",{"$f":"IF(ISERROR(VLOOKUP(E174,[2]LISTAS!$A$15:$B$50,2,0)),\"\",VLOOKUP(E174,[2]LISTAS!$A$15:$B$50,2,0))","v":""},{"$f":"IF(ISERROR(VLOOKUP(G174,[2]LISTAS!$A$15:$B$50,2,0)),\"\",VLOOKUP(G174,[2]LISTAS!$A$15:$B$50,2,0))","v":""},{"$f":"IF(ISERROR(VLOOKUP(I174,[2]LISTAS!$A$15:$B$50,2,0)),\"\",VLOOKUP(I174,[2]LISTAS!$A$15:$B$50,2,0))","v":""},{"$f":"IF(ISERROR(VLOOKUP(K174,[2]LISTAS!$A$15:$B$50,2,0)),\"\",VLOOKUP(K174,[2]LISTAS!$A$15:$B$50,2,0))","v":""},{"$f":"IF(ISERROR(VLOOKUP(M174,[2]LISTAS!$A$15:$B$50,2,0)),\"\",VLOOKUP(M174,[2]LISTAS!$A$15:$B$50,2,0))","v":""},{"$f":"IF(ISERROR(VLOOKUP(O174,[2]LISTAS!$A$15:$B$50,2,0)),\"\",VLOOKUP(O174,[2]LISTAS!$A$15:$B$50,2,0))","v":""},{"$f":"IF(ISERROR(VLOOKUP(6,[2]LISTAS!$A$15:$B$50,2,0)),\"\",VLOOKUP(6,[2]LISTAS!$A$15:$B$50,2,0))","v":""},null,{"$f":"_xlfn.IFS(T174=\"------\",AD174,T174=\"LA RELACIÓN DE ACTIVIDADES DEBE SER A PARTIR DE LA SIGUIENTE FILA\",\"LA RELACIÓN DE ACTIVIDADES DEBE SER A PARTIR DE LA SIGUIENTE FILA\",T174<>\"------\",T174)","v":""},null,"ok"]
[null,null,null,null,null,null,null,null,null,null,null,null,null,null,null,null,null,null,null,"",{"$f":"IF(ISERROR(VLOOKUP(E175,[2]LISTAS!$A$15:$B$50,2,0)),\"\",VLOOKUP(E175,[2]LISTAS!$A$15:$B$50,2,0))","v":""},{"$f":"IF(ISERROR(VLOOKUP(G175,[2]LISTAS!$A$15:$B$50,2,0)),\"\",VLOOKUP(G175,[2]LISTAS!$A$15:$B$50,2,0))","v":""},{"$f":"IF(ISERROR(VLOOKUP(I175,[2]LISTAS!$A$15:$B$50,2,0)),\"\",VLOOKUP(I175,[2]LISTAS!$A$15:$B$50,2,0))","v":""},{"$f":"IF(ISERROR(VLOOKUP(K175,[2]LISTAS!$A$15:$B$50,2,0)),\"\",VLOOKUP(K175,[2]LISTAS!$A$15:$B$50,2,0))","v":""},{"$f":"IF(ISERROR(VLOOKUP(M175,[2]LISTAS!$A$15:$B$50,2,0)),\"\",VLOOKUP(M175,[2]LISTAS!$A$15:$B$50,2,0))","v":""},{"$f":"IF(ISERROR(VLOOKUP(O175,[2]LISTAS!$A$15:$B$50,2,0)),\"\",VLOOKUP(O175,[2]LISTAS!$A$15:$B$50,2,0))","v":""},{"$f":"IF(ISERROR(VLOOKUP(6,[2]LISTAS!$A$15:$B$50,2,0)),\"\",VLOOKUP(6,[2]LISTAS!$A$15:$B$50,2,0))","v":""},null,{"$f":"_xlfn.IFS(T175=\"------\",AD175,T175=\"LA RELACIÓN DE ACTIVIDADES DEBE SER A PARTIR DE LA SIGUIENTE FILA\",\"LA RELACIÓN DE ACTIVIDADES DEBE SER A PARTIR DE LA SIGUIENTE FILA\",T175<>\"------\",T175)","v":""},null,"ok"]
[null,null,null,null,null,null,null,null,null,null,null,null,null,null,null,null,null,null,null,"",{"$f":"IF(ISERROR(VLOOKUP(E176,[2]LISTAS!$A$15:$B$50,2,0)),\"\",VLOOKUP(E176,[2]LISTAS!$A$15:$B$50,2,0))","v":""},{"$f":"IF(ISERROR(VLOOKUP(G176,[2]LISTAS!$A$15:$B$50,2,0)),\"\",VLOOKUP(G176,[2]LISTAS!$A$15:$B$50,2,0))","v":""},{"$f":"IF(ISERROR(VLOOKUP(I176,[2]LISTAS!$A$15:$B$50,2,0)),\"\",VLOOKUP(I176,[2]LISTAS!$A$15:$B$50,2,0))","v":""},{"$f":"IF(ISERROR(VLOOKUP(K176,[2]LISTAS!$A$15:$B$50,2,0)),\"\",VLOOKUP(K176,[2]LISTAS!$A$15:$B$50,2,0))","v":""},{"$f":"IF(ISERROR(VLOOKUP(M176,[2]LISTAS!$A$15:$B$50,2,0)),\"\",VLOOKUP(M176,[2]LISTAS!$A$15:$B$50,2,0))","v":""},{"$f":"IF(ISERROR(VLOOKUP(O176,[2]LISTAS!$A$15:$B$50,2,0)),\"\",VLOOKUP(O176,[2]LISTAS!$A$15:$B$50,2,0))","v":""},{"$f":"IF(ISERROR(VLOOKUP(6,[2]LISTAS!$A$15:$B$50,2,0)),\"\",VLOOKUP(6,[2]LISTAS!$A$15:$B$50,2,0))","v":""},null,{"$f":"_xlfn.IFS(T176=\"------\",AD176,T176=\"LA RELACIÓN DE ACTIVIDADES DEBE SER A PARTIR DE LA SIGUIENTE FILA\",\"LA RELACIÓN DE ACTIVIDADES DEBE SER A PARTIR DE LA SIGUIENTE FILA\",T176<>\"------\",T176)","v":""},null,"ok"]
[null,null,null,null,null,null,null,null,null,null,null,null,null,null,null,null,null,null,null,"",{"$f":"IF(ISERROR(VLOOKUP(E177,[2]LISTAS!$A$15:$B$50,2,0)),\"\",VLOOKUP(E177,[2]LISTAS!$A$15:$B$50,2,0))","v":""},{"$f":"IF(ISERROR(VLOOKUP(G177,[2]LISTAS!$A$15:$B$50,2,0)),\"\",VLOOKUP(G177,[2]LISTAS!$A$15:$B$50,2,0))","v":""},{"$f":"IF(ISERROR(VLOOKUP(I177,[2]LISTAS!$A$15:$B$50,2,0)),\"\",VLOOKUP(I177,[2]LISTAS!$A$15:$B$50,2,0))","v":""},{"$f":"IF(ISERROR(VLOOKUP(K177,[2]LISTAS!$A$15:$B$50,2,0)),\"\",VLOOKUP(K177,[2]LISTAS!$A$15:$B$50,2,0))","v":""},{"$f":"IF(ISERROR(VLOOKUP(M177,[2]LISTAS!$A$15:$B$50,2,0)),\"\",VLOOKUP(M177,[2]LISTAS!$A$15:$B$50,2,0))","v":""},{"$f":"IF(ISERROR(VLOOKUP(O177,[2]LISTAS!$A$15:$B$50,2,0)),\"\",VLOOKUP(O177,[2]LISTAS!$A$15:$B$50,2,0))","v":""},{"$f":"IF(ISERROR(VLOOKUP(6,[2]LISTAS!$A$15:$B$50,2,0)),\"\",VLOOKUP(6,[2]LISTAS!$A$15:$B$50,2,0))","v":""},null,{"$f":"_xlfn.IFS(T177=\"------\",AD177,T177=\"LA RELACIÓN DE ACTIVIDADES DEBE SER A PARTIR DE LA SIGUIENTE FILA\",\"LA RELACIÓN DE ACTIVIDADES DEBE SER A PARTIR DE LA SIGUIENTE FILA\",T177<>\"------\",T177)","v":""},null,"ok"]
[null,null,null,null,null,null,null,null,null,null,null,null,null,null,null,null,null,null,null,"",{"$f":"IF(ISERROR(VLOOKUP(E178,[2]LISTAS!$A$15:$B$50,2,0)),\"\",VLOOKUP(E178,[2]LISTAS!$A$15:$B$50,2,0))","v":""},{"$f":"IF(ISERROR(VLOOKUP(G178,[2]LISTAS!$A$15:$B$50,2,0)),\"\",VLOOKUP(G178,[2]LISTAS!$A$15:$B$50,2,0))","v":""},{"$f":"IF(ISERROR(VLOOKUP(I178,[2]LISTAS!$A$15:$B$50,2,0)),\"\",VLOOKUP(I178,[2]LISTAS!$A$15:$B$50,2,0))","v":""},{"$f":"IF(ISERROR(VLOOKUP(K178,[2]LISTAS!$A$15:$B$50,2,0)),\"\",VLOOKUP(K178,[2]LISTAS!$A$15:$B$50,2,0))","v":""},{"$f":"IF(ISERROR(VLOOKUP(M178,[2]LISTAS!$A$15:$B$50,2,0)),\"\",VLOOKUP(M178,[2]LISTAS!$A$15:$B$50,2,0))","v":""},{"$f":"IF(ISERROR(VLOOKUP(O178,[2]LISTAS!$A$15:$B$50,2,0)),\"\",VLOOKUP(O178,[2]LISTAS!$A$15:$B$50,2,0))","v":""},{"$f":"IF(ISERROR(VLOOKUP(6,[2]LISTAS!$A$15:$B$50,2,0)),\"\",VLOOKUP(6,[2]LISTAS!$A$15:$B$50,2,0))","v":""},null,{"$f":"_xlfn.IFS(T178=\"------\",AD178,T178=\"LA RELACIÓN DE ACTIVIDADES DEBE SER A PARTIR DE LA SIGUIENTE FILA\",\"LA RELACIÓN DE ACTIVIDADES DEBE SER A PARTIR DE LA SIGUIENTE FILA\",T178<>\"------\",T178)","v":""},null,"ok"]
[null,null,null,null,null,null,null,null,null,null,null,null,null,null,null,null,null,null,null,"",{"$f":"IF(ISERROR(VLOOKUP(E179,[2]LISTAS!$A$15:$B$50,2,0)),\"\",VLOOKUP(E179,[2]LISTAS!$A$15:$B$50,2,0))","v":""},{"$f":"IF(ISERROR(VLOOKUP(G179,[2]LISTAS!$A$15:$B$50,2,0)),\"\",VLOOKUP(G179,[2]LISTAS!$A$15:$B$50,2,0))","v":""},{"$f":"IF(ISERROR(VLOOKUP(I179,[2]LISTAS!$A$15:$B$50,2,0)),\"\",VLOOKUP(I179,[2]LISTAS!$A$15:$B$50,2,0))","v":""},{"$f":"IF(ISERROR(VLOOKUP(K179,[2]LISTAS!$A$15:$B$50,2,0)),\"\",VLOOKUP(K179,[2]LISTAS!$A$15:$B$50,2,0))","v":""},{"$f":"IF(ISERROR(VLOOKUP(M179,[2]LISTAS!$A$15:$B$50,2,0)),\"\",VLOOKUP(M179,[2]LISTAS!$A$15:$B$50,2,0))","v":""},{"$f":"IF(ISERROR(VLOOKUP(O179,[2]LISTAS!$A$15:$B$50,2,0)),\"\",VLOOKUP(O179,[2]LISTAS!$A$15:$B$50,2,0))","v":""},{"$f":"IF(ISERROR(VLOOKUP(6,[2]LISTAS!$A$15:$B$50,2,0)),\"\",VLOOKUP(6,[2]LISTAS!$A$15:$B$50,2,0))","v":""},null,{"$f":"_xlfn.IFS(T179=\"------\",AD179,T179=\"LA RELACIÓN DE ACTIVIDADES DEBE SER A PARTIR DE LA SIGUIENTE FILA\",\"LA RELACIÓN DE ACTIVIDADES DEBE SER A PARTIR DE LA SIGUIENTE FILA\",T179<>\"------\",T179)","v":""},null,"ok"]
[null,null,null,null,null,null,null,null,null,null,null,null,null,null,null,null,null,null,null,"",{"$f":"IF(ISERROR(VLOOKUP(E180,[2]LISTAS!$A$15:$B$50,2,0)),\"\",VLOOKUP(E180,[2]LISTAS!$A$15:$B$50,2,0))","v":""},{"$f":"IF(ISERROR(VLOOKUP(G180,[2]LISTAS!$A$15:$B$50,2,0)),\"\",VLOOKUP(G180,[2]LISTAS!$A$15:$B$50,2,0))","v":""},{"$f":"IF(ISERROR(VLOOKUP(I180,[2]LISTAS!$A$15:$B$50,2,0)),\"\",VLOOKUP(I180,[2]LISTAS!$A$15:$B$50,2,0))","v":""},{"$f":"IF(ISERROR(VLOOKUP(K180,[2]LISTAS!$A$15:$B$50,2,0)),\"\",VLOOKUP(K180,[2]LISTAS!$A$15:$B$50,2,0))","v":""},{"$f":"IF(ISERROR(VLOOKUP(M180,[2]LISTAS!$A$15:$B$50,2,0)),\"\",VLOOKUP(M180,[2]LISTAS!$A$15:$B$50,2,0))","v":""},{"$f":"IF(ISERROR(VLOOKUP(O180,[2]LISTAS!$A$15:$B$50,2,0)),\"\",VLOOKUP(O180,[2]LISTAS!$A$15:$B$50,2,0))","v":""},{"$f":"IF(ISERROR(VLOOKUP(6,[2]LISTAS!$A$15:$B$50,2,0)),\"\",VLOOKUP(6,[2]LISTAS!$A$15:$B$50,2,0))","v":""},null,{"$f":"_xlfn.IFS(T180=\"------\",AD180,T180=\"LA RELACIÓN DE ACTIVIDADES DEBE SER A PARTIR DE LA SIGUIENTE FILA\",\"LA RELACIÓN DE ACTIVIDADES DEBE SER A PARTIR DE LA SIGUIENTE FILA\",T180<>\"------\",T180)","v":""},null,"ok"]
[null,null,null,null,null,null,null,null,null,null,null,null,null,null,null,null,null,null,null,"",{"$f":"IF(ISERROR(VLOOKUP(E181,[2]LISTAS!$A$15:$B$50,2,0)),\"\",VLOOKUP(E181,[2]LISTAS!$A$15:$B$50,2,0))","v":""},{"$f":"IF(ISERROR(VLOOKUP(G181,[2]LISTAS!$A$15:$B$50,2,0)),\"\",VLOOKUP(G181,[2]LISTAS!$A$15:$B$50,2,0))","v":""},{"$f":"IF(ISERROR(VLOOKUP(I181,[2]LISTAS!$A$15:$B$50,2,0)),\"\",VLOOKUP(I181,[2]LISTAS!$A$15:$B$50,2,0))","v":""},{"$f":"IF(ISERROR(VLOOKUP(K181,[2]LISTAS!$A$15:$B$50,2,0)),\"\",VLOOKUP(K181,[2]LISTAS!$A$15:$B$50,2,0))","v":""},{"$f":"IF(ISERROR(VLOOKUP(M181,[2]LISTAS!$A$15:$B$50,2,0)),\"\",VLOOKUP(M181,[2]LISTAS!$A$15:$B$50,2,0))","v":""},{"$f":"IF(ISERROR(VLOOKUP(O181,[2]LISTAS!$A$15:$B$50,2,0)),\"\",VLOOKUP(O181,[2]LISTAS!$A$15:$B$50,2,0))","v":""},{"$f":"IF(ISERROR(VLOOKUP(6,[2]LISTAS!$A$15:$B$50,2,0)),\"\",VLOOKUP(6,[2]LISTAS!$A$15:$B$50,2,0))","v":""},null,{"$f":"_xlfn.IFS(T181=\"------\",AD181,T181=\"LA RELACIÓN DE ACTIVIDADES DEBE SER A PARTIR DE LA SIGUIENTE FILA\",\"LA RELACIÓN DE ACTIVIDADES DEBE SER A PARTIR DE LA SIGUIENTE FILA\",T181<>\"------\",T181)","v":""},null,"ok"]
[null,null,null,null,null,null,null,null,null,null,null,null,null,null,null,null,null,null,null,"",{"$f":"IF(ISERROR(VLOOKUP(E182,[2]LISTAS!$A$15:$B$50,2,0)),\"\",VLOOKUP(E182,[2]LISTAS!$A$15:$B$50,2,0))","v":""},{"$f":"IF(ISERROR(VLOOKUP(G182,[2]LISTAS!$A$15:$B$50,2,0)),\"\",VLOOKUP(G182,[2]LISTAS!$A$15:$B$50,2,0))","v":""},{"$f":"IF(ISERROR(VLOOKUP(I182,[2]LISTAS!$A$15:$B$50,2,0)),\"\",VLOOKUP(I182,[2]LISTAS!$A$15:$B$50,2,0))","v":""},{"$f":"IF(ISERROR(VLOOKUP(K182,[2]LISTAS!$A$15:$B$50,2,0)),\"\",VLOOKUP(K182,[2]LISTAS!$A$15:$B$50,2,0))","v":""},{"$f":"IF(ISERROR(VLOOKUP(M182,[2]LISTAS!$A$15:$B$50,2,0)),\"\",VLOOKUP(M182,[2]LISTAS!$A$15:$B$50,2,0))","v":""},{"$f":"IF(ISERROR(VLOOKUP(O182,[2]LISTAS!$A$15:$B$50,2,0)),\"\",VLOOKUP(O182,[2]LISTAS!$A$15:$B$50,2,0))","v":""},{"$f":"IF(ISERROR(VLOOKUP(6,[2]LISTAS!$A$15:$B$50,2,0)),\"\",VLOOKUP(6,[2]LISTAS!$A$15:$B$50,2,0))","v":""},null,{"$f":"_xlfn.IFS(T182=\"------\",AD182,T182=\"LA RELACIÓN DE ACTIVIDADES DEBE SER A PARTIR DE LA SIGUIENTE FILA\",\"LA RELACIÓN DE ACTIVIDADES DEBE SER A PARTIR DE LA SIGUIENTE FILA\",T182<>\"------\",T182)","v":""},null,"ok"]
[null,null,null,null,null,null,null,null,null,null,null,null,null,null,null,null,null,null,null,{"$f":"IF(AND(B183=\"\",C183=\"\"),\"\",IF(AND(D183<>\"\"),U183&\"-\"&V183&\"-\"&W183&\"-\"&X183&\"-\"&Y183&\"-\"&Z183&\"-\"&AA183,IF(AND(C183<>\"\"),\"LA RELACIÓN DE ACTIVIDADES DEBE SER A PARTIR DE LA SIGUIENTE FILA\",)))","v":""},{"$f":"IF(ISERROR(VLOOKUP(E183,[2]LISTAS!$A$15:$B$50,2,0)),\"\",VLOOKUP(E183,[2]LISTAS!$A$15:$B$50,2,0))","v":""},{"$f":"IF(ISERROR(VLOOKUP(G183,[2]LISTAS!$A$15:$B$50,2,0)),\"\",VLOOKUP(G183,[2]LISTAS!$A$15:$B$50,2,0))","v":""},{"$f":"IF(ISERROR(VLOOKUP(I183,[2]LISTAS!$A$15:$B$50,2,0)),\"\",VLOOKUP(I183,[2]LISTAS!$A$15:$B$50,2,0))","v":""},{"$f":"IF(ISERROR(VLOOKUP(K183,[2]LISTAS!$A$15:$B$50,2,0)),\"\",VLOOKUP(K183,[2]LISTAS!$A$15:$B$50,2,0))","v":""},{"$f":"IF(ISERROR(VLOOKUP(M183,[2]LISTAS!$A$15:$B$50,2,0)),\"\",VLOOKUP(M183,[2]LISTAS!$A$15:$B$50,2,0))","v":""},{"$f":"IF(ISERROR(VLOOKUP(O183,[2]LISTAS!$A$15:$B$50,2,0)),\"\",VLOOKUP(O183,[2]LISTAS!$A$15:$B$50,2,0))","v":""},{"$f":"IF(ISERROR(VLOOKUP(6,[2]LISTAS!$A$15:$B$50,2,0)),\"\",VLOOKUP(6,[2]LISTAS!$A$15:$B$50,2,0))","v":""},null,{"$f":"_xlfn.IFS(T183=\"------\",AD183,T183=\"LA RELACIÓN DE ACTIVIDADES DEBE SER A PARTIR DE LA SIGUIENTE FILA\",\"LA RELACIÓN DE ACTIVIDADES DEBE SER A PARTIR DE LA SIGUIENTE FILA\",T183<>\"------\",T183)","v":""},null,"ok"]
[null,null,null,null,null,null,null,null,null,null,null,null,null,null,null,null,null,null,null,"",{"$f":"IF(ISERROR(VLOOKUP(E184,[2]LISTAS!$A$15:$B$50,2,0)),\"\",VLOOKUP(E184,[2]LISTAS!$A$15:$B$50,2,0))","v":""},{"$f":"IF(ISERROR(VLOOKUP(G184,[2]LISTAS!$A$15:$B$50,2,0)),\"\",VLOOKUP(G184,[2]LISTAS!$A$15:$B$50,2,0))","v":""},{"$f":"IF(ISERROR(VLOOKUP(I184,[2]LISTAS!$A$15:$B$50,2,0)),\"\",VLOOKUP(I184,[2]LISTAS!$A$15:$B$50,2,0))","v":""},{"$f":"IF(ISERROR(VLOOKUP(K184,[2]LISTAS!$A$15:$B$50,2,0)),\"\",VLOOKUP(K184,[2]LISTAS!$A$15:$B$50,2,0))","v":""},{"$f":"IF(ISERROR(VLOOKUP(M184,[2]LISTAS!$A$15:$B$50,2,0)),\"\",VLOOKUP(M184,[2]LISTAS!$A$15:$B$50,2,0))","v":""},{"$f":"IF(ISERROR(VLOOKUP(O184,[2]LISTAS!$A$15:$B$50,2,0)),\"\",VLOOKUP(O184,[2]LISTAS!$A$15:$B$50,2,0))","v":""},{"$f":"IF(ISERROR(VLOOKUP(6,[2]LISTAS!$A$15:$B$50,2,0)),\"\",VLOOKUP(6,[2]LISTAS!$A$15:$B$50,2,0))","v":""},null,{"$f":"_xlfn.IFS(T184=\"------\",AD184,T184=\"LA RELACIÓN DE ACTIVIDADES DEBE SER A PARTIR DE LA SIGUIENTE FILA\",\"LA RELACIÓN DE ACTIVIDADES DEBE SER A PARTIR DE LA SIGUIENTE FILA\",T184<>\"------\",T184)","v":""},null,"ok"]
[null,null,null,null,null,null,null,null,null,null,null,null,null,null,null,null,null,null,null,"",{"$f":"IF(ISERROR(VLOOKUP(E185,[2]LISTAS!$A$15:$B$50,2,0)),\"\",VLOOKUP(E185,[2]LISTAS!$A$15:$B$50,2,0))","v":""},{"$f":"IF(ISERROR(VLOOKUP(G185,[2]LISTAS!$A$15:$B$50,2,0)),\"\",VLOOKUP(G185,[2]LISTAS!$A$15:$B$50,2,0))","v":""},{"$f":"IF(ISERROR(VLOOKUP(I185,[2]LISTAS!$A$15:$B$50,2,0)),\"\",VLOOKUP(I185,[2]LISTAS!$A$15:$B$50,2,0))","v":""},{"$f":"IF(ISERROR(VLOOKUP(K185,[2]LISTAS!$A$15:$B$50,2,0)),\"\",VLOOKUP(K185,[2]LISTAS!$A$15:$B$50,2,0))","v":""},{"$f":"IF(ISERROR(VLOOKUP(M185,[2]LISTAS!$A$15:$B$50,2,0)),\"\",VLOOKUP(M185,[2]LISTAS!$A$15:$B$50,2,0))","v":""},{"$f":"IF(ISERROR(VLOOKUP(O185,[2]LISTAS!$A$15:$B$50,2,0)),\"\",VLOOKUP(O185,[2]LISTAS!$A$15:$B$50,2,0))","v":""},{"$f":"IF(ISERROR(VLOOKUP(6,[2]LISTAS!$A$15:$B$50,2,0)),\"\",VLOOKUP(6,[2]LISTAS!$A$15:$B$50,2,0))","v":""},null,{"$f":"_xlfn.IFS(T185=\"------\",AD185,T185=\"LA RELACIÓN DE ACTIVIDADES DEBE SER A PARTIR DE LA SIGUIENTE FILA\",\"LA RELACIÓN DE ACTIVIDADES DEBE SER A PARTIR DE LA SIGUIENTE FILA\",T185<>\"------\",T185)","v":""},null,"ok"]
[null,null,null,null,null,null,null,null,null,null,null,null,null,null,null,null,null,null,null,"",{"$f":"IF(ISERROR(VLOOKUP(E186,[2]LISTAS!$A$15:$B$50,2,0)),\"\",VLOOKUP(E186,[2]LISTAS!$A$15:$B$50,2,0))","v":""},{"$f":"IF(ISERROR(VLOOKUP(G186,[2]LISTAS!$A$15:$B$50,2,0)),\"\",VLOOKUP(G186,[2]LISTAS!$A$15:$B$50,2,0))","v":""},{"$f":"IF(ISERROR(VLOOKUP(I186,[2]LISTAS!$A$15:$B$50,2,0)),\"\",VLOOKUP(I186,[2]LISTAS!$A$15:$B$50,2,0))","v":""},{"$f":"IF(ISERROR(VLOOKUP(K186,[2]LISTAS!$A$15:$B$50,2,0)),\"\",VLOOKUP(K186,[2]LISTAS!$A$15:$B$50,2,0))","v":""},{"$f":"IF(ISERROR(VLOOKUP(M186,[2]LISTAS!$A$15:$B$50,2,0)),\"\",VLOOKUP(M186,[2]LISTAS!$A$15:$B$50,2,0))","v":""},{"$f":"IF(ISERROR(VLOOKUP(O186,[2]LISTAS!$A$15:$B$50,2,0)),\"\",VLOOKUP(O186,[2]LISTAS!$A$15:$B$50,2,0))","v":""},{"$f":"IF(ISERROR(VLOOKUP(6,[2]LISTAS!$A$15:$B$50,2,0)),\"\",VLOOKUP(6,[2]LISTAS!$A$15:$B$50,2,0))","v":""},null,{"$f":"_xlfn.IFS(T186=\"------\",AD186,T186=\"LA RELACIÓN DE ACTIVIDADES DEBE SER A PARTIR DE LA SIGUIENTE FILA\",\"LA RELACIÓN DE ACTIVIDADES DEBE SER A PARTIR DE LA SIGUIENTE FILA\",T186<>\"------\",T186)","v":""},null,"ok"]
[null,null,null,null,null,null,null,null,null,null,null,null,null,null,null,null,null,null,null,"",{"$f":"IF(ISERROR(VLOOKUP(E187,[2]LISTAS!$A$15:$B$50,2,0)),\"\",VLOOKUP(E187,[2]LISTAS!$A$15:$B$50,2,0))","v":""},{"$f":"IF(ISERROR(VLOOKUP(G187,[2]LISTAS!$A$15:$B$50,2,0)),\"\",VLOOKUP(G187,[2]LISTAS!$A$15:$B$50,2,0))","v":""},{"$f":"IF(ISERROR(VLOOKUP(I187,[2]LISTAS!$A$15:$B$50,2,0)),\"\",VLOOKUP(I187,[2]LISTAS!$A$15:$B$50,2,0))","v":""},{"$f":"IF(ISERROR(VLOOKUP(K187,[2]LISTAS!$A$15:$B$50,2,0)),\"\",VLOOKUP(K187,[2]LISTAS!$A$15:$B$50,2,0))","v":""},{"$f":"IF(ISERROR(VLOOKUP(M187,[2]LISTAS!$A$15:$B$50,2,0)),\"\",VLOOKUP(M187,[2]LISTAS!$A$15:$B$50,2,0))","v":""},{"$f":"IF(ISERROR(VLOOKUP(O187,[2]LISTAS!$A$15:$B$50,2,0)),\"\",VLOOKUP(O187,[2]LISTAS!$A$15:$B$50,2,0))","v":""},{"$f":"IF(ISERROR(VLOOKUP(6,[2]LISTAS!$A$15:$B$50,2,0)),\"\",VLOOKUP(6,[2]LISTAS!$A$15:$B$50,2,0))","v":""},null,{"$f":"_xlfn.IFS(T187=\"------\",AD187,T187=\"LA RELACIÓN DE ACTIVIDADES DEBE SER A PARTIR DE LA SIGUIENTE FILA\",\"LA RELACIÓN DE ACTIVIDADES DEBE SER A PARTIR DE LA SIGUIENTE FILA\",T187<>\"------\",T187)","v":""},null,"ok"]
[null,null,null,null,null,null,null,null,null,null,null,null,null,null,null,null,null,null,null,"",{"$f":"IF(ISERROR(VLOOKUP(E188,[2]LISTAS!$A$15:$B$50,2,0)),\"\",VLOOKUP(E188,[2]LISTAS!$A$15:$B$50,2,0))","v":""},{"$f":"IF(ISERROR(VLOOKUP(G188,[2]LISTAS!$A$15:$B$50,2,0)),\"\",VLOOKUP(G188,[2]LISTAS!$A$15:$B$50,2,0))","v":""},{"$f":"IF(ISERROR(VLOOKUP(I188,[2]LISTAS!$A$15:$B$50,2,0)),\"\",VLOOKUP(I188,[2]LISTAS!$A$15:$B$50,2,0))","v":""},{"$f":"IF(ISERROR(VLOOKUP(K188,[2]LISTAS!$A$15:$B$50,2,0)),\"\",VLOOKUP(K188,[2]LISTAS!$A$15:$B$50,2,0))","v":""},{"$f":"IF(ISERROR(VLOOKUP(M188,[2]LISTAS!$A$15:$B$50,2,0)),\"\",VLOOKUP(M188,[2]LISTAS!$A$15:$B$50,2,0))","v":""},{"$f":"IF(ISERROR(VLOOKUP(O188,[2]LISTAS!$A$15:$B$50,2,0)),\"\",VLOOKUP(O188,[2]LISTAS!$A$15:$B$50,2,0))","v":""},{"$f":"IF(ISERROR(VLOOKUP(6,[2]LISTAS!$A$15:$B$50,2,0)),\"\",VLOOKUP(6,[2]LISTAS!$A$15:$B$50,2,0))","v":""},null,{"$f":"_xlfn.IFS(T188=\"------\",AD188,T188=\"LA RELACIÓN DE ACTIVIDADES DEBE SER A PARTIR DE LA SIGUIENTE FILA\",\"LA RELACIÓN DE ACTIVIDADES DEBE SER A PARTIR DE LA SIGUIENTE FILA\",T188<>\"------\",T188)","v":""},null,"ok"]
[null,null,null,null,null,null,null,null,null,null,null,null,null,null,null,null,null,null,null,"",{"$f":"IF(ISERROR(VLOOKUP(E189,[2]LISTAS!$A$15:$B$50,2,0)),\"\",VLOOKUP(E189,[2]LISTAS!$A$15:$B$50,2,0))","v":""},{"$f":"IF(ISERROR(VLOOKUP(G189,[2]LISTAS!$A$15:$B$50,2,0)),\"\",VLOOKUP(G189,[2]LISTAS!$A$15:$B$50,2,0))","v":""},{"$f":"IF(ISERROR(VLOOKUP(I189,[2]LISTAS!$A$15:$B$50,2,0)),\"\",VLOOKUP(I189,[2]LISTAS!$A$15:$B$50,2,0))","v":""},{"$f":"IF(ISERROR(VLOOKUP(K189,[2]LISTAS!$A$15:$B$50,2,0)),\"\",VLOOKUP(K189,[2]LISTAS!$A$15:$B$50,2,0))","v":""},{"$f":"IF(ISERROR(VLOOKUP(M189,[2]LISTAS!$A$15:$B$50,2,0)),\"\",VLOOKUP(M189,[2]LISTAS!$A$15:$B$50,2,0))","v":""},{"$f":"IF(ISERROR(VLOOKUP(O189,[2]LISTAS!$A$15:$B$50,2,0)),\"\",VLOOKUP(O189,[2]LISTAS!$A$15:$B$50,2,0))","v":""},{"$f":"IF(ISERROR(VLOOKUP(6,[2]LISTAS!$A$15:$B$50,2,0)),\"\",VLOOKUP(6,[2]LISTAS!$A$15:$B$50,2,0))","v":""},null,{"$f":"_xlfn.IFS(T189=\"------\",AD189,T189=\"LA RELACIÓN DE ACTIVIDADES DEBE SER A PARTIR DE LA SIGUIENTE FILA\",\"LA RELACIÓN DE ACTIVIDADES DEBE SER A PARTIR DE LA SIGUIENTE FILA\",T189<>\"------\",T189)","v":""},null,"ok"]
[null,null,null,null,null,null,null,null,null,null,null,null,null,null,null,null,null,null,null,"",{"$f":"IF(ISERROR(VLOOKUP(E190,[2]LISTAS!$A$15:$B$50,2,0)),\"\",VLOOKUP(E190,[2]LISTAS!$A$15:$B$50,2,0))","v":""},{"$f":"IF(ISERROR(VLOOKUP(G190,[2]LISTAS!$A$15:$B$50,2,0)),\"\",VLOOKUP(G190,[2]LISTAS!$A$15:$B$50,2,0))","v":""},{"$f":"IF(ISERROR(VLOOKUP(I190,[2]LISTAS!$A$15:$B$50,2,0)),\"\",VLOOKUP(I190,[2]LISTAS!$A$15:$B$50,2,0))","v":""},{"$f":"IF(ISERROR(VLOOKUP(K190,[2]LISTAS!$A$15:$B$50,2,0)),\"\",VLOOKUP(K190,[2]LISTAS!$A$15:$B$50,2,0))","v":""},{"$f":"IF(ISERROR(VLOOKUP(M190,[2]LISTAS!$A$15:$B$50,2,0)),\"\",VLOOKUP(M190,[2]LISTAS!$A$15:$B$50,2,0))","v":""},{"$f":"IF(ISERROR(VLOOKUP(O190,[2]LISTAS!$A$15:$B$50,2,0)),\"\",VLOOKUP(O190,[2]LISTAS!$A$15:$B$50,2,0))","v":""},{"$f":"IF(ISERROR(VLOOKUP(6,[2]LISTAS!$A$15:$B$50,2,0)),\"\",VLOOKUP(6,[2]LISTAS!$A$15:$B$50,2,0))","v":""},null,{"$f":"_xlfn.IFS(T190=\"------\",AD190,T190=\"LA RELACIÓN DE ACTIVIDADES DEBE SER A PARTIR DE LA SIGUIENTE FILA\",\"LA RELACIÓN DE ACTIVIDADES DEBE SER A PARTIR DE LA SIGUIENTE FILA\",T190<>\"------\",T190)","v":""},null,"ok"]
[null,null,null,null,null,null,null,null,null,null,null,null,null,null,null,null,null,null,null,"",{"$f":"IF(ISERROR(VLOOKUP(E191,[2]LISTAS!$A$15:$B$50,2,0)),\"\",VLOOKUP(E191,[2]LISTAS!$A$15:$B$50,2,0))","v":""},{"$f":"IF(ISERROR(VLOOKUP(G191,[2]LISTAS!$A$15:$B$50,2,0)),\"\",VLOOKUP(G191,[2]LISTAS!$A$15:$B$50,2,0))","v":""},{"$f":"IF(ISERROR(VLOOKUP(I191,[2]LISTAS!$A$15:$B$50,2,0)),\"\",VLOOKUP(I191,[2]LISTAS!$A$15:$B$50,2,0))","v":""},{"$f":"IF(ISERROR(VLOOKUP(K191,[2]LISTAS!$A$15:$B$50,2,0)),\"\",VLOOKUP(K191,[2]LISTAS!$A$15:$B$50,2,0))","v":""},{"$f":"IF(ISERROR(VLOOKUP(M191,[2]LISTAS!$A$15:$B$50,2,0)),\"\",VLOOKUP(M191,[2]LISTAS!$A$15:$B$50,2,0))","v":""},{"$f":"IF(ISERROR(VLOOKUP(O191,[2]LISTAS!$A$15:$B$50,2,0)),\"\",VLOOKUP(O191,[2]LISTAS!$A$15:$B$50,2,0))","v":""},{"$f":"IF(ISERROR(VLOOKUP(6,[2]LISTAS!$A$15:$B$50,2,0)),\"\",VLOOKUP(6,[2]LISTAS!$A$15:$B$50,2,0))","v":""},null,{"$f":"_xlfn.IFS(T191=\"------\",AD191,T191=\"LA RELACIÓN DE ACTIVIDADES DEBE SER A PARTIR DE LA SIGUIENTE FILA\",\"LA RELACIÓN DE ACTIVIDADES DEBE SER A PARTIR DE LA SIGUIENTE FILA\",T191<>\"------\",T191)","v":""},null,"ok"]
[null,null,null,null,null,null,null,null,null,null,null,null,null,null,null,null,null,null,null,"",{"$f":"IF(ISERROR(VLOOKUP(E192,[2]LISTAS!$A$15:$B$50,2,0)),\"\",VLOOKUP(E192,[2]LISTAS!$A$15:$B$50,2,0))","v":""},{"$f":"IF(ISERROR(VLOOKUP(G192,[2]LISTAS!$A$15:$B$50,2,0)),\"\",VLOOKUP(G192,[2]LISTAS!$A$15:$B$50,2,0))","v":""},{"$f":"IF(ISERROR(VLOOKUP(I192,[2]LISTAS!$A$15:$B$50,2,0)),\"\",VLOOKUP(I192,[2]LISTAS!$A$15:$B$50,2,0))","v":""},{"$f":"IF(ISERROR(VLOOKUP(K192,[2]LISTAS!$A$15:$B$50,2,0)),\"\",VLOOKUP(K192,[2]LISTAS!$A$15:$B$50,2,0))","v":""},{"$f":"IF(ISERROR(VLOOKUP(M192,[2]LISTAS!$A$15:$B$50,2,0)),\"\",VLOOKUP(M192,[2]LISTAS!$A$15:$B$50,2,0))","v":""},{"$f":"IF(ISERROR(VLOOKUP(O192,[2]LISTAS!$A$15:$B$50,2,0)),\"\",VLOOKUP(O192,[2]LISTAS!$A$15:$B$50,2,0))","v":""},{"$f":"IF(ISERROR(VLOOKUP(6,[2]LISTAS!$A$15:$B$50,2,0)),\"\",VLOOKUP(6,[2]LISTAS!$A$15:$B$50,2,0))","v":""},null,{"$f":"_xlfn.IFS(T192=\"------\",AD192,T192=\"LA RELACIÓN DE ACTIVIDADES DEBE SER A PARTIR DE LA SIGUIENTE FILA\",\"LA RELACIÓN DE ACTIVIDADES DEBE SER A PARTIR DE LA SIGUIENTE FILA\",T192<>\"------\",T192)","v":""},null,"ok"]
[null,null,null,null,null,null,null,null,null,null,null,null,null,null,null,null,null,null,null,"",{"$f":"IF(ISERROR(VLOOKUP(E193,[2]LISTAS!$A$15:$B$50,2,0)),\"\",VLOOKUP(E193,[2]LISTAS!$A$15:$B$50,2,0))","v":""},{"$f":"IF(ISERROR(VLOOKUP(G193,[2]LISTAS!$A$15:$B$50,2,0)),\"\",VLOOKUP(G193,[2]LISTAS!$A$15:$B$50,2,0))","v":""},{"$f":"IF(ISERROR(VLOOKUP(I193,[2]LISTAS!$A$15:$B$50,2,0)),\"\",VLOOKUP(I193,[2]LISTAS!$A$15:$B$50,2,0))","v":""},{"$f":"IF(ISERROR(VLOOKUP(K193,[2]LISTAS!$A$15:$B$50,2,0)),\"\",VLOOKUP(K193,[2]LISTAS!$A$15:$B$50,2,0))","v":""},{"$f":"IF(ISERROR(VLOOKUP(M193,[2]LISTAS!$A$15:$B$50,2,0)),\"\",VLOOKUP(M193,[2]LISTAS!$A$15:$B$50,2,0))","v":""},{"$f":"IF(ISERROR(VLOOKUP(O193,[2]LISTAS!$A$15:$B$50,2,0)),\"\",VLOOKUP(O193,[2]LISTAS!$A$15:$B$50,2,0))","v":""},{"$f":"IF(ISERROR(VLOOKUP(6,[2]LISTAS!$A$15:$B$50,2,0)),\"\",VLOOKUP(6,[2]LISTAS!$A$15:$B$50,2,0))","v":""},null,{"$f":"_xlfn.IFS(T193=\"------\",AD193,T193=\"LA RELACIÓN DE ACTIVIDADES DEBE SER A PARTIR DE LA SIGUIENTE FILA\",\"LA RELACIÓN DE ACTIVIDADES DEBE SER A PARTIR DE LA SIGUIENTE FILA\",T193<>\"------\",T193)","v":""},null,"ok"]
[null,null,null,null,null,null,null,null,null,null,null,null,null,null,null,null,null,null,null,"",{"$f":"IF(ISERROR(VLOOKUP(E194,[2]LISTAS!$A$15:$B$50,2,0)),\"\",VLOOKUP(E194,[2]LISTAS!$A$15:$B$50,2,0))","v":""},{"$f":"IF(ISERROR(VLOOKUP(G194,[2]LISTAS!$A$15:$B$50,2,0)),\"\",VLOOKUP(G194,[2]LISTAS!$A$15:$B$50,2,0))","v":""},{"$f":"IF(ISERROR(VLOOKUP(I194,[2]LISTAS!$A$15:$B$50,2,0)),\"\",VLOOKUP(I194,[2]LISTAS!$A$15:$B$50,2,0))","v":""},{"$f":"IF(ISERROR(VLOOKUP(K194,[2]LISTAS!$A$15:$B$50,2,0)),\"\",VLOOKUP(K194,[2]LISTAS!$A$15:$B$50,2,0))","v":""},{"$f":"IF(ISERROR(VLOOKUP(M194,[2]LISTAS!$A$15:$B$50,2,0)),\"\",VLOOKUP(M194,[2]LISTAS!$A$15:$B$50,2,0))","v":""},{"$f":"IF(ISERROR(VLOOKUP(O194,[2]LISTAS!$A$15:$B$50,2,0)),\"\",VLOOKUP(O194,[2]LISTAS!$A$15:$B$50,2,0))","v":""},{"$f":"IF(ISERROR(VLOOKUP(6,[2]LISTAS!$A$15:$B$50,2,0)),\"\",VLOOKUP(6,[2]LISTAS!$A$15:$B$50,2,0))","v":""},null,{"$f":"_xlfn.IFS(T194=\"------\",AD194,T194=\"LA RELACIÓN DE ACTIVIDADES DEBE SER A PARTIR DE LA SIGUIENTE FILA\",\"LA RELACIÓN DE ACTIVIDADES DEBE SER A PARTIR DE LA SIGUIENTE FILA\",T194<>\"------\",T194)","v":""},null,"ok"]
[null,null,null,null,null,null,null,null,null,null,null,null,null,null,null,null,null,null,null,"",{"$f":"IF(ISERROR(VLOOKUP(E195,[2]LISTAS!$A$15:$B$50,2,0)),\"\",VLOOKUP(E195,[2]LISTAS!$A$15:$B$50,2,0))","v":""},{"$f":"IF(ISERROR(VLOOKUP(G195,[2]LISTAS!$A$15:$B$50,2,0)),\"\",VLOOKUP(G195,[2]LISTAS!$A$15:$B$50,2,0))","v":""},{"$f":"IF(ISERROR(VLOOKUP(I195,[2]LISTAS!$A$15:$B$50,2,0)),\"\",VLOOKUP(I195,[2]LISTAS!$A$15:$B$50,2,0))","v":""},{"$f":"IF(ISERROR(VLOOKUP(K195,[2]LISTAS!$A$15:$B$50,2,0)),\"\",VLOOKUP(K195,[2]LISTAS!$A$15:$B$50,2,0))","v":""},{"$f":"IF(ISERROR(VLOOKUP(M195,[2]LISTAS!$A$15:$B$50,2,0)),\"\",VLOOKUP(M195,[2]LISTAS!$A$15:$B$50,2,0))","v":""},{"$f":"IF(ISERROR(VLOOKUP(O195,[2]LISTAS!$A$15:$B$50,2,0)),\"\",VLOOKUP(O195,[2]LISTAS!$A$15:$B$50,2,0))","v":""},{"$f":"IF(ISERROR(VLOOKUP(6,[2]LISTAS!$A$15:$B$50,2,0)),\"\",VLOOKUP(6,[2]LISTAS!$A$15:$B$50,2,0))","v":""},null,{"$f":"_xlfn.IFS(T195=\"------\",AD195,T195=\"LA RELACIÓN DE ACTIVIDADES DEBE SER A PARTIR DE LA SIGUIENTE FILA\",\"LA RELACIÓN DE ACTIVIDADES DEBE SER A PARTIR DE LA SIGUIENTE FILA\",T195<>\"------\",T195)","v":""},null,"ok"]
[null,null,null,null,null,null,null,null,null,null,null,null,null,null,null,null,null,null,null,"",{"$f":"IF(ISERROR(VLOOKUP(E196,[2]LISTAS!$A$15:$B$50,2,0)),\"\",VLOOKUP(E196,[2]LISTAS!$A$15:$B$50,2,0))","v":""},{"$f":"IF(ISERROR(VLOOKUP(G196,[2]LISTAS!$A$15:$B$50,2,0)),\"\",VLOOKUP(G196,[2]LISTAS!$A$15:$B$50,2,0))","v":""},{"$f":"IF(ISERROR(VLOOKUP(I196,[2]LISTAS!$A$15:$B$50,2,0)),\"\",VLOOKUP(I196,[2]LISTAS!$A$15:$B$50,2,0))","v":""},{"$f":"IF(ISERROR(VLOOKUP(K196,[2]LISTAS!$A$15:$B$50,2,0)),\"\",VLOOKUP(K196,[2]LISTAS!$A$15:$B$50,2,0))","v":""},{"$f":"IF(ISERROR(VLOOKUP(M196,[2]LISTAS!$A$15:$B$50,2,0)),\"\",VLOOKUP(M196,[2]LISTAS!$A$15:$B$50,2,0))","v":""},{"$f":"IF(ISERROR(VLOOKUP(O196,[2]LISTAS!$A$15:$B$50,2,0)),\"\",VLOOKUP(O196,[2]LISTAS!$A$15:$B$50,2,0))","v":""},{"$f":"IF(ISERROR(VLOOKUP(6,[2]LISTAS!$A$15:$B$50,2,0)),\"\",VLOOKUP(6,[2]LISTAS!$A$15:$B$50,2,0))","v":""},null,{"$f":"_xlfn.IFS(T196=\"------\",AD196,T196=\"LA RELACIÓN DE ACTIVIDADES DEBE SER A PARTIR DE LA SIGUIENTE FILA\",\"LA RELACIÓN DE ACTIVIDADES DEBE SER A PARTIR DE LA SIGUIENTE FILA\",T196<>\"------\",T196)","v":""},null,"ok"]
[null,null,null,null,null,null,null,null,null,null,null,null,null,null,null,null,null,null,null,"",{"$f":"IF(ISERROR(VLOOKUP(E197,[2]LISTAS!$A$15:$B$50,2,0)),\"\",VLOOKUP(E197,[2]LISTAS!$A$15:$B$50,2,0))","v":""},{"$f":"IF(ISERROR(VLOOKUP(G197,[2]LISTAS!$A$15:$B$50,2,0)),\"\",VLOOKUP(G197,[2]LISTAS!$A$15:$B$50,2,0))","v":""},{"$f":"IF(ISERROR(VLOOKUP(I197,[2]LISTAS!$A$15:$B$50,2,0)),\"\",VLOOKUP(I197,[2]LISTAS!$A$15:$B$50,2,0))","v":""},{"$f":"IF(ISERROR(VLOOKUP(K197,[2]LISTAS!$A$15:$B$50,2,0)),\"\",VLOOKUP(K197,[2]LISTAS!$A$15:$B$50,2,0))","v":""},{"$f":"IF(ISERROR(VLOOKUP(M197,[2]LISTAS!$A$15:$B$50,2,0)),\"\",VLOOKUP(M197,[2]LISTAS!$A$15:$B$50,2,0))","v":""},{"$f":"IF(ISERROR(VLOOKUP(O197,[2]LISTAS!$A$15:$B$50,2,0)),\"\",VLOOKUP(O197,[2]LISTAS!$A$15:$B$50,2,0))","v":""},{"$f":"IF(ISERROR(VLOOKUP(6,[2]LISTAS!$A$15:$B$50,2,0)),\"\",VLOOKUP(6,[2]LISTAS!$A$15:$B$50,2,0))","v":""},null,{"$f":"_xlfn.IFS(T197=\"------\",AD197,T197=\"LA RELACIÓN DE ACTIVIDADES DEBE SER A PARTIR DE LA SIGUIENTE FILA\",\"LA RELACIÓN DE ACTIVIDADES DEBE SER A PARTIR DE LA SIGUIENTE FILA\",T197<>\"------\",T197)","v":""},null,"ok"]
[null,null,null,null,null,null,null,null,null,null,null,null,null,null,null,null,null,null,null,"",{"$f":"IF(ISERROR(VLOOKUP(E198,[2]LISTAS!$A$15:$B$50,2,0)),\"\",VLOOKUP(E198,[2]LISTAS!$A$15:$B$50,2,0))","v":""},{"$f":"IF(ISERROR(VLOOKUP(G198,[2]LISTAS!$A$15:$B$50,2,0)),\"\",VLOOKUP(G198,[2]LISTAS!$A$15:$B$50,2,0))","v":""},{"$f":"IF(ISERROR(VLOOKUP(I198,[2]LISTAS!$A$15:$B$50,2,0)),\"\",VLOOKUP(I198,[2]LISTAS!$A$15:$B$50,2,0))","v":""},{"$f":"IF(ISERROR(VLOOKUP(K198,[2]LISTAS!$A$15:$B$50,2,0)),\"\",VLOOKUP(K198,[2]LISTAS!$A$15:$B$50,2,0))","v":""},{"$f":"IF(ISERROR(VLOOKUP(M198,[2]LISTAS!$A$15:$B$50,2,0)),\"\",VLOOKUP(M198,[2]LISTAS!$A$15:$B$50,2,0))","v":""},{"$f":"IF(ISERROR(VLOOKUP(O198,[2]LISTAS!$A$15:$B$50,2,0)),\"\",VLOOKUP(O198,[2]LISTAS!$A$15:$B$50,2,0))","v":""},{"$f":"IF(ISERROR(VLOOKUP(6,[2]LISTAS!$A$15:$B$50,2,0)),\"\",VLOOKUP(6,[2]LISTAS!$A$15:$B$50,2,0))","v":""},null,{"$f":"_xlfn.IFS(T198=\"------\",AD198,T198=\"LA RELACIÓN DE ACTIVIDADES DEBE SER A PARTIR DE LA SIGUIENTE FILA\",\"LA RELACIÓN DE ACTIVIDADES DEBE SER A PARTIR DE LA SIGUIENTE FILA\",T198<>\"------\",T198)","v":""},null,"ok"]
[null,null,null,null,null,null,null,null,null,null,null,null,null,null,null,null,null,null,null,"",{"$f":"IF(ISERROR(VLOOKUP(E199,[2]LISTAS!$A$15:$B$50,2,0)),\"\",VLOOKUP(E199,[2]LISTAS!$A$15:$B$50,2,0))","v":""},{"$f":"IF(ISERROR(VLOOKUP(G199,[2]LISTAS!$A$15:$B$50,2,0)),\"\",VLOOKUP(G199,[2]LISTAS!$A$15:$B$50,2,0))","v":""},{"$f":"IF(ISERROR(VLOOKUP(I199,[2]LISTAS!$A$15:$B$50,2,0)),\"\",VLOOKUP(I199,[2]LISTAS!$A$15:$B$50,2,0))","v":""},{"$f":"IF(ISERROR(VLOOKUP(K199,[2]LISTAS!$A$15:$B$50,2,0)),\"\",VLOOKUP(K199,[2]LISTAS!$A$15:$B$50,2,0))","v":""},{"$f":"IF(ISERROR(VLOOKUP(M199,[2]LISTAS!$A$15:$B$50,2,0)),\"\",VLOOKUP(M199,[2]LISTAS!$A$15:$B$50,2,0))","v":""},{"$f":"IF(ISERROR(VLOOKUP(O199,[2]LISTAS!$A$15:$B$50,2,0)),\"\",VLOOKUP(O199,[2]LISTAS!$A$15:$B$50,2,0))","v":""},{"$f":"IF(ISERROR(VLOOKUP(6,[2]LISTAS!$A$15:$B$50,2,0)),\"\",VLOOKUP(6,[2]LISTAS!$A$15:$B$50,2,0))","v":""},null,{"$f":"_xlfn.IFS(T199=\"------\",AD199,T199=\"LA RELACIÓN DE ACTIVIDADES DEBE SER A PARTIR DE LA SIGUIENTE FILA\",\"LA RELACIÓN DE ACTIVIDADES DEBE SER A PARTIR DE LA SIGUIENTE FILA\",T199<>\"------\",T199)","v":""},null,"ok"]
[null,null,null,null,null,null,null,null,null,null,null,null,null,null,null,null,null,null,null,"",{"$f":"IF(ISERROR(VLOOKUP(E200,[2]LISTAS!$A$15:$B$50,2,0)),\"\",VLOOKUP(E200,[2]LISTAS!$A$15:$B$50,2,0))","v":""},{"$f":"IF(ISERROR(VLOOKUP(G200,[2]LISTAS!$A$15:$B$50,2,0)),\"\",VLOOKUP(G200,[2]LISTAS!$A$15:$B$50,2,0))","v":""},{"$f":"IF(ISERROR(VLOOKUP(I200,[2]LISTAS!$A$15:$B$50,2,0)),\"\",VLOOKUP(I200,[2]LISTAS!$A$15:$B$50,2,0))","v":""},{"$f":"IF(ISERROR(VLOOKUP(K200,[2]LISTAS!$A$15:$B$50,2,0)),\"\",VLOOKUP(K200,[2]LISTAS!$A$15:$B$50,2,0))","v":""},{"$f":"IF(ISERROR(VLOOKUP(M200,[2]LISTAS!$A$15:$B$50,2,0)),\"\",VLOOKUP(M200,[2]LISTAS!$A$15:$B$50,2,0))","v":""},{"$f":"IF(ISERROR(VLOOKUP(O200,[2]LISTAS!$A$15:$B$50,2,0)),\"\",VLOOKUP(O200,[2]LISTAS!$A$15:$B$50,2,0))","v":""},{"$f":"IF(ISERROR(VLOOKUP(6,[2]LISTAS!$A$15:$B$50,2,0)),\"\",VLOOKUP(6,[2]LISTAS!$A$15:$B$50,2,0))","v":""},null,{"$f":"_xlfn.IFS(T200=\"------\",AD200,T200=\"LA RELACIÓN DE ACTIVIDADES DEBE SER A PARTIR DE LA SIGUIENTE FILA\",\"LA RELACIÓN DE ACTIVIDADES DEBE SER A PARTIR DE LA SIGUIENTE FILA\",T200<>\"------\",T200)","v":""},null,"ok"]
[null,null,null,null,null,null,null,null,null,null,null,null,null,null,null,null,null,null,null,"",{"$f":"IF(ISERROR(VLOOKUP(E201,[2]LISTAS!$A$15:$B$50,2,0)),\"\",VLOOKUP(E201,[2]LISTAS!$A$15:$B$50,2,0))","v":""},{"$f":"IF(ISERROR(VLOOKUP(G201,[2]LISTAS!$A$15:$B$50,2,0)),\"\",VLOOKUP(G201,[2]LISTAS!$A$15:$B$50,2,0))","v":""},{"$f":"IF(ISERROR(VLOOKUP(I201,[2]LISTAS!$A$15:$B$50,2,0)),\"\",VLOOKUP(I201,[2]LISTAS!$A$15:$B$50,2,0))","v":""},{"$f":"IF(ISERROR(VLOOKUP(K201,[2]LISTAS!$A$15:$B$50,2,0)),\"\",VLOOKUP(K201,[2]LISTAS!$A$15:$B$50,2,0))","v":""},{"$f":"IF(ISERROR(VLOOKUP(M201,[2]LISTAS!$A$15:$B$50,2,0)),\"\",VLOOKUP(M201,[2]LISTAS!$A$15:$B$50,2,0))","v":""},{"$f":"IF(ISERROR(VLOOKUP(O201,[2]LISTAS!$A$15:$B$50,2,0)),\"\",VLOOKUP(O201,[2]LISTAS!$A$15:$B$50,2,0))","v":""},{"$f":"IF(ISERROR(VLOOKUP(6,[2]LISTAS!$A$15:$B$50,2,0)),\"\",VLOOKUP(6,[2]LISTAS!$A$15:$B$50,2,0))","v":""},null,{"$f":"_xlfn.IFS(T201=\"------\",AD201,T201=\"LA RELACIÓN DE ACTIVIDADES DEBE SER A PARTIR DE LA SIGUIENTE FILA\",\"LA RELACIÓN DE ACTIVIDADES DEBE SER A PARTIR DE LA SIGUIENTE FILA\",T201<>\"------\",T201)","v":""},null,"ok"]
[null,null,null,null,null,null,null,null,null,null,null,null,null,null,null,null,null,null,null,"",{"$f":"IF(ISERROR(VLOOKUP(E202,[2]LISTAS!$A$15:$B$50,2,0)),\"\",VLOOKUP(E202,[2]LISTAS!$A$15:$B$50,2,0))","v":""},{"$f":"IF(ISERROR(VLOOKUP(G202,[2]LISTAS!$A$15:$B$50,2,0)),\"\",VLOOKUP(G202,[2]LISTAS!$A$15:$B$50,2,0))","v":""},{"$f":"IF(ISERROR(VLOOKUP(I202,[2]LISTAS!$A$15:$B$50,2,0)),\"\",VLOOKUP(I202,[2]LISTAS!$A$15:$B$50,2,0))","v":""},{"$f":"IF(ISERROR(VLOOKUP(K202,[2]LISTAS!$A$15:$B$50,2,0)),\"\",VLOOKUP(K202,[2]LISTAS!$A$15:$B$50,2,0))","v":""},{"$f":"IF(ISERROR(VLOOKUP(M202,[2]LISTAS!$A$15:$B$50,2,0)),\"\",VLOOKUP(M202,[2]LISTAS!$A$15:$B$50,2,0))","v":""},{"$f":"IF(ISERROR(VLOOKUP(O202,[2]LISTAS!$A$15:$B$50,2,0)),\"\",VLOOKUP(O202,[2]LISTAS!$A$15:$B$50,2,0))","v":""},{"$f":"IF(ISERROR(VLOOKUP(6,[2]LISTAS!$A$15:$B$50,2,0)),\"\",VLOOKUP(6,[2]LISTAS!$A$15:$B$50,2,0))","v":""},null,{"$f":"_xlfn.IFS(T202=\"------\",AD202,T202=\"LA RELACIÓN DE ACTIVIDADES DEBE SER A PARTIR DE LA SIGUIENTE FILA\",\"LA RELACIÓN DE ACTIVIDADES DEBE SER A PARTIR DE LA SIGUIENTE FILA\",T202<>\"------\",T202)","v":""},null,"ok"]
[null,null,null,null,null,null,null,null,null,null,null,null,null,null,null,null,null,null,null,"",{"$f":"IF(ISERROR(VLOOKUP(E203,[2]LISTAS!$A$15:$B$50,2,0)),\"\",VLOOKUP(E203,[2]LISTAS!$A$15:$B$50,2,0))","v":""},{"$f":"IF(ISERROR(VLOOKUP(G203,[2]LISTAS!$A$15:$B$50,2,0)),\"\",VLOOKUP(G203,[2]LISTAS!$A$15:$B$50,2,0))","v":""},{"$f":"IF(ISERROR(VLOOKUP(I203,[2]LISTAS!$A$15:$B$50,2,0)),\"\",VLOOKUP(I203,[2]LISTAS!$A$15:$B$50,2,0))","v":""},{"$f":"IF(ISERROR(VLOOKUP(K203,[2]LISTAS!$A$15:$B$50,2,0)),\"\",VLOOKUP(K203,[2]LISTAS!$A$15:$B$50,2,0))","v":""},{"$f":"IF(ISERROR(VLOOKUP(M203,[2]LISTAS!$A$15:$B$50,2,0)),\"\",VLOOKUP(M203,[2]LISTAS!$A$15:$B$50,2,0))","v":""},{"$f":"IF(ISERROR(VLOOKUP(O203,[2]LISTAS!$A$15:$B$50,2,0)),\"\",VLOOKUP(O203,[2]LISTAS!$A$15:$B$50,2,0))","v":""},{"$f":"IF(ISERROR(VLOOKUP(6,[2]LISTAS!$A$15:$B$50,2,0)),\"\",VLOOKUP(6,[2]LISTAS!$A$15:$B$50,2,0))","v":""},null,{"$f":"_xlfn.IFS(T203=\"------\",AD203,T203=\"LA RELACIÓN DE ACTIVIDADES DEBE SER A PARTIR DE LA SIGUIENTE FILA\",\"LA RELACIÓN DE ACTIVIDADES DEBE SER A PARTIR DE LA SIGUIENTE FILA\",T203<>\"------\",T203)","v":""},null,"ok"]
[null,null,null,null,null,null,null,null,null,null,null,null,null,null,null,null,null,null,null,"",{"$f":"IF(ISERROR(VLOOKUP(E204,[2]LISTAS!$A$15:$B$50,2,0)),\"\",VLOOKUP(E204,[2]LISTAS!$A$15:$B$50,2,0))","v":""},{"$f":"IF(ISERROR(VLOOKUP(G204,[2]LISTAS!$A$15:$B$50,2,0)),\"\",VLOOKUP(G204,[2]LISTAS!$A$15:$B$50,2,0))","v":""},{"$f":"IF(ISERROR(VLOOKUP(I204,[2]LISTAS!$A$15:$B$50,2,0)),\"\",VLOOKUP(I204,[2]LISTAS!$A$15:$B$50,2,0))","v":""},{"$f":"IF(ISERROR(VLOOKUP(K204,[2]LISTAS!$A$15:$B$50,2,0)),\"\",VLOOKUP(K204,[2]LISTAS!$A$15:$B$50,2,0))","v":""},{"$f":"IF(ISERROR(VLOOKUP(M204,[2]LISTAS!$A$15:$B$50,2,0)),\"\",VLOOKUP(M204,[2]LISTAS!$A$15:$B$50,2,0))","v":""},{"$f":"IF(ISERROR(VLOOKUP(O204,[2]LISTAS!$A$15:$B$50,2,0)),\"\",VLOOKUP(O204,[2]LISTAS!$A$15:$B$50,2,0))","v":""},{"$f":"IF(ISERROR(VLOOKUP(6,[2]LISTAS!$A$15:$B$50,2,0)),\"\",VLOOKUP(6,[2]LISTAS!$A$15:$B$50,2,0))","v":""},null,{"$f":"_xlfn.IFS(T204=\"------\",AD204,T204=\"LA RELACIÓN DE ACTIVIDADES DEBE SER A PARTIR DE LA SIGUIENTE FILA\",\"LA RELACIÓN DE ACTIVIDADES DEBE SER A PARTIR DE LA SIGUIENTE FILA\",T204<>\"------\",T204)","v":""},null,"ok"]
[null,null,null,null,null,null,null,null,null,null,null,null,null,null,null,null,null,null,null,"",{"$f":"IF(ISERROR(VLOOKUP(E205,[2]LISTAS!$A$15:$B$50,2,0)),\"\",VLOOKUP(E205,[2]LISTAS!$A$15:$B$50,2,0))","v":""},{"$f":"IF(ISERROR(VLOOKUP(G205,[2]LISTAS!$A$15:$B$50,2,0)),\"\",VLOOKUP(G205,[2]LISTAS!$A$15:$B$50,2,0))","v":""},{"$f":"IF(ISERROR(VLOOKUP(I205,[2]LISTAS!$A$15:$B$50,2,0)),\"\",VLOOKUP(I205,[2]LISTAS!$A$15:$B$50,2,0))","v":""},{"$f":"IF(ISERROR(VLOOKUP(K205,[2]LISTAS!$A$15:$B$50,2,0)),\"\",VLOOKUP(K205,[2]LISTAS!$A$15:$B$50,2,0))","v":""},{"$f":"IF(ISERROR(VLOOKUP(M205,[2]LISTAS!$A$15:$B$50,2,0)),\"\",VLOOKUP(M205,[2]LISTAS!$A$15:$B$50,2,0))","v":""},{"$f":"IF(ISERROR(VLOOKUP(O205,[2]LISTAS!$A$15:$B$50,2,0)),\"\",VLOOKUP(O205,[2]LISTAS!$A$15:$B$50,2,0))","v":""},{"$f":"IF(ISERROR(VLOOKUP(6,[2]LISTAS!$A$15:$B$50,2,0)),\"\",VLOOKUP(6,[2]LISTAS!$A$15:$B$50,2,0))","v":""},null,{"$f":"_xlfn.IFS(T205=\"------\",AD205,T205=\"LA RELACIÓN DE ACTIVIDADES DEBE SER A PARTIR DE LA SIGUIENTE FILA\",\"LA RELACIÓN DE ACTIVIDADES DEBE SER A PARTIR DE LA SIGUIENTE FILA\",T205<>\"------\",T205)","v":""},null,"ok"]
[null,null,null,null,null,null,null,null,null,null,null,null,null,null,null,null,null,null,null,"",{"$f":"IF(ISERROR(VLOOKUP(E206,[2]LISTAS!$A$15:$B$50,2,0)),\"\",VLOOKUP(E206,[2]LISTAS!$A$15:$B$50,2,0))","v":""},{"$f":"IF(ISERROR(VLOOKUP(G206,[2]LISTAS!$A$15:$B$50,2,0)),\"\",VLOOKUP(G206,[2]LISTAS!$A$15:$B$50,2,0))","v":""},{"$f":"IF(ISERROR(VLOOKUP(I206,[2]LISTAS!$A$15:$B$50,2,0)),\"\",VLOOKUP(I206,[2]LISTAS!$A$15:$B$50,2,0))","v":""},{"$f":"IF(ISERROR(VLOOKUP(K206,[2]LISTAS!$A$15:$B$50,2,0)),\"\",VLOOKUP(K206,[2]LISTAS!$A$15:$B$50,2,0))","v":""},{"$f":"IF(ISERROR(VLOOKUP(M206,[2]LISTAS!$A$15:$B$50,2,0)),\"\",VLOOKUP(M206,[2]LISTAS!$A$15:$B$50,2,0))","v":""},{"$f":"IF(ISERROR(VLOOKUP(O206,[2]LISTAS!$A$15:$B$50,2,0)),\"\",VLOOKUP(O206,[2]LISTAS!$A$15:$B$50,2,0))","v":""},{"$f":"IF(ISERROR(VLOOKUP(6,[2]LISTAS!$A$15:$B$50,2,0)),\"\",VLOOKUP(6,[2]LISTAS!$A$15:$B$50,2,0))","v":""},null,{"$f":"_xlfn.IFS(T206=\"------\",AD206,T206=\"LA RELACIÓN DE ACTIVIDADES DEBE SER A PARTIR DE LA SIGUIENTE FILA\",\"LA RELACIÓN DE ACTIVIDADES DEBE SER A PARTIR DE LA SIGUIENTE FILA\",T206<>\"------\",T206)","v":""},null,"ok"]
[null,null,null,null,null,null,null,null,null,null,null,null,null,null,null,null,null,null,null,"",{"$f":"IF(ISERROR(VLOOKUP(E207,[2]LISTAS!$A$15:$B$50,2,0)),\"\",VLOOKUP(E207,[2]LISTAS!$A$15:$B$50,2,0))","v":""},{"$f":"IF(ISERROR(VLOOKUP(G207,[2]LISTAS!$A$15:$B$50,2,0)),\"\",VLOOKUP(G207,[2]LISTAS!$A$15:$B$50,2,0))","v":""},{"$f":"IF(ISERROR(VLOOKUP(I207,[2]LISTAS!$A$15:$B$50,2,0)),\"\",VLOOKUP(I207,[2]LISTAS!$A$15:$B$50,2,0))","v":""},{"$f":"IF(ISERROR(VLOOKUP(K207,[2]LISTAS!$A$15:$B$50,2,0)),\"\",VLOOKUP(K207,[2]LISTAS!$A$15:$B$50,2,0))","v":""},{"$f":"IF(ISERROR(VLOOKUP(M207,[2]LISTAS!$A$15:$B$50,2,0)),\"\",VLOOKUP(M207,[2]LISTAS!$A$15:$B$50,2,0))","v":""},{"$f":"IF(ISERROR(VLOOKUP(O207,[2]LISTAS!$A$15:$B$50,2,0)),\"\",VLOOKUP(O207,[2]LISTAS!$A$15:$B$50,2,0))","v":""},{"$f":"IF(ISERROR(VLOOKUP(6,[2]LISTAS!$A$15:$B$50,2,0)),\"\",VLOOKUP(6,[2]LISTAS!$A$15:$B$50,2,0))","v":""},null,{"$f":"_xlfn.IFS(T207=\"------\",AD207,T207=\"LA RELACIÓN DE ACTIVIDADES DEBE SER A PARTIR DE LA SIGUIENTE FILA\",\"LA RELACIÓN DE ACTIVIDADES DEBE SER A PARTIR DE LA SIGUIENTE FILA\",T207<>\"------\",T207)","v":""},null,"ok"]
[null,null,null,null,null,null,null,null,null,null,null,null,null,null,null,null,null,null,null,"",{"$f":"IF(ISERROR(VLOOKUP(E208,[2]LISTAS!$A$15:$B$50,2,0)),\"\",VLOOKUP(E208,[2]LISTAS!$A$15:$B$50,2,0))","v":""},{"$f":"IF(ISERROR(VLOOKUP(G208,[2]LISTAS!$A$15:$B$50,2,0)),\"\",VLOOKUP(G208,[2]LISTAS!$A$15:$B$50,2,0))","v":""},{"$f":"IF(ISERROR(VLOOKUP(I208,[2]LISTAS!$A$15:$B$50,2,0)),\"\",VLOOKUP(I208,[2]LISTAS!$A$15:$B$50,2,0))","v":""},{"$f":"IF(ISERROR(VLOOKUP(K208,[2]LISTAS!$A$15:$B$50,2,0)),\"\",VLOOKUP(K208,[2]LISTAS!$A$15:$B$50,2,0))","v":""},{"$f":"IF(ISERROR(VLOOKUP(M208,[2]LISTAS!$A$15:$B$50,2,0)),\"\",VLOOKUP(M208,[2]LISTAS!$A$15:$B$50,2,0))","v":""},{"$f":"IF(ISERROR(VLOOKUP(O208,[2]LISTAS!$A$15:$B$50,2,0)),\"\",VLOOKUP(O208,[2]LISTAS!$A$15:$B$50,2,0))","v":""},{"$f":"IF(ISERROR(VLOOKUP(6,[2]LISTAS!$A$15:$B$50,2,0)),\"\",VLOOKUP(6,[2]LISTAS!$A$15:$B$50,2,0))","v":""},null,{"$f":"_xlfn.IFS(T208=\"------\",AD208,T208=\"LA RELACIÓN DE ACTIVIDADES DEBE SER A PARTIR DE LA SIGUIENTE FILA\",\"LA RELACIÓN DE ACTIVIDADES DEBE SER A PARTIR DE LA SIGUIENTE FILA\",T208<>\"------\",T208)","v":""},null,"ok"]
[null,null,null,null,null,null,null,null,null,null,null,null,null,null,null,null,null,null,null,"",{"$f":"IF(ISERROR(VLOOKUP(E209,[2]LISTAS!$A$15:$B$50,2,0)),\"\",VLOOKUP(E209,[2]LISTAS!$A$15:$B$50,2,0))","v":""},{"$f":"IF(ISERROR(VLOOKUP(G209,[2]LISTAS!$A$15:$B$50,2,0)),\"\",VLOOKUP(G209,[2]LISTAS!$A$15:$B$50,2,0))","v":""},{"$f":"IF(ISERROR(VLOOKUP(I209,[2]LISTAS!$A$15:$B$50,2,0)),\"\",VLOOKUP(I209,[2]LISTAS!$A$15:$B$50,2,0))","v":""},{"$f":"IF(ISERROR(VLOOKUP(K209,[2]LISTAS!$A$15:$B$50,2,0)),\"\",VLOOKUP(K209,[2]LISTAS!$A$15:$B$50,2,0))","v":""},{"$f":"IF(ISERROR(VLOOKUP(M209,[2]LISTAS!$A$15:$B$50,2,0)),\"\",VLOOKUP(M209,[2]LISTAS!$A$15:$B$50,2,0))","v":""},{"$f":"IF(ISERROR(VLOOKUP(O209,[2]LISTAS!$A$15:$B$50,2,0)),\"\",VLOOKUP(O209,[2]LISTAS!$A$15:$B$50,2,0))","v":""},{"$f":"IF(ISERROR(VLOOKUP(6,[2]LISTAS!$A$15:$B$50,2,0)),\"\",VLOOKUP(6,[2]LISTAS!$A$15:$B$50,2,0))","v":""},null,{"$f":"_xlfn.IFS(T209=\"------\",AD209,T209=\"LA RELACIÓN DE ACTIVIDADES DEBE SER A PARTIR DE LA SIGUIENTE FILA\",\"LA RELACIÓN DE ACTIVIDADES DEBE SER A PARTIR DE LA SIGUIENTE FILA\",T209<>\"------\",T209)","v":""},null,"ok"]
[null,null,null,null,null,null,null,null,null,null,null,null,null,null,null,null,null,null,null,"",{"$f":"IF(ISERROR(VLOOKUP(E210,[2]LISTAS!$A$15:$B$50,2,0)),\"\",VLOOKUP(E210,[2]LISTAS!$A$15:$B$50,2,0))","v":""},{"$f":"IF(ISERROR(VLOOKUP(G210,[2]LISTAS!$A$15:$B$50,2,0)),\"\",VLOOKUP(G210,[2]LISTAS!$A$15:$B$50,2,0))","v":""},{"$f":"IF(ISERROR(VLOOKUP(I210,[2]LISTAS!$A$15:$B$50,2,0)),\"\",VLOOKUP(I210,[2]LISTAS!$A$15:$B$50,2,0))","v":""},{"$f":"IF(ISERROR(VLOOKUP(K210,[2]LISTAS!$A$15:$B$50,2,0)),\"\",VLOOKUP(K210,[2]LISTAS!$A$15:$B$50,2,0))","v":""},{"$f":"IF(ISERROR(VLOOKUP(M210,[2]LISTAS!$A$15:$B$50,2,0)),\"\",VLOOKUP(M210,[2]LISTAS!$A$15:$B$50,2,0))","v":""},{"$f":"IF(ISERROR(VLOOKUP(O210,[2]LISTAS!$A$15:$B$50,2,0)),\"\",VLOOKUP(O210,[2]LISTAS!$A$15:$B$50,2,0))","v":""},{"$f":"IF(ISERROR(VLOOKUP(6,[2]LISTAS!$A$15:$B$50,2,0)),\"\",VLOOKUP(6,[2]LISTAS!$A$15:$B$50,2,0))","v":""},null,{"$f":"_xlfn.IFS(T210=\"------\",AD210,T210=\"LA RELACIÓN DE ACTIVIDADES DEBE SER A PARTIR DE LA SIGUIENTE FILA\",\"LA RELACIÓN DE ACTIVIDADES DEBE SER A PARTIR DE LA SIGUIENTE FILA\",T210<>\"------\",T210)","v":""},null,"ok"]
[null,null,null,null,null,null,null,null,null,null,null,null,null,null,null,null,null,null,null,"",{"$f":"IF(ISERROR(VLOOKUP(E211,[2]LISTAS!$A$15:$B$50,2,0)),\"\",VLOOKUP(E211,[2]LISTAS!$A$15:$B$50,2,0))","v":""},{"$f":"IF(ISERROR(VLOOKUP(G211,[2]LISTAS!$A$15:$B$50,2,0)),\"\",VLOOKUP(G211,[2]LISTAS!$A$15:$B$50,2,0))","v":""},{"$f":"IF(ISERROR(VLOOKUP(I211,[2]LISTAS!$A$15:$B$50,2,0)),\"\",VLOOKUP(I211,[2]LISTAS!$A$15:$B$50,2,0))","v":""},{"$f":"IF(ISERROR(VLOOKUP(K211,[2]LISTAS!$A$15:$B$50,2,0)),\"\",VLOOKUP(K211,[2]LISTAS!$A$15:$B$50,2,0))","v":""},{"$f":"IF(ISERROR(VLOOKUP(M211,[2]LISTAS!$A$15:$B$50,2,0)),\"\",VLOOKUP(M211,[2]LISTAS!$A$15:$B$50,2,0))","v":""},{"$f":"IF(ISERROR(VLOOKUP(O211,[2]LISTAS!$A$15:$B$50,2,0)),\"\",VLOOKUP(O211,[2]LISTAS!$A$15:$B$50,2,0))","v":""},{"$f":"IF(ISERROR(VLOOKUP(6,[2]LISTAS!$A$15:$B$50,2,0)),\"\",VLOOKUP(6,[2]LISTAS!$A$15:$B$50,2,0))","v":""},null,{"$f":"_xlfn.IFS(T211=\"------\",AD211,T211=\"LA RELACIÓN DE ACTIVIDADES DEBE SER A PARTIR DE LA SIGUIENTE FILA\",\"LA RELACIÓN DE ACTIVIDADES DEBE SER A PARTIR DE LA SIGUIENTE FILA\",T211<>\"------\",T211)","v":""},null,"ok"]
[null,null,null,null,null,null,null,null,null,null,null,null,null,null,null,null,null,null,null,"",{"$f":"IF(ISERROR(VLOOKUP(E212,[2]LISTAS!$A$15:$B$50,2,0)),\"\",VLOOKUP(E212,[2]LISTAS!$A$15:$B$50,2,0))","v":""},{"$f":"IF(ISERROR(VLOOKUP(G212,[2]LISTAS!$A$15:$B$50,2,0)),\"\",VLOOKUP(G212,[2]LISTAS!$A$15:$B$50,2,0))","v":""},{"$f":"IF(ISERROR(VLOOKUP(I212,[2]LISTAS!$A$15:$B$50,2,0)),\"\",VLOOKUP(I212,[2]LISTAS!$A$15:$B$50,2,0))","v":""},{"$f":"IF(ISERROR(VLOOKUP(K212,[2]LISTAS!$A$15:$B$50,2,0)),\"\",VLOOKUP(K212,[2]LISTAS!$A$15:$B$50,2,0))","v":""},{"$f":"IF(ISERROR(VLOOKUP(M212,[2]LISTAS!$A$15:$B$50,2,0)),\"\",VLOOKUP(M212,[2]LISTAS!$A$15:$B$50,2,0))","v":""},{"$f":"IF(ISERROR(VLOOKUP(O212,[2]LISTAS!$A$15:$B$50,2,0)),\"\",VLOOKUP(O212,[2]LISTAS!$A$15:$B$50,2,0))","v":""},{"$f":"IF(ISERROR(VLOOKUP(6,[2]LISTAS!$A$15:$B$50,2,0)),\"\",VLOOKUP(6,[2]LISTAS!$A$15:$B$50,2,0))","v":""},null,{"$f":"_xlfn.IFS(T212=\"------\",AD212,T212=\"LA RELACIÓN DE ACTIVIDADES DEBE SER A PARTIR DE LA SIGUIENTE FILA\",\"LA RELACIÓN DE ACTIVIDADES DEBE SER A PARTIR DE LA SIGUIENTE FILA\",T212<>\"------\",T212)","v":""},null,"ok"]
[null,null,null,null,null,null,null,null,null,null,null,null,null,null,null,null,null,null,null,"",{"$f":"IF(ISERROR(VLOOKUP(E213,[2]LISTAS!$A$15:$B$50,2,0)),\"\",VLOOKUP(E213,[2]LISTAS!$A$15:$B$50,2,0))","v":""},{"$f":"IF(ISERROR(VLOOKUP(G213,[2]LISTAS!$A$15:$B$50,2,0)),\"\",VLOOKUP(G213,[2]LISTAS!$A$15:$B$50,2,0))","v":""},{"$f":"IF(ISERROR(VLOOKUP(I213,[2]LISTAS!$A$15:$B$50,2,0)),\"\",VLOOKUP(I213,[2]LISTAS!$A$15:$B$50,2,0))","v":""},{"$f":"IF(ISERROR(VLOOKUP(K213,[2]LISTAS!$A$15:$B$50,2,0)),\"\",VLOOKUP(K213,[2]LISTAS!$A$15:$B$50,2,0))","v":""},{"$f":"IF(ISERROR(VLOOKUP(M213,[2]LISTAS!$A$15:$B$50,2,0)),\"\",VLOOKUP(M213,[2]LISTAS!$A$15:$B$50,2,0))","v":""},{"$f":"IF(ISERROR(VLOOKUP(O213,[2]LISTAS!$A$15:$B$50,2,0)),\"\",VLOOKUP(O213,[2]LISTAS!$A$15:$B$50,2,0))","v":""},{"$f":"IF(ISERROR(VLOOKUP(6,[2]LISTAS!$A$15:$B$50,2,0)),\"\",VLOOKUP(6,[2]LISTAS!$A$15:$B$50,2,0))","v":""},null,{"$f":"_xlfn.IFS(T213=\"------\",AD213,T213=\"LA RELACIÓN DE ACTIVIDADES DEBE SER A PARTIR DE LA SIGUIENTE FILA\",\"LA RELACIÓN DE ACTIVIDADES DEBE SER A PARTIR DE LA SIGUIENTE FILA\",T213<>\"------\",T213)","v":""},null,"ok"]
[null,null,null,null,null,null,null,null,null,null,null,null,null,null,null,null,null,null,null,"",{"$f":"IF(ISERROR(VLOOKUP(E214,[2]LISTAS!$A$15:$B$50,2,0)),\"\",VLOOKUP(E214,[2]LISTAS!$A$15:$B$50,2,0))","v":""},{"$f":"IF(ISERROR(VLOOKUP(G214,[2]LISTAS!$A$15:$B$50,2,0)),\"\",VLOOKUP(G214,[2]LISTAS!$A$15:$B$50,2,0))","v":""},{"$f":"IF(ISERROR(VLOOKUP(I214,[2]LISTAS!$A$15:$B$50,2,0)),\"\",VLOOKUP(I214,[2]LISTAS!$A$15:$B$50,2,0))","v":""},{"$f":"IF(ISERROR(VLOOKUP(K214,[2]LISTAS!$A$15:$B$50,2,0)),\"\",VLOOKUP(K214,[2]LISTAS!$A$15:$B$50,2,0))","v":""},{"$f":"IF(ISERROR(VLOOKUP(M214,[2]LISTAS!$A$15:$B$50,2,0)),\"\",VLOOKUP(M214,[2]LISTAS!$A$15:$B$50,2,0))","v":""},{"$f":"IF(ISERROR(VLOOKUP(O214,[2]LISTAS!$A$15:$B$50,2,0)),\"\",VLOOKUP(O214,[2]LISTAS!$A$15:$B$50,2,0))","v":""},{"$f":"IF(ISERROR(VLOOKUP(6,[2]LISTAS!$A$15:$B$50,2,0)),\"\",VLOOKUP(6,[2]LISTAS!$A$15:$B$50,2,0))","v":""},null,{"$f":"_xlfn.IFS(T214=\"------\",AD214,T214=\"LA RELACIÓN DE ACTIVIDADES DEBE SER A PARTIR DE LA SIGUIENTE FILA\",\"LA RELACIÓN DE ACTIVIDADES DEBE SER A PARTIR DE LA SIGUIENTE FILA\",T214<>\"------\",T214)","v":""},null,"ok"]
[null,null,null,null,null,null,null,null,null,null,null,null,null,null,null,null,null,null,null,"",{"$f":"IF(ISERROR(VLOOKUP(E215,[2]LISTAS!$A$15:$B$50,2,0)),\"\",VLOOKUP(E215,[2]LISTAS!$A$15:$B$50,2,0))","v":""},{"$f":"IF(ISERROR(VLOOKUP(G215,[2]LISTAS!$A$15:$B$50,2,0)),\"\",VLOOKUP(G215,[2]LISTAS!$A$15:$B$50,2,0))","v":""},{"$f":"IF(ISERROR(VLOOKUP(I215,[2]LISTAS!$A$15:$B$50,2,0)),\"\",VLOOKUP(I215,[2]LISTAS!$A$15:$B$50,2,0))","v":""},{"$f":"IF(ISERROR(VLOOKUP(K215,[2]LISTAS!$A$15:$B$50,2,0)),\"\",VLOOKUP(K215,[2]LISTAS!$A$15:$B$50,2,0))","v":""},{"$f":"IF(ISERROR(VLOOKUP(M215,[2]LISTAS!$A$15:$B$50,2,0)),\"\",VLOOKUP(M215,[2]LISTAS!$A$15:$B$50,2,0))","v":""},{"$f":"IF(ISERROR(VLOOKUP(O215,[2]LISTAS!$A$15:$B$50,2,0)),\"\",VLOOKUP(O215,[2]LISTAS!$A$15:$B$50,2,0))","v":""},{"$f":"IF(ISERROR(VLOOKUP(6,[2]LISTAS!$A$15:$B$50,2,0)),\"\",VLOOKUP(6,[2]LISTAS!$A$15:$B$50,2,0))","v":""},null,{"$f":"_xlfn.IFS(T215=\"------\",AD215,T215=\"LA RELACIÓN DE ACTIVIDADES DEBE SER A PARTIR DE LA SIGUIENTE FILA\",\"LA RELACIÓN DE ACTIVIDADES DEBE SER A PARTIR DE LA SIGUIENTE FILA\",T215<>\"------\",T215)","v":""},null,"ok"]
[null,null,null,null,null,null,null,null,null,null,null,null,null,null,null,null,null,null,null,"",{"$f":"IF(ISERROR(VLOOKUP(E216,[2]LISTAS!$A$15:$B$50,2,0)),\"\",VLOOKUP(E216,[2]LISTAS!$A$15:$B$50,2,0))","v":""},{"$f":"IF(ISERROR(VLOOKUP(G216,[2]LISTAS!$A$15:$B$50,2,0)),\"\",VLOOKUP(G216,[2]LISTAS!$A$15:$B$50,2,0))","v":""},{"$f":"IF(ISERROR(VLOOKUP(I216,[2]LISTAS!$A$15:$B$50,2,0)),\"\",VLOOKUP(I216,[2]LISTAS!$A$15:$B$50,2,0))","v":""},{"$f":"IF(ISERROR(VLOOKUP(K216,[2]LISTAS!$A$15:$B$50,2,0)),\"\",VLOOKUP(K216,[2]LISTAS!$A$15:$B$50,2,0))","v":""},{"$f":"IF(ISERROR(VLOOKUP(M216,[2]LISTAS!$A$15:$B$50,2,0)),\"\",VLOOKUP(M216,[2]LISTAS!$A$15:$B$50,2,0))","v":""},{"$f":"IF(ISERROR(VLOOKUP(O216,[2]LISTAS!$A$15:$B$50,2,0)),\"\",VLOOKUP(O216,[2]LISTAS!$A$15:$B$50,2,0))","v":""},{"$f":"IF(ISERROR(VLOOKUP(6,[2]LISTAS!$A$15:$B$50,2,0)),\"\",VLOOKUP(6,[2]LISTAS!$A$15:$B$50,2,0))","v":""},null,{"$f":"_xlfn.IFS(T216=\"------\",AD216,T216=\"LA RELACIÓN DE ACTIVIDADES DEBE SER A PARTIR DE LA SIGUIENTE FILA\",\"LA RELACIÓN DE ACTIVIDADES DEBE SER A PARTIR DE LA SIGUIENTE FILA\",T216<>\"------\",T216)","v":""},null,"ok"]
[null,null,null,null,null,null,null,null,null,null,null,null,null,null,null,null,null,null,null,"",{"$f":"IF(ISERROR(VLOOKUP(E217,[2]LISTAS!$A$15:$B$50,2,0)),\"\",VLOOKUP(E217,[2]LISTAS!$A$15:$B$50,2,0))","v":""},{"$f":"IF(ISERROR(VLOOKUP(G217,[2]LISTAS!$A$15:$B$50,2,0)),\"\",VLOOKUP(G217,[2]LISTAS!$A$15:$B$50,2,0))","v":""},{"$f":"IF(ISERROR(VLOOKUP(I217,[2]LISTAS!$A$15:$B$50,2,0)),\"\",VLOOKUP(I217,[2]LISTAS!$A$15:$B$50,2,0))","v":""},{"$f":"IF(ISERROR(VLOOKUP(K217,[2]LISTAS!$A$15:$B$50,2,0)),\"\",VLOOKUP(K217,[2]LISTAS!$A$15:$B$50,2,0))","v":""},{"$f":"IF(ISERROR(VLOOKUP(M217,[2]LISTAS!$A$15:$B$50,2,0)),\"\",VLOOKUP(M217,[2]LISTAS!$A$15:$B$50,2,0))","v":""},{"$f":"IF(ISERROR(VLOOKUP(O217,[2]LISTAS!$A$15:$B$50,2,0)),\"\",VLOOKUP(O217,[2]LISTAS!$A$15:$B$50,2,0))","v":""},{"$f":"IF(ISERROR(VLOOKUP(6,[2]LISTAS!$A$15:$B$50,2,0)),\"\",VLOOKUP(6,[2]LISTAS!$A$15:$B$50,2,0))","v":""},null,{"$f":"_xlfn.IFS(T217=\"------\",AD217,T217=\"LA RELACIÓN DE ACTIVIDADES DEBE SER A PARTIR DE LA SIGUIENTE FILA\",\"LA RELACIÓN DE ACTIVIDADES DEBE SER A PARTIR DE LA SIGUIENTE FILA\",T217<>\"------\",T217)","v":""},null,"ok"]
[null,null,null,null,null,null,null,null,null,null,null,null,null,null,null,null,null,null,null,"",{"$f":"IF(ISERROR(VLOOKUP(E218,[2]LISTAS!$A$15:$B$50,2,0)),\"\",VLOOKUP(E218,[2]LISTAS!$A$15:$B$50,2,0))","v":""},{"$f":"IF(ISERROR(VLOOKUP(G218,[2]LISTAS!$A$15:$B$50,2,0)),\"\",VLOOKUP(G218,[2]LISTAS!$A$15:$B$50,2,0))","v":""},{"$f":"IF(ISERROR(VLOOKUP(I218,[2]LISTAS!$A$15:$B$50,2,0)),\"\",VLOOKUP(I218,[2]LISTAS!$A$15:$B$50,2,0))","v":""},{"$f":"IF(ISERROR(VLOOKUP(K218,[2]LISTAS!$A$15:$B$50,2,0)),\"\",VLOOKUP(K218,[2]LISTAS!$A$15:$B$50,2,0))","v":""},{"$f":"IF(ISERROR(VLOOKUP(M218,[2]LISTAS!$A$15:$B$50,2,0)),\"\",VLOOKUP(M218,[2]LISTAS!$A$15:$B$50,2,0))","v":""},{"$f":"IF(ISERROR(VLOOKUP(O218,[2]LISTAS!$A$15:$B$50,2,0)),\"\",VLOOKUP(O218,[2]LISTAS!$A$15:$B$50,2,0))","v":""},{"$f":"IF(ISERROR(VLOOKUP(6,[2]LISTAS!$A$15:$B$50,2,0)),\"\",VLOOKUP(6,[2]LISTAS!$A$15:$B$50,2,0))","v":""},null,{"$f":"_xlfn.IFS(T218=\"------\",AD218,T218=\"LA RELACIÓN DE ACTIVIDADES DEBE SER A PARTIR DE LA SIGUIENTE FILA\",\"LA RELACIÓN DE ACTIVIDADES DEBE SER A PARTIR DE LA SIGUIENTE FILA\",T218<>\"------\",T218)","v":""},null,"ok"]
[null,null,null,null,null,null,null,null,null,null,null,null,null,null,null,null,null,null,null,"",{"$f":"IF(ISERROR(VLOOKUP(E219,[2]LISTAS!$A$15:$B$50,2,0)),\"\",VLOOKUP(E219,[2]LISTAS!$A$15:$B$50,2,0))","v":""},{"$f":"IF(ISERROR(VLOOKUP(G219,[2]LISTAS!$A$15:$B$50,2,0)),\"\",VLOOKUP(G219,[2]LISTAS!$A$15:$B$50,2,0))","v":""},{"$f":"IF(ISERROR(VLOOKUP(I219,[2]LISTAS!$A$15:$B$50,2,0)),\"\",VLOOKUP(I219,[2]LISTAS!$A$15:$B$50,2,0))","v":""},{"$f":"IF(ISERROR(VLOOKUP(K219,[2]LISTAS!$A$15:$B$50,2,0)),\"\",VLOOKUP(K219,[2]LISTAS!$A$15:$B$50,2,0))","v":""},{"$f":"IF(ISERROR(VLOOKUP(M219,[2]LISTAS!$A$15:$B$50,2,0)),\"\",VLOOKUP(M219,[2]LISTAS!$A$15:$B$50,2,0))","v":""},{"$f":"IF(ISERROR(VLOOKUP(O219,[2]LISTAS!$A$15:$B$50,2,0)),\"\",VLOOKUP(O219,[2]LISTAS!$A$15:$B$50,2,0))","v":""},{"$f":"IF(ISERROR(VLOOKUP(6,[2]LISTAS!$A$15:$B$50,2,0)),\"\",VLOOKUP(6,[2]LISTAS!$A$15:$B$50,2,0))","v":""},null,{"$f":"_xlfn.IFS(T219=\"------\",AD219,T219=\"LA RELACIÓN DE ACTIVIDADES DEBE SER A PARTIR DE LA SIGUIENTE FILA\",\"LA RELACIÓN DE ACTIVIDADES DEBE SER A PARTIR DE LA SIGUIENTE FILA\",T219<>\"------\",T219)","v":""},null,"ok"]
[null,null,null,null,null,null,null,null,null,null,null,null,null,null,null,null,null,null,null,"",{"$f":"IF(ISERROR(VLOOKUP(E220,[2]LISTAS!$A$15:$B$50,2,0)),\"\",VLOOKUP(E220,[2]LISTAS!$A$15:$B$50,2,0))","v":""},{"$f":"IF(ISERROR(VLOOKUP(G220,[2]LISTAS!$A$15:$B$50,2,0)),\"\",VLOOKUP(G220,[2]LISTAS!$A$15:$B$50,2,0))","v":""},{"$f":"IF(ISERROR(VLOOKUP(I220,[2]LISTAS!$A$15:$B$50,2,0)),\"\",VLOOKUP(I220,[2]LISTAS!$A$15:$B$50,2,0))","v":""},{"$f":"IF(ISERROR(VLOOKUP(K220,[2]LISTAS!$A$15:$B$50,2,0)),\"\",VLOOKUP(K220,[2]LISTAS!$A$15:$B$50,2,0))","v":""},{"$f":"IF(ISERROR(VLOOKUP(M220,[2]LISTAS!$A$15:$B$50,2,0)),\"\",VLOOKUP(M220,[2]LISTAS!$A$15:$B$50,2,0))","v":""},{"$f":"IF(ISERROR(VLOOKUP(O220,[2]LISTAS!$A$15:$B$50,2,0)),\"\",VLOOKUP(O220,[2]LISTAS!$A$15:$B$50,2,0))","v":""},{"$f":"IF(ISERROR(VLOOKUP(6,[2]LISTAS!$A$15:$B$50,2,0)),\"\",VLOOKUP(6,[2]LISTAS!$A$15:$B$50,2,0))","v":""},null,{"$f":"_xlfn.IFS(T220=\"------\",AD220,T220=\"LA RELACIÓN DE ACTIVIDADES DEBE SER A PARTIR DE LA SIGUIENTE FILA\",\"LA RELACIÓN DE ACTIVIDADES DEBE SER A PARTIR DE LA SIGUIENTE FILA\",T220<>\"------\",T220)","v":""},null,"ok"]
[null,null,null,null,null,null,null,null,null,null,null,null,null,null,null,null,null,null,null,"",{"$f":"IF(ISERROR(VLOOKUP(E221,[2]LISTAS!$A$15:$B$50,2,0)),\"\",VLOOKUP(E221,[2]LISTAS!$A$15:$B$50,2,0))","v":""},{"$f":"IF(ISERROR(VLOOKUP(G221,[2]LISTAS!$A$15:$B$50,2,0)),\"\",VLOOKUP(G221,[2]LISTAS!$A$15:$B$50,2,0))","v":""},{"$f":"IF(ISERROR(VLOOKUP(I221,[2]LISTAS!$A$15:$B$50,2,0)),\"\",VLOOKUP(I221,[2]LISTAS!$A$15:$B$50,2,0))","v":""},{"$f":"IF(ISERROR(VLOOKUP(K221,[2]LISTAS!$A$15:$B$50,2,0)),\"\",VLOOKUP(K221,[2]LISTAS!$A$15:$B$50,2,0))","v":""},{"$f":"IF(ISERROR(VLOOKUP(M221,[2]LISTAS!$A$15:$B$50,2,0)),\"\",VLOOKUP(M221,[2]LISTAS!$A$15:$B$50,2,0))","v":""},{"$f":"IF(ISERROR(VLOOKUP(O221,[2]LISTAS!$A$15:$B$50,2,0)),\"\",VLOOKUP(O221,[2]LISTAS!$A$15:$B$50,2,0))","v":""},{"$f":"IF(ISERROR(VLOOKUP(6,[2]LISTAS!$A$15:$B$50,2,0)),\"\",VLOOKUP(6,[2]LISTAS!$A$15:$B$50,2,0))","v":""},null,{"$f":"_xlfn.IFS(T221=\"------\",AD221,T221=\"LA RELACIÓN DE ACTIVIDADES DEBE SER A PARTIR DE LA SIGUIENTE FILA\",\"LA RELACIÓN DE ACTIVIDADES DEBE SER A PARTIR DE LA SIGUIENTE FILA\",T221<>\"------\",T221)","v":""},null,"ok"]
[null,null,null,null,null,null,null,null,null,null,null,null,null,null,null,null,null,null,null,"",{"$f":"IF(ISERROR(VLOOKUP(E222,[2]LISTAS!$A$15:$B$50,2,0)),\"\",VLOOKUP(E222,[2]LISTAS!$A$15:$B$50,2,0))","v":""},{"$f":"IF(ISERROR(VLOOKUP(G222,[2]LISTAS!$A$15:$B$50,2,0)),\"\",VLOOKUP(G222,[2]LISTAS!$A$15:$B$50,2,0))","v":""},{"$f":"IF(ISERROR(VLOOKUP(I222,[2]LISTAS!$A$15:$B$50,2,0)),\"\",VLOOKUP(I222,[2]LISTAS!$A$15:$B$50,2,0))","v":""},{"$f":"IF(ISERROR(VLOOKUP(K222,[2]LISTAS!$A$15:$B$50,2,0)),\"\",VLOOKUP(K222,[2]LISTAS!$A$15:$B$50,2,0))","v":""},{"$f":"IF(ISERROR(VLOOKUP(M222,[2]LISTAS!$A$15:$B$50,2,0)),\"\",VLOOKUP(M222,[2]LISTAS!$A$15:$B$50,2,0))","v":""},{"$f":"IF(ISERROR(VLOOKUP(O222,[2]LISTAS!$A$15:$B$50,2,0)),\"\",VLOOKUP(O222,[2]LISTAS!$A$15:$B$50,2,0))","v":""},{"$f":"IF(ISERROR(VLOOKUP(6,[2]LISTAS!$A$15:$B$50,2,0)),\"\",VLOOKUP(6,[2]LISTAS!$A$15:$B$50,2,0))","v":""},null,{"$f":"_xlfn.IFS(T222=\"------\",AD222,T222=\"LA RELACIÓN DE ACTIVIDADES DEBE SER A PARTIR DE LA SIGUIENTE FILA\",\"LA RELACIÓN DE ACTIVIDADES DEBE SER A PARTIR DE LA SIGUIENTE FILA\",T222<>\"------\",T222)","v":""},null,"ok"]
[null,null,null,null,null,null,null,null,null,null,null,null,null,null,null,null,null,null,null,"",{"$f":"IF(ISERROR(VLOOKUP(E223,[2]LISTAS!$A$15:$B$50,2,0)),\"\",VLOOKUP(E223,[2]LISTAS!$A$15:$B$50,2,0))","v":""},{"$f":"IF(ISERROR(VLOOKUP(G223,[2]LISTAS!$A$15:$B$50,2,0)),\"\",VLOOKUP(G223,[2]LISTAS!$A$15:$B$50,2,0))","v":""},{"$f":"IF(ISERROR(VLOOKUP(I223,[2]LISTAS!$A$15:$B$50,2,0)),\"\",VLOOKUP(I223,[2]LISTAS!$A$15:$B$50,2,0))","v":""},{"$f":"IF(ISERROR(VLOOKUP(K223,[2]LISTAS!$A$15:$B$50,2,0)),\"\",VLOOKUP(K223,[2]LISTAS!$A$15:$B$50,2,0))","v":""},{"$f":"IF(ISERROR(VLOOKUP(M223,[2]LISTAS!$A$15:$B$50,2,0)),\"\",VLOOKUP(M223,[2]LISTAS!$A$15:$B$50,2,0))","v":""},{"$f":"IF(ISERROR(VLOOKUP(O223,[2]LISTAS!$A$15:$B$50,2,0)),\"\",VLOOKUP(O223,[2]LISTAS!$A$15:$B$50,2,0))","v":""},{"$f":"IF(ISERROR(VLOOKUP(6,[2]LISTAS!$A$15:$B$50,2,0)),\"\",VLOOKUP(6,[2]LISTAS!$A$15:$B$50,2,0))","v":""},null,{"$f":"_xlfn.IFS(T223=\"------\",AD223,T223=\"LA RELACIÓN DE ACTIVIDADES DEBE SER A PARTIR DE LA SIGUIENTE FILA\",\"LA RELACIÓN DE ACTIVIDADES DEBE SER A PARTIR DE LA SIGUIENTE FILA\",T223<>\"------\",T223)","v":""},null,"ok"]
[null,null,null,null,null,null,null,null,null,null,null,null,null,null,null,null,null,null,null,"",{"$f":"IF(ISERROR(VLOOKUP(E224,[2]LISTAS!$A$15:$B$50,2,0)),\"\",VLOOKUP(E224,[2]LISTAS!$A$15:$B$50,2,0))","v":""},{"$f":"IF(ISERROR(VLOOKUP(G224,[2]LISTAS!$A$15:$B$50,2,0)),\"\",VLOOKUP(G224,[2]LISTAS!$A$15:$B$50,2,0))","v":""},{"$f":"IF(ISERROR(VLOOKUP(I224,[2]LISTAS!$A$15:$B$50,2,0)),\"\",VLOOKUP(I224,[2]LISTAS!$A$15:$B$50,2,0))","v":""},{"$f":"IF(ISERROR(VLOOKUP(K224,[2]LISTAS!$A$15:$B$50,2,0)),\"\",VLOOKUP(K224,[2]LISTAS!$A$15:$B$50,2,0))","v":""},{"$f":"IF(ISERROR(VLOOKUP(M224,[2]LISTAS!$A$15:$B$50,2,0)),\"\",VLOOKUP(M224,[2]LISTAS!$A$15:$B$50,2,0))","v":""},{"$f":"IF(ISERROR(VLOOKUP(O224,[2]LISTAS!$A$15:$B$50,2,0)),\"\",VLOOKUP(O224,[2]LISTAS!$A$15:$B$50,2,0))","v":""},{"$f":"IF(ISERROR(VLOOKUP(6,[2]LISTAS!$A$15:$B$50,2,0)),\"\",VLOOKUP(6,[2]LISTAS!$A$15:$B$50,2,0))","v":""},null,{"$f":"_xlfn.IFS(T224=\"------\",AD224,T224=\"LA RELACIÓN DE ACTIVIDADES DEBE SER A PARTIR DE LA SIGUIENTE FILA\",\"LA RELACIÓN DE ACTIVIDADES DEBE SER A PARTIR DE LA SIGUIENTE FILA\",T224<>\"------\",T224)","v":""},null,"ok"]
[null,null,null,null,null,null,null,null,null,null,null,null,null,null,null,null,null,null,null,"",{"$f":"IF(ISERROR(VLOOKUP(E225,[2]LISTAS!$A$15:$B$50,2,0)),\"\",VLOOKUP(E225,[2]LISTAS!$A$15:$B$50,2,0))","v":""},{"$f":"IF(ISERROR(VLOOKUP(G225,[2]LISTAS!$A$15:$B$50,2,0)),\"\",VLOOKUP(G225,[2]LISTAS!$A$15:$B$50,2,0))","v":""},{"$f":"IF(ISERROR(VLOOKUP(I225,[2]LISTAS!$A$15:$B$50,2,0)),\"\",VLOOKUP(I225,[2]LISTAS!$A$15:$B$50,2,0))","v":""},{"$f":"IF(ISERROR(VLOOKUP(K225,[2]LISTAS!$A$15:$B$50,2,0)),\"\",VLOOKUP(K225,[2]LISTAS!$A$15:$B$50,2,0))","v":""},{"$f":"IF(ISERROR(VLOOKUP(M225,[2]LISTAS!$A$15:$B$50,2,0)),\"\",VLOOKUP(M225,[2]LISTAS!$A$15:$B$50,2,0))","v":""},{"$f":"IF(ISERROR(VLOOKUP(O225,[2]LISTAS!$A$15:$B$50,2,0)),\"\",VLOOKUP(O225,[2]LISTAS!$A$15:$B$50,2,0))","v":""},{"$f":"IF(ISERROR(VLOOKUP(6,[2]LISTAS!$A$15:$B$50,2,0)),\"\",VLOOKUP(6,[2]LISTAS!$A$15:$B$50,2,0))","v":""},null,{"$f":"_xlfn.IFS(T225=\"------\",AD225,T225=\"LA RELACIÓN DE ACTIVIDADES DEBE SER A PARTIR DE LA SIGUIENTE FILA\",\"LA RELACIÓN DE ACTIVIDADES DEBE SER A PARTIR DE LA SIGUIENTE FILA\",T225<>\"------\",T225)","v":""},null,"ok"]
[null,null,null,null,null,null,null,null,null,null,null,null,null,null,null,null,null,null,null,"",{"$f":"IF(ISERROR(VLOOKUP(E226,[2]LISTAS!$A$15:$B$50,2,0)),\"\",VLOOKUP(E226,[2]LISTAS!$A$15:$B$50,2,0))","v":""},{"$f":"IF(ISERROR(VLOOKUP(G226,[2]LISTAS!$A$15:$B$50,2,0)),\"\",VLOOKUP(G226,[2]LISTAS!$A$15:$B$50,2,0))","v":""},{"$f":"IF(ISERROR(VLOOKUP(I226,[2]LISTAS!$A$15:$B$50,2,0)),\"\",VLOOKUP(I226,[2]LISTAS!$A$15:$B$50,2,0))","v":""},{"$f":"IF(ISERROR(VLOOKUP(K226,[2]LISTAS!$A$15:$B$50,2,0)),\"\",VLOOKUP(K226,[2]LISTAS!$A$15:$B$50,2,0))","v":""},{"$f":"IF(ISERROR(VLOOKUP(M226,[2]LISTAS!$A$15:$B$50,2,0)),\"\",VLOOKUP(M226,[2]LISTAS!$A$15:$B$50,2,0))","v":""},{"$f":"IF(ISERROR(VLOOKUP(O226,[2]LISTAS!$A$15:$B$50,2,0)),\"\",VLOOKUP(O226,[2]LISTAS!$A$15:$B$50,2,0))","v":""},{"$f":"IF(ISERROR(VLOOKUP(6,[2]LISTAS!$A$15:$B$50,2,0)),\"\",VLOOKUP(6,[2]LISTAS!$A$15:$B$50,2,0))","v":""},null,{"$f":"_xlfn.IFS(T226=\"------\",AD226,T226=\"LA RELACIÓN DE ACTIVIDADES DEBE SER A PARTIR DE LA SIGUIENTE FILA\",\"LA RELACIÓN DE ACTIVIDADES DEBE SER A PARTIR DE LA SIGUIENTE FILA\",T226<>\"------\",T226)","v":""},null,"ok"]
[null,null,null,null,null,null,null,null,null,null,null,null,null,null,null,null,null,null,null,"",{"$f":"IF(ISERROR(VLOOKUP(E227,[2]LISTAS!$A$15:$B$50,2,0)),\"\",VLOOKUP(E227,[2]LISTAS!$A$15:$B$50,2,0))","v":""},{"$f":"IF(ISERROR(VLOOKUP(G227,[2]LISTAS!$A$15:$B$50,2,0)),\"\",VLOOKUP(G227,[2]LISTAS!$A$15:$B$50,2,0))","v":""},{"$f":"IF(ISERROR(VLOOKUP(I227,[2]LISTAS!$A$15:$B$50,2,0)),\"\",VLOOKUP(I227,[2]LISTAS!$A$15:$B$50,2,0))","v":""},{"$f":"IF(ISERROR(VLOOKUP(K227,[2]LISTAS!$A$15:$B$50,2,0)),\"\",VLOOKUP(K227,[2]LISTAS!$A$15:$B$50,2,0))","v":""},{"$f":"IF(ISERROR(VLOOKUP(M227,[2]LISTAS!$A$15:$B$50,2,0)),\"\",VLOOKUP(M227,[2]LISTAS!$A$15:$B$50,2,0))","v":""},{"$f":"IF(ISERROR(VLOOKUP(O227,[2]LISTAS!$A$15:$B$50,2,0)),\"\",VLOOKUP(O227,[2]LISTAS!$A$15:$B$50,2,0))","v":""},{"$f":"IF(ISERROR(VLOOKUP(6,[2]LISTAS!$A$15:$B$50,2,0)),\"\",VLOOKUP(6,[2]LISTAS!$A$15:$B$50,2,0))","v":""},null,{"$f":"_xlfn.IFS(T227=\"------\",AD227,T227=\"LA RELACIÓN DE ACTIVIDADES DEBE SER A PARTIR DE LA SIGUIENTE FILA\",\"LA RELACIÓN DE ACTIVIDADES DEBE SER A PARTIR DE LA SIGUIENTE FILA\",T227<>\"------\",T227)","v":""},null,"ok"]
[null,null,null,null,null,null,null,null,null,null,null,null,null,null,null,null,null,null,null,"",{"$f":"IF(ISERROR(VLOOKUP(E228,[2]LISTAS!$A$15:$B$50,2,0)),\"\",VLOOKUP(E228,[2]LISTAS!$A$15:$B$50,2,0))","v":""},{"$f":"IF(ISERROR(VLOOKUP(G228,[2]LISTAS!$A$15:$B$50,2,0)),\"\",VLOOKUP(G228,[2]LISTAS!$A$15:$B$50,2,0))","v":""},{"$f":"IF(ISERROR(VLOOKUP(I228,[2]LISTAS!$A$15:$B$50,2,0)),\"\",VLOOKUP(I228,[2]LISTAS!$A$15:$B$50,2,0))","v":""},{"$f":"IF(ISERROR(VLOOKUP(K228,[2]LISTAS!$A$15:$B$50,2,0)),\"\",VLOOKUP(K228,[2]LISTAS!$A$15:$B$50,2,0))","v":""},{"$f":"IF(ISERROR(VLOOKUP(M228,[2]LISTAS!$A$15:$B$50,2,0)),\"\",VLOOKUP(M228,[2]LISTAS!$A$15:$B$50,2,0))","v":""},{"$f":"IF(ISERROR(VLOOKUP(O228,[2]LISTAS!$A$15:$B$50,2,0)),\"\",VLOOKUP(O228,[2]LISTAS!$A$15:$B$50,2,0))","v":""},{"$f":"IF(ISERROR(VLOOKUP(6,[2]LISTAS!$A$15:$B$50,2,0)),\"\",VLOOKUP(6,[2]LISTAS!$A$15:$B$50,2,0))","v":""},null,{"$f":"_xlfn.IFS(T228=\"------\",AD228,T228=\"LA RELACIÓN DE ACTIVIDADES DEBE SER A PARTIR DE LA SIGUIENTE FILA\",\"LA RELACIÓN DE ACTIVIDADES DEBE SER A PARTIR DE LA SIGUIENTE FILA\",T228<>\"------\",T228)","v":""},null,"ok"]
[null,null,null,null,null,null,null,null,null,null,null,null,null,null,null,null,null,null,null,"",{"$f":"IF(ISERROR(VLOOKUP(E229,[2]LISTAS!$A$15:$B$50,2,0)),\"\",VLOOKUP(E229,[2]LISTAS!$A$15:$B$50,2,0))","v":""},{"$f":"IF(ISERROR(VLOOKUP(G229,[2]LISTAS!$A$15:$B$50,2,0)),\"\",VLOOKUP(G229,[2]LISTAS!$A$15:$B$50,2,0))","v":""},{"$f":"IF(ISERROR(VLOOKUP(I229,[2]LISTAS!$A$15:$B$50,2,0)),\"\",VLOOKUP(I229,[2]LISTAS!$A$15:$B$50,2,0))","v":""},{"$f":"IF(ISERROR(VLOOKUP(K229,[2]LISTAS!$A$15:$B$50,2,0)),\"\",VLOOKUP(K229,[2]LISTAS!$A$15:$B$50,2,0))","v":""},{"$f":"IF(ISERROR(VLOOKUP(M229,[2]LISTAS!$A$15:$B$50,2,0)),\"\",VLOOKUP(M229,[2]LISTAS!$A$15:$B$50,2,0))","v":""},{"$f":"IF(ISERROR(VLOOKUP(O229,[2]LISTAS!$A$15:$B$50,2,0)),\"\",VLOOKUP(O229,[2]LISTAS!$A$15:$B$50,2,0))","v":""},{"$f":"IF(ISERROR(VLOOKUP(6,[2]LISTAS!$A$15:$B$50,2,0)),\"\",VLOOKUP(6,[2]LISTAS!$A$15:$B$50,2,0))","v":""},null,{"$f":"_xlfn.IFS(T229=\"------\",AD229,T229=\"LA RELACIÓN DE ACTIVIDADES DEBE SER A PARTIR DE LA SIGUIENTE FILA\",\"LA RELACIÓN DE ACTIVIDADES DEBE SER A PARTIR DE LA SIGUIENTE FILA\",T229<>\"------\",T229)","v":""},null,"ok"]
[null,null,null,null,null,null,null,null,null,null,null,null,null,null,null,null,null,null,null,"",{"$f":"IF(ISERROR(VLOOKUP(E230,[2]LISTAS!$A$15:$B$50,2,0)),\"\",VLOOKUP(E230,[2]LISTAS!$A$15:$B$50,2,0))","v":""},{"$f":"IF(ISERROR(VLOOKUP(G230,[2]LISTAS!$A$15:$B$50,2,0)),\"\",VLOOKUP(G230,[2]LISTAS!$A$15:$B$50,2,0))","v":""},{"$f":"IF(ISERROR(VLOOKUP(I230,[2]LISTAS!$A$15:$B$50,2,0)),\"\",VLOOKUP(I230,[2]LISTAS!$A$15:$B$50,2,0))","v":""},{"$f":"IF(ISERROR(VLOOKUP(K230,[2]LISTAS!$A$15:$B$50,2,0)),\"\",VLOOKUP(K230,[2]LISTAS!$A$15:$B$50,2,0))","v":""},{"$f":"IF(ISERROR(VLOOKUP(M230,[2]LISTAS!$A$15:$B$50,2,0)),\"\",VLOOKUP(M230,[2]LISTAS!$A$15:$B$50,2,0))","v":""},{"$f":"IF(ISERROR(VLOOKUP(O230,[2]LISTAS!$A$15:$B$50,2,0)),\"\",VLOOKUP(O230,[2]LISTAS!$A$15:$B$50,2,0))","v":""},{"$f":"IF(ISERROR(VLOOKUP(6,[2]LISTAS!$A$15:$B$50,2,0)),\"\",VLOOKUP(6,[2]LISTAS!$A$15:$B$50,2,0))","v":""},null,{"$f":"_xlfn.IFS(T230=\"------\",AD230,T230=\"LA RELACIÓN DE ACTIVIDADES DEBE SER A PARTIR DE LA SIGUIENTE FILA\",\"LA RELACIÓN DE ACTIVIDADES DEBE SER A PARTIR DE LA SIGUIENTE FILA\",T230<>\"------\",T230)","v":""},null,"ok"]
[null,null,null,null,null,null,null,null,null,null,null,null,null,null,null,null,null,null,null,"",{"$f":"IF(ISERROR(VLOOKUP(E231,[2]LISTAS!$A$15:$B$50,2,0)),\"\",VLOOKUP(E231,[2]LISTAS!$A$15:$B$50,2,0))","v":""},{"$f":"IF(ISERROR(VLOOKUP(G231,[2]LISTAS!$A$15:$B$50,2,0)),\"\",VLOOKUP(G231,[2]LISTAS!$A$15:$B$50,2,0))","v":""},{"$f":"IF(ISERROR(VLOOKUP(I231,[2]LISTAS!$A$15:$B$50,2,0)),\"\",VLOOKUP(I231,[2]LISTAS!$A$15:$B$50,2,0))","v":""},{"$f":"IF(ISERROR(VLOOKUP(K231,[2]LISTAS!$A$15:$B$50,2,0)),\"\",VLOOKUP(K231,[2]LISTAS!$A$15:$B$50,2,0))","v":""},{"$f":"IF(ISERROR(VLOOKUP(M231,[2]LISTAS!$A$15:$B$50,2,0)),\"\",VLOOKUP(M231,[2]LISTAS!$A$15:$B$50,2,0))","v":""},{"$f":"IF(ISERROR(VLOOKUP(O231,[2]LISTAS!$A$15:$B$50,2,0)),\"\",VLOOKUP(O231,[2]LISTAS!$A$15:$B$50,2,0))","v":""},{"$f":"IF(ISERROR(VLOOKUP(6,[2]LISTAS!$A$15:$B$50,2,0)),\"\",VLOOKUP(6,[2]LISTAS!$A$15:$B$50,2,0))","v":""},null,{"$f":"_xlfn.IFS(T231=\"------\",AD231,T231=\"LA RELACIÓN DE ACTIVIDADES DEBE SER A PARTIR DE LA SIGUIENTE FILA\",\"LA RELACIÓN DE ACTIVIDADES DEBE SER A PARTIR DE LA SIGUIENTE FILA\",T231<>\"------\",T231)","v":""},null,"ok"]
[null,null,null,null,null,null,null,null,null,null,null,null,null,null,null,null,null,null,null,"",{"$f":"IF(ISERROR(VLOOKUP(E232,[2]LISTAS!$A$15:$B$50,2,0)),\"\",VLOOKUP(E232,[2]LISTAS!$A$15:$B$50,2,0))","v":""},{"$f":"IF(ISERROR(VLOOKUP(G232,[2]LISTAS!$A$15:$B$50,2,0)),\"\",VLOOKUP(G232,[2]LISTAS!$A$15:$B$50,2,0))","v":""},{"$f":"IF(ISERROR(VLOOKUP(I232,[2]LISTAS!$A$15:$B$50,2,0)),\"\",VLOOKUP(I232,[2]LISTAS!$A$15:$B$50,2,0))","v":""},{"$f":"IF(ISERROR(VLOOKUP(K232,[2]LISTAS!$A$15:$B$50,2,0)),\"\",VLOOKUP(K232,[2]LISTAS!$A$15:$B$50,2,0))","v":""},{"$f":"IF(ISERROR(VLOOKUP(M232,[2]LISTAS!$A$15:$B$50,2,0)),\"\",VLOOKUP(M232,[2]LISTAS!$A$15:$B$50,2,0))","v":""},{"$f":"IF(ISERROR(VLOOKUP(O232,[2]LISTAS!$A$15:$B$50,2,0)),\"\",VLOOKUP(O232,[2]LISTAS!$A$15:$B$50,2,0))","v":""},{"$f":"IF(ISERROR(VLOOKUP(6,[2]LISTAS!$A$15:$B$50,2,0)),\"\",VLOOKUP(6,[2]LISTAS!$A$15:$B$50,2,0))","v":""},null,{"$f":"_xlfn.IFS(T232=\"------\",AD232,T232=\"LA RELACIÓN DE ACTIVIDADES DEBE SER A PARTIR DE LA SIGUIENTE FILA\",\"LA RELACIÓN DE ACTIVIDADES DEBE SER A PARTIR DE LA SIGUIENTE FILA\",T232<>\"------\",T232)","v":""},null,"ok"]
[null,null,null,null,null,null,null,null,null,null,null,null,null,null,null,null,null,null,null,"",{"$f":"IF(ISERROR(VLOOKUP(E233,[2]LISTAS!$A$15:$B$50,2,0)),\"\",VLOOKUP(E233,[2]LISTAS!$A$15:$B$50,2,0))","v":""},{"$f":"IF(ISERROR(VLOOKUP(G233,[2]LISTAS!$A$15:$B$50,2,0)),\"\",VLOOKUP(G233,[2]LISTAS!$A$15:$B$50,2,0))","v":""},{"$f":"IF(ISERROR(VLOOKUP(I233,[2]LISTAS!$A$15:$B$50,2,0)),\"\",VLOOKUP(I233,[2]LISTAS!$A$15:$B$50,2,0))","v":""},{"$f":"IF(ISERROR(VLOOKUP(K233,[2]LISTAS!$A$15:$B$50,2,0)),\"\",VLOOKUP(K233,[2]LISTAS!$A$15:$B$50,2,0))","v":""},{"$f":"IF(ISERROR(VLOOKUP(M233,[2]LISTAS!$A$15:$B$50,2,0)),\"\",VLOOKUP(M233,[2]LISTAS!$A$15:$B$50,2,0))","v":""},{"$f":"IF(ISERROR(VLOOKUP(O233,[2]LISTAS!$A$15:$B$50,2,0)),\"\",VLOOKUP(O233,[2]LISTAS!$A$15:$B$50,2,0))","v":""},{"$f":"IF(ISERROR(VLOOKUP(6,[2]LISTAS!$A$15:$B$50,2,0)),\"\",VLOOKUP(6,[2]LISTAS!$A$15:$B$50,2,0))","v":""},null,{"$f":"_xlfn.IFS(T233=\"------\",AD233,T233=\"LA RELACIÓN DE ACTIVIDADES DEBE SER A PARTIR DE LA SIGUIENTE FILA\",\"LA RELACIÓN DE ACTIVIDADES DEBE SER A PARTIR DE LA SIGUIENTE FILA\",T233<>\"------\",T233)","v":""},null,"ok"]
[null,null,null,null,null,null,null,null,null,null,null,null,null,null,null,null,null,null,null,"",{"$f":"IF(ISERROR(VLOOKUP(E234,[2]LISTAS!$A$15:$B$50,2,0)),\"\",VLOOKUP(E234,[2]LISTAS!$A$15:$B$50,2,0))","v":""},{"$f":"IF(ISERROR(VLOOKUP(G234,[2]LISTAS!$A$15:$B$50,2,0)),\"\",VLOOKUP(G234,[2]LISTAS!$A$15:$B$50,2,0))","v":""},{"$f":"IF(ISERROR(VLOOKUP(I234,[2]LISTAS!$A$15:$B$50,2,0)),\"\",VLOOKUP(I234,[2]LISTAS!$A$15:$B$50,2,0))","v":""},{"$f":"IF(ISERROR(VLOOKUP(K234,[2]LISTAS!$A$15:$B$50,2,0)),\"\",VLOOKUP(K234,[2]LISTAS!$A$15:$B$50,2,0))","v":""},{"$f":"IF(ISERROR(VLOOKUP(M234,[2]LISTAS!$A$15:$B$50,2,0)),\"\",VLOOKUP(M234,[2]LISTAS!$A$15:$B$50,2,0))","v":""},{"$f":"IF(ISERROR(VLOOKUP(O234,[2]LISTAS!$A$15:$B$50,2,0)),\"\",VLOOKUP(O234,[2]LISTAS!$A$15:$B$50,2,0))","v":""},{"$f":"IF(ISERROR(VLOOKUP(6,[2]LISTAS!$A$15:$B$50,2,0)),\"\",VLOOKUP(6,[2]LISTAS!$A$15:$B$50,2,0))","v":""},null,{"$f":"_xlfn.IFS(T234=\"------\",AD234,T234=\"LA RELACIÓN DE ACTIVIDADES DEBE SER A PARTIR DE LA SIGUIENTE FILA\",\"LA RELACIÓN DE ACTIVIDADES DEBE SER A PARTIR DE LA SIGUIENTE FILA\",T234<>\"------\",T234)","v":""},null,"ok"]
[null,null,null,null,null,null,null,null,null,null,null,null,null,null,null,null,null,null,null,"",{"$f":"IF(ISERROR(VLOOKUP(E235,[2]LISTAS!$A$15:$B$50,2,0)),\"\",VLOOKUP(E235,[2]LISTAS!$A$15:$B$50,2,0))","v":""},{"$f":"IF(ISERROR(VLOOKUP(G235,[2]LISTAS!$A$15:$B$50,2,0)),\"\",VLOOKUP(G235,[2]LISTAS!$A$15:$B$50,2,0))","v":""},{"$f":"IF(ISERROR(VLOOKUP(I235,[2]LISTAS!$A$15:$B$50,2,0)),\"\",VLOOKUP(I235,[2]LISTAS!$A$15:$B$50,2,0))","v":""},{"$f":"IF(ISERROR(VLOOKUP(K235,[2]LISTAS!$A$15:$B$50,2,0)),\"\",VLOOKUP(K235,[2]LISTAS!$A$15:$B$50,2,0))","v":""},{"$f":"IF(ISERROR(VLOOKUP(M235,[2]LISTAS!$A$15:$B$50,2,0)),\"\",VLOOKUP(M235,[2]LISTAS!$A$15:$B$50,2,0))","v":""},{"$f":"IF(ISERROR(VLOOKUP(O235,[2]LISTAS!$A$15:$B$50,2,0)),\"\",VLOOKUP(O235,[2]LISTAS!$A$15:$B$50,2,0))","v":""},{"$f":"IF(ISERROR(VLOOKUP(6,[2]LISTAS!$A$15:$B$50,2,0)),\"\",VLOOKUP(6,[2]LISTAS!$A$15:$B$50,2,0))","v":""},null,{"$f":"_xlfn.IFS(T235=\"------\",AD235,T235=\"LA RELACIÓN DE ACTIVIDADES DEBE SER A PARTIR DE LA SIGUIENTE FILA\",\"LA RELACIÓN DE ACTIVIDADES DEBE SER A PARTIR DE LA SIGUIENTE FILA\",T235<>\"------\",T235)","v":""},null,"ok"]
[null,null,null,null,null,null,null,null,null,null,null,null,null,null,null,null,null,null,null,"",{"$f":"IF(ISERROR(VLOOKUP(E236,[2]LISTAS!$A$15:$B$50,2,0)),\"\",VLOOKUP(E236,[2]LISTAS!$A$15:$B$50,2,0))","v":""},{"$f":"IF(ISERROR(VLOOKUP(G236,[2]LISTAS!$A$15:$B$50,2,0)),\"\",VLOOKUP(G236,[2]LISTAS!$A$15:$B$50,2,0))","v":""},{"$f":"IF(ISERROR(VLOOKUP(I236,[2]LISTAS!$A$15:$B$50,2,0)),\"\",VLOOKUP(I236,[2]LISTAS!$A$15:$B$50,2,0))","v":""},{"$f":"IF(ISERROR(VLOOKUP(K236,[2]LISTAS!$A$15:$B$50,2,0)),\"\",VLOOKUP(K236,[2]LISTAS!$A$15:$B$50,2,0))","v":""},{"$f":"IF(ISERROR(VLOOKUP(M236,[2]LISTAS!$A$15:$B$50,2,0)),\"\",VLOOKUP(M236,[2]LISTAS!$A$15:$B$50,2,0))","v":""},{"$f":"IF(ISERROR(VLOOKUP(O236,[2]LISTAS!$A$15:$B$50,2,0)),\"\",VLOOKUP(O236,[2]LISTAS!$A$15:$B$50,2,0))","v":""},{"$f":"IF(ISERROR(VLOOKUP(6,[2]LISTAS!$A$15:$B$50,2,0)),\"\",VLOOKUP(6,[2]LISTAS!$A$15:$B$50,2,0))","v":""},null,{"$f":"_xlfn.IFS(T236=\"------\",AD236,T236=\"LA RELACIÓN DE ACTIVIDADES DEBE SER A PARTIR DE LA SIGUIENTE FILA\",\"LA RELACIÓN DE ACTIVIDADES DEBE SER A PARTIR DE LA SIGUIENTE FILA\",T236<>\"------\",T236)","v":""},null,"ok"]
[null,null,null,null,null,null,null,null,null,null,null,null,null,null,null,null,null,null,null,"",{"$f":"IF(ISERROR(VLOOKUP(E237,[2]LISTAS!$A$15:$B$50,2,0)),\"\",VLOOKUP(E237,[2]LISTAS!$A$15:$B$50,2,0))","v":""},{"$f":"IF(ISERROR(VLOOKUP(G237,[2]LISTAS!$A$15:$B$50,2,0)),\"\",VLOOKUP(G237,[2]LISTAS!$A$15:$B$50,2,0))","v":""},{"$f":"IF(ISERROR(VLOOKUP(I237,[2]LISTAS!$A$15:$B$50,2,0)),\"\",VLOOKUP(I237,[2]LISTAS!$A$15:$B$50,2,0))","v":""},{"$f":"IF(ISERROR(VLOOKUP(K237,[2]LISTAS!$A$15:$B$50,2,0)),\"\",VLOOKUP(K237,[2]LISTAS!$A$15:$B$50,2,0))","v":""},{"$f":"IF(ISERROR(VLOOKUP(M237,[2]LISTAS!$A$15:$B$50,2,0)),\"\",VLOOKUP(M237,[2]LISTAS!$A$15:$B$50,2,0))","v":""},{"$f":"IF(ISERROR(VLOOKUP(O237,[2]LISTAS!$A$15:$B$50,2,0)),\"\",VLOOKUP(O237,[2]LISTAS!$A$15:$B$50,2,0))","v":""},{"$f":"IF(ISERROR(VLOOKUP(6,[2]LISTAS!$A$15:$B$50,2,0)),\"\",VLOOKUP(6,[2]LISTAS!$A$15:$B$50,2,0))","v":""},null,{"$f":"_xlfn.IFS(T237=\"------\",AD237,T237=\"LA RELACIÓN DE ACTIVIDADES DEBE SER A PARTIR DE LA SIGUIENTE FILA\",\"LA RELACIÓN DE ACTIVIDADES DEBE SER A PARTIR DE LA SIGUIENTE FILA\",T237<>\"------\",T237)","v":""},null,"ok"]
[null,null,null,null,null,null,null,null,null,null,null,null,null,null,null,null,null,null,null,"",{"$f":"IF(ISERROR(VLOOKUP(E238,[2]LISTAS!$A$15:$B$50,2,0)),\"\",VLOOKUP(E238,[2]LISTAS!$A$15:$B$50,2,0))","v":""},{"$f":"IF(ISERROR(VLOOKUP(G238,[2]LISTAS!$A$15:$B$50,2,0)),\"\",VLOOKUP(G238,[2]LISTAS!$A$15:$B$50,2,0))","v":""},{"$f":"IF(ISERROR(VLOOKUP(I238,[2]LISTAS!$A$15:$B$50,2,0)),\"\",VLOOKUP(I238,[2]LISTAS!$A$15:$B$50,2,0))","v":""},{"$f":"IF(ISERROR(VLOOKUP(K238,[2]LISTAS!$A$15:$B$50,2,0)),\"\",VLOOKUP(K238,[2]LISTAS!$A$15:$B$50,2,0))","v":""},{"$f":"IF(ISERROR(VLOOKUP(M238,[2]LISTAS!$A$15:$B$50,2,0)),\"\",VLOOKUP(M238,[2]LISTAS!$A$15:$B$50,2,0))","v":""},{"$f":"IF(ISERROR(VLOOKUP(O238,[2]LISTAS!$A$15:$B$50,2,0)),\"\",VLOOKUP(O238,[2]LISTAS!$A$15:$B$50,2,0))","v":""},{"$f":"IF(ISERROR(VLOOKUP(6,[2]LISTAS!$A$15:$B$50,2,0)),\"\",VLOOKUP(6,[2]LISTAS!$A$15:$B$50,2,0))","v":""},null,{"$f":"_xlfn.IFS(T238=\"------\",AD238,T238=\"LA RELACIÓN DE ACTIVIDADES DEBE SER A PARTIR DE LA SIGUIENTE FILA\",\"LA RELACIÓN DE ACTIVIDADES DEBE SER A PARTIR DE LA SIGUIENTE FILA\",T238<>\"------\",T238)","v":""},null,"ok"]
[null,null,null,null,null,null,null,null,null,null,null,null,null,null,null,null,null,null,null,"",{"$f":"IF(ISERROR(VLOOKUP(E239,[2]LISTAS!$A$15:$B$50,2,0)),\"\",VLOOKUP(E239,[2]LISTAS!$A$15:$B$50,2,0))","v":""},{"$f":"IF(ISERROR(VLOOKUP(G239,[2]LISTAS!$A$15:$B$50,2,0)),\"\",VLOOKUP(G239,[2]LISTAS!$A$15:$B$50,2,0))","v":""},{"$f":"IF(ISERROR(VLOOKUP(I239,[2]LISTAS!$A$15:$B$50,2,0)),\"\",VLOOKUP(I239,[2]LISTAS!$A$15:$B$50,2,0))","v":""},{"$f":"IF(ISERROR(VLOOKUP(K239,[2]LISTAS!$A$15:$B$50,2,0)),\"\",VLOOKUP(K239,[2]LISTAS!$A$15:$B$50,2,0))","v":""},{"$f":"IF(ISERROR(VLOOKUP(M239,[2]LISTAS!$A$15:$B$50,2,0)),\"\",VLOOKUP(M239,[2]LISTAS!$A$15:$B$50,2,0))","v":""},{"$f":"IF(ISERROR(VLOOKUP(O239,[2]LISTAS!$A$15:$B$50,2,0)),\"\",VLOOKUP(O239,[2]LISTAS!$A$15:$B$50,2,0))","v":""},{"$f":"IF(ISERROR(VLOOKUP(6,[2]LISTAS!$A$15:$B$50,2,0)),\"\",VLOOKUP(6,[2]LISTAS!$A$15:$B$50,2,0))","v":""},null,{"$f":"_xlfn.IFS(T239=\"------\",AD239,T239=\"LA RELACIÓN DE ACTIVIDADES DEBE SER A PARTIR DE LA SIGUIENTE FILA\",\"LA RELACIÓN DE ACTIVIDADES DEBE SER A PARTIR DE LA SIGUIENTE FILA\",T239<>\"------\",T239)","v":""},null,"ok"]
[null,null,null,null,null,null,null,null,null,null,null,null,null,null,null,null,null,null,null,"",{"$f":"IF(ISERROR(VLOOKUP(E240,[2]LISTAS!$A$15:$B$50,2,0)),\"\",VLOOKUP(E240,[2]LISTAS!$A$15:$B$50,2,0))","v":""},{"$f":"IF(ISERROR(VLOOKUP(G240,[2]LISTAS!$A$15:$B$50,2,0)),\"\",VLOOKUP(G240,[2]LISTAS!$A$15:$B$50,2,0))","v":""},{"$f":"IF(ISERROR(VLOOKUP(I240,[2]LISTAS!$A$15:$B$50,2,0)),\"\",VLOOKUP(I240,[2]LISTAS!$A$15:$B$50,2,0))","v":""},{"$f":"IF(ISERROR(VLOOKUP(K240,[2]LISTAS!$A$15:$B$50,2,0)),\"\",VLOOKUP(K240,[2]LISTAS!$A$15:$B$50,2,0))","v":""},{"$f":"IF(ISERROR(VLOOKUP(M240,[2]LISTAS!$A$15:$B$50,2,0)),\"\",VLOOKUP(M240,[2]LISTAS!$A$15:$B$50,2,0))","v":""},{"$f":"IF(ISERROR(VLOOKUP(O240,[2]LISTAS!$A$15:$B$50,2,0)),\"\",VLOOKUP(O240,[2]LISTAS!$A$15:$B$50,2,0))","v":""},{"$f":"IF(ISERROR(VLOOKUP(6,[2]LISTAS!$A$15:$B$50,2,0)),\"\",VLOOKUP(6,[2]LISTAS!$A$15:$B$50,2,0))","v":""},null,{"$f":"_xlfn.IFS(T240=\"------\",AD240,T240=\"LA RELACIÓN DE ACTIVIDADES DEBE SER A PARTIR DE LA SIGUIENTE FILA\",\"LA RELACIÓN DE ACTIVIDADES DEBE SER A PARTIR DE LA SIGUIENTE FILA\",T240<>\"------\",T240)","v":""},null,"ok"]
[null,null,null,null,null,null,null,null,null,null,null,null,null,null,null,null,null,null,null,"",{"$f":"IF(ISERROR(VLOOKUP(E241,[2]LISTAS!$A$15:$B$50,2,0)),\"\",VLOOKUP(E241,[2]LISTAS!$A$15:$B$50,2,0))","v":""},{"$f":"IF(ISERROR(VLOOKUP(G241,[2]LISTAS!$A$15:$B$50,2,0)),\"\",VLOOKUP(G241,[2]LISTAS!$A$15:$B$50,2,0))","v":""},{"$f":"IF(ISERROR(VLOOKUP(I241,[2]LISTAS!$A$15:$B$50,2,0)),\"\",VLOOKUP(I241,[2]LISTAS!$A$15:$B$50,2,0))","v":""},{"$f":"IF(ISERROR(VLOOKUP(K241,[2]LISTAS!$A$15:$B$50,2,0)),\"\",VLOOKUP(K241,[2]LISTAS!$A$15:$B$50,2,0))","v":""},{"$f":"IF(ISERROR(VLOOKUP(M241,[2]LISTAS!$A$15:$B$50,2,0)),\"\",VLOOKUP(M241,[2]LISTAS!$A$15:$B$50,2,0))","v":""},{"$f":"IF(ISERROR(VLOOKUP(O241,[2]LISTAS!$A$15:$B$50,2,0)),\"\",VLOOKUP(O241,[2]LISTAS!$A$15:$B$50,2,0))","v":""},{"$f":"IF(ISERROR(VLOOKUP(6,[2]LISTAS!$A$15:$B$50,2,0)),\"\",VLOOKUP(6,[2]LISTAS!$A$15:$B$50,2,0))","v":""},null,{"$f":"_xlfn.IFS(T241=\"------\",AD241,T241=\"LA RELACIÓN DE ACTIVIDADES DEBE SER A PARTIR DE LA SIGUIENTE FILA\",\"LA RELACIÓN DE ACTIVIDADES DEBE SER A PARTIR DE LA SIGUIENTE FILA\",T241<>\"------\",T241)","v":""},null,"ok"]
[null,null,null,null,null,null,null,null,null,null,null,null,null,null,null,null,null,null,null,"",{"$f":"IF(ISERROR(VLOOKUP(E242,[2]LISTAS!$A$15:$B$50,2,0)),\"\",VLOOKUP(E242,[2]LISTAS!$A$15:$B$50,2,0))","v":""},{"$f":"IF(ISERROR(VLOOKUP(G242,[2]LISTAS!$A$15:$B$50,2,0)),\"\",VLOOKUP(G242,[2]LISTAS!$A$15:$B$50,2,0))","v":""},{"$f":"IF(ISERROR(VLOOKUP(I242,[2]LISTAS!$A$15:$B$50,2,0)),\"\",VLOOKUP(I242,[2]LISTAS!$A$15:$B$50,2,0))","v":""},{"$f":"IF(ISERROR(VLOOKUP(K242,[2]LISTAS!$A$15:$B$50,2,0)),\"\",VLOOKUP(K242,[2]LISTAS!$A$15:$B$50,2,0))","v":""},{"$f":"IF(ISERROR(VLOOKUP(M242,[2]LISTAS!$A$15:$B$50,2,0)),\"\",VLOOKUP(M242,[2]LISTAS!$A$15:$B$50,2,0))","v":""},{"$f":"IF(ISERROR(VLOOKUP(O242,[2]LISTAS!$A$15:$B$50,2,0)),\"\",VLOOKUP(O242,[2]LISTAS!$A$15:$B$50,2,0))","v":""},{"$f":"IF(ISERROR(VLOOKUP(6,[2]LISTAS!$A$15:$B$50,2,0)),\"\",VLOOKUP(6,[2]LISTAS!$A$15:$B$50,2,0))","v":""},null,{"$f":"_xlfn.IFS(T242=\"------\",AD242,T242=\"LA RELACIÓN DE ACTIVIDADES DEBE SER A PARTIR DE LA SIGUIENTE FILA\",\"LA RELACIÓN DE ACTIVIDADES DEBE SER A PARTIR DE LA SIGUIENTE FILA\",T242<>\"------\",T242)","v":""},null,"ok"]
[null,null,null,null,null,null,null,null,null,null,null,null,null,null,null,null,null,null,null,"",{"$f":"IF(ISERROR(VLOOKUP(E243,[2]LISTAS!$A$15:$B$50,2,0)),\"\",VLOOKUP(E243,[2]LISTAS!$A$15:$B$50,2,0))","v":""},{"$f":"IF(ISERROR(VLOOKUP(G243,[2]LISTAS!$A$15:$B$50,2,0)),\"\",VLOOKUP(G243,[2]LISTAS!$A$15:$B$50,2,0))","v":""},{"$f":"IF(ISERROR(VLOOKUP(I243,[2]LISTAS!$A$15:$B$50,2,0)),\"\",VLOOKUP(I243,[2]LISTAS!$A$15:$B$50,2,0))","v":""},{"$f":"IF(ISERROR(VLOOKUP(K243,[2]LISTAS!$A$15:$B$50,2,0)),\"\",VLOOKUP(K243,[2]LISTAS!$A$15:$B$50,2,0))","v":""},{"$f":"IF(ISERROR(VLOOKUP(M243,[2]LISTAS!$A$15:$B$50,2,0)),\"\",VLOOKUP(M243,[2]LISTAS!$A$15:$B$50,2,0))","v":""},{"$f":"IF(ISERROR(VLOOKUP(O243,[2]LISTAS!$A$15:$B$50,2,0)),\"\",VLOOKUP(O243,[2]LISTAS!$A$15:$B$50,2,0))","v":""},{"$f":"IF(ISERROR(VLOOKUP(6,[2]LISTAS!$A$15:$B$50,2,0)),\"\",VLOOKUP(6,[2]LISTAS!$A$15:$B$50,2,0))","v":""},null,{"$f":"_xlfn.IFS(T243=\"------\",AD243,T243=\"LA RELACIÓN DE ACTIVIDADES DEBE SER A PARTIR DE LA SIGUIENTE FILA\",\"LA RELACIÓN DE ACTIVIDADES DEBE SER A PARTIR DE LA SIGUIENTE FILA\",T243<>\"------\",T243)","v":""},null,"ok"]
[null,null,null,null,null,null,null,null,null,null,null,null,null,null,null,null,null,null,null,"",{"$f":"IF(ISERROR(VLOOKUP(E244,[2]LISTAS!$A$15:$B$50,2,0)),\"\",VLOOKUP(E244,[2]LISTAS!$A$15:$B$50,2,0))","v":""},{"$f":"IF(ISERROR(VLOOKUP(G244,[2]LISTAS!$A$15:$B$50,2,0)),\"\",VLOOKUP(G244,[2]LISTAS!$A$15:$B$50,2,0))","v":""},{"$f":"IF(ISERROR(VLOOKUP(I244,[2]LISTAS!$A$15:$B$50,2,0)),\"\",VLOOKUP(I244,[2]LISTAS!$A$15:$B$50,2,0))","v":""},{"$f":"IF(ISERROR(VLOOKUP(K244,[2]LISTAS!$A$15:$B$50,2,0)),\"\",VLOOKUP(K244,[2]LISTAS!$A$15:$B$50,2,0))","v":""},{"$f":"IF(ISERROR(VLOOKUP(M244,[2]LISTAS!$A$15:$B$50,2,0)),\"\",VLOOKUP(M244,[2]LISTAS!$A$15:$B$50,2,0))","v":""},{"$f":"IF(ISERROR(VLOOKUP(O244,[2]LISTAS!$A$15:$B$50,2,0)),\"\",VLOOKUP(O244,[2]LISTAS!$A$15:$B$50,2,0))","v":""},{"$f":"IF(ISERROR(VLOOKUP(6,[2]LISTAS!$A$15:$B$50,2,0)),\"\",VLOOKUP(6,[2]LISTAS!$A$15:$B$50,2,0))","v":""},null,{"$f":"_xlfn.IFS(T244=\"------\",AD244,T244=\"LA RELACIÓN DE ACTIVIDADES DEBE SER A PARTIR DE LA SIGUIENTE FILA\",\"LA RELACIÓN DE ACTIVIDADES DEBE SER A PARTIR DE LA SIGUIENTE FILA\",T244<>\"------\",T244)","v":""},null,"ok"]
[null,null,null,null,null,null,null,null,null,null,null,null,null,null,null,null,null,null,null,"",{"$f":"IF(ISERROR(VLOOKUP(E245,[2]LISTAS!$A$15:$B$50,2,0)),\"\",VLOOKUP(E245,[2]LISTAS!$A$15:$B$50,2,0))","v":""},{"$f":"IF(ISERROR(VLOOKUP(G245,[2]LISTAS!$A$15:$B$50,2,0)),\"\",VLOOKUP(G245,[2]LISTAS!$A$15:$B$50,2,0))","v":""},{"$f":"IF(ISERROR(VLOOKUP(I245,[2]LISTAS!$A$15:$B$50,2,0)),\"\",VLOOKUP(I245,[2]LISTAS!$A$15:$B$50,2,0))","v":""},{"$f":"IF(ISERROR(VLOOKUP(K245,[2]LISTAS!$A$15:$B$50,2,0)),\"\",VLOOKUP(K245,[2]LISTAS!$A$15:$B$50,2,0))","v":""},{"$f":"IF(ISERROR(VLOOKUP(M245,[2]LISTAS!$A$15:$B$50,2,0)),\"\",VLOOKUP(M245,[2]LISTAS!$A$15:$B$50,2,0))","v":""},{"$f":"IF(ISERROR(VLOOKUP(O245,[2]LISTAS!$A$15:$B$50,2,0)),\"\",VLOOKUP(O245,[2]LISTAS!$A$15:$B$50,2,0))","v":""},{"$f":"IF(ISERROR(VLOOKUP(6,[2]LISTAS!$A$15:$B$50,2,0)),\"\",VLOOKUP(6,[2]LISTAS!$A$15:$B$50,2,0))","v":""},null,{"$f":"_xlfn.IFS(T245=\"------\",AD245,T245=\"LA RELACIÓN DE ACTIVIDADES DEBE SER A PARTIR DE LA SIGUIENTE FILA\",\"LA RELACIÓN DE ACTIVIDADES DEBE SER A PARTIR DE LA SIGUIENTE FILA\",T245<>\"------\",T245)","v":""},null,"ok"]
[null,null,null,null,null,null,null,null,null,null,null,null,null,null,null,null,null,null,null,"",{"$f":"IF(ISERROR(VLOOKUP(E246,[2]LISTAS!$A$15:$B$50,2,0)),\"\",VLOOKUP(E246,[2]LISTAS!$A$15:$B$50,2,0))","v":""},{"$f":"IF(ISERROR(VLOOKUP(G246,[2]LISTAS!$A$15:$B$50,2,0)),\"\",VLOOKUP(G246,[2]LISTAS!$A$15:$B$50,2,0))","v":""},{"$f":"IF(ISERROR(VLOOKUP(I246,[2]LISTAS!$A$15:$B$50,2,0)),\"\",VLOOKUP(I246,[2]LISTAS!$A$15:$B$50,2,0))","v":""},{"$f":"IF(ISERROR(VLOOKUP(K246,[2]LISTAS!$A$15:$B$50,2,0)),\"\",VLOOKUP(K246,[2]LISTAS!$A$15:$B$50,2,0))","v":""},{"$f":"IF(ISERROR(VLOOKUP(M246,[2]LISTAS!$A$15:$B$50,2,0)),\"\",VLOOKUP(M246,[2]LISTAS!$A$15:$B$50,2,0))","v":""},{"$f":"IF(ISERROR(VLOOKUP(O246,[2]LISTAS!$A$15:$B$50,2,0)),\"\",VLOOKUP(O246,[2]LISTAS!$A$15:$B$50,2,0))","v":""},{"$f":"IF(ISERROR(VLOOKUP(6,[2]LISTAS!$A$15:$B$50,2,0)),\"\",VLOOKUP(6,[2]LISTAS!$A$15:$B$50,2,0))","v":""},null,{"$f":"_xlfn.IFS(T246=\"------\",AD246,T246=\"LA RELACIÓN DE ACTIVIDADES DEBE SER A PARTIR DE LA SIGUIENTE FILA\",\"LA RELACIÓN DE ACTIVIDADES DEBE SER A PARTIR DE LA SIGUIENTE FILA\",T246<>\"------\",T246)","v":""},null,"ok"]
[null,null,null,null,null,null,null,null,null,null,null,null,null,null,null,null,null,null,null,{"$f":"IF(AND(B247=\"\",C247=\"\"),\"\",IF(AND(D247<>\"\"),U247&\"-\"&V247&\"-\"&W247&\"-\"&X247&\"-\"&Y247&\"-\"&Z247&\"-\"&AA247,IF(AND(C247<>\"\"),\"LA RELACIÓN DE ACTIVIDADES DEBE SER A PARTIR DE LA SIGUIENTE FILA\",)))","v":""},{"$f":"IF(ISERROR(VLOOKUP(E247,[2]LISTAS!$A$15:$B$50,2,0)),\"\",VLOOKUP(E247,[2]LISTAS!$A$15:$B$50,2,0))","v":""},{"$f":"IF(ISERROR(VLOOKUP(G247,[2]LISTAS!$A$15:$B$50,2,0)),\"\",VLOOKUP(G247,[2]LISTAS!$A$15:$B$50,2,0))","v":""},{"$f":"IF(ISERROR(VLOOKUP(I247,[2]LISTAS!$A$15:$B$50,2,0)),\"\",VLOOKUP(I247,[2]LISTAS!$A$15:$B$50,2,0))","v":""},{"$f":"IF(ISERROR(VLOOKUP(K247,[2]LISTAS!$A$15:$B$50,2,0)),\"\",VLOOKUP(K247,[2]LISTAS!$A$15:$B$50,2,0))","v":""},{"$f":"IF(ISERROR(VLOOKUP(M247,[2]LISTAS!$A$15:$B$50,2,0)),\"\",VLOOKUP(M247,[2]LISTAS!$A$15:$B$50,2,0))","v":""},{"$f":"IF(ISERROR(VLOOKUP(O247,[2]LISTAS!$A$15:$B$50,2,0)),\"\",VLOOKUP(O247,[2]LISTAS!$A$15:$B$50,2,0))","v":""},{"$f":"IF(ISERROR(VLOOKUP(6,[2]LISTAS!$A$15:$B$50,2,0)),\"\",VLOOKUP(6,[2]LISTAS!$A$15:$B$50,2,0))","v":""},null,{"$f":"_xlfn.IFS(T247=\"------\",AD247,T247=\"LA RELACIÓN DE ACTIVIDADES DEBE SER A PARTIR DE LA SIGUIENTE FILA\",\"LA RELACIÓN DE ACTIVIDADES DEBE SER A PARTIR DE LA SIGUIENTE FILA\",T247<>\"------\",T247)","v":""},null,"ok"]
[null,null,null,null,null,null,null,null,null,null,null,null,null,null,null,null,null,null,null,"",{"$f":"IF(ISERROR(VLOOKUP(E248,[2]LISTAS!$A$15:$B$50,2,0)),\"\",VLOOKUP(E248,[2]LISTAS!$A$15:$B$50,2,0))","v":""},{"$f":"IF(ISERROR(VLOOKUP(G248,[2]LISTAS!$A$15:$B$50,2,0)),\"\",VLOOKUP(G248,[2]LISTAS!$A$15:$B$50,2,0))","v":""},{"$f":"IF(ISERROR(VLOOKUP(I248,[2]LISTAS!$A$15:$B$50,2,0)),\"\",VLOOKUP(I248,[2]LISTAS!$A$15:$B$50,2,0))","v":""},{"$f":"IF(ISERROR(VLOOKUP(K248,[2]LISTAS!$A$15:$B$50,2,0)),\"\",VLOOKUP(K248,[2]LISTAS!$A$15:$B$50,2,0))","v":""},{"$f":"IF(ISERROR(VLOOKUP(M248,[2]LISTAS!$A$15:$B$50,2,0)),\"\",VLOOKUP(M248,[2]LISTAS!$A$15:$B$50,2,0))","v":""},{"$f":"IF(ISERROR(VLOOKUP(O248,[2]LISTAS!$A$15:$B$50,2,0)),\"\",VLOOKUP(O248,[2]LISTAS!$A$15:$B$50,2,0))","v":""},{"$f":"IF(ISERROR(VLOOKUP(6,[2]LISTAS!$A$15:$B$50,2,0)),\"\",VLOOKUP(6,[2]LISTAS!$A$15:$B$50,2,0))","v":""},null,{"$f":"_xlfn.IFS(T248=\"------\",AD248,T248=\"LA RELACIÓN DE ACTIVIDADES DEBE SER A PARTIR DE LA SIGUIENTE FILA\",\"LA RELACIÓN DE ACTIVIDADES DEBE SER A PARTIR DE LA SIGUIENTE FILA\",T248<>\"------\",T248)","v":""},null,"ok"]
[null,null,null,null,null,null,null,null,null,null,null,null,null,null,null,null,null,null,null,"",{"$f":"IF(ISERROR(VLOOKUP(E249,[2]LISTAS!$A$15:$B$50,2,0)),\"\",VLOOKUP(E249,[2]LISTAS!$A$15:$B$50,2,0))","v":""},{"$f":"IF(ISERROR(VLOOKUP(G249,[2]LISTAS!$A$15:$B$50,2,0)),\"\",VLOOKUP(G249,[2]LISTAS!$A$15:$B$50,2,0))","v":""},{"$f":"IF(ISERROR(VLOOKUP(I249,[2]LISTAS!$A$15:$B$50,2,0)),\"\",VLOOKUP(I249,[2]LISTAS!$A$15:$B$50,2,0))","v":""},{"$f":"IF(ISERROR(VLOOKUP(K249,[2]LISTAS!$A$15:$B$50,2,0)),\"\",VLOOKUP(K249,[2]LISTAS!$A$15:$B$50,2,0))","v":""},{"$f":"IF(ISERROR(VLOOKUP(M249,[2]LISTAS!$A$15:$B$50,2,0)),\"\",VLOOKUP(M249,[2]LISTAS!$A$15:$B$50,2,0))","v":""},{"$f":"IF(ISERROR(VLOOKUP(O249,[2]LISTAS!$A$15:$B$50,2,0)),\"\",VLOOKUP(O249,[2]LISTAS!$A$15:$B$50,2,0))","v":""},{"$f":"IF(ISERROR(VLOOKUP(6,[2]LISTAS!$A$15:$B$50,2,0)),\"\",VLOOKUP(6,[2]LISTAS!$A$15:$B$50,2,0))","v":""},null,{"$f":"_xlfn.IFS(T249=\"------\",AD249,T249=\"LA RELACIÓN DE ACTIVIDADES DEBE SER A PARTIR DE LA SIGUIENTE FILA\",\"LA RELACIÓN DE ACTIVIDADES DEBE SER A PARTIR DE LA SIGUIENTE FILA\",T249<>\"------\",T249)","v":""},null,"ok"]
[null,null,null,null,null,null,null,null,null,null,null,null,null,null,null,null,null,null,null,"",{"$f":"IF(ISERROR(VLOOKUP(E250,[2]LISTAS!$A$15:$B$50,2,0)),\"\",VLOOKUP(E250,[2]LISTAS!$A$15:$B$50,2,0))","v":""},{"$f":"IF(ISERROR(VLOOKUP(G250,[2]LISTAS!$A$15:$B$50,2,0)),\"\",VLOOKUP(G250,[2]LISTAS!$A$15:$B$50,2,0))","v":""},{"$f":"IF(ISERROR(VLOOKUP(I250,[2]LISTAS!$A$15:$B$50,2,0)),\"\",VLOOKUP(I250,[2]LISTAS!$A$15:$B$50,2,0))","v":""},{"$f":"IF(ISERROR(VLOOKUP(K250,[2]LISTAS!$A$15:$B$50,2,0)),\"\",VLOOKUP(K250,[2]LISTAS!$A$15:$B$50,2,0))","v":""},{"$f":"IF(ISERROR(VLOOKUP(M250,[2]LISTAS!$A$15:$B$50,2,0)),\"\",VLOOKUP(M250,[2]LISTAS!$A$15:$B$50,2,0))","v":""},{"$f":"IF(ISERROR(VLOOKUP(O250,[2]LISTAS!$A$15:$B$50,2,0)),\"\",VLOOKUP(O250,[2]LISTAS!$A$15:$B$50,2,0))","v":""},{"$f":"IF(ISERROR(VLOOKUP(6,[2]LISTAS!$A$15:$B$50,2,0)),\"\",VLOOKUP(6,[2]LISTAS!$A$15:$B$50,2,0))","v":""},null,{"$f":"_xlfn.IFS(T250=\"------\",AD250,T250=\"LA RELACIÓN DE ACTIVIDADES DEBE SER A PARTIR DE LA SIGUIENTE FILA\",\"LA RELACIÓN DE ACTIVIDADES DEBE SER A PARTIR DE LA SIGUIENTE FILA\",T250<>\"------\",T250)","v":""},null,"ok"]
[null,null,null,null,null,null,null,null,null,null,null,null,null,null,null,null,null,null,null,"",{"$f":"IF(ISERROR(VLOOKUP(E251,[2]LISTAS!$A$15:$B$50,2,0)),\"\",VLOOKUP(E251,[2]LISTAS!$A$15:$B$50,2,0))","v":""},{"$f":"IF(ISERROR(VLOOKUP(G251,[2]LISTAS!$A$15:$B$50,2,0)),\"\",VLOOKUP(G251,[2]LISTAS!$A$15:$B$50,2,0))","v":""},{"$f":"IF(ISERROR(VLOOKUP(I251,[2]LISTAS!$A$15:$B$50,2,0)),\"\",VLOOKUP(I251,[2]LISTAS!$A$15:$B$50,2,0))","v":""},{"$f":"IF(ISERROR(VLOOKUP(K251,[2]LISTAS!$A$15:$B$50,2,0)),\"\",VLOOKUP(K251,[2]LISTAS!$A$15:$B$50,2,0))","v":""},{"$f":"IF(ISERROR(VLOOKUP(M251,[2]LISTAS!$A$15:$B$50,2,0)),\"\",VLOOKUP(M251,[2]LISTAS!$A$15:$B$50,2,0))","v":""},{"$f":"IF(ISERROR(VLOOKUP(O251,[2]LISTAS!$A$15:$B$50,2,0)),\"\",VLOOKUP(O251,[2]LISTAS!$A$15:$B$50,2,0))","v":""},{"$f":"IF(ISERROR(VLOOKUP(6,[2]LISTAS!$A$15:$B$50,2,0)),\"\",VLOOKUP(6,[2]LISTAS!$A$15:$B$50,2,0))","v":""},null,{"$f":"_xlfn.IFS(T251=\"------\",AD251,T251=\"LA RELACIÓN DE ACTIVIDADES DEBE SER A PARTIR DE LA SIGUIENTE FILA\",\"LA RELACIÓN DE ACTIVIDADES DEBE SER A PARTIR DE LA SIGUIENTE FILA\",T251<>\"------\",T251)","v":""},null,"ok"]
[null,null,null,null,null,null,null,null,null,null,null,null,null,null,null,null,null,null,null,"",{"$f":"IF(ISERROR(VLOOKUP(E252,[2]LISTAS!$A$15:$B$50,2,0)),\"\",VLOOKUP(E252,[2]LISTAS!$A$15:$B$50,2,0))","v":""},{"$f":"IF(ISERROR(VLOOKUP(G252,[2]LISTAS!$A$15:$B$50,2,0)),\"\",VLOOKUP(G252,[2]LISTAS!$A$15:$B$50,2,0))","v":""},{"$f":"IF(ISERROR(VLOOKUP(I252,[2]LISTAS!$A$15:$B$50,2,0)),\"\",VLOOKUP(I252,[2]LISTAS!$A$15:$B$50,2,0))","v":""},{"$f":"IF(ISERROR(VLOOKUP(K252,[2]LISTAS!$A$15:$B$50,2,0)),\"\",VLOOKUP(K252,[2]LISTAS!$A$15:$B$50,2,0))","v":""},{"$f":"IF(ISERROR(VLOOKUP(M252,[2]LISTAS!$A$15:$B$50,2,0)),\"\",VLOOKUP(M252,[2]LISTAS!$A$15:$B$50,2,0))","v":""},{"$f":"IF(ISERROR(VLOOKUP(O252,[2]LISTAS!$A$15:$B$50,2,0)),\"\",VLOOKUP(O252,[2]LISTAS!$A$15:$B$50,2,0))","v":""},{"$f":"IF(ISERROR(VLOOKUP(6,[2]LISTAS!$A$15:$B$50,2,0)),\"\",VLOOKUP(6,[2]LISTAS!$A$15:$B$50,2,0))","v":""},null,{"$f":"_xlfn.IFS(T252=\"------\",AD252,T252=\"LA RELACIÓN DE ACTIVIDADES DEBE SER A PARTIR DE LA SIGUIENTE FILA\",\"LA RELACIÓN DE ACTIVIDADES DEBE SER A PARTIR DE LA SIGUIENTE FILA\",T252<>\"------\",T252)","v":""},null,"ok"]
[null,null,null,null,null,null,null,null,null,null,null,null,null,null,null,null,null,null,null,"",{"$f":"IF(ISERROR(VLOOKUP(E253,[2]LISTAS!$A$15:$B$50,2,0)),\"\",VLOOKUP(E253,[2]LISTAS!$A$15:$B$50,2,0))","v":""},{"$f":"IF(ISERROR(VLOOKUP(G253,[2]LISTAS!$A$15:$B$50,2,0)),\"\",VLOOKUP(G253,[2]LISTAS!$A$15:$B$50,2,0))","v":""},{"$f":"IF(ISERROR(VLOOKUP(I253,[2]LISTAS!$A$15:$B$50,2,0)),\"\",VLOOKUP(I253,[2]LISTAS!$A$15:$B$50,2,0))","v":""},{"$f":"IF(ISERROR(VLOOKUP(K253,[2]LISTAS!$A$15:$B$50,2,0)),\"\",VLOOKUP(K253,[2]LISTAS!$A$15:$B$50,2,0))","v":""},{"$f":"IF(ISERROR(VLOOKUP(M253,[2]LISTAS!$A$15:$B$50,2,0)),\"\",VLOOKUP(M253,[2]LISTAS!$A$15:$B$50,2,0))","v":""},{"$f":"IF(ISERROR(VLOOKUP(O253,[2]LISTAS!$A$15:$B$50,2,0)),\"\",VLOOKUP(O253,[2]LISTAS!$A$15:$B$50,2,0))","v":""},{"$f":"IF(ISERROR(VLOOKUP(6,[2]LISTAS!$A$15:$B$50,2,0)),\"\",VLOOKUP(6,[2]LISTAS!$A$15:$B$50,2,0))","v":""},null,{"$f":"_xlfn.IFS(T253=\"------\",AD253,T253=\"LA RELACIÓN DE ACTIVIDADES DEBE SER A PARTIR DE LA SIGUIENTE FILA\",\"LA RELACIÓN DE ACTIVIDADES DEBE SER A PARTIR DE LA SIGUIENTE FILA\",T253<>\"------\",T253)","v":""},null,"ok"]
[null,null,null,null,null,null,null,null,null,null,null,null,null,null,null,null,null,null,null,"",{"$f":"IF(ISERROR(VLOOKUP(E254,[2]LISTAS!$A$15:$B$50,2,0)),\"\",VLOOKUP(E254,[2]LISTAS!$A$15:$B$50,2,0))","v":""},{"$f":"IF(ISERROR(VLOOKUP(G254,[2]LISTAS!$A$15:$B$50,2,0)),\"\",VLOOKUP(G254,[2]LISTAS!$A$15:$B$50,2,0))","v":""},{"$f":"IF(ISERROR(VLOOKUP(I254,[2]LISTAS!$A$15:$B$50,2,0)),\"\",VLOOKUP(I254,[2]LISTAS!$A$15:$B$50,2,0))","v":""},{"$f":"IF(ISERROR(VLOOKUP(K254,[2]LISTAS!$A$15:$B$50,2,0)),\"\",VLOOKUP(K254,[2]LISTAS!$A$15:$B$50,2,0))","v":""},{"$f":"IF(ISERROR(VLOOKUP(M254,[2]LISTAS!$A$15:$B$50,2,0)),\"\",VLOOKUP(M254,[2]LISTAS!$A$15:$B$50,2,0))","v":""},{"$f":"IF(ISERROR(VLOOKUP(O254,[2]LISTAS!$A$15:$B$50,2,0)),\"\",VLOOKUP(O254,[2]LISTAS!$A$15:$B$50,2,0))","v":""},{"$f":"IF(ISERROR(VLOOKUP(6,[2]LISTAS!$A$15:$B$50,2,0)),\"\",VLOOKUP(6,[2]LISTAS!$A$15:$B$50,2,0))","v":""},null,{"$f":"_xlfn.IFS(T254=\"------\",AD254,T254=\"LA RELACIÓN DE ACTIVIDADES DEBE SER A PARTIR DE LA SIGUIENTE FILA\",\"LA RELACIÓN DE ACTIVIDADES DEBE SER A PARTIR DE LA SIGUIENTE FILA\",T254<>\"------\",T254)","v":""},null,"ok"]
[null,null,null,null,null,null,null,null,null,null,null,null,null,null,null,null,null,null,null,"",{"$f":"IF(ISERROR(VLOOKUP(E255,[2]LISTAS!$A$15:$B$50,2,0)),\"\",VLOOKUP(E255,[2]LISTAS!$A$15:$B$50,2,0))","v":""},{"$f":"IF(ISERROR(VLOOKUP(G255,[2]LISTAS!$A$15:$B$50,2,0)),\"\",VLOOKUP(G255,[2]LISTAS!$A$15:$B$50,2,0))","v":""},{"$f":"IF(ISERROR(VLOOKUP(I255,[2]LISTAS!$A$15:$B$50,2,0)),\"\",VLOOKUP(I255,[2]LISTAS!$A$15:$B$50,2,0))","v":""},{"$f":"IF(ISERROR(VLOOKUP(K255,[2]LISTAS!$A$15:$B$50,2,0)),\"\",VLOOKUP(K255,[2]LISTAS!$A$15:$B$50,2,0))","v":""},{"$f":"IF(ISERROR(VLOOKUP(M255,[2]LISTAS!$A$15:$B$50,2,0)),\"\",VLOOKUP(M255,[2]LISTAS!$A$15:$B$50,2,0))","v":""},{"$f":"IF(ISERROR(VLOOKUP(O255,[2]LISTAS!$A$15:$B$50,2,0)),\"\",VLOOKUP(O255,[2]LISTAS!$A$15:$B$50,2,0))","v":""},{"$f":"IF(ISERROR(VLOOKUP(6,[2]LISTAS!$A$15:$B$50,2,0)),\"\",VLOOKUP(6,[2]LISTAS!$A$15:$B$50,2,0))","v":""},null,{"$f":"_xlfn.IFS(T255=\"------\",AD255,T255=\"LA RELACIÓN DE ACTIVIDADES DEBE SER A PARTIR DE LA SIGUIENTE FILA\",\"LA RELACIÓN DE ACTIVIDADES DEBE SER A PARTIR DE LA SIGUIENTE FILA\",T255<>\"------\",T255)","v":""},null,"ok"]
[null,null,null,null,null,null,null,null,null,null,null,null,null,null,null,null,null,null,null,"",{"$f":"IF(ISERROR(VLOOKUP(E256,[2]LISTAS!$A$15:$B$50,2,0)),\"\",VLOOKUP(E256,[2]LISTAS!$A$15:$B$50,2,0))","v":""},{"$f":"IF(ISERROR(VLOOKUP(G256,[2]LISTAS!$A$15:$B$50,2,0)),\"\",VLOOKUP(G256,[2]LISTAS!$A$15:$B$50,2,0))","v":""},{"$f":"IF(ISERROR(VLOOKUP(I256,[2]LISTAS!$A$15:$B$50,2,0)),\"\",VLOOKUP(I256,[2]LISTAS!$A$15:$B$50,2,0))","v":""},{"$f":"IF(ISERROR(VLOOKUP(K256,[2]LISTAS!$A$15:$B$50,2,0)),\"\",VLOOKUP(K256,[2]LISTAS!$A$15:$B$50,2,0))","v":""},{"$f":"IF(ISERROR(VLOOKUP(M256,[2]LISTAS!$A$15:$B$50,2,0)),\"\",VLOOKUP(M256,[2]LISTAS!$A$15:$B$50,2,0))","v":""},{"$f":"IF(ISERROR(VLOOKUP(O256,[2]LISTAS!$A$15:$B$50,2,0)),\"\",VLOOKUP(O256,[2]LISTAS!$A$15:$B$50,2,0))","v":""},{"$f":"IF(ISERROR(VLOOKUP(6,[2]LISTAS!$A$15:$B$50,2,0)),\"\",VLOOKUP(6,[2]LISTAS!$A$15:$B$50,2,0))","v":""},null,{"$f":"_xlfn.IFS(T256=\"------\",AD256,T256=\"LA RELACIÓN DE ACTIVIDADES DEBE SER A PARTIR DE LA SIGUIENTE FILA\",\"LA RELACIÓN DE ACTIVIDADES DEBE SER A PARTIR DE LA SIGUIENTE FILA\",T256<>\"------\",T256)","v":""},null,"ok"]
[null,null,null,null,null,null,null,null,null,null,null,null,null,null,null,null,null,null,null,"",{"$f":"IF(ISERROR(VLOOKUP(E257,[2]LISTAS!$A$15:$B$50,2,0)),\"\",VLOOKUP(E257,[2]LISTAS!$A$15:$B$50,2,0))","v":""},{"$f":"IF(ISERROR(VLOOKUP(G257,[2]LISTAS!$A$15:$B$50,2,0)),\"\",VLOOKUP(G257,[2]LISTAS!$A$15:$B$50,2,0))","v":""},{"$f":"IF(ISERROR(VLOOKUP(I257,[2]LISTAS!$A$15:$B$50,2,0)),\"\",VLOOKUP(I257,[2]LISTAS!$A$15:$B$50,2,0))","v":""},{"$f":"IF(ISERROR(VLOOKUP(K257,[2]LISTAS!$A$15:$B$50,2,0)),\"\",VLOOKUP(K257,[2]LISTAS!$A$15:$B$50,2,0))","v":""},{"$f":"IF(ISERROR(VLOOKUP(M257,[2]LISTAS!$A$15:$B$50,2,0)),\"\",VLOOKUP(M257,[2]LISTAS!$A$15:$B$50,2,0))","v":""},{"$f":"IF(ISERROR(VLOOKUP(O257,[2]LISTAS!$A$15:$B$50,2,0)),\"\",VLOOKUP(O257,[2]LISTAS!$A$15:$B$50,2,0))","v":""},{"$f":"IF(ISERROR(VLOOKUP(6,[2]LISTAS!$A$15:$B$50,2,0)),\"\",VLOOKUP(6,[2]LISTAS!$A$15:$B$50,2,0))","v":""},null,{"$f":"_xlfn.IFS(T257=\"------\",AD257,T257=\"LA RELACIÓN DE ACTIVIDADES DEBE SER A PARTIR DE LA SIGUIENTE FILA\",\"LA RELACIÓN DE ACTIVIDADES DEBE SER A PARTIR DE LA SIGUIENTE FILA\",T257<>\"------\",T257)","v":""},null,"ok"]
[null,null,null,null,null,null,null,null,null,null,null,null,null,null,null,null,null,null,null,"",{"$f":"IF(ISERROR(VLOOKUP(E258,[2]LISTAS!$A$15:$B$50,2,0)),\"\",VLOOKUP(E258,[2]LISTAS!$A$15:$B$50,2,0))","v":""},{"$f":"IF(ISERROR(VLOOKUP(G258,[2]LISTAS!$A$15:$B$50,2,0)),\"\",VLOOKUP(G258,[2]LISTAS!$A$15:$B$50,2,0))","v":""},{"$f":"IF(ISERROR(VLOOKUP(I258,[2]LISTAS!$A$15:$B$50,2,0)),\"\",VLOOKUP(I258,[2]LISTAS!$A$15:$B$50,2,0))","v":""},{"$f":"IF(ISERROR(VLOOKUP(K258,[2]LISTAS!$A$15:$B$50,2,0)),\"\",VLOOKUP(K258,[2]LISTAS!$A$15:$B$50,2,0))","v":""},{"$f":"IF(ISERROR(VLOOKUP(M258,[2]LISTAS!$A$15:$B$50,2,0)),\"\",VLOOKUP(M258,[2]LISTAS!$A$15:$B$50,2,0))","v":""},{"$f":"IF(ISERROR(VLOOKUP(O258,[2]LISTAS!$A$15:$B$50,2,0)),\"\",VLOOKUP(O258,[2]LISTAS!$A$15:$B$50,2,0))","v":""},{"$f":"IF(ISERROR(VLOOKUP(6,[2]LISTAS!$A$15:$B$50,2,0)),\"\",VLOOKUP(6,[2]LISTAS!$A$15:$B$50,2,0))","v":""},null,{"$f":"_xlfn.IFS(T258=\"------\",AD258,T258=\"LA RELACIÓN DE ACTIVIDADES DEBE SER A PARTIR DE LA SIGUIENTE FILA\",\"LA RELACIÓN DE ACTIVIDADES DEBE SER A PARTIR DE LA SIGUIENTE FILA\",T258<>\"------\",T258)","v":""},null,"ok"]
[null,null,null,null,null,null,null,null,null,null,null,null,null,null,null,null,null,null,null,"",{"$f":"IF(ISERROR(VLOOKUP(E259,[2]LISTAS!$A$15:$B$50,2,0)),\"\",VLOOKUP(E259,[2]LISTAS!$A$15:$B$50,2,0))","v":""},{"$f":"IF(ISERROR(VLOOKUP(G259,[2]LISTAS!$A$15:$B$50,2,0)),\"\",VLOOKUP(G259,[2]LISTAS!$A$15:$B$50,2,0))","v":""},{"$f":"IF(ISERROR(VLOOKUP(I259,[2]LISTAS!$A$15:$B$50,2,0)),\"\",VLOOKUP(I259,[2]LISTAS!$A$15:$B$50,2,0))","v":""},{"$f":"IF(ISERROR(VLOOKUP(K259,[2]LISTAS!$A$15:$B$50,2,0)),\"\",VLOOKUP(K259,[2]LISTAS!$A$15:$B$50,2,0))","v":""},{"$f":"IF(ISERROR(VLOOKUP(M259,[2]LISTAS!$A$15:$B$50,2,0)),\"\",VLOOKUP(M259,[2]LISTAS!$A$15:$B$50,2,0))","v":""},{"$f":"IF(ISERROR(VLOOKUP(O259,[2]LISTAS!$A$15:$B$50,2,0)),\"\",VLOOKUP(O259,[2]LISTAS!$A$15:$B$50,2,0))","v":""},{"$f":"IF(ISERROR(VLOOKUP(6,[2]LISTAS!$A$15:$B$50,2,0)),\"\",VLOOKUP(6,[2]LISTAS!$A$15:$B$50,2,0))","v":""},null,{"$f":"_xlfn.IFS(T259=\"------\",AD259,T259=\"LA RELACIÓN DE ACTIVIDADES DEBE SER A PARTIR DE LA SIGUIENTE FILA\",\"LA RELACIÓN DE ACTIVIDADES DEBE SER A PARTIR DE LA SIGUIENTE FILA\",T259<>\"------\",T259)","v":""},null,"ok"]
[null,null,null,null,null,null,null,null,null,null,null,null,null,null,null,null,null,null,null,"",{"$f":"IF(ISERROR(VLOOKUP(E260,[2]LISTAS!$A$15:$B$50,2,0)),\"\",VLOOKUP(E260,[2]LISTAS!$A$15:$B$50,2,0))","v":""},{"$f":"IF(ISERROR(VLOOKUP(G260,[2]LISTAS!$A$15:$B$50,2,0)),\"\",VLOOKUP(G260,[2]LISTAS!$A$15:$B$50,2,0))","v":""},{"$f":"IF(ISERROR(VLOOKUP(I260,[2]LISTAS!$A$15:$B$50,2,0)),\"\",VLOOKUP(I260,[2]LISTAS!$A$15:$B$50,2,0))","v":""},{"$f":"IF(ISERROR(VLOOKUP(K260,[2]LISTAS!$A$15:$B$50,2,0)),\"\",VLOOKUP(K260,[2]LISTAS!$A$15:$B$50,2,0))","v":""},{"$f":"IF(ISERROR(VLOOKUP(M260,[2]LISTAS!$A$15:$B$50,2,0)),\"\",VLOOKUP(M260,[2]LISTAS!$A$15:$B$50,2,0))","v":""},{"$f":"IF(ISERROR(VLOOKUP(O260,[2]LISTAS!$A$15:$B$50,2,0)),\"\",VLOOKUP(O260,[2]LISTAS!$A$15:$B$50,2,0))","v":""},{"$f":"IF(ISERROR(VLOOKUP(6,[2]LISTAS!$A$15:$B$50,2,0)),\"\",VLOOKUP(6,[2]LISTAS!$A$15:$B$50,2,0))","v":""},null,{"$f":"_xlfn.IFS(T260=\"------\",AD260,T260=\"LA RELACIÓN DE ACTIVIDADES DEBE SER A PARTIR DE LA SIGUIENTE FILA\",\"LA RELACIÓN DE ACTIVIDADES DEBE SER A PARTIR DE LA SIGUIENTE FILA\",T260<>\"------\",T260)","v":""},null,"ok"]
[null,null,null,null,null,null,null,null,null,null,null,null,null,null,null,null,null,null,null,"",{"$f":"IF(ISERROR(VLOOKUP(E261,[2]LISTAS!$A$15:$B$50,2,0)),\"\",VLOOKUP(E261,[2]LISTAS!$A$15:$B$50,2,0))","v":""},{"$f":"IF(ISERROR(VLOOKUP(G261,[2]LISTAS!$A$15:$B$50,2,0)),\"\",VLOOKUP(G261,[2]LISTAS!$A$15:$B$50,2,0))","v":""},{"$f":"IF(ISERROR(VLOOKUP(I261,[2]LISTAS!$A$15:$B$50,2,0)),\"\",VLOOKUP(I261,[2]LISTAS!$A$15:$B$50,2,0))","v":""},{"$f":"IF(ISERROR(VLOOKUP(K261,[2]LISTAS!$A$15:$B$50,2,0)),\"\",VLOOKUP(K261,[2]LISTAS!$A$15:$B$50,2,0))","v":""},{"$f":"IF(ISERROR(VLOOKUP(M261,[2]LISTAS!$A$15:$B$50,2,0)),\"\",VLOOKUP(M261,[2]LISTAS!$A$15:$B$50,2,0))","v":""},{"$f":"IF(ISERROR(VLOOKUP(O261,[2]LISTAS!$A$15:$B$50,2,0)),\"\",VLOOKUP(O261,[2]LISTAS!$A$15:$B$50,2,0))","v":""},{"$f":"IF(ISERROR(VLOOKUP(6,[2]LISTAS!$A$15:$B$50,2,0)),\"\",VLOOKUP(6,[2]LISTAS!$A$15:$B$50,2,0))","v":""},null,{"$f":"_xlfn.IFS(T261=\"------\",AD261,T261=\"LA RELACIÓN DE ACTIVIDADES DEBE SER A PARTIR DE LA SIGUIENTE FILA\",\"LA RELACIÓN DE ACTIVIDADES DEBE SER A PARTIR DE LA SIGUIENTE FILA\",T261<>\"------\",T261)","v":""},null,"ok"]
[null,null,null,null,null,null,null,null,null,null,null,null,null,null,null,null,null,null,null,"",{"$f":"IF(ISERROR(VLOOKUP(E262,[2]LISTAS!$A$15:$B$50,2,0)),\"\",VLOOKUP(E262,[2]LISTAS!$A$15:$B$50,2,0))","v":""},{"$f":"IF(ISERROR(VLOOKUP(G262,[2]LISTAS!$A$15:$B$50,2,0)),\"\",VLOOKUP(G262,[2]LISTAS!$A$15:$B$50,2,0))","v":""},{"$f":"IF(ISERROR(VLOOKUP(I262,[2]LISTAS!$A$15:$B$50,2,0)),\"\",VLOOKUP(I262,[2]LISTAS!$A$15:$B$50,2,0))","v":""},{"$f":"IF(ISERROR(VLOOKUP(K262,[2]LISTAS!$A$15:$B$50,2,0)),\"\",VLOOKUP(K262,[2]LISTAS!$A$15:$B$50,2,0))","v":""},{"$f":"IF(ISERROR(VLOOKUP(M262,[2]LISTAS!$A$15:$B$50,2,0)),\"\",VLOOKUP(M262,[2]LISTAS!$A$15:$B$50,2,0))","v":""},{"$f":"IF(ISERROR(VLOOKUP(O262,[2]LISTAS!$A$15:$B$50,2,0)),\"\",VLOOKUP(O262,[2]LISTAS!$A$15:$B$50,2,0))","v":""},{"$f":"IF(ISERROR(VLOOKUP(6,[2]LISTAS!$A$15:$B$50,2,0)),\"\",VLOOKUP(6,[2]LISTAS!$A$15:$B$50,2,0))","v":""},null,{"$f":"_xlfn.IFS(T262=\"------\",AD262,T262=\"LA RELACIÓN DE ACTIVIDADES DEBE SER A PARTIR DE LA SIGUIENTE FILA\",\"LA RELACIÓN DE ACTIVIDADES DEBE SER A PARTIR DE LA SIGUIENTE FILA\",T262<>\"------\",T262)","v":""},null,"ok"]
[null,null,null,null,null,null,null,null,null,null,null,null,null,null,null,null,null,null,null,"",{"$f":"IF(ISERROR(VLOOKUP(E263,[2]LISTAS!$A$15:$B$50,2,0)),\"\",VLOOKUP(E263,[2]LISTAS!$A$15:$B$50,2,0))","v":""},{"$f":"IF(ISERROR(VLOOKUP(G263,[2]LISTAS!$A$15:$B$50,2,0)),\"\",VLOOKUP(G263,[2]LISTAS!$A$15:$B$50,2,0))","v":""},{"$f":"IF(ISERROR(VLOOKUP(I263,[2]LISTAS!$A$15:$B$50,2,0)),\"\",VLOOKUP(I263,[2]LISTAS!$A$15:$B$50,2,0))","v":""},{"$f":"IF(ISERROR(VLOOKUP(K263,[2]LISTAS!$A$15:$B$50,2,0)),\"\",VLOOKUP(K263,[2]LISTAS!$A$15:$B$50,2,0))","v":""},{"$f":"IF(ISERROR(VLOOKUP(M263,[2]LISTAS!$A$15:$B$50,2,0)),\"\",VLOOKUP(M263,[2]LISTAS!$A$15:$B$50,2,0))","v":""},{"$f":"IF(ISERROR(VLOOKUP(O263,[2]LISTAS!$A$15:$B$50,2,0)),\"\",VLOOKUP(O263,[2]LISTAS!$A$15:$B$50,2,0))","v":""},{"$f":"IF(ISERROR(VLOOKUP(6,[2]LISTAS!$A$15:$B$50,2,0)),\"\",VLOOKUP(6,[2]LISTAS!$A$15:$B$50,2,0))","v":""},null,{"$f":"_xlfn.IFS(T263=\"------\",AD263,T263=\"LA RELACIÓN DE ACTIVIDADES DEBE SER A PARTIR DE LA SIGUIENTE FILA\",\"LA RELACIÓN DE ACTIVIDADES DEBE SER A PARTIR DE LA SIGUIENTE FILA\",T263<>\"------\",T263)","v":""},null,"ok"]
[null,null,null,null,null,null,null,null,null,null,null,null,null,null,null,null,null,null,null,"",{"$f":"IF(ISERROR(VLOOKUP(E264,[2]LISTAS!$A$15:$B$50,2,0)),\"\",VLOOKUP(E264,[2]LISTAS!$A$15:$B$50,2,0))","v":""},{"$f":"IF(ISERROR(VLOOKUP(G264,[2]LISTAS!$A$15:$B$50,2,0)),\"\",VLOOKUP(G264,[2]LISTAS!$A$15:$B$50,2,0))","v":""},{"$f":"IF(ISERROR(VLOOKUP(I264,[2]LISTAS!$A$15:$B$50,2,0)),\"\",VLOOKUP(I264,[2]LISTAS!$A$15:$B$50,2,0))","v":""},{"$f":"IF(ISERROR(VLOOKUP(K264,[2]LISTAS!$A$15:$B$50,2,0)),\"\",VLOOKUP(K264,[2]LISTAS!$A$15:$B$50,2,0))","v":""},{"$f":"IF(ISERROR(VLOOKUP(M264,[2]LISTAS!$A$15:$B$50,2,0)),\"\",VLOOKUP(M264,[2]LISTAS!$A$15:$B$50,2,0))","v":""},{"$f":"IF(ISERROR(VLOOKUP(O264,[2]LISTAS!$A$15:$B$50,2,0)),\"\",VLOOKUP(O264,[2]LISTAS!$A$15:$B$50,2,0))","v":""},{"$f":"IF(ISERROR(VLOOKUP(6,[2]LISTAS!$A$15:$B$50,2,0)),\"\",VLOOKUP(6,[2]LISTAS!$A$15:$B$50,2,0))","v":""},null,{"$f":"_xlfn.IFS(T264=\"------\",AD264,T264=\"LA RELACIÓN DE ACTIVIDADES DEBE SER A PARTIR DE LA SIGUIENTE FILA\",\"LA RELACIÓN DE ACTIVIDADES DEBE SER A PARTIR DE LA SIGUIENTE FILA\",T264<>\"------\",T264)","v":""},null,"ok"]
[null,null,null,null,null,null,null,null,null,null,null,null,null,null,null,null,null,null,null,"",{"$f":"IF(ISERROR(VLOOKUP(E265,[2]LISTAS!$A$15:$B$50,2,0)),\"\",VLOOKUP(E265,[2]LISTAS!$A$15:$B$50,2,0))","v":""},{"$f":"IF(ISERROR(VLOOKUP(G265,[2]LISTAS!$A$15:$B$50,2,0)),\"\",VLOOKUP(G265,[2]LISTAS!$A$15:$B$50,2,0))","v":""},{"$f":"IF(ISERROR(VLOOKUP(I265,[2]LISTAS!$A$15:$B$50,2,0)),\"\",VLOOKUP(I265,[2]LISTAS!$A$15:$B$50,2,0))","v":""},{"$f":"IF(ISERROR(VLOOKUP(K265,[2]LISTAS!$A$15:$B$50,2,0)),\"\",VLOOKUP(K265,[2]LISTAS!$A$15:$B$50,2,0))","v":""},{"$f":"IF(ISERROR(VLOOKUP(M265,[2]LISTAS!$A$15:$B$50,2,0)),\"\",VLOOKUP(M265,[2]LISTAS!$A$15:$B$50,2,0))","v":""},{"$f":"IF(ISERROR(VLOOKUP(O265,[2]LISTAS!$A$15:$B$50,2,0)),\"\",VLOOKUP(O265,[2]LISTAS!$A$15:$B$50,2,0))","v":""},{"$f":"IF(ISERROR(VLOOKUP(6,[2]LISTAS!$A$15:$B$50,2,0)),\"\",VLOOKUP(6,[2]LISTAS!$A$15:$B$50,2,0))","v":""},null,{"$f":"_xlfn.IFS(T265=\"------\",AD265,T265=\"LA RELACIÓN DE ACTIVIDADES DEBE SER A PARTIR DE LA SIGUIENTE FILA\",\"LA RELACIÓN DE ACTIVIDADES DEBE SER A PARTIR DE LA SIGUIENTE FILA\",T265<>\"------\",T265)","v":""},null,"ok"]
[null,null,null,null,null,null,null,null,null,null,null,null,null,null,null,null,null,null,null,"",{"$f":"IF(ISERROR(VLOOKUP(E266,[2]LISTAS!$A$15:$B$50,2,0)),\"\",VLOOKUP(E266,[2]LISTAS!$A$15:$B$50,2,0))","v":""},{"$f":"IF(ISERROR(VLOOKUP(G266,[2]LISTAS!$A$15:$B$50,2,0)),\"\",VLOOKUP(G266,[2]LISTAS!$A$15:$B$50,2,0))","v":""},{"$f":"IF(ISERROR(VLOOKUP(I266,[2]LISTAS!$A$15:$B$50,2,0)),\"\",VLOOKUP(I266,[2]LISTAS!$A$15:$B$50,2,0))","v":""},{"$f":"IF(ISERROR(VLOOKUP(K266,[2]LISTAS!$A$15:$B$50,2,0)),\"\",VLOOKUP(K266,[2]LISTAS!$A$15:$B$50,2,0))","v":""},{"$f":"IF(ISERROR(VLOOKUP(M266,[2]LISTAS!$A$15:$B$50,2,0)),\"\",VLOOKUP(M266,[2]LISTAS!$A$15:$B$50,2,0))","v":""},{"$f":"IF(ISERROR(VLOOKUP(O266,[2]LISTAS!$A$15:$B$50,2,0)),\"\",VLOOKUP(O266,[2]LISTAS!$A$15:$B$50,2,0))","v":""},{"$f":"IF(ISERROR(VLOOKUP(6,[2]LISTAS!$A$15:$B$50,2,0)),\"\",VLOOKUP(6,[2]LISTAS!$A$15:$B$50,2,0))","v":""},null,{"$f":"_xlfn.IFS(T266=\"------\",AD266,T266=\"LA RELACIÓN DE ACTIVIDADES DEBE SER A PARTIR DE LA SIGUIENTE FILA\",\"LA RELACIÓN DE ACTIVIDADES DEBE SER A PARTIR DE LA SIGUIENTE FILA\",T266<>\"------\",T266)","v":""},null,"ok"]
[null,null,null,null,null,null,null,null,null,null,null,null,null,null,null,null,null,null,null,"",{"$f":"IF(ISERROR(VLOOKUP(E267,[2]LISTAS!$A$15:$B$50,2,0)),\"\",VLOOKUP(E267,[2]LISTAS!$A$15:$B$50,2,0))","v":""},{"$f":"IF(ISERROR(VLOOKUP(G267,[2]LISTAS!$A$15:$B$50,2,0)),\"\",VLOOKUP(G267,[2]LISTAS!$A$15:$B$50,2,0))","v":""},{"$f":"IF(ISERROR(VLOOKUP(I267,[2]LISTAS!$A$15:$B$50,2,0)),\"\",VLOOKUP(I267,[2]LISTAS!$A$15:$B$50,2,0))","v":""},{"$f":"IF(ISERROR(VLOOKUP(K267,[2]LISTAS!$A$15:$B$50,2,0)),\"\",VLOOKUP(K267,[2]LISTAS!$A$15:$B$50,2,0))","v":""},{"$f":"IF(ISERROR(VLOOKUP(M267,[2]LISTAS!$A$15:$B$50,2,0)),\"\",VLOOKUP(M267,[2]LISTAS!$A$15:$B$50,2,0))","v":""},{"$f":"IF(ISERROR(VLOOKUP(O267,[2]LISTAS!$A$15:$B$50,2,0)),\"\",VLOOKUP(O267,[2]LISTAS!$A$15:$B$50,2,0))","v":""},{"$f":"IF(ISERROR(VLOOKUP(6,[2]LISTAS!$A$15:$B$50,2,0)),\"\",VLOOKUP(6,[2]LISTAS!$A$15:$B$50,2,0))","v":""},null,{"$f":"_xlfn.IFS(T267=\"------\",AD267,T267=\"LA RELACIÓN DE ACTIVIDADES DEBE SER A PARTIR DE LA SIGUIENTE FILA\",\"LA RELACIÓN DE ACTIVIDADES DEBE SER A PARTIR DE LA SIGUIENTE FILA\",T267<>\"------\",T267)","v":""},null,"ok"]
[null,null,null,null,null,null,null,null,null,null,null,null,null,null,null,null,null,null,null,"",{"$f":"IF(ISERROR(VLOOKUP(E268,[2]LISTAS!$A$15:$B$50,2,0)),\"\",VLOOKUP(E268,[2]LISTAS!$A$15:$B$50,2,0))","v":""},{"$f":"IF(ISERROR(VLOOKUP(G268,[2]LISTAS!$A$15:$B$50,2,0)),\"\",VLOOKUP(G268,[2]LISTAS!$A$15:$B$50,2,0))","v":""},{"$f":"IF(ISERROR(VLOOKUP(I268,[2]LISTAS!$A$15:$B$50,2,0)),\"\",VLOOKUP(I268,[2]LISTAS!$A$15:$B$50,2,0))","v":""},{"$f":"IF(ISERROR(VLOOKUP(K268,[2]LISTAS!$A$15:$B$50,2,0)),\"\",VLOOKUP(K268,[2]LISTAS!$A$15:$B$50,2,0))","v":""},{"$f":"IF(ISERROR(VLOOKUP(M268,[2]LISTAS!$A$15:$B$50,2,0)),\"\",VLOOKUP(M268,[2]LISTAS!$A$15:$B$50,2,0))","v":""},{"$f":"IF(ISERROR(VLOOKUP(O268,[2]LISTAS!$A$15:$B$50,2,0)),\"\",VLOOKUP(O268,[2]LISTAS!$A$15:$B$50,2,0))","v":""},{"$f":"IF(ISERROR(VLOOKUP(6,[2]LISTAS!$A$15:$B$50,2,0)),\"\",VLOOKUP(6,[2]LISTAS!$A$15:$B$50,2,0))","v":""},null,{"$f":"_xlfn.IFS(T268=\"------\",AD268,T268=\"LA RELACIÓN DE ACTIVIDADES DEBE SER A PARTIR DE LA SIGUIENTE FILA\",\"LA RELACIÓN DE ACTIVIDADES DEBE SER A PARTIR DE LA SIGUIENTE FILA\",T268<>\"------\",T268)","v":""},null,"ok"]
[null,null,null,null,null,null,null,null,null,null,null,null,null,null,null,null,null,null,null,"",{"$f":"IF(ISERROR(VLOOKUP(E269,[2]LISTAS!$A$15:$B$50,2,0)),\"\",VLOOKUP(E269,[2]LISTAS!$A$15:$B$50,2,0))","v":""},{"$f":"IF(ISERROR(VLOOKUP(G269,[2]LISTAS!$A$15:$B$50,2,0)),\"\",VLOOKUP(G269,[2]LISTAS!$A$15:$B$50,2,0))","v":""},{"$f":"IF(ISERROR(VLOOKUP(I269,[2]LISTAS!$A$15:$B$50,2,0)),\"\",VLOOKUP(I269,[2]LISTAS!$A$15:$B$50,2,0))","v":""},{"$f":"IF(ISERROR(VLOOKUP(K269,[2]LISTAS!$A$15:$B$50,2,0)),\"\",VLOOKUP(K269,[2]LISTAS!$A$15:$B$50,2,0))","v":""},{"$f":"IF(ISERROR(VLOOKUP(M269,[2]LISTAS!$A$15:$B$50,2,0)),\"\",VLOOKUP(M269,[2]LISTAS!$A$15:$B$50,2,0))","v":""},{"$f":"IF(ISERROR(VLOOKUP(O269,[2]LISTAS!$A$15:$B$50,2,0)),\"\",VLOOKUP(O269,[2]LISTAS!$A$15:$B$50,2,0))","v":""},{"$f":"IF(ISERROR(VLOOKUP(6,[2]LISTAS!$A$15:$B$50,2,0)),\"\",VLOOKUP(6,[2]LISTAS!$A$15:$B$50,2,0))","v":""},null,{"$f":"_xlfn.IFS(T269=\"------\",AD269,T269=\"LA RELACIÓN DE ACTIVIDADES DEBE SER A PARTIR DE LA SIGUIENTE FILA\",\"LA RELACIÓN DE ACTIVIDADES DEBE SER A PARTIR DE LA SIGUIENTE FILA\",T269<>\"------\",T269)","v":""},null,"ok"]
[null,null,null,null,null,null,null,null,null,null,null,null,null,null,null,null,null,null,null,"",{"$f":"IF(ISERROR(VLOOKUP(E270,[2]LISTAS!$A$15:$B$50,2,0)),\"\",VLOOKUP(E270,[2]LISTAS!$A$15:$B$50,2,0))","v":""},{"$f":"IF(ISERROR(VLOOKUP(G270,[2]LISTAS!$A$15:$B$50,2,0)),\"\",VLOOKUP(G270,[2]LISTAS!$A$15:$B$50,2,0))","v":""},{"$f":"IF(ISERROR(VLOOKUP(I270,[2]LISTAS!$A$15:$B$50,2,0)),\"\",VLOOKUP(I270,[2]LISTAS!$A$15:$B$50,2,0))","v":""},{"$f":"IF(ISERROR(VLOOKUP(K270,[2]LISTAS!$A$15:$B$50,2,0)),\"\",VLOOKUP(K270,[2]LISTAS!$A$15:$B$50,2,0))","v":""},{"$f":"IF(ISERROR(VLOOKUP(M270,[2]LISTAS!$A$15:$B$50,2,0)),\"\",VLOOKUP(M270,[2]LISTAS!$A$15:$B$50,2,0))","v":""},{"$f":"IF(ISERROR(VLOOKUP(O270,[2]LISTAS!$A$15:$B$50,2,0)),\"\",VLOOKUP(O270,[2]LISTAS!$A$15:$B$50,2,0))","v":""},{"$f":"IF(ISERROR(VLOOKUP(6,[2]LISTAS!$A$15:$B$50,2,0)),\"\",VLOOKUP(6,[2]LISTAS!$A$15:$B$50,2,0))","v":""},null,{"$f":"_xlfn.IFS(T270=\"------\",AD270,T270=\"LA RELACIÓN DE ACTIVIDADES DEBE SER A PARTIR DE LA SIGUIENTE FILA\",\"LA RELACIÓN DE ACTIVIDADES DEBE SER A PARTIR DE LA SIGUIENTE FILA\",T270<>\"------\",T270)","v":""},null,"ok"]
[null,null,null,null,null,null,null,null,null,null,null,null,null,null,null,null,null,null,null,"",{"$f":"IF(ISERROR(VLOOKUP(E271,[2]LISTAS!$A$15:$B$50,2,0)),\"\",VLOOKUP(E271,[2]LISTAS!$A$15:$B$50,2,0))","v":""},{"$f":"IF(ISERROR(VLOOKUP(G271,[2]LISTAS!$A$15:$B$50,2,0)),\"\",VLOOKUP(G271,[2]LISTAS!$A$15:$B$50,2,0))","v":""},{"$f":"IF(ISERROR(VLOOKUP(I271,[2]LISTAS!$A$15:$B$50,2,0)),\"\",VLOOKUP(I271,[2]LISTAS!$A$15:$B$50,2,0))","v":""},{"$f":"IF(ISERROR(VLOOKUP(K271,[2]LISTAS!$A$15:$B$50,2,0)),\"\",VLOOKUP(K271,[2]LISTAS!$A$15:$B$50,2,0))","v":""},{"$f":"IF(ISERROR(VLOOKUP(M271,[2]LISTAS!$A$15:$B$50,2,0)),\"\",VLOOKUP(M271,[2]LISTAS!$A$15:$B$50,2,0))","v":""},{"$f":"IF(ISERROR(VLOOKUP(O271,[2]LISTAS!$A$15:$B$50,2,0)),\"\",VLOOKUP(O271,[2]LISTAS!$A$15:$B$50,2,0))","v":""},{"$f":"IF(ISERROR(VLOOKUP(6,[2]LISTAS!$A$15:$B$50,2,0)),\"\",VLOOKUP(6,[2]LISTAS!$A$15:$B$50,2,0))","v":""},null,{"$f":"_xlfn.IFS(T271=\"------\",AD271,T271=\"LA RELACIÓN DE ACTIVIDADES DEBE SER A PARTIR DE LA SIGUIENTE FILA\",\"LA RELACIÓN DE ACTIVIDADES DEBE SER A PARTIR DE LA SIGUIENTE FILA\",T271<>\"------\",T271)","v":""},null,"ok"]
[null,null,null,null,null,null,null,null,null,null,null,null,null,null,null,null,null,null,null,"",{"$f":"IF(ISERROR(VLOOKUP(E272,[2]LISTAS!$A$15:$B$50,2,0)),\"\",VLOOKUP(E272,[2]LISTAS!$A$15:$B$50,2,0))","v":""},{"$f":"IF(ISERROR(VLOOKUP(G272,[2]LISTAS!$A$15:$B$50,2,0)),\"\",VLOOKUP(G272,[2]LISTAS!$A$15:$B$50,2,0))","v":""},{"$f":"IF(ISERROR(VLOOKUP(I272,[2]LISTAS!$A$15:$B$50,2,0)),\"\",VLOOKUP(I272,[2]LISTAS!$A$15:$B$50,2,0))","v":""},{"$f":"IF(ISERROR(VLOOKUP(K272,[2]LISTAS!$A$15:$B$50,2,0)),\"\",VLOOKUP(K272,[2]LISTAS!$A$15:$B$50,2,0))","v":""},{"$f":"IF(ISERROR(VLOOKUP(M272,[2]LISTAS!$A$15:$B$50,2,0)),\"\",VLOOKUP(M272,[2]LISTAS!$A$15:$B$50,2,0))","v":""},{"$f":"IF(ISERROR(VLOOKUP(O272,[2]LISTAS!$A$15:$B$50,2,0)),\"\",VLOOKUP(O272,[2]LISTAS!$A$15:$B$50,2,0))","v":""},{"$f":"IF(ISERROR(VLOOKUP(6,[2]LISTAS!$A$15:$B$50,2,0)),\"\",VLOOKUP(6,[2]LISTAS!$A$15:$B$50,2,0))","v":""},null,{"$f":"_xlfn.IFS(T272=\"------\",AD272,T272=\"LA RELACIÓN DE ACTIVIDADES DEBE SER A PARTIR DE LA SIGUIENTE FILA\",\"LA RELACIÓN DE ACTIVIDADES DEBE SER A PARTIR DE LA SIGUIENTE FILA\",T272<>\"------\",T272)","v":""},null,"ok"]
[null,null,null,null,null,null,null,null,null,null,null,null,null,null,null,null,null,null,null,"",{"$f":"IF(ISERROR(VLOOKUP(E273,[2]LISTAS!$A$15:$B$50,2,0)),\"\",VLOOKUP(E273,[2]LISTAS!$A$15:$B$50,2,0))","v":""},{"$f":"IF(ISERROR(VLOOKUP(G273,[2]LISTAS!$A$15:$B$50,2,0)),\"\",VLOOKUP(G273,[2]LISTAS!$A$15:$B$50,2,0))","v":""},{"$f":"IF(ISERROR(VLOOKUP(I273,[2]LISTAS!$A$15:$B$50,2,0)),\"\",VLOOKUP(I273,[2]LISTAS!$A$15:$B$50,2,0))","v":""},{"$f":"IF(ISERROR(VLOOKUP(K273,[2]LISTAS!$A$15:$B$50,2,0)),\"\",VLOOKUP(K273,[2]LISTAS!$A$15:$B$50,2,0))","v":""},{"$f":"IF(ISERROR(VLOOKUP(M273,[2]LISTAS!$A$15:$B$50,2,0)),\"\",VLOOKUP(M273,[2]LISTAS!$A$15:$B$50,2,0))","v":""},{"$f":"IF(ISERROR(VLOOKUP(O273,[2]LISTAS!$A$15:$B$50,2,0)),\"\",VLOOKUP(O273,[2]LISTAS!$A$15:$B$50,2,0))","v":""},{"$f":"IF(ISERROR(VLOOKUP(6,[2]LISTAS!$A$15:$B$50,2,0)),\"\",VLOOKUP(6,[2]LISTAS!$A$15:$B$50,2,0))","v":""},null,{"$f":"_xlfn.IFS(T273=\"------\",AD273,T273=\"LA RELACIÓN DE ACTIVIDADES DEBE SER A PARTIR DE LA SIGUIENTE FILA\",\"LA RELACIÓN DE ACTIVIDADES DEBE SER A PARTIR DE LA SIGUIENTE FILA\",T273<>\"------\",T273)","v":""},null,"ok"]
[null,null,null,null,null,null,null,null,null,null,null,null,null,null,null,null,null,null,null,"",{"$f":"IF(ISERROR(VLOOKUP(E274,[2]LISTAS!$A$15:$B$50,2,0)),\"\",VLOOKUP(E274,[2]LISTAS!$A$15:$B$50,2,0))","v":""},{"$f":"IF(ISERROR(VLOOKUP(G274,[2]LISTAS!$A$15:$B$50,2,0)),\"\",VLOOKUP(G274,[2]LISTAS!$A$15:$B$50,2,0))","v":""},{"$f":"IF(ISERROR(VLOOKUP(I274,[2]LISTAS!$A$15:$B$50,2,0)),\"\",VLOOKUP(I274,[2]LISTAS!$A$15:$B$50,2,0))","v":""},{"$f":"IF(ISERROR(VLOOKUP(K274,[2]LISTAS!$A$15:$B$50,2,0)),\"\",VLOOKUP(K274,[2]LISTAS!$A$15:$B$50,2,0))","v":""},{"$f":"IF(ISERROR(VLOOKUP(M274,[2]LISTAS!$A$15:$B$50,2,0)),\"\",VLOOKUP(M274,[2]LISTAS!$A$15:$B$50,2,0))","v":""},{"$f":"IF(ISERROR(VLOOKUP(O274,[2]LISTAS!$A$15:$B$50,2,0)),\"\",VLOOKUP(O274,[2]LISTAS!$A$15:$B$50,2,0))","v":""},{"$f":"IF(ISERROR(VLOOKUP(6,[2]LISTAS!$A$15:$B$50,2,0)),\"\",VLOOKUP(6,[2]LISTAS!$A$15:$B$50,2,0))","v":""},null,{"$f":"_xlfn.IFS(T274=\"------\",AD274,T274=\"LA RELACIÓN DE ACTIVIDADES DEBE SER A PARTIR DE LA SIGUIENTE FILA\",\"LA RELACIÓN DE ACTIVIDADES DEBE SER A PARTIR DE LA SIGUIENTE FILA\",T274<>\"------\",T274)","v":""},null,"ok"]
[null,null,null,null,null,null,null,null,null,null,null,null,null,null,null,null,null,null,null,"",{"$f":"IF(ISERROR(VLOOKUP(E275,[2]LISTAS!$A$15:$B$50,2,0)),\"\",VLOOKUP(E275,[2]LISTAS!$A$15:$B$50,2,0))","v":""},{"$f":"IF(ISERROR(VLOOKUP(G275,[2]LISTAS!$A$15:$B$50,2,0)),\"\",VLOOKUP(G275,[2]LISTAS!$A$15:$B$50,2,0))","v":""},{"$f":"IF(ISERROR(VLOOKUP(I275,[2]LISTAS!$A$15:$B$50,2,0)),\"\",VLOOKUP(I275,[2]LISTAS!$A$15:$B$50,2,0))","v":""},{"$f":"IF(ISERROR(VLOOKUP(K275,[2]LISTAS!$A$15:$B$50,2,0)),\"\",VLOOKUP(K275,[2]LISTAS!$A$15:$B$50,2,0))","v":""},{"$f":"IF(ISERROR(VLOOKUP(M275,[2]LISTAS!$A$15:$B$50,2,0)),\"\",VLOOKUP(M275,[2]LISTAS!$A$15:$B$50,2,0))","v":""},{"$f":"IF(ISERROR(VLOOKUP(O275,[2]LISTAS!$A$15:$B$50,2,0)),\"\",VLOOKUP(O275,[2]LISTAS!$A$15:$B$50,2,0))","v":""},{"$f":"IF(ISERROR(VLOOKUP(6,[2]LISTAS!$A$15:$B$50,2,0)),\"\",VLOOKUP(6,[2]LISTAS!$A$15:$B$50,2,0))","v":""},null,{"$f":"_xlfn.IFS(T275=\"------\",AD275,T275=\"LA RELACIÓN DE ACTIVIDADES DEBE SER A PARTIR DE LA SIGUIENTE FILA\",\"LA RELACIÓN DE ACTIVIDADES DEBE SER A PARTIR DE LA SIGUIENTE FILA\",T275<>\"------\",T275)","v":""},null,"ok"]
[null,null,null,null,null,null,null,null,null,null,null,null,null,null,null,null,null,null,null,"",{"$f":"IF(ISERROR(VLOOKUP(E276,[2]LISTAS!$A$15:$B$50,2,0)),\"\",VLOOKUP(E276,[2]LISTAS!$A$15:$B$50,2,0))","v":""},{"$f":"IF(ISERROR(VLOOKUP(G276,[2]LISTAS!$A$15:$B$50,2,0)),\"\",VLOOKUP(G276,[2]LISTAS!$A$15:$B$50,2,0))","v":""},{"$f":"IF(ISERROR(VLOOKUP(I276,[2]LISTAS!$A$15:$B$50,2,0)),\"\",VLOOKUP(I276,[2]LISTAS!$A$15:$B$50,2,0))","v":""},{"$f":"IF(ISERROR(VLOOKUP(K276,[2]LISTAS!$A$15:$B$50,2,0)),\"\",VLOOKUP(K276,[2]LISTAS!$A$15:$B$50,2,0))","v":""},{"$f":"IF(ISERROR(VLOOKUP(M276,[2]LISTAS!$A$15:$B$50,2,0)),\"\",VLOOKUP(M276,[2]LISTAS!$A$15:$B$50,2,0))","v":""},{"$f":"IF(ISERROR(VLOOKUP(O276,[2]LISTAS!$A$15:$B$50,2,0)),\"\",VLOOKUP(O276,[2]LISTAS!$A$15:$B$50,2,0))","v":""},{"$f":"IF(ISERROR(VLOOKUP(6,[2]LISTAS!$A$15:$B$50,2,0)),\"\",VLOOKUP(6,[2]LISTAS!$A$15:$B$50,2,0))","v":""},null,{"$f":"_xlfn.IFS(T276=\"------\",AD276,T276=\"LA RELACIÓN DE ACTIVIDADES DEBE SER A PARTIR DE LA SIGUIENTE FILA\",\"LA RELACIÓN DE ACTIVIDADES DEBE SER A PARTIR DE LA SIGUIENTE FILA\",T276<>\"------\",T276)","v":""},null,"ok"]
[null,null,null,null,null,null,null,null,null,null,null,null,null,null,null,null,null,null,null,"",{"$f":"IF(ISERROR(VLOOKUP(E277,[2]LISTAS!$A$15:$B$50,2,0)),\"\",VLOOKUP(E277,[2]LISTAS!$A$15:$B$50,2,0))","v":""},{"$f":"IF(ISERROR(VLOOKUP(G277,[2]LISTAS!$A$15:$B$50,2,0)),\"\",VLOOKUP(G277,[2]LISTAS!$A$15:$B$50,2,0))","v":""},{"$f":"IF(ISERROR(VLOOKUP(I277,[2]LISTAS!$A$15:$B$50,2,0)),\"\",VLOOKUP(I277,[2]LISTAS!$A$15:$B$50,2,0))","v":""},{"$f":"IF(ISERROR(VLOOKUP(K277,[2]LISTAS!$A$15:$B$50,2,0)),\"\",VLOOKUP(K277,[2]LISTAS!$A$15:$B$50,2,0))","v":""},{"$f":"IF(ISERROR(VLOOKUP(M277,[2]LISTAS!$A$15:$B$50,2,0)),\"\",VLOOKUP(M277,[2]LISTAS!$A$15:$B$50,2,0))","v":""},{"$f":"IF(ISERROR(VLOOKUP(O277,[2]LISTAS!$A$15:$B$50,2,0)),\"\",VLOOKUP(O277,[2]LISTAS!$A$15:$B$50,2,0))","v":""},{"$f":"IF(ISERROR(VLOOKUP(6,[2]LISTAS!$A$15:$B$50,2,0)),\"\",VLOOKUP(6,[2]LISTAS!$A$15:$B$50,2,0))","v":""},null,{"$f":"_xlfn.IFS(T277=\"------\",AD277,T277=\"LA RELACIÓN DE ACTIVIDADES DEBE SER A PARTIR DE LA SIGUIENTE FILA\",\"LA RELACIÓN DE ACTIVIDADES DEBE SER A PARTIR DE LA SIGUIENTE FILA\",T277<>\"------\",T277)","v":""},null,"ok"]
[null,null,null,null,null,null,null,null,null,null,null,null,null,null,null,null,null,null,null,"",{"$f":"IF(ISERROR(VLOOKUP(E278,[2]LISTAS!$A$15:$B$50,2,0)),\"\",VLOOKUP(E278,[2]LISTAS!$A$15:$B$50,2,0))","v":""},{"$f":"IF(ISERROR(VLOOKUP(G278,[2]LISTAS!$A$15:$B$50,2,0)),\"\",VLOOKUP(G278,[2]LISTAS!$A$15:$B$50,2,0))","v":""},{"$f":"IF(ISERROR(VLOOKUP(I278,[2]LISTAS!$A$15:$B$50,2,0)),\"\",VLOOKUP(I278,[2]LISTAS!$A$15:$B$50,2,0))","v":""},{"$f":"IF(ISERROR(VLOOKUP(K278,[2]LISTAS!$A$15:$B$50,2,0)),\"\",VLOOKUP(K278,[2]LISTAS!$A$15:$B$50,2,0))","v":""},{"$f":"IF(ISERROR(VLOOKUP(M278,[2]LISTAS!$A$15:$B$50,2,0)),\"\",VLOOKUP(M278,[2]LISTAS!$A$15:$B$50,2,0))","v":""},{"$f":"IF(ISERROR(VLOOKUP(O278,[2]LISTAS!$A$15:$B$50,2,0)),\"\",VLOOKUP(O278,[2]LISTAS!$A$15:$B$50,2,0))","v":""},{"$f":"IF(ISERROR(VLOOKUP(6,[2]LISTAS!$A$15:$B$50,2,0)),\"\",VLOOKUP(6,[2]LISTAS!$A$15:$B$50,2,0))","v":""},null,{"$f":"_xlfn.IFS(T278=\"------\",AD278,T278=\"LA RELACIÓN DE ACTIVIDADES DEBE SER A PARTIR DE LA SIGUIENTE FILA\",\"LA RELACIÓN DE ACTIVIDADES DEBE SER A PARTIR DE LA SIGUIENTE FILA\",T278<>\"------\",T278)","v":""},null,"ok"]
[null,null,null,null,null,null,null,null,null,null,null,null,null,null,null,null,null,null,null,"",{"$f":"IF(ISERROR(VLOOKUP(E279,[2]LISTAS!$A$15:$B$50,2,0)),\"\",VLOOKUP(E279,[2]LISTAS!$A$15:$B$50,2,0))","v":""},{"$f":"IF(ISERROR(VLOOKUP(G279,[2]LISTAS!$A$15:$B$50,2,0)),\"\",VLOOKUP(G279,[2]LISTAS!$A$15:$B$50,2,0))","v":""},{"$f":"IF(ISERROR(VLOOKUP(I279,[2]LISTAS!$A$15:$B$50,2,0)),\"\",VLOOKUP(I279,[2]LISTAS!$A$15:$B$50,2,0))","v":""},{"$f":"IF(ISERROR(VLOOKUP(K279,[2]LISTAS!$A$15:$B$50,2,0)),\"\",VLOOKUP(K279,[2]LISTAS!$A$15:$B$50,2,0))","v":""},{"$f":"IF(ISERROR(VLOOKUP(M279,[2]LISTAS!$A$15:$B$50,2,0)),\"\",VLOOKUP(M279,[2]LISTAS!$A$15:$B$50,2,0))","v":""},{"$f":"IF(ISERROR(VLOOKUP(O279,[2]LISTAS!$A$15:$B$50,2,0)),\"\",VLOOKUP(O279,[2]LISTAS!$A$15:$B$50,2,0))","v":""},{"$f":"IF(ISERROR(VLOOKUP(6,[2]LISTAS!$A$15:$B$50,2,0)),\"\",VLOOKUP(6,[2]LISTAS!$A$15:$B$50,2,0))","v":""},null,{"$f":"_xlfn.IFS(T279=\"------\",AD279,T279=\"LA RELACIÓN DE ACTIVIDADES DEBE SER A PARTIR DE LA SIGUIENTE FILA\",\"LA RELACIÓN DE ACTIVIDADES DEBE SER A PARTIR DE LA SIGUIENTE FILA\",T279<>\"------\",T279)","v":""},null,"ok"]
[null,null,null,null,null,null,null,null,null,null,null,null,null,null,null,null,null,null,null,"",{"$f":"IF(ISERROR(VLOOKUP(E280,[2]LISTAS!$A$15:$B$50,2,0)),\"\",VLOOKUP(E280,[2]LISTAS!$A$15:$B$50,2,0))","v":""},{"$f":"IF(ISERROR(VLOOKUP(G280,[2]LISTAS!$A$15:$B$50,2,0)),\"\",VLOOKUP(G280,[2]LISTAS!$A$15:$B$50,2,0))","v":""},{"$f":"IF(ISERROR(VLOOKUP(I280,[2]LISTAS!$A$15:$B$50,2,0)),\"\",VLOOKUP(I280,[2]LISTAS!$A$15:$B$50,2,0))","v":""},{"$f":"IF(ISERROR(VLOOKUP(K280,[2]LISTAS!$A$15:$B$50,2,0)),\"\",VLOOKUP(K280,[2]LISTAS!$A$15:$B$50,2,0))","v":""},{"$f":"IF(ISERROR(VLOOKUP(M280,[2]LISTAS!$A$15:$B$50,2,0)),\"\",VLOOKUP(M280,[2]LISTAS!$A$15:$B$50,2,0))","v":""},{"$f":"IF(ISERROR(VLOOKUP(O280,[2]LISTAS!$A$15:$B$50,2,0)),\"\",VLOOKUP(O280,[2]LISTAS!$A$15:$B$50,2,0))","v":""},{"$f":"IF(ISERROR(VLOOKUP(6,[2]LISTAS!$A$15:$B$50,2,0)),\"\",VLOOKUP(6,[2]LISTAS!$A$15:$B$50,2,0))","v":""},null,{"$f":"_xlfn.IFS(T280=\"------\",AD280,T280=\"LA RELACIÓN DE ACTIVIDADES DEBE SER A PARTIR DE LA SIGUIENTE FILA\",\"LA RELACIÓN DE ACTIVIDADES DEBE SER A PARTIR DE LA SIGUIENTE FILA\",T280<>\"------\",T280)","v":""},null,"ok"]
[null,null,null,null,null,null,null,null,null,null,null,null,null,null,null,null,null,null,null,"",{"$f":"IF(ISERROR(VLOOKUP(E281,[2]LISTAS!$A$15:$B$50,2,0)),\"\",VLOOKUP(E281,[2]LISTAS!$A$15:$B$50,2,0))","v":""},{"$f":"IF(ISERROR(VLOOKUP(G281,[2]LISTAS!$A$15:$B$50,2,0)),\"\",VLOOKUP(G281,[2]LISTAS!$A$15:$B$50,2,0))","v":""},{"$f":"IF(ISERROR(VLOOKUP(I281,[2]LISTAS!$A$15:$B$50,2,0)),\"\",VLOOKUP(I281,[2]LISTAS!$A$15:$B$50,2,0))","v":""},{"$f":"IF(ISERROR(VLOOKUP(K281,[2]LISTAS!$A$15:$B$50,2,0)),\"\",VLOOKUP(K281,[2]LISTAS!$A$15:$B$50,2,0))","v":""},{"$f":"IF(ISERROR(VLOOKUP(M281,[2]LISTAS!$A$15:$B$50,2,0)),\"\",VLOOKUP(M281,[2]LISTAS!$A$15:$B$50,2,0))","v":""},{"$f":"IF(ISERROR(VLOOKUP(O281,[2]LISTAS!$A$15:$B$50,2,0)),\"\",VLOOKUP(O281,[2]LISTAS!$A$15:$B$50,2,0))","v":""},{"$f":"IF(ISERROR(VLOOKUP(6,[2]LISTAS!$A$15:$B$50,2,0)),\"\",VLOOKUP(6,[2]LISTAS!$A$15:$B$50,2,0))","v":""},null,{"$f":"_xlfn.IFS(T281=\"------\",AD281,T281=\"LA RELACIÓN DE ACTIVIDADES DEBE SER A PARTIR DE LA SIGUIENTE FILA\",\"LA RELACIÓN DE ACTIVIDADES DEBE SER A PARTIR DE LA SIGUIENTE FILA\",T281<>\"------\",T281)","v":""},null,"ok"]
[null,null,null,null,null,null,null,null,null,null,null,null,null,null,null,null,null,null,null,"",{"$f":"IF(ISERROR(VLOOKUP(E282,[2]LISTAS!$A$15:$B$50,2,0)),\"\",VLOOKUP(E282,[2]LISTAS!$A$15:$B$50,2,0))","v":""},{"$f":"IF(ISERROR(VLOOKUP(G282,[2]LISTAS!$A$15:$B$50,2,0)),\"\",VLOOKUP(G282,[2]LISTAS!$A$15:$B$50,2,0))","v":""},{"$f":"IF(ISERROR(VLOOKUP(I282,[2]LISTAS!$A$15:$B$50,2,0)),\"\",VLOOKUP(I282,[2]LISTAS!$A$15:$B$50,2,0))","v":""},{"$f":"IF(ISERROR(VLOOKUP(K282,[2]LISTAS!$A$15:$B$50,2,0)),\"\",VLOOKUP(K282,[2]LISTAS!$A$15:$B$50,2,0))","v":""},{"$f":"IF(ISERROR(VLOOKUP(M282,[2]LISTAS!$A$15:$B$50,2,0)),\"\",VLOOKUP(M282,[2]LISTAS!$A$15:$B$50,2,0))","v":""},{"$f":"IF(ISERROR(VLOOKUP(O282,[2]LISTAS!$A$15:$B$50,2,0)),\"\",VLOOKUP(O282,[2]LISTAS!$A$15:$B$50,2,0))","v":""},{"$f":"IF(ISERROR(VLOOKUP(6,[2]LISTAS!$A$15:$B$50,2,0)),\"\",VLOOKUP(6,[2]LISTAS!$A$15:$B$50,2,0))","v":""},null,{"$f":"_xlfn.IFS(T282=\"------\",AD282,T282=\"LA RELACIÓN DE ACTIVIDADES DEBE SER A PARTIR DE LA SIGUIENTE FILA\",\"LA RELACIÓN DE ACTIVIDADES DEBE SER A PARTIR DE LA SIGUIENTE FILA\",T282<>\"------\",T282)","v":""},null,"ok"]
[null,null,null,null,null,null,null,null,null,null,null,null,null,null,null,null,null,null,null,"",{"$f":"IF(ISERROR(VLOOKUP(E283,[2]LISTAS!$A$15:$B$50,2,0)),\"\",VLOOKUP(E283,[2]LISTAS!$A$15:$B$50,2,0))","v":""},{"$f":"IF(ISERROR(VLOOKUP(G283,[2]LISTAS!$A$15:$B$50,2,0)),\"\",VLOOKUP(G283,[2]LISTAS!$A$15:$B$50,2,0))","v":""},{"$f":"IF(ISERROR(VLOOKUP(I283,[2]LISTAS!$A$15:$B$50,2,0)),\"\",VLOOKUP(I283,[2]LISTAS!$A$15:$B$50,2,0))","v":""},{"$f":"IF(ISERROR(VLOOKUP(K283,[2]LISTAS!$A$15:$B$50,2,0)),\"\",VLOOKUP(K283,[2]LISTAS!$A$15:$B$50,2,0))","v":""},{"$f":"IF(ISERROR(VLOOKUP(M283,[2]LISTAS!$A$15:$B$50,2,0)),\"\",VLOOKUP(M283,[2]LISTAS!$A$15:$B$50,2,0))","v":""},{"$f":"IF(ISERROR(VLOOKUP(O283,[2]LISTAS!$A$15:$B$50,2,0)),\"\",VLOOKUP(O283,[2]LISTAS!$A$15:$B$50,2,0))","v":""},{"$f":"IF(ISERROR(VLOOKUP(6,[2]LISTAS!$A$15:$B$50,2,0)),\"\",VLOOKUP(6,[2]LISTAS!$A$15:$B$50,2,0))","v":""},null,{"$f":"_xlfn.IFS(T283=\"------\",AD283,T283=\"LA RELACIÓN DE ACTIVIDADES DEBE SER A PARTIR DE LA SIGUIENTE FILA\",\"LA RELACIÓN DE ACTIVIDADES DEBE SER A PARTIR DE LA SIGUIENTE FILA\",T283<>\"------\",T283)","v":""},null,"ok"]
[null,null,null,null,null,null,null,null,null,null,null,null,null,null,null,null,null,null,null,"",{"$f":"IF(ISERROR(VLOOKUP(E284,[2]LISTAS!$A$15:$B$50,2,0)),\"\",VLOOKUP(E284,[2]LISTAS!$A$15:$B$50,2,0))","v":""},{"$f":"IF(ISERROR(VLOOKUP(G284,[2]LISTAS!$A$15:$B$50,2,0)),\"\",VLOOKUP(G284,[2]LISTAS!$A$15:$B$50,2,0))","v":""},{"$f":"IF(ISERROR(VLOOKUP(I284,[2]LISTAS!$A$15:$B$50,2,0)),\"\",VLOOKUP(I284,[2]LISTAS!$A$15:$B$50,2,0))","v":""},{"$f":"IF(ISERROR(VLOOKUP(K284,[2]LISTAS!$A$15:$B$50,2,0)),\"\",VLOOKUP(K284,[2]LISTAS!$A$15:$B$50,2,0))","v":""},{"$f":"IF(ISERROR(VLOOKUP(M284,[2]LISTAS!$A$15:$B$50,2,0)),\"\",VLOOKUP(M284,[2]LISTAS!$A$15:$B$50,2,0))","v":""},{"$f":"IF(ISERROR(VLOOKUP(O284,[2]LISTAS!$A$15:$B$50,2,0)),\"\",VLOOKUP(O284,[2]LISTAS!$A$15:$B$50,2,0))","v":""},{"$f":"IF(ISERROR(VLOOKUP(6,[2]LISTAS!$A$15:$B$50,2,0)),\"\",VLOOKUP(6,[2]LISTAS!$A$15:$B$50,2,0))","v":""},null,{"$f":"_xlfn.IFS(T284=\"------\",AD284,T284=\"LA RELACIÓN DE ACTIVIDADES DEBE SER A PARTIR DE LA SIGUIENTE FILA\",\"LA RELACIÓN DE ACTIVIDADES DEBE SER A PARTIR DE LA SIGUIENTE FILA\",T284<>\"------\",T284)","v":""},null,"ok"]
[null,null,null,null,null,null,null,null,null,null,null,null,null,null,null,null,null,null,null,"",{"$f":"IF(ISERROR(VLOOKUP(E285,[2]LISTAS!$A$15:$B$50,2,0)),\"\",VLOOKUP(E285,[2]LISTAS!$A$15:$B$50,2,0))","v":""},{"$f":"IF(ISERROR(VLOOKUP(G285,[2]LISTAS!$A$15:$B$50,2,0)),\"\",VLOOKUP(G285,[2]LISTAS!$A$15:$B$50,2,0))","v":""},{"$f":"IF(ISERROR(VLOOKUP(I285,[2]LISTAS!$A$15:$B$50,2,0)),\"\",VLOOKUP(I285,[2]LISTAS!$A$15:$B$50,2,0))","v":""},{"$f":"IF(ISERROR(VLOOKUP(K285,[2]LISTAS!$A$15:$B$50,2,0)),\"\",VLOOKUP(K285,[2]LISTAS!$A$15:$B$50,2,0))","v":""},{"$f":"IF(ISERROR(VLOOKUP(M285,[2]LISTAS!$A$15:$B$50,2,0)),\"\",VLOOKUP(M285,[2]LISTAS!$A$15:$B$50,2,0))","v":""},{"$f":"IF(ISERROR(VLOOKUP(O285,[2]LISTAS!$A$15:$B$50,2,0)),\"\",VLOOKUP(O285,[2]LISTAS!$A$15:$B$50,2,0))","v":""},{"$f":"IF(ISERROR(VLOOKUP(6,[2]LISTAS!$A$15:$B$50,2,0)),\"\",VLOOKUP(6,[2]LISTAS!$A$15:$B$50,2,0))","v":""},null,{"$f":"_xlfn.IFS(T285=\"------\",AD285,T285=\"LA RELACIÓN DE ACTIVIDADES DEBE SER A PARTIR DE LA SIGUIENTE FILA\",\"LA RELACIÓN DE ACTIVIDADES DEBE SER A PARTIR DE LA SIGUIENTE FILA\",T285<>\"------\",T285)","v":""},null,"ok"]
[null,null,null,null,null,null,null,null,null,null,null,null,null,null,null,null,null,null,null,"",{"$f":"IF(ISERROR(VLOOKUP(E286,[2]LISTAS!$A$15:$B$50,2,0)),\"\",VLOOKUP(E286,[2]LISTAS!$A$15:$B$50,2,0))","v":""},{"$f":"IF(ISERROR(VLOOKUP(G286,[2]LISTAS!$A$15:$B$50,2,0)),\"\",VLOOKUP(G286,[2]LISTAS!$A$15:$B$50,2,0))","v":""},{"$f":"IF(ISERROR(VLOOKUP(I286,[2]LISTAS!$A$15:$B$50,2,0)),\"\",VLOOKUP(I286,[2]LISTAS!$A$15:$B$50,2,0))","v":""},{"$f":"IF(ISERROR(VLOOKUP(K286,[2]LISTAS!$A$15:$B$50,2,0)),\"\",VLOOKUP(K286,[2]LISTAS!$A$15:$B$50,2,0))","v":""},{"$f":"IF(ISERROR(VLOOKUP(M286,[2]LISTAS!$A$15:$B$50,2,0)),\"\",VLOOKUP(M286,[2]LISTAS!$A$15:$B$50,2,0))","v":""},{"$f":"IF(ISERROR(VLOOKUP(O286,[2]LISTAS!$A$15:$B$50,2,0)),\"\",VLOOKUP(O286,[2]LISTAS!$A$15:$B$50,2,0))","v":""},{"$f":"IF(ISERROR(VLOOKUP(6,[2]LISTAS!$A$15:$B$50,2,0)),\"\",VLOOKUP(6,[2]LISTAS!$A$15:$B$50,2,0))","v":""},null,{"$f":"_xlfn.IFS(T286=\"------\",AD286,T286=\"LA RELACIÓN DE ACTIVIDADES DEBE SER A PARTIR DE LA SIGUIENTE FILA\",\"LA RELACIÓN DE ACTIVIDADES DEBE SER A PARTIR DE LA SIGUIENTE FILA\",T286<>\"------\",T286)","v":""},null,"ok"]
[null,null,null,null,null,null,null,null,null,null,null,null,null,null,null,null,null,null,null,"",{"$f":"IF(ISERROR(VLOOKUP(E287,[2]LISTAS!$A$15:$B$50,2,0)),\"\",VLOOKUP(E287,[2]LISTAS!$A$15:$B$50,2,0))","v":""},{"$f":"IF(ISERROR(VLOOKUP(G287,[2]LISTAS!$A$15:$B$50,2,0)),\"\",VLOOKUP(G287,[2]LISTAS!$A$15:$B$50,2,0))","v":""},{"$f":"IF(ISERROR(VLOOKUP(I287,[2]LISTAS!$A$15:$B$50,2,0)),\"\",VLOOKUP(I287,[2]LISTAS!$A$15:$B$50,2,0))","v":""},{"$f":"IF(ISERROR(VLOOKUP(K287,[2]LISTAS!$A$15:$B$50,2,0)),\"\",VLOOKUP(K287,[2]LISTAS!$A$15:$B$50,2,0))","v":""},{"$f":"IF(ISERROR(VLOOKUP(M287,[2]LISTAS!$A$15:$B$50,2,0)),\"\",VLOOKUP(M287,[2]LISTAS!$A$15:$B$50,2,0))","v":""},{"$f":"IF(ISERROR(VLOOKUP(O287,[2]LISTAS!$A$15:$B$50,2,0)),\"\",VLOOKUP(O287,[2]LISTAS!$A$15:$B$50,2,0))","v":""},{"$f":"IF(ISERROR(VLOOKUP(6,[2]LISTAS!$A$15:$B$50,2,0)),\"\",VLOOKUP(6,[2]LISTAS!$A$15:$B$50,2,0))","v":""},null,{"$f":"_xlfn.IFS(T287=\"------\",AD287,T287=\"LA RELACIÓN DE ACTIVIDADES DEBE SER A PARTIR DE LA SIGUIENTE FILA\",\"LA RELACIÓN DE ACTIVIDADES DEBE SER A PARTIR DE LA SIGUIENTE FILA\",T287<>\"------\",T287)","v":""},null,"ok"]
[null,null,null,null,null,null,null,null,null,null,null,null,null,null,null,null,null,null,null,"",{"$f":"IF(ISERROR(VLOOKUP(E288,[2]LISTAS!$A$15:$B$50,2,0)),\"\",VLOOKUP(E288,[2]LISTAS!$A$15:$B$50,2,0))","v":""},{"$f":"IF(ISERROR(VLOOKUP(G288,[2]LISTAS!$A$15:$B$50,2,0)),\"\",VLOOKUP(G288,[2]LISTAS!$A$15:$B$50,2,0))","v":""},{"$f":"IF(ISERROR(VLOOKUP(I288,[2]LISTAS!$A$15:$B$50,2,0)),\"\",VLOOKUP(I288,[2]LISTAS!$A$15:$B$50,2,0))","v":""},{"$f":"IF(ISERROR(VLOOKUP(K288,[2]LISTAS!$A$15:$B$50,2,0)),\"\",VLOOKUP(K288,[2]LISTAS!$A$15:$B$50,2,0))","v":""},{"$f":"IF(ISERROR(VLOOKUP(M288,[2]LISTAS!$A$15:$B$50,2,0)),\"\",VLOOKUP(M288,[2]LISTAS!$A$15:$B$50,2,0))","v":""},{"$f":"IF(ISERROR(VLOOKUP(O288,[2]LISTAS!$A$15:$B$50,2,0)),\"\",VLOOKUP(O288,[2]LISTAS!$A$15:$B$50,2,0))","v":""},{"$f":"IF(ISERROR(VLOOKUP(6,[2]LISTAS!$A$15:$B$50,2,0)),\"\",VLOOKUP(6,[2]LISTAS!$A$15:$B$50,2,0))","v":""},null,{"$f":"_xlfn.IFS(T288=\"------\",AD288,T288=\"LA RELACIÓN DE ACTIVIDADES DEBE SER A PARTIR DE LA SIGUIENTE FILA\",\"LA RELACIÓN DE ACTIVIDADES DEBE SER A PARTIR DE LA SIGUIENTE FILA\",T288<>\"------\",T288)","v":""},null,"ok"]
[null,null,null,null,null,null,null,null,null,null,null,null,null,null,null,null,null,null,null,"",{"$f":"IF(ISERROR(VLOOKUP(E289,[2]LISTAS!$A$15:$B$50,2,0)),\"\",VLOOKUP(E289,[2]LISTAS!$A$15:$B$50,2,0))","v":""},{"$f":"IF(ISERROR(VLOOKUP(G289,[2]LISTAS!$A$15:$B$50,2,0)),\"\",VLOOKUP(G289,[2]LISTAS!$A$15:$B$50,2,0))","v":""},{"$f":"IF(ISERROR(VLOOKUP(I289,[2]LISTAS!$A$15:$B$50,2,0)),\"\",VLOOKUP(I289,[2]LISTAS!$A$15:$B$50,2,0))","v":""},{"$f":"IF(ISERROR(VLOOKUP(K289,[2]LISTAS!$A$15:$B$50,2,0)),\"\",VLOOKUP(K289,[2]LISTAS!$A$15:$B$50,2,0))","v":""},{"$f":"IF(ISERROR(VLOOKUP(M289,[2]LISTAS!$A$15:$B$50,2,0)),\"\",VLOOKUP(M289,[2]LISTAS!$A$15:$B$50,2,0))","v":""},{"$f":"IF(ISERROR(VLOOKUP(O289,[2]LISTAS!$A$15:$B$50,2,0)),\"\",VLOOKUP(O289,[2]LISTAS!$A$15:$B$50,2,0))","v":""},{"$f":"IF(ISERROR(VLOOKUP(6,[2]LISTAS!$A$15:$B$50,2,0)),\"\",VLOOKUP(6,[2]LISTAS!$A$15:$B$50,2,0))","v":""},null,{"$f":"_xlfn.IFS(T289=\"------\",AD289,T289=\"LA RELACIÓN DE ACTIVIDADES DEBE SER A PARTIR DE LA SIGUIENTE FILA\",\"LA RELACIÓN DE ACTIVIDADES DEBE SER A PARTIR DE LA SIGUIENTE FILA\",T289<>\"------\",T289)","v":""},null,"ok"]
[null,null,null,null,null,null,null,null,null,null,null,null,null,null,null,null,null,null,null,"",{"$f":"IF(ISERROR(VLOOKUP(E290,[2]LISTAS!$A$15:$B$50,2,0)),\"\",VLOOKUP(E290,[2]LISTAS!$A$15:$B$50,2,0))","v":""},{"$f":"IF(ISERROR(VLOOKUP(G290,[2]LISTAS!$A$15:$B$50,2,0)),\"\",VLOOKUP(G290,[2]LISTAS!$A$15:$B$50,2,0))","v":""},{"$f":"IF(ISERROR(VLOOKUP(I290,[2]LISTAS!$A$15:$B$50,2,0)),\"\",VLOOKUP(I290,[2]LISTAS!$A$15:$B$50,2,0))","v":""},{"$f":"IF(ISERROR(VLOOKUP(K290,[2]LISTAS!$A$15:$B$50,2,0)),\"\",VLOOKUP(K290,[2]LISTAS!$A$15:$B$50,2,0))","v":""},{"$f":"IF(ISERROR(VLOOKUP(M290,[2]LISTAS!$A$15:$B$50,2,0)),\"\",VLOOKUP(M290,[2]LISTAS!$A$15:$B$50,2,0))","v":""},{"$f":"IF(ISERROR(VLOOKUP(O290,[2]LISTAS!$A$15:$B$50,2,0)),\"\",VLOOKUP(O290,[2]LISTAS!$A$15:$B$50,2,0))","v":""},{"$f":"IF(ISERROR(VLOOKUP(6,[2]LISTAS!$A$15:$B$50,2,0)),\"\",VLOOKUP(6,[2]LISTAS!$A$15:$B$50,2,0))","v":""},null,{"$f":"_xlfn.IFS(T290=\"------\",AD290,T290=\"LA RELACIÓN DE ACTIVIDADES DEBE SER A PARTIR DE LA SIGUIENTE FILA\",\"LA RELACIÓN DE ACTIVIDADES DEBE SER A PARTIR DE LA SIGUIENTE FILA\",T290<>\"------\",T290)","v":""},null,"ok"]
[null,null,null,null,null,null,null,null,null,null,null,null,null,null,null,null,null,null,null,"",{"$f":"IF(ISERROR(VLOOKUP(E291,[2]LISTAS!$A$15:$B$50,2,0)),\"\",VLOOKUP(E291,[2]LISTAS!$A$15:$B$50,2,0))","v":""},{"$f":"IF(ISERROR(VLOOKUP(G291,[2]LISTAS!$A$15:$B$50,2,0)),\"\",VLOOKUP(G291,[2]LISTAS!$A$15:$B$50,2,0))","v":""},{"$f":"IF(ISERROR(VLOOKUP(I291,[2]LISTAS!$A$15:$B$50,2,0)),\"\",VLOOKUP(I291,[2]LISTAS!$A$15:$B$50,2,0))","v":""},{"$f":"IF(ISERROR(VLOOKUP(K291,[2]LISTAS!$A$15:$B$50,2,0)),\"\",VLOOKUP(K291,[2]LISTAS!$A$15:$B$50,2,0))","v":""},{"$f":"IF(ISERROR(VLOOKUP(M291,[2]LISTAS!$A$15:$B$50,2,0)),\"\",VLOOKUP(M291,[2]LISTAS!$A$15:$B$50,2,0))","v":""},{"$f":"IF(ISERROR(VLOOKUP(O291,[2]LISTAS!$A$15:$B$50,2,0)),\"\",VLOOKUP(O291,[2]LISTAS!$A$15:$B$50,2,0))","v":""},{"$f":"IF(ISERROR(VLOOKUP(6,[2]LISTAS!$A$15:$B$50,2,0)),\"\",VLOOKUP(6,[2]LISTAS!$A$15:$B$50,2,0))","v":""},null,{"$f":"_xlfn.IFS(T291=\"------\",AD291,T291=\"LA RELACIÓN DE ACTIVIDADES DEBE SER A PARTIR DE LA SIGUIENTE FILA\",\"LA RELACIÓN DE ACTIVIDADES DEBE SER A PARTIR DE LA SIGUIENTE FILA\",T291<>\"------\",T291)","v":""},null,"ok"]
[null,null,null,null,null,null,null,null,null,null,null,null,null,null,null,null,null,null,null,"",{"$f":"IF(ISERROR(VLOOKUP(E292,[2]LISTAS!$A$15:$B$50,2,0)),\"\",VLOOKUP(E292,[2]LISTAS!$A$15:$B$50,2,0))","v":""},{"$f":"IF(ISERROR(VLOOKUP(G292,[2]LISTAS!$A$15:$B$50,2,0)),\"\",VLOOKUP(G292,[2]LISTAS!$A$15:$B$50,2,0))","v":""},{"$f":"IF(ISERROR(VLOOKUP(I292,[2]LISTAS!$A$15:$B$50,2,0)),\"\",VLOOKUP(I292,[2]LISTAS!$A$15:$B$50,2,0))","v":""},{"$f":"IF(ISERROR(VLOOKUP(K292,[2]LISTAS!$A$15:$B$50,2,0)),\"\",VLOOKUP(K292,[2]LISTAS!$A$15:$B$50,2,0))","v":""},{"$f":"IF(ISERROR(VLOOKUP(M292,[2]LISTAS!$A$15:$B$50,2,0)),\"\",VLOOKUP(M292,[2]LISTAS!$A$15:$B$50,2,0))","v":""},{"$f":"IF(ISERROR(VLOOKUP(O292,[2]LISTAS!$A$15:$B$50,2,0)),\"\",VLOOKUP(O292,[2]LISTAS!$A$15:$B$50,2,0))","v":""},{"$f":"IF(ISERROR(VLOOKUP(6,[2]LISTAS!$A$15:$B$50,2,0)),\"\",VLOOKUP(6,[2]LISTAS!$A$15:$B$50,2,0))","v":""},null,{"$f":"_xlfn.IFS(T292=\"------\",AD292,T292=\"LA RELACIÓN DE ACTIVIDADES DEBE SER A PARTIR DE LA SIGUIENTE FILA\",\"LA RELACIÓN DE ACTIVIDADES DEBE SER A PARTIR DE LA SIGUIENTE FILA\",T292<>\"------\",T292)","v":""},null,"ok"]
[null,null,null,null,null,null,null,null,null,null,null,null,null,null,null,null,null,null,null,"",{"$f":"IF(ISERROR(VLOOKUP(E293,[2]LISTAS!$A$15:$B$50,2,0)),\"\",VLOOKUP(E293,[2]LISTAS!$A$15:$B$50,2,0))","v":""},{"$f":"IF(ISERROR(VLOOKUP(G293,[2]LISTAS!$A$15:$B$50,2,0)),\"\",VLOOKUP(G293,[2]LISTAS!$A$15:$B$50,2,0))","v":""},{"$f":"IF(ISERROR(VLOOKUP(I293,[2]LISTAS!$A$15:$B$50,2,0)),\"\",VLOOKUP(I293,[2]LISTAS!$A$15:$B$50,2,0))","v":""},{"$f":"IF(ISERROR(VLOOKUP(K293,[2]LISTAS!$A$15:$B$50,2,0)),\"\",VLOOKUP(K293,[2]LISTAS!$A$15:$B$50,2,0))","v":""},{"$f":"IF(ISERROR(VLOOKUP(M293,[2]LISTAS!$A$15:$B$50,2,0)),\"\",VLOOKUP(M293,[2]LISTAS!$A$15:$B$50,2,0))","v":""},{"$f":"IF(ISERROR(VLOOKUP(O293,[2]LISTAS!$A$15:$B$50,2,0)),\"\",VLOOKUP(O293,[2]LISTAS!$A$15:$B$50,2,0))","v":""},{"$f":"IF(ISERROR(VLOOKUP(6,[2]LISTAS!$A$15:$B$50,2,0)),\"\",VLOOKUP(6,[2]LISTAS!$A$15:$B$50,2,0))","v":""},null,{"$f":"_xlfn.IFS(T293=\"------\",AD293,T293=\"LA RELACIÓN DE ACTIVIDADES DEBE SER A PARTIR DE LA SIGUIENTE FILA\",\"LA RELACIÓN DE ACTIVIDADES DEBE SER A PARTIR DE LA SIGUIENTE FILA\",T293<>\"------\",T293)","v":""},null,"ok"]
[null,null,null,null,null,null,null,null,null,null,null,null,null,null,null,null,null,null,null,"",{"$f":"IF(ISERROR(VLOOKUP(E294,[2]LISTAS!$A$15:$B$50,2,0)),\"\",VLOOKUP(E294,[2]LISTAS!$A$15:$B$50,2,0))","v":""},{"$f":"IF(ISERROR(VLOOKUP(G294,[2]LISTAS!$A$15:$B$50,2,0)),\"\",VLOOKUP(G294,[2]LISTAS!$A$15:$B$50,2,0))","v":""},{"$f":"IF(ISERROR(VLOOKUP(I294,[2]LISTAS!$A$15:$B$50,2,0)),\"\",VLOOKUP(I294,[2]LISTAS!$A$15:$B$50,2,0))","v":""},{"$f":"IF(ISERROR(VLOOKUP(K294,[2]LISTAS!$A$15:$B$50,2,0)),\"\",VLOOKUP(K294,[2]LISTAS!$A$15:$B$50,2,0))","v":""},{"$f":"IF(ISERROR(VLOOKUP(M294,[2]LISTAS!$A$15:$B$50,2,0)),\"\",VLOOKUP(M294,[2]LISTAS!$A$15:$B$50,2,0))","v":""},{"$f":"IF(ISERROR(VLOOKUP(O294,[2]LISTAS!$A$15:$B$50,2,0)),\"\",VLOOKUP(O294,[2]LISTAS!$A$15:$B$50,2,0))","v":""},{"$f":"IF(ISERROR(VLOOKUP(6,[2]LISTAS!$A$15:$B$50,2,0)),\"\",VLOOKUP(6,[2]LISTAS!$A$15:$B$50,2,0))","v":""},null,{"$f":"_xlfn.IFS(T294=\"------\",AD294,T294=\"LA RELACIÓN DE ACTIVIDADES DEBE SER A PARTIR DE LA SIGUIENTE FILA\",\"LA RELACIÓN DE ACTIVIDADES DEBE SER A PARTIR DE LA SIGUIENTE FILA\",T294<>\"------\",T294)","v":""},null,"ok"]
[null,null,null,null,null,null,null,null,null,null,null,null,null,null,null,null,null,null,null,"",{"$f":"IF(ISERROR(VLOOKUP(E295,[2]LISTAS!$A$15:$B$50,2,0)),\"\",VLOOKUP(E295,[2]LISTAS!$A$15:$B$50,2,0))","v":""},{"$f":"IF(ISERROR(VLOOKUP(G295,[2]LISTAS!$A$15:$B$50,2,0)),\"\",VLOOKUP(G295,[2]LISTAS!$A$15:$B$50,2,0))","v":""},{"$f":"IF(ISERROR(VLOOKUP(I295,[2]LISTAS!$A$15:$B$50,2,0)),\"\",VLOOKUP(I295,[2]LISTAS!$A$15:$B$50,2,0))","v":""},{"$f":"IF(ISERROR(VLOOKUP(K295,[2]LISTAS!$A$15:$B$50,2,0)),\"\",VLOOKUP(K295,[2]LISTAS!$A$15:$B$50,2,0))","v":""},{"$f":"IF(ISERROR(VLOOKUP(M295,[2]LISTAS!$A$15:$B$50,2,0)),\"\",VLOOKUP(M295,[2]LISTAS!$A$15:$B$50,2,0))","v":""},{"$f":"IF(ISERROR(VLOOKUP(O295,[2]LISTAS!$A$15:$B$50,2,0)),\"\",VLOOKUP(O295,[2]LISTAS!$A$15:$B$50,2,0))","v":""},{"$f":"IF(ISERROR(VLOOKUP(6,[2]LISTAS!$A$15:$B$50,2,0)),\"\",VLOOKUP(6,[2]LISTAS!$A$15:$B$50,2,0))","v":""},null,{"$f":"_xlfn.IFS(T295=\"------\",AD295,T295=\"LA RELACIÓN DE ACTIVIDADES DEBE SER A PARTIR DE LA SIGUIENTE FILA\",\"LA RELACIÓN DE ACTIVIDADES DEBE SER A PARTIR DE LA SIGUIENTE FILA\",T295<>\"------\",T295)","v":""},null,"ok"]
[null,null,null,null,null,null,null,null,null,null,null,null,null,null,null,null,null,null,null,"",{"$f":"IF(ISERROR(VLOOKUP(E296,[2]LISTAS!$A$15:$B$50,2,0)),\"\",VLOOKUP(E296,[2]LISTAS!$A$15:$B$50,2,0))","v":""},{"$f":"IF(ISERROR(VLOOKUP(G296,[2]LISTAS!$A$15:$B$50,2,0)),\"\",VLOOKUP(G296,[2]LISTAS!$A$15:$B$50,2,0))","v":""},{"$f":"IF(ISERROR(VLOOKUP(I296,[2]LISTAS!$A$15:$B$50,2,0)),\"\",VLOOKUP(I296,[2]LISTAS!$A$15:$B$50,2,0))","v":""},{"$f":"IF(ISERROR(VLOOKUP(K296,[2]LISTAS!$A$15:$B$50,2,0)),\"\",VLOOKUP(K296,[2]LISTAS!$A$15:$B$50,2,0))","v":""},{"$f":"IF(ISERROR(VLOOKUP(M296,[2]LISTAS!$A$15:$B$50,2,0)),\"\",VLOOKUP(M296,[2]LISTAS!$A$15:$B$50,2,0))","v":""},{"$f":"IF(ISERROR(VLOOKUP(O296,[2]LISTAS!$A$15:$B$50,2,0)),\"\",VLOOKUP(O296,[2]LISTAS!$A$15:$B$50,2,0))","v":""},{"$f":"IF(ISERROR(VLOOKUP(6,[2]LISTAS!$A$15:$B$50,2,0)),\"\",VLOOKUP(6,[2]LISTAS!$A$15:$B$50,2,0))","v":""},null,{"$f":"_xlfn.IFS(T296=\"------\",AD296,T296=\"LA RELACIÓN DE ACTIVIDADES DEBE SER A PARTIR DE LA SIGUIENTE FILA\",\"LA RELACIÓN DE ACTIVIDADES DEBE SER A PARTIR DE LA SIGUIENTE FILA\",T296<>\"------\",T296)","v":""},null,"ok"]
[null,null,null,null,null,null,null,null,null,null,null,null,null,null,null,null,null,null,null,"",{"$f":"IF(ISERROR(VLOOKUP(E297,[2]LISTAS!$A$15:$B$50,2,0)),\"\",VLOOKUP(E297,[2]LISTAS!$A$15:$B$50,2,0))","v":""},{"$f":"IF(ISERROR(VLOOKUP(G297,[2]LISTAS!$A$15:$B$50,2,0)),\"\",VLOOKUP(G297,[2]LISTAS!$A$15:$B$50,2,0))","v":""},{"$f":"IF(ISERROR(VLOOKUP(I297,[2]LISTAS!$A$15:$B$50,2,0)),\"\",VLOOKUP(I297,[2]LISTAS!$A$15:$B$50,2,0))","v":""},{"$f":"IF(ISERROR(VLOOKUP(K297,[2]LISTAS!$A$15:$B$50,2,0)),\"\",VLOOKUP(K297,[2]LISTAS!$A$15:$B$50,2,0))","v":""},{"$f":"IF(ISERROR(VLOOKUP(M297,[2]LISTAS!$A$15:$B$50,2,0)),\"\",VLOOKUP(M297,[2]LISTAS!$A$15:$B$50,2,0))","v":""},{"$f":"IF(ISERROR(VLOOKUP(O297,[2]LISTAS!$A$15:$B$50,2,0)),\"\",VLOOKUP(O297,[2]LISTAS!$A$15:$B$50,2,0))","v":""},{"$f":"IF(ISERROR(VLOOKUP(6,[2]LISTAS!$A$15:$B$50,2,0)),\"\",VLOOKUP(6,[2]LISTAS!$A$15:$B$50,2,0))","v":""},null,{"$f":"_xlfn.IFS(T297=\"------\",AD297,T297=\"LA RELACIÓN DE ACTIVIDADES DEBE SER A PARTIR DE LA SIGUIENTE FILA\",\"LA RELACIÓN DE ACTIVIDADES DEBE SER A PARTIR DE LA SIGUIENTE FILA\",T297<>\"------\",T297)","v":""},null,"ok"]
[null,null,null,null,null,null,null,null,null,null,null,null,null,null,null,null,null,null,null,"",{"$f":"IF(ISERROR(VLOOKUP(E298,[2]LISTAS!$A$15:$B$50,2,0)),\"\",VLOOKUP(E298,[2]LISTAS!$A$15:$B$50,2,0))","v":""},{"$f":"IF(ISERROR(VLOOKUP(G298,[2]LISTAS!$A$15:$B$50,2,0)),\"\",VLOOKUP(G298,[2]LISTAS!$A$15:$B$50,2,0))","v":""},{"$f":"IF(ISERROR(VLOOKUP(I298,[2]LISTAS!$A$15:$B$50,2,0)),\"\",VLOOKUP(I298,[2]LISTAS!$A$15:$B$50,2,0))","v":""},{"$f":"IF(ISERROR(VLOOKUP(K298,[2]LISTAS!$A$15:$B$50,2,0)),\"\",VLOOKUP(K298,[2]LISTAS!$A$15:$B$50,2,0))","v":""},{"$f":"IF(ISERROR(VLOOKUP(M298,[2]LISTAS!$A$15:$B$50,2,0)),\"\",VLOOKUP(M298,[2]LISTAS!$A$15:$B$50,2,0))","v":""},{"$f":"IF(ISERROR(VLOOKUP(O298,[2]LISTAS!$A$15:$B$50,2,0)),\"\",VLOOKUP(O298,[2]LISTAS!$A$15:$B$50,2,0))","v":""},{"$f":"IF(ISERROR(VLOOKUP(6,[2]LISTAS!$A$15:$B$50,2,0)),\"\",VLOOKUP(6,[2]LISTAS!$A$15:$B$50,2,0))","v":""},null,{"$f":"_xlfn.IFS(T298=\"------\",AD298,T298=\"LA RELACIÓN DE ACTIVIDADES DEBE SER A PARTIR DE LA SIGUIENTE FILA\",\"LA RELACIÓN DE ACTIVIDADES DEBE SER A PARTIR DE LA SIGUIENTE FILA\",T298<>\"------\",T298)","v":""},null,"ok"]
[null,null,null,null,null,null,null,null,null,null,null,null,null,null,null,null,null,null,null,"",{"$f":"IF(ISERROR(VLOOKUP(E299,[2]LISTAS!$A$15:$B$50,2,0)),\"\",VLOOKUP(E299,[2]LISTAS!$A$15:$B$50,2,0))","v":""},{"$f":"IF(ISERROR(VLOOKUP(G299,[2]LISTAS!$A$15:$B$50,2,0)),\"\",VLOOKUP(G299,[2]LISTAS!$A$15:$B$50,2,0))","v":""},{"$f":"IF(ISERROR(VLOOKUP(I299,[2]LISTAS!$A$15:$B$50,2,0)),\"\",VLOOKUP(I299,[2]LISTAS!$A$15:$B$50,2,0))","v":""},{"$f":"IF(ISERROR(VLOOKUP(K299,[2]LISTAS!$A$15:$B$50,2,0)),\"\",VLOOKUP(K299,[2]LISTAS!$A$15:$B$50,2,0))","v":""},{"$f":"IF(ISERROR(VLOOKUP(M299,[2]LISTAS!$A$15:$B$50,2,0)),\"\",VLOOKUP(M299,[2]LISTAS!$A$15:$B$50,2,0))","v":""},{"$f":"IF(ISERROR(VLOOKUP(O299,[2]LISTAS!$A$15:$B$50,2,0)),\"\",VLOOKUP(O299,[2]LISTAS!$A$15:$B$50,2,0))","v":""},{"$f":"IF(ISERROR(VLOOKUP(6,[2]LISTAS!$A$15:$B$50,2,0)),\"\",VLOOKUP(6,[2]LISTAS!$A$15:$B$50,2,0))","v":""},null,{"$f":"_xlfn.IFS(T299=\"------\",AD299,T299=\"LA RELACIÓN DE ACTIVIDADES DEBE SER A PARTIR DE LA SIGUIENTE FILA\",\"LA RELACIÓN DE ACTIVIDADES DEBE SER A PARTIR DE LA SIGUIENTE FILA\",T299<>\"------\",T299)","v":""},null,"ok"]
[null,null,null,null,null,null,null,null,null,null,null,null,null,null,null,null,null,null,null,"",{"$f":"IF(ISERROR(VLOOKUP(E300,[2]LISTAS!$A$15:$B$50,2,0)),\"\",VLOOKUP(E300,[2]LISTAS!$A$15:$B$50,2,0))","v":""},{"$f":"IF(ISERROR(VLOOKUP(G300,[2]LISTAS!$A$15:$B$50,2,0)),\"\",VLOOKUP(G300,[2]LISTAS!$A$15:$B$50,2,0))","v":""},{"$f":"IF(ISERROR(VLOOKUP(I300,[2]LISTAS!$A$15:$B$50,2,0)),\"\",VLOOKUP(I300,[2]LISTAS!$A$15:$B$50,2,0))","v":""},{"$f":"IF(ISERROR(VLOOKUP(K300,[2]LISTAS!$A$15:$B$50,2,0)),\"\",VLOOKUP(K300,[2]LISTAS!$A$15:$B$50,2,0))","v":""},{"$f":"IF(ISERROR(VLOOKUP(M300,[2]LISTAS!$A$15:$B$50,2,0)),\"\",VLOOKUP(M300,[2]LISTAS!$A$15:$B$50,2,0))","v":""},{"$f":"IF(ISERROR(VLOOKUP(O300,[2]LISTAS!$A$15:$B$50,2,0)),\"\",VLOOKUP(O300,[2]LISTAS!$A$15:$B$50,2,0))","v":""},{"$f":"IF(ISERROR(VLOOKUP(6,[2]LISTAS!$A$15:$B$50,2,0)),\"\",VLOOKUP(6,[2]LISTAS!$A$15:$B$50,2,0))","v":""},null,{"$f":"_xlfn.IFS(T300=\"------\",AD300,T300=\"LA RELACIÓN DE ACTIVIDADES DEBE SER A PARTIR DE LA SIGUIENTE FILA\",\"LA RELACIÓN DE ACTIVIDADES DEBE SER A PARTIR DE LA SIGUIENTE FILA\",T300<>\"------\",T300)","v":""},null,"ok"]
[null,null,null,null,null,null,null,null,null,null,null,null,null,null,null,null,null,null,null,"",{"$f":"IF(ISERROR(VLOOKUP(E301,[2]LISTAS!$A$15:$B$50,2,0)),\"\",VLOOKUP(E301,[2]LISTAS!$A$15:$B$50,2,0))","v":""},{"$f":"IF(ISERROR(VLOOKUP(G301,[2]LISTAS!$A$15:$B$50,2,0)),\"\",VLOOKUP(G301,[2]LISTAS!$A$15:$B$50,2,0))","v":""},{"$f":"IF(ISERROR(VLOOKUP(I301,[2]LISTAS!$A$15:$B$50,2,0)),\"\",VLOOKUP(I301,[2]LISTAS!$A$15:$B$50,2,0))","v":""},{"$f":"IF(ISERROR(VLOOKUP(K301,[2]LISTAS!$A$15:$B$50,2,0)),\"\",VLOOKUP(K301,[2]LISTAS!$A$15:$B$50,2,0))","v":""},{"$f":"IF(ISERROR(VLOOKUP(M301,[2]LISTAS!$A$15:$B$50,2,0)),\"\",VLOOKUP(M301,[2]LISTAS!$A$15:$B$50,2,0))","v":""},{"$f":"IF(ISERROR(VLOOKUP(O301,[2]LISTAS!$A$15:$B$50,2,0)),\"\",VLOOKUP(O301,[2]LISTAS!$A$15:$B$50,2,0))","v":""},{"$f":"IF(ISERROR(VLOOKUP(6,[2]LISTAS!$A$15:$B$50,2,0)),\"\",VLOOKUP(6,[2]LISTAS!$A$15:$B$50,2,0))","v":""},null,{"$f":"_xlfn.IFS(T301=\"------\",AD301,T301=\"LA RELACIÓN DE ACTIVIDADES DEBE SER A PARTIR DE LA SIGUIENTE FILA\",\"LA RELACIÓN DE ACTIVIDADES DEBE SER A PARTIR DE LA SIGUIENTE FILA\",T301<>\"------\",T301)","v":""},null,"ok"]
[null,null,null,null,null,null,null,null,null,null,null,null,null,null,null,null,null,null,null,"",{"$f":"IF(ISERROR(VLOOKUP(E302,[2]LISTAS!$A$15:$B$50,2,0)),\"\",VLOOKUP(E302,[2]LISTAS!$A$15:$B$50,2,0))","v":""},{"$f":"IF(ISERROR(VLOOKUP(G302,[2]LISTAS!$A$15:$B$50,2,0)),\"\",VLOOKUP(G302,[2]LISTAS!$A$15:$B$50,2,0))","v":""},{"$f":"IF(ISERROR(VLOOKUP(I302,[2]LISTAS!$A$15:$B$50,2,0)),\"\",VLOOKUP(I302,[2]LISTAS!$A$15:$B$50,2,0))","v":""},{"$f":"IF(ISERROR(VLOOKUP(K302,[2]LISTAS!$A$15:$B$50,2,0)),\"\",VLOOKUP(K302,[2]LISTAS!$A$15:$B$50,2,0))","v":""},{"$f":"IF(ISERROR(VLOOKUP(M302,[2]LISTAS!$A$15:$B$50,2,0)),\"\",VLOOKUP(M302,[2]LISTAS!$A$15:$B$50,2,0))","v":""},{"$f":"IF(ISERROR(VLOOKUP(O302,[2]LISTAS!$A$15:$B$50,2,0)),\"\",VLOOKUP(O302,[2]LISTAS!$A$15:$B$50,2,0))","v":""},{"$f":"IF(ISERROR(VLOOKUP(6,[2]LISTAS!$A$15:$B$50,2,0)),\"\",VLOOKUP(6,[2]LISTAS!$A$15:$B$50,2,0))","v":""},null,{"$f":"_xlfn.IFS(T302=\"------\",AD302,T302=\"LA RELACIÓN DE ACTIVIDADES DEBE SER A PARTIR DE LA SIGUIENTE FILA\",\"LA RELACIÓN DE ACTIVIDADES DEBE SER A PARTIR DE LA SIGUIENTE FILA\",T302<>\"------\",T302)","v":""},null,"ok"]
[null,null,null,null,null,null,null,null,null,null,null,null,null,null,null,null,null,null,null,"",{"$f":"IF(ISERROR(VLOOKUP(E303,[2]LISTAS!$A$15:$B$50,2,0)),\"\",VLOOKUP(E303,[2]LISTAS!$A$15:$B$50,2,0))","v":""},{"$f":"IF(ISERROR(VLOOKUP(G303,[2]LISTAS!$A$15:$B$50,2,0)),\"\",VLOOKUP(G303,[2]LISTAS!$A$15:$B$50,2,0))","v":""},{"$f":"IF(ISERROR(VLOOKUP(I303,[2]LISTAS!$A$15:$B$50,2,0)),\"\",VLOOKUP(I303,[2]LISTAS!$A$15:$B$50,2,0))","v":""},{"$f":"IF(ISERROR(VLOOKUP(K303,[2]LISTAS!$A$15:$B$50,2,0)),\"\",VLOOKUP(K303,[2]LISTAS!$A$15:$B$50,2,0))","v":""},{"$f":"IF(ISERROR(VLOOKUP(M303,[2]LISTAS!$A$15:$B$50,2,0)),\"\",VLOOKUP(M303,[2]LISTAS!$A$15:$B$50,2,0))","v":""},{"$f":"IF(ISERROR(VLOOKUP(O303,[2]LISTAS!$A$15:$B$50,2,0)),\"\",VLOOKUP(O303,[2]LISTAS!$A$15:$B$50,2,0))","v":""},{"$f":"IF(ISERROR(VLOOKUP(6,[2]LISTAS!$A$15:$B$50,2,0)),\"\",VLOOKUP(6,[2]LISTAS!$A$15:$B$50,2,0))","v":""},null,{"$f":"_xlfn.IFS(T303=\"------\",AD303,T303=\"LA RELACIÓN DE ACTIVIDADES DEBE SER A PARTIR DE LA SIGUIENTE FILA\",\"LA RELACIÓN DE ACTIVIDADES DEBE SER A PARTIR DE LA SIGUIENTE FILA\",T303<>\"------\",T303)","v":""},null,"ok"]
[null,null,null,null,null,null,null,null,null,null,null,null,null,null,null,null,null,null,null,"",{"$f":"IF(ISERROR(VLOOKUP(E304,[2]LISTAS!$A$15:$B$50,2,0)),\"\",VLOOKUP(E304,[2]LISTAS!$A$15:$B$50,2,0))","v":""},{"$f":"IF(ISERROR(VLOOKUP(G304,[2]LISTAS!$A$15:$B$50,2,0)),\"\",VLOOKUP(G304,[2]LISTAS!$A$15:$B$50,2,0))","v":""},{"$f":"IF(ISERROR(VLOOKUP(I304,[2]LISTAS!$A$15:$B$50,2,0)),\"\",VLOOKUP(I304,[2]LISTAS!$A$15:$B$50,2,0))","v":""},{"$f":"IF(ISERROR(VLOOKUP(K304,[2]LISTAS!$A$15:$B$50,2,0)),\"\",VLOOKUP(K304,[2]LISTAS!$A$15:$B$50,2,0))","v":""},{"$f":"IF(ISERROR(VLOOKUP(M304,[2]LISTAS!$A$15:$B$50,2,0)),\"\",VLOOKUP(M304,[2]LISTAS!$A$15:$B$50,2,0))","v":""},{"$f":"IF(ISERROR(VLOOKUP(O304,[2]LISTAS!$A$15:$B$50,2,0)),\"\",VLOOKUP(O304,[2]LISTAS!$A$15:$B$50,2,0))","v":""},{"$f":"IF(ISERROR(VLOOKUP(6,[2]LISTAS!$A$15:$B$50,2,0)),\"\",VLOOKUP(6,[2]LISTAS!$A$15:$B$50,2,0))","v":""},null,{"$f":"_xlfn.IFS(T304=\"------\",AD304,T304=\"LA RELACIÓN DE ACTIVIDADES DEBE SER A PARTIR DE LA SIGUIENTE FILA\",\"LA RELACIÓN DE ACTIVIDADES DEBE SER A PARTIR DE LA SIGUIENTE FILA\",T304<>\"------\",T304)","v":""},null,"ok"]
[null,null,null,null,null,null,null,null,null,null,null,null,null,null,null,null,null,null,null,"",{"$f":"IF(ISERROR(VLOOKUP(E305,[2]LISTAS!$A$15:$B$50,2,0)),\"\",VLOOKUP(E305,[2]LISTAS!$A$15:$B$50,2,0))","v":""},{"$f":"IF(ISERROR(VLOOKUP(G305,[2]LISTAS!$A$15:$B$50,2,0)),\"\",VLOOKUP(G305,[2]LISTAS!$A$15:$B$50,2,0))","v":""},{"$f":"IF(ISERROR(VLOOKUP(I305,[2]LISTAS!$A$15:$B$50,2,0)),\"\",VLOOKUP(I305,[2]LISTAS!$A$15:$B$50,2,0))","v":""},{"$f":"IF(ISERROR(VLOOKUP(K305,[2]LISTAS!$A$15:$B$50,2,0)),\"\",VLOOKUP(K305,[2]LISTAS!$A$15:$B$50,2,0))","v":""},{"$f":"IF(ISERROR(VLOOKUP(M305,[2]LISTAS!$A$15:$B$50,2,0)),\"\",VLOOKUP(M305,[2]LISTAS!$A$15:$B$50,2,0))","v":""},{"$f":"IF(ISERROR(VLOOKUP(O305,[2]LISTAS!$A$15:$B$50,2,0)),\"\",VLOOKUP(O305,[2]LISTAS!$A$15:$B$50,2,0))","v":""},{"$f":"IF(ISERROR(VLOOKUP(6,[2]LISTAS!$A$15:$B$50,2,0)),\"\",VLOOKUP(6,[2]LISTAS!$A$15:$B$50,2,0))","v":""},null,{"$f":"_xlfn.IFS(T305=\"------\",AD305,T305=\"LA RELACIÓN DE ACTIVIDADES DEBE SER A PARTIR DE LA SIGUIENTE FILA\",\"LA RELACIÓN DE ACTIVIDADES DEBE SER A PARTIR DE LA SIGUIENTE FILA\",T305<>\"------\",T305)","v":""},null,"ok"]
[null,null,null,null,null,null,null,null,null,null,null,null,null,null,null,null,null,null,null,"",{"$f":"IF(ISERROR(VLOOKUP(E306,[2]LISTAS!$A$15:$B$50,2,0)),\"\",VLOOKUP(E306,[2]LISTAS!$A$15:$B$50,2,0))","v":""},{"$f":"IF(ISERROR(VLOOKUP(G306,[2]LISTAS!$A$15:$B$50,2,0)),\"\",VLOOKUP(G306,[2]LISTAS!$A$15:$B$50,2,0))","v":""},{"$f":"IF(ISERROR(VLOOKUP(I306,[2]LISTAS!$A$15:$B$50,2,0)),\"\",VLOOKUP(I306,[2]LISTAS!$A$15:$B$50,2,0))","v":""},{"$f":"IF(ISERROR(VLOOKUP(K306,[2]LISTAS!$A$15:$B$50,2,0)),\"\",VLOOKUP(K306,[2]LISTAS!$A$15:$B$50,2,0))","v":""},{"$f":"IF(ISERROR(VLOOKUP(M306,[2]LISTAS!$A$15:$B$50,2,0)),\"\",VLOOKUP(M306,[2]LISTAS!$A$15:$B$50,2,0))","v":""},{"$f":"IF(ISERROR(VLOOKUP(O306,[2]LISTAS!$A$15:$B$50,2,0)),\"\",VLOOKUP(O306,[2]LISTAS!$A$15:$B$50,2,0))","v":""},{"$f":"IF(ISERROR(VLOOKUP(6,[2]LISTAS!$A$15:$B$50,2,0)),\"\",VLOOKUP(6,[2]LISTAS!$A$15:$B$50,2,0))","v":""},null,{"$f":"_xlfn.IFS(T306=\"------\",AD306,T306=\"LA RELACIÓN DE ACTIVIDADES DEBE SER A PARTIR DE LA SIGUIENTE FILA\",\"LA RELACIÓN DE ACTIVIDADES DEBE SER A PARTIR DE LA SIGUIENTE FILA\",T306<>\"------\",T306)","v":""},null,"ok"]
[null,null,null,null,null,null,null,null,null,null,null,null,null,null,null,null,null,null,null,"",{"$f":"IF(ISERROR(VLOOKUP(E307,[2]LISTAS!$A$15:$B$50,2,0)),\"\",VLOOKUP(E307,[2]LISTAS!$A$15:$B$50,2,0))","v":""},{"$f":"IF(ISERROR(VLOOKUP(G307,[2]LISTAS!$A$15:$B$50,2,0)),\"\",VLOOKUP(G307,[2]LISTAS!$A$15:$B$50,2,0))","v":""},{"$f":"IF(ISERROR(VLOOKUP(I307,[2]LISTAS!$A$15:$B$50,2,0)),\"\",VLOOKUP(I307,[2]LISTAS!$A$15:$B$50,2,0))","v":""},{"$f":"IF(ISERROR(VLOOKUP(K307,[2]LISTAS!$A$15:$B$50,2,0)),\"\",VLOOKUP(K307,[2]LISTAS!$A$15:$B$50,2,0))","v":""},{"$f":"IF(ISERROR(VLOOKUP(M307,[2]LISTAS!$A$15:$B$50,2,0)),\"\",VLOOKUP(M307,[2]LISTAS!$A$15:$B$50,2,0))","v":""},{"$f":"IF(ISERROR(VLOOKUP(O307,[2]LISTAS!$A$15:$B$50,2,0)),\"\",VLOOKUP(O307,[2]LISTAS!$A$15:$B$50,2,0))","v":""},{"$f":"IF(ISERROR(VLOOKUP(6,[2]LISTAS!$A$15:$B$50,2,0)),\"\",VLOOKUP(6,[2]LISTAS!$A$15:$B$50,2,0))","v":""},null,{"$f":"_xlfn.IFS(T307=\"------\",AD307,T307=\"LA RELACIÓN DE ACTIVIDADES DEBE SER A PARTIR DE LA SIGUIENTE FILA\",\"LA RELACIÓN DE ACTIVIDADES DEBE SER A PARTIR DE LA SIGUIENTE FILA\",T307<>\"------\",T307)","v":""},null,"ok"]
[null,null,null,null,null,null,null,null,null,null,null,null,null,null,null,null,null,null,null,"",{"$f":"IF(ISERROR(VLOOKUP(E308,[2]LISTAS!$A$15:$B$50,2,0)),\"\",VLOOKUP(E308,[2]LISTAS!$A$15:$B$50,2,0))","v":""},{"$f":"IF(ISERROR(VLOOKUP(G308,[2]LISTAS!$A$15:$B$50,2,0)),\"\",VLOOKUP(G308,[2]LISTAS!$A$15:$B$50,2,0))","v":""},{"$f":"IF(ISERROR(VLOOKUP(I308,[2]LISTAS!$A$15:$B$50,2,0)),\"\",VLOOKUP(I308,[2]LISTAS!$A$15:$B$50,2,0))","v":""},{"$f":"IF(ISERROR(VLOOKUP(K308,[2]LISTAS!$A$15:$B$50,2,0)),\"\",VLOOKUP(K308,[2]LISTAS!$A$15:$B$50,2,0))","v":""},{"$f":"IF(ISERROR(VLOOKUP(M308,[2]LISTAS!$A$15:$B$50,2,0)),\"\",VLOOKUP(M308,[2]LISTAS!$A$15:$B$50,2,0))","v":""},{"$f":"IF(ISERROR(VLOOKUP(O308,[2]LISTAS!$A$15:$B$50,2,0)),\"\",VLOOKUP(O308,[2]LISTAS!$A$15:$B$50,2,0))","v":""},{"$f":"IF(ISERROR(VLOOKUP(6,[2]LISTAS!$A$15:$B$50,2,0)),\"\",VLOOKUP(6,[2]LISTAS!$A$15:$B$50,2,0))","v":""},null,{"$f":"_xlfn.IFS(T308=\"------\",AD308,T308=\"LA RELACIÓN DE ACTIVIDADES DEBE SER A PARTIR DE LA SIGUIENTE FILA\",\"LA RELACIÓN DE ACTIVIDADES DEBE SER A PARTIR DE LA SIGUIENTE FILA\",T308<>\"------\",T308)","v":""},null,"ok"]
[null,null,null,null,null,null,null,null,null,null,null,null,null,null,null,null,null,null,null,"",{"$f":"IF(ISERROR(VLOOKUP(E309,[2]LISTAS!$A$15:$B$50,2,0)),\"\",VLOOKUP(E309,[2]LISTAS!$A$15:$B$50,2,0))","v":""},{"$f":"IF(ISERROR(VLOOKUP(G309,[2]LISTAS!$A$15:$B$50,2,0)),\"\",VLOOKUP(G309,[2]LISTAS!$A$15:$B$50,2,0))","v":""},{"$f":"IF(ISERROR(VLOOKUP(I309,[2]LISTAS!$A$15:$B$50,2,0)),\"\",VLOOKUP(I309,[2]LISTAS!$A$15:$B$50,2,0))","v":""},{"$f":"IF(ISERROR(VLOOKUP(K309,[2]LISTAS!$A$15:$B$50,2,0)),\"\",VLOOKUP(K309,[2]LISTAS!$A$15:$B$50,2,0))","v":""},{"$f":"IF(ISERROR(VLOOKUP(M309,[2]LISTAS!$A$15:$B$50,2,0)),\"\",VLOOKUP(M309,[2]LISTAS!$A$15:$B$50,2,0))","v":""},{"$f":"IF(ISERROR(VLOOKUP(O309,[2]LISTAS!$A$15:$B$50,2,0)),\"\",VLOOKUP(O309,[2]LISTAS!$A$15:$B$50,2,0))","v":""},{"$f":"IF(ISERROR(VLOOKUP(6,[2]LISTAS!$A$15:$B$50,2,0)),\"\",VLOOKUP(6,[2]LISTAS!$A$15:$B$50,2,0))","v":""},null,{"$f":"_xlfn.IFS(T309=\"------\",AD309,T309=\"LA RELACIÓN DE ACTIVIDADES DEBE SER A PARTIR DE LA SIGUIENTE FILA\",\"LA RELACIÓN DE ACTIVIDADES DEBE SER A PARTIR DE LA SIGUIENTE FILA\",T309<>\"------\",T309)","v":""},null,"ok"]
[null,null,null,null,null,null,null,null,null,null,null,null,null,null,null,null,null,null,null,"",{"$f":"IF(ISERROR(VLOOKUP(E310,[2]LISTAS!$A$15:$B$50,2,0)),\"\",VLOOKUP(E310,[2]LISTAS!$A$15:$B$50,2,0))","v":""},{"$f":"IF(ISERROR(VLOOKUP(G310,[2]LISTAS!$A$15:$B$50,2,0)),\"\",VLOOKUP(G310,[2]LISTAS!$A$15:$B$50,2,0))","v":""},{"$f":"IF(ISERROR(VLOOKUP(I310,[2]LISTAS!$A$15:$B$50,2,0)),\"\",VLOOKUP(I310,[2]LISTAS!$A$15:$B$50,2,0))","v":""},{"$f":"IF(ISERROR(VLOOKUP(K310,[2]LISTAS!$A$15:$B$50,2,0)),\"\",VLOOKUP(K310,[2]LISTAS!$A$15:$B$50,2,0))","v":""},{"$f":"IF(ISERROR(VLOOKUP(M310,[2]LISTAS!$A$15:$B$50,2,0)),\"\",VLOOKUP(M310,[2]LISTAS!$A$15:$B$50,2,0))","v":""},{"$f":"IF(ISERROR(VLOOKUP(O310,[2]LISTAS!$A$15:$B$50,2,0)),\"\",VLOOKUP(O310,[2]LISTAS!$A$15:$B$50,2,0))","v":""},{"$f":"IF(ISERROR(VLOOKUP(6,[2]LISTAS!$A$15:$B$50,2,0)),\"\",VLOOKUP(6,[2]LISTAS!$A$15:$B$50,2,0))","v":""},null,{"$f":"_xlfn.IFS(T310=\"------\",AD310,T310=\"LA RELACIÓN DE ACTIVIDADES DEBE SER A PARTIR DE LA SIGUIENTE FILA\",\"LA RELACIÓN DE ACTIVIDADES DEBE SER A PARTIR DE LA SIGUIENTE FILA\",T310<>\"------\",T310)","v":""},null,"ok"]
[null,null,null,null,null,null,null,null,null,null,null,null,null,null,null,null,null,null,null,{"$f":"IF(AND(B311=\"\",C311=\"\"),\"\",IF(AND(D311<>\"\"),U311&\"-\"&V311&\"-\"&W311&\"-\"&X311&\"-\"&Y311&\"-\"&Z311&\"-\"&AA311,IF(AND(C311<>\"\"),\"LA RELACIÓN DE ACTIVIDADES DEBE SER A PARTIR DE LA SIGUIENTE FILA\",)))","v":""},{"$f":"IF(ISERROR(VLOOKUP(E311,[2]LISTAS!$A$15:$B$50,2,0)),\"\",VLOOKUP(E311,[2]LISTAS!$A$15:$B$50,2,0))","v":""},{"$f":"IF(ISERROR(VLOOKUP(G311,[2]LISTAS!$A$15:$B$50,2,0)),\"\",VLOOKUP(G311,[2]LISTAS!$A$15:$B$50,2,0))","v":""},{"$f":"IF(ISERROR(VLOOKUP(I311,[2]LISTAS!$A$15:$B$50,2,0)),\"\",VLOOKUP(I311,[2]LISTAS!$A$15:$B$50,2,0))","v":""},{"$f":"IF(ISERROR(VLOOKUP(K311,[2]LISTAS!$A$15:$B$50,2,0)),\"\",VLOOKUP(K311,[2]LISTAS!$A$15:$B$50,2,0))","v":""},{"$f":"IF(ISERROR(VLOOKUP(M311,[2]LISTAS!$A$15:$B$50,2,0)),\"\",VLOOKUP(M311,[2]LISTAS!$A$15:$B$50,2,0))","v":""},{"$f":"IF(ISERROR(VLOOKUP(O311,[2]LISTAS!$A$15:$B$50,2,0)),\"\",VLOOKUP(O311,[2]LISTAS!$A$15:$B$50,2,0))","v":""},{"$f":"IF(ISERROR(VLOOKUP(6,[2]LISTAS!$A$15:$B$50,2,0)),\"\",VLOOKUP(6,[2]LISTAS!$A$15:$B$50,2,0))","v":""},null,{"$f":"_xlfn.IFS(T311=\"------\",AD311,T311=\"LA RELACIÓN DE ACTIVIDADES DEBE SER A PARTIR DE LA SIGUIENTE FILA\",\"LA RELACIÓN DE ACTIVIDADES DEBE SER A PARTIR DE LA SIGUIENTE FILA\",T311<>\"------\",T311)","v":""},null,"ok"]
[null,null,null,null,null,null,null,null,null,null,null,null,null,null,null,null,null,null,null,"",{"$f":"IF(ISERROR(VLOOKUP(E312,[2]LISTAS!$A$15:$B$50,2,0)),\"\",VLOOKUP(E312,[2]LISTAS!$A$15:$B$50,2,0))","v":""},{"$f":"IF(ISERROR(VLOOKUP(G312,[2]LISTAS!$A$15:$B$50,2,0)),\"\",VLOOKUP(G312,[2]LISTAS!$A$15:$B$50,2,0))","v":""},{"$f":"IF(ISERROR(VLOOKUP(I312,[2]LISTAS!$A$15:$B$50,2,0)),\"\",VLOOKUP(I312,[2]LISTAS!$A$15:$B$50,2,0))","v":""},{"$f":"IF(ISERROR(VLOOKUP(K312,[2]LISTAS!$A$15:$B$50,2,0)),\"\",VLOOKUP(K312,[2]LISTAS!$A$15:$B$50,2,0))","v":""},{"$f":"IF(ISERROR(VLOOKUP(M312,[2]LISTAS!$A$15:$B$50,2,0)),\"\",VLOOKUP(M312,[2]LISTAS!$A$15:$B$50,2,0))","v":""},{"$f":"IF(ISERROR(VLOOKUP(O312,[2]LISTAS!$A$15:$B$50,2,0)),\"\",VLOOKUP(O312,[2]LISTAS!$A$15:$B$50,2,0))","v":""},{"$f":"IF(ISERROR(VLOOKUP(6,[2]LISTAS!$A$15:$B$50,2,0)),\"\",VLOOKUP(6,[2]LISTAS!$A$15:$B$50,2,0))","v":""},null,{"$f":"_xlfn.IFS(T312=\"------\",AD312,T312=\"LA RELACIÓN DE ACTIVIDADES DEBE SER A PARTIR DE LA SIGUIENTE FILA\",\"LA RELACIÓN DE ACTIVIDADES DEBE SER A PARTIR DE LA SIGUIENTE FILA\",T312<>\"------\",T312)","v":""},null,"ok"]
[null,null,null,null,null,null,null,null,null,null,null,null,null,null,null,null,null,null,null,"",{"$f":"IF(ISERROR(VLOOKUP(E313,[2]LISTAS!$A$15:$B$50,2,0)),\"\",VLOOKUP(E313,[2]LISTAS!$A$15:$B$50,2,0))","v":""},{"$f":"IF(ISERROR(VLOOKUP(G313,[2]LISTAS!$A$15:$B$50,2,0)),\"\",VLOOKUP(G313,[2]LISTAS!$A$15:$B$50,2,0))","v":""},{"$f":"IF(ISERROR(VLOOKUP(I313,[2]LISTAS!$A$15:$B$50,2,0)),\"\",VLOOKUP(I313,[2]LISTAS!$A$15:$B$50,2,0))","v":""},{"$f":"IF(ISERROR(VLOOKUP(K313,[2]LISTAS!$A$15:$B$50,2,0)),\"\",VLOOKUP(K313,[2]LISTAS!$A$15:$B$50,2,0))","v":""},{"$f":"IF(ISERROR(VLOOKUP(M313,[2]LISTAS!$A$15:$B$50,2,0)),\"\",VLOOKUP(M313,[2]LISTAS!$A$15:$B$50,2,0))","v":""},{"$f":"IF(ISERROR(VLOOKUP(O313,[2]LISTAS!$A$15:$B$50,2,0)),\"\",VLOOKUP(O313,[2]LISTAS!$A$15:$B$50,2,0))","v":""},{"$f":"IF(ISERROR(VLOOKUP(6,[2]LISTAS!$A$15:$B$50,2,0)),\"\",VLOOKUP(6,[2]LISTAS!$A$15:$B$50,2,0))","v":""},null,{"$f":"_xlfn.IFS(T313=\"------\",AD313,T313=\"LA RELACIÓN DE ACTIVIDADES DEBE SER A PARTIR DE LA SIGUIENTE FILA\",\"LA RELACIÓN DE ACTIVIDADES DEBE SER A PARTIR DE LA SIGUIENTE FILA\",T313<>\"------\",T313)","v":""},null,"ok"]
[null,null,null,null,null,null,null,null,null,null,null,null,null,null,null,null,null,null,null,"",{"$f":"IF(ISERROR(VLOOKUP(E314,[2]LISTAS!$A$15:$B$50,2,0)),\"\",VLOOKUP(E314,[2]LISTAS!$A$15:$B$50,2,0))","v":""},{"$f":"IF(ISERROR(VLOOKUP(G314,[2]LISTAS!$A$15:$B$50,2,0)),\"\",VLOOKUP(G314,[2]LISTAS!$A$15:$B$50,2,0))","v":""},{"$f":"IF(ISERROR(VLOOKUP(I314,[2]LISTAS!$A$15:$B$50,2,0)),\"\",VLOOKUP(I314,[2]LISTAS!$A$15:$B$50,2,0))","v":""},{"$f":"IF(ISERROR(VLOOKUP(K314,[2]LISTAS!$A$15:$B$50,2,0)),\"\",VLOOKUP(K314,[2]LISTAS!$A$15:$B$50,2,0))","v":""},{"$f":"IF(ISERROR(VLOOKUP(M314,[2]LISTAS!$A$15:$B$50,2,0)),\"\",VLOOKUP(M314,[2]LISTAS!$A$15:$B$50,2,0))","v":""},{"$f":"IF(ISERROR(VLOOKUP(O314,[2]LISTAS!$A$15:$B$50,2,0)),\"\",VLOOKUP(O314,[2]LISTAS!$A$15:$B$50,2,0))","v":""},{"$f":"IF(ISERROR(VLOOKUP(6,[2]LISTAS!$A$15:$B$50,2,0)),\"\",VLOOKUP(6,[2]LISTAS!$A$15:$B$50,2,0))","v":""},null,{"$f":"_xlfn.IFS(T314=\"------\",AD314,T314=\"LA RELACIÓN DE ACTIVIDADES DEBE SER A PARTIR DE LA SIGUIENTE FILA\",\"LA RELACIÓN DE ACTIVIDADES DEBE SER A PARTIR DE LA SIGUIENTE FILA\",T314<>\"------\",T314)","v":""},null,"ok"]
[null,null,null,null,null,null,null,null,null,null,null,null,null,null,null,null,null,null,null,"",{"$f":"IF(ISERROR(VLOOKUP(E315,[2]LISTAS!$A$15:$B$50,2,0)),\"\",VLOOKUP(E315,[2]LISTAS!$A$15:$B$50,2,0))","v":""},{"$f":"IF(ISERROR(VLOOKUP(G315,[2]LISTAS!$A$15:$B$50,2,0)),\"\",VLOOKUP(G315,[2]LISTAS!$A$15:$B$50,2,0))","v":""},{"$f":"IF(ISERROR(VLOOKUP(I315,[2]LISTAS!$A$15:$B$50,2,0)),\"\",VLOOKUP(I315,[2]LISTAS!$A$15:$B$50,2,0))","v":""},{"$f":"IF(ISERROR(VLOOKUP(K315,[2]LISTAS!$A$15:$B$50,2,0)),\"\",VLOOKUP(K315,[2]LISTAS!$A$15:$B$50,2,0))","v":""},{"$f":"IF(ISERROR(VLOOKUP(M315,[2]LISTAS!$A$15:$B$50,2,0)),\"\",VLOOKUP(M315,[2]LISTAS!$A$15:$B$50,2,0))","v":""},{"$f":"IF(ISERROR(VLOOKUP(O315,[2]LISTAS!$A$15:$B$50,2,0)),\"\",VLOOKUP(O315,[2]LISTAS!$A$15:$B$50,2,0))","v":""},{"$f":"IF(ISERROR(VLOOKUP(6,[2]LISTAS!$A$15:$B$50,2,0)),\"\",VLOOKUP(6,[2]LISTAS!$A$15:$B$50,2,0))","v":""},null,{"$f":"_xlfn.IFS(T315=\"------\",AD315,T315=\"LA RELACIÓN DE ACTIVIDADES DEBE SER A PARTIR DE LA SIGUIENTE FILA\",\"LA RELACIÓN DE ACTIVIDADES DEBE SER A PARTIR DE LA SIGUIENTE FILA\",T315<>\"------\",T315)","v":""},null,"ok"]
[null,null,null,null,null,null,null,null,null,null,null,null,null,null,null,null,null,null,null,"",{"$f":"IF(ISERROR(VLOOKUP(E316,[2]LISTAS!$A$15:$B$50,2,0)),\"\",VLOOKUP(E316,[2]LISTAS!$A$15:$B$50,2,0))","v":""},{"$f":"IF(ISERROR(VLOOKUP(G316,[2]LISTAS!$A$15:$B$50,2,0)),\"\",VLOOKUP(G316,[2]LISTAS!$A$15:$B$50,2,0))","v":""},{"$f":"IF(ISERROR(VLOOKUP(I316,[2]LISTAS!$A$15:$B$50,2,0)),\"\",VLOOKUP(I316,[2]LISTAS!$A$15:$B$50,2,0))","v":""},{"$f":"IF(ISERROR(VLOOKUP(K316,[2]LISTAS!$A$15:$B$50,2,0)),\"\",VLOOKUP(K316,[2]LISTAS!$A$15:$B$50,2,0))","v":""},{"$f":"IF(ISERROR(VLOOKUP(M316,[2]LISTAS!$A$15:$B$50,2,0)),\"\",VLOOKUP(M316,[2]LISTAS!$A$15:$B$50,2,0))","v":""},{"$f":"IF(ISERROR(VLOOKUP(O316,[2]LISTAS!$A$15:$B$50,2,0)),\"\",VLOOKUP(O316,[2]LISTAS!$A$15:$B$50,2,0))","v":""},{"$f":"IF(ISERROR(VLOOKUP(6,[2]LISTAS!$A$15:$B$50,2,0)),\"\",VLOOKUP(6,[2]LISTAS!$A$15:$B$50,2,0))","v":""},null,{"$f":"_xlfn.IFS(T316=\"------\",AD316,T316=\"LA RELACIÓN DE ACTIVIDADES DEBE SER A PARTIR DE LA SIGUIENTE FILA\",\"LA RELACIÓN DE ACTIVIDADES DEBE SER A PARTIR DE LA SIGUIENTE FILA\",T316<>\"------\",T316)","v":""},null,"ok"]
[null,null,null,null,null,null,null,null,null,null,null,null,null,null,null,null,null,null,null,"",{"$f":"IF(ISERROR(VLOOKUP(E317,[2]LISTAS!$A$15:$B$50,2,0)),\"\",VLOOKUP(E317,[2]LISTAS!$A$15:$B$50,2,0))","v":""},{"$f":"IF(ISERROR(VLOOKUP(G317,[2]LISTAS!$A$15:$B$50,2,0)),\"\",VLOOKUP(G317,[2]LISTAS!$A$15:$B$50,2,0))","v":""},{"$f":"IF(ISERROR(VLOOKUP(I317,[2]LISTAS!$A$15:$B$50,2,0)),\"\",VLOOKUP(I317,[2]LISTAS!$A$15:$B$50,2,0))","v":""},{"$f":"IF(ISERROR(VLOOKUP(K317,[2]LISTAS!$A$15:$B$50,2,0)),\"\",VLOOKUP(K317,[2]LISTAS!$A$15:$B$50,2,0))","v":""},{"$f":"IF(ISERROR(VLOOKUP(M317,[2]LISTAS!$A$15:$B$50,2,0)),\"\",VLOOKUP(M317,[2]LISTAS!$A$15:$B$50,2,0))","v":""},{"$f":"IF(ISERROR(VLOOKUP(O317,[2]LISTAS!$A$15:$B$50,2,0)),\"\",VLOOKUP(O317,[2]LISTAS!$A$15:$B$50,2,0))","v":""},{"$f":"IF(ISERROR(VLOOKUP(6,[2]LISTAS!$A$15:$B$50,2,0)),\"\",VLOOKUP(6,[2]LISTAS!$A$15:$B$50,2,0))","v":""},null,{"$f":"_xlfn.IFS(T317=\"------\",AD317,T317=\"LA RELACIÓN DE ACTIVIDADES DEBE SER A PARTIR DE LA SIGUIENTE FILA\",\"LA RELACIÓN DE ACTIVIDADES DEBE SER A PARTIR DE LA SIGUIENTE FILA\",T317<>\"------\",T317)","v":""},null,"ok"]
[null,null,null,null,null,null,null,null,null,null,null,null,null,null,null,null,null,null,null,"",{"$f":"IF(ISERROR(VLOOKUP(E318,[2]LISTAS!$A$15:$B$50,2,0)),\"\",VLOOKUP(E318,[2]LISTAS!$A$15:$B$50,2,0))","v":""},{"$f":"IF(ISERROR(VLOOKUP(G318,[2]LISTAS!$A$15:$B$50,2,0)),\"\",VLOOKUP(G318,[2]LISTAS!$A$15:$B$50,2,0))","v":""},{"$f":"IF(ISERROR(VLOOKUP(I318,[2]LISTAS!$A$15:$B$50,2,0)),\"\",VLOOKUP(I318,[2]LISTAS!$A$15:$B$50,2,0))","v":""},{"$f":"IF(ISERROR(VLOOKUP(K318,[2]LISTAS!$A$15:$B$50,2,0)),\"\",VLOOKUP(K318,[2]LISTAS!$A$15:$B$50,2,0))","v":""},{"$f":"IF(ISERROR(VLOOKUP(M318,[2]LISTAS!$A$15:$B$50,2,0)),\"\",VLOOKUP(M318,[2]LISTAS!$A$15:$B$50,2,0))","v":""},{"$f":"IF(ISERROR(VLOOKUP(O318,[2]LISTAS!$A$15:$B$50,2,0)),\"\",VLOOKUP(O318,[2]LISTAS!$A$15:$B$50,2,0))","v":""},{"$f":"IF(ISERROR(VLOOKUP(6,[2]LISTAS!$A$15:$B$50,2,0)),\"\",VLOOKUP(6,[2]LISTAS!$A$15:$B$50,2,0))","v":""},null,{"$f":"_xlfn.IFS(T318=\"------\",AD318,T318=\"LA RELACIÓN DE ACTIVIDADES DEBE SER A PARTIR DE LA SIGUIENTE FILA\",\"LA RELACIÓN DE ACTIVIDADES DEBE SER A PARTIR DE LA SIGUIENTE FILA\",T318<>\"------\",T318)","v":""},null,"ok"]
[null,null,null,null,null,null,null,null,null,null,null,null,null,null,null,null,null,null,null,"",{"$f":"IF(ISERROR(VLOOKUP(E319,[2]LISTAS!$A$15:$B$50,2,0)),\"\",VLOOKUP(E319,[2]LISTAS!$A$15:$B$50,2,0))","v":""},{"$f":"IF(ISERROR(VLOOKUP(G319,[2]LISTAS!$A$15:$B$50,2,0)),\"\",VLOOKUP(G319,[2]LISTAS!$A$15:$B$50,2,0))","v":""},{"$f":"IF(ISERROR(VLOOKUP(I319,[2]LISTAS!$A$15:$B$50,2,0)),\"\",VLOOKUP(I319,[2]LISTAS!$A$15:$B$50,2,0))","v":""},{"$f":"IF(ISERROR(VLOOKUP(K319,[2]LISTAS!$A$15:$B$50,2,0)),\"\",VLOOKUP(K319,[2]LISTAS!$A$15:$B$50,2,0))","v":""},{"$f":"IF(ISERROR(VLOOKUP(M319,[2]LISTAS!$A$15:$B$50,2,0)),\"\",VLOOKUP(M319,[2]LISTAS!$A$15:$B$50,2,0))","v":""},{"$f":"IF(ISERROR(VLOOKUP(O319,[2]LISTAS!$A$15:$B$50,2,0)),\"\",VLOOKUP(O319,[2]LISTAS!$A$15:$B$50,2,0))","v":""},{"$f":"IF(ISERROR(VLOOKUP(6,[2]LISTAS!$A$15:$B$50,2,0)),\"\",VLOOKUP(6,[2]LISTAS!$A$15:$B$50,2,0))","v":""},null,{"$f":"_xlfn.IFS(T319=\"------\",AD319,T319=\"LA RELACIÓN DE ACTIVIDADES DEBE SER A PARTIR DE LA SIGUIENTE FILA\",\"LA RELACIÓN DE ACTIVIDADES DEBE SER A PARTIR DE LA SIGUIENTE FILA\",T319<>\"------\",T319)","v":""},null,"ok"]
[null,null,null,null,null,null,null,null,null,null,null,null,null,null,null,null,null,null,null,"",{"$f":"IF(ISERROR(VLOOKUP(E320,[2]LISTAS!$A$15:$B$50,2,0)),\"\",VLOOKUP(E320,[2]LISTAS!$A$15:$B$50,2,0))","v":""},{"$f":"IF(ISERROR(VLOOKUP(G320,[2]LISTAS!$A$15:$B$50,2,0)),\"\",VLOOKUP(G320,[2]LISTAS!$A$15:$B$50,2,0))","v":""},{"$f":"IF(ISERROR(VLOOKUP(I320,[2]LISTAS!$A$15:$B$50,2,0)),\"\",VLOOKUP(I320,[2]LISTAS!$A$15:$B$50,2,0))","v":""},{"$f":"IF(ISERROR(VLOOKUP(K320,[2]LISTAS!$A$15:$B$50,2,0)),\"\",VLOOKUP(K320,[2]LISTAS!$A$15:$B$50,2,0))","v":""},{"$f":"IF(ISERROR(VLOOKUP(M320,[2]LISTAS!$A$15:$B$50,2,0)),\"\",VLOOKUP(M320,[2]LISTAS!$A$15:$B$50,2,0))","v":""},{"$f":"IF(ISERROR(VLOOKUP(O320,[2]LISTAS!$A$15:$B$50,2,0)),\"\",VLOOKUP(O320,[2]LISTAS!$A$15:$B$50,2,0))","v":""},{"$f":"IF(ISERROR(VLOOKUP(6,[2]LISTAS!$A$15:$B$50,2,0)),\"\",VLOOKUP(6,[2]LISTAS!$A$15:$B$50,2,0))","v":""},null,{"$f":"_xlfn.IFS(T320=\"------\",AD320,T320=\"LA RELACIÓN DE ACTIVIDADES DEBE SER A PARTIR DE LA SIGUIENTE FILA\",\"LA RELACIÓN DE ACTIVIDADES DEBE SER A PARTIR DE LA SIGUIENTE FILA\",T320<>\"------\",T320)","v":""},null,"ok"]
[null,null,null,null,null,null,null,null,null,null,null,null,null,null,null,null,null,null,null,"",{"$f":"IF(ISERROR(VLOOKUP(E321,[2]LISTAS!$A$15:$B$50,2,0)),\"\",VLOOKUP(E321,[2]LISTAS!$A$15:$B$50,2,0))","v":""},{"$f":"IF(ISERROR(VLOOKUP(G321,[2]LISTAS!$A$15:$B$50,2,0)),\"\",VLOOKUP(G321,[2]LISTAS!$A$15:$B$50,2,0))","v":""},{"$f":"IF(ISERROR(VLOOKUP(I321,[2]LISTAS!$A$15:$B$50,2,0)),\"\",VLOOKUP(I321,[2]LISTAS!$A$15:$B$50,2,0))","v":""},{"$f":"IF(ISERROR(VLOOKUP(K321,[2]LISTAS!$A$15:$B$50,2,0)),\"\",VLOOKUP(K321,[2]LISTAS!$A$15:$B$50,2,0))","v":""},{"$f":"IF(ISERROR(VLOOKUP(M321,[2]LISTAS!$A$15:$B$50,2,0)),\"\",VLOOKUP(M321,[2]LISTAS!$A$15:$B$50,2,0))","v":""},{"$f":"IF(ISERROR(VLOOKUP(O321,[2]LISTAS!$A$15:$B$50,2,0)),\"\",VLOOKUP(O321,[2]LISTAS!$A$15:$B$50,2,0))","v":""},{"$f":"IF(ISERROR(VLOOKUP(6,[2]LISTAS!$A$15:$B$50,2,0)),\"\",VLOOKUP(6,[2]LISTAS!$A$15:$B$50,2,0))","v":""},null,{"$f":"_xlfn.IFS(T321=\"------\",AD321,T321=\"LA RELACIÓN DE ACTIVIDADES DEBE SER A PARTIR DE LA SIGUIENTE FILA\",\"LA RELACIÓN DE ACTIVIDADES DEBE SER A PARTIR DE LA SIGUIENTE FILA\",T321<>\"------\",T321)","v":""},null,"ok"]
[null,null,null,null,null,null,null,null,null,null,null,null,null,null,null,null,null,null,null,"",{"$f":"IF(ISERROR(VLOOKUP(E322,[2]LISTAS!$A$15:$B$50,2,0)),\"\",VLOOKUP(E322,[2]LISTAS!$A$15:$B$50,2,0))","v":""},{"$f":"IF(ISERROR(VLOOKUP(G322,[2]LISTAS!$A$15:$B$50,2,0)),\"\",VLOOKUP(G322,[2]LISTAS!$A$15:$B$50,2,0))","v":""},{"$f":"IF(ISERROR(VLOOKUP(I322,[2]LISTAS!$A$15:$B$50,2,0)),\"\",VLOOKUP(I322,[2]LISTAS!$A$15:$B$50,2,0))","v":""},{"$f":"IF(ISERROR(VLOOKUP(K322,[2]LISTAS!$A$15:$B$50,2,0)),\"\",VLOOKUP(K322,[2]LISTAS!$A$15:$B$50,2,0))","v":""},{"$f":"IF(ISERROR(VLOOKUP(M322,[2]LISTAS!$A$15:$B$50,2,0)),\"\",VLOOKUP(M322,[2]LISTAS!$A$15:$B$50,2,0))","v":""},{"$f":"IF(ISERROR(VLOOKUP(O322,[2]LISTAS!$A$15:$B$50,2,0)),\"\",VLOOKUP(O322,[2]LISTAS!$A$15:$B$50,2,0))","v":""},{"$f":"IF(ISERROR(VLOOKUP(6,[2]LISTAS!$A$15:$B$50,2,0)),\"\",VLOOKUP(6,[2]LISTAS!$A$15:$B$50,2,0))","v":""},null,{"$f":"_xlfn.IFS(T322=\"------\",AD322,T322=\"LA RELACIÓN DE ACTIVIDADES DEBE SER A PARTIR DE LA SIGUIENTE FILA\",\"LA RELACIÓN DE ACTIVIDADES DEBE SER A PARTIR DE LA SIGUIENTE FILA\",T322<>\"------\",T322)","v":""},null,"ok"]
[null,null,null,null,null,null,null,null,null,null,null,null,null,null,null,null,null,null,null,"",{"$f":"IF(ISERROR(VLOOKUP(E323,[2]LISTAS!$A$15:$B$50,2,0)),\"\",VLOOKUP(E323,[2]LISTAS!$A$15:$B$50,2,0))","v":""},{"$f":"IF(ISERROR(VLOOKUP(G323,[2]LISTAS!$A$15:$B$50,2,0)),\"\",VLOOKUP(G323,[2]LISTAS!$A$15:$B$50,2,0))","v":""},{"$f":"IF(ISERROR(VLOOKUP(I323,[2]LISTAS!$A$15:$B$50,2,0)),\"\",VLOOKUP(I323,[2]LISTAS!$A$15:$B$50,2,0))","v":""},{"$f":"IF(ISERROR(VLOOKUP(K323,[2]LISTAS!$A$15:$B$50,2,0)),\"\",VLOOKUP(K323,[2]LISTAS!$A$15:$B$50,2,0))","v":""},{"$f":"IF(ISERROR(VLOOKUP(M323,[2]LISTAS!$A$15:$B$50,2,0)),\"\",VLOOKUP(M323,[2]LISTAS!$A$15:$B$50,2,0))","v":""},{"$f":"IF(ISERROR(VLOOKUP(O323,[2]LISTAS!$A$15:$B$50,2,0)),\"\",VLOOKUP(O323,[2]LISTAS!$A$15:$B$50,2,0))","v":""},{"$f":"IF(ISERROR(VLOOKUP(6,[2]LISTAS!$A$15:$B$50,2,0)),\"\",VLOOKUP(6,[2]LISTAS!$A$15:$B$50,2,0))","v":""},null,{"$f":"_xlfn.IFS(T323=\"------\",AD323,T323=\"LA RELACIÓN DE ACTIVIDADES DEBE SER A PARTIR DE LA SIGUIENTE FILA\",\"LA RELACIÓN DE ACTIVIDADES DEBE SER A PARTIR DE LA SIGUIENTE FILA\",T323<>\"------\",T323)","v":""},null,"ok"]
[null,null,null,null,null,null,null,null,null,null,null,null,null,null,null,null,null,null,null,"",{"$f":"IF(ISERROR(VLOOKUP(E324,[2]LISTAS!$A$15:$B$50,2,0)),\"\",VLOOKUP(E324,[2]LISTAS!$A$15:$B$50,2,0))","v":""},{"$f":"IF(ISERROR(VLOOKUP(G324,[2]LISTAS!$A$15:$B$50,2,0)),\"\",VLOOKUP(G324,[2]LISTAS!$A$15:$B$50,2,0))","v":""},{"$f":"IF(ISERROR(VLOOKUP(I324,[2]LISTAS!$A$15:$B$50,2,0)),\"\",VLOOKUP(I324,[2]LISTAS!$A$15:$B$50,2,0))","v":""},{"$f":"IF(ISERROR(VLOOKUP(K324,[2]LISTAS!$A$15:$B$50,2,0)),\"\",VLOOKUP(K324,[2]LISTAS!$A$15:$B$50,2,0))","v":""},{"$f":"IF(ISERROR(VLOOKUP(M324,[2]LISTAS!$A$15:$B$50,2,0)),\"\",VLOOKUP(M324,[2]LISTAS!$A$15:$B$50,2,0))","v":""},{"$f":"IF(ISERROR(VLOOKUP(O324,[2]LISTAS!$A$15:$B$50,2,0)),\"\",VLOOKUP(O324,[2]LISTAS!$A$15:$B$50,2,0))","v":""},{"$f":"IF(ISERROR(VLOOKUP(6,[2]LISTAS!$A$15:$B$50,2,0)),\"\",VLOOKUP(6,[2]LISTAS!$A$15:$B$50,2,0))","v":""},null,{"$f":"_xlfn.IFS(T324=\"------\",AD324,T324=\"LA RELACIÓN DE ACTIVIDADES DEBE SER A PARTIR DE LA SIGUIENTE FILA\",\"LA RELACIÓN DE ACTIVIDADES DEBE SER A PARTIR DE LA SIGUIENTE FILA\",T324<>\"------\",T324)","v":""},null,"ok"]
[null,null,null,null,null,null,null,null,null,null,null,null,null,null,null,null,null,null,null,"",{"$f":"IF(ISERROR(VLOOKUP(E325,[2]LISTAS!$A$15:$B$50,2,0)),\"\",VLOOKUP(E325,[2]LISTAS!$A$15:$B$50,2,0))","v":""},{"$f":"IF(ISERROR(VLOOKUP(G325,[2]LISTAS!$A$15:$B$50,2,0)),\"\",VLOOKUP(G325,[2]LISTAS!$A$15:$B$50,2,0))","v":""},{"$f":"IF(ISERROR(VLOOKUP(I325,[2]LISTAS!$A$15:$B$50,2,0)),\"\",VLOOKUP(I325,[2]LISTAS!$A$15:$B$50,2,0))","v":""},{"$f":"IF(ISERROR(VLOOKUP(K325,[2]LISTAS!$A$15:$B$50,2,0)),\"\",VLOOKUP(K325,[2]LISTAS!$A$15:$B$50,2,0))","v":""},{"$f":"IF(ISERROR(VLOOKUP(M325,[2]LISTAS!$A$15:$B$50,2,0)),\"\",VLOOKUP(M325,[2]LISTAS!$A$15:$B$50,2,0))","v":""},{"$f":"IF(ISERROR(VLOOKUP(O325,[2]LISTAS!$A$15:$B$50,2,0)),\"\",VLOOKUP(O325,[2]LISTAS!$A$15:$B$50,2,0))","v":""},{"$f":"IF(ISERROR(VLOOKUP(6,[2]LISTAS!$A$15:$B$50,2,0)),\"\",VLOOKUP(6,[2]LISTAS!$A$15:$B$50,2,0))","v":""},null,{"$f":"_xlfn.IFS(T325=\"------\",AD325,T325=\"LA RELACIÓN DE ACTIVIDADES DEBE SER A PARTIR DE LA SIGUIENTE FILA\",\"LA RELACIÓN DE ACTIVIDADES DEBE SER A PARTIR DE LA SIGUIENTE FILA\",T325<>\"------\",T325)","v":""},null,"ok"]
[null,null,null,null,null,null,null,null,null,null,null,null,null,null,null,null,null,null,null,"",{"$f":"IF(ISERROR(VLOOKUP(E326,[2]LISTAS!$A$15:$B$50,2,0)),\"\",VLOOKUP(E326,[2]LISTAS!$A$15:$B$50,2,0))","v":""},{"$f":"IF(ISERROR(VLOOKUP(G326,[2]LISTAS!$A$15:$B$50,2,0)),\"\",VLOOKUP(G326,[2]LISTAS!$A$15:$B$50,2,0))","v":""},{"$f":"IF(ISERROR(VLOOKUP(I326,[2]LISTAS!$A$15:$B$50,2,0)),\"\",VLOOKUP(I326,[2]LISTAS!$A$15:$B$50,2,0))","v":""},{"$f":"IF(ISERROR(VLOOKUP(K326,[2]LISTAS!$A$15:$B$50,2,0)),\"\",VLOOKUP(K326,[2]LISTAS!$A$15:$B$50,2,0))","v":""},{"$f":"IF(ISERROR(VLOOKUP(M326,[2]LISTAS!$A$15:$B$50,2,0)),\"\",VLOOKUP(M326,[2]LISTAS!$A$15:$B$50,2,0))","v":""},{"$f":"IF(ISERROR(VLOOKUP(O326,[2]LISTAS!$A$15:$B$50,2,0)),\"\",VLOOKUP(O326,[2]LISTAS!$A$15:$B$50,2,0))","v":""},{"$f":"IF(ISERROR(VLOOKUP(6,[2]LISTAS!$A$15:$B$50,2,0)),\"\",VLOOKUP(6,[2]LISTAS!$A$15:$B$50,2,0))","v":""},null,{"$f":"_xlfn.IFS(T326=\"------\",AD326,T326=\"LA RELACIÓN DE ACTIVIDADES DEBE SER A PARTIR DE LA SIGUIENTE FILA\",\"LA RELACIÓN DE ACTIVIDADES DEBE SER A PARTIR DE LA SIGUIENTE FILA\",T326<>\"------\",T326)","v":""},null,"ok"]
[null,null,null,null,null,null,null,null,null,null,null,null,null,null,null,null,null,null,null,"",{"$f":"IF(ISERROR(VLOOKUP(E327,[2]LISTAS!$A$15:$B$50,2,0)),\"\",VLOOKUP(E327,[2]LISTAS!$A$15:$B$50,2,0))","v":""},{"$f":"IF(ISERROR(VLOOKUP(G327,[2]LISTAS!$A$15:$B$50,2,0)),\"\",VLOOKUP(G327,[2]LISTAS!$A$15:$B$50,2,0))","v":""},{"$f":"IF(ISERROR(VLOOKUP(I327,[2]LISTAS!$A$15:$B$50,2,0)),\"\",VLOOKUP(I327,[2]LISTAS!$A$15:$B$50,2,0))","v":""},{"$f":"IF(ISERROR(VLOOKUP(K327,[2]LISTAS!$A$15:$B$50,2,0)),\"\",VLOOKUP(K327,[2]LISTAS!$A$15:$B$50,2,0))","v":""},{"$f":"IF(ISERROR(VLOOKUP(M327,[2]LISTAS!$A$15:$B$50,2,0)),\"\",VLOOKUP(M327,[2]LISTAS!$A$15:$B$50,2,0))","v":""},{"$f":"IF(ISERROR(VLOOKUP(O327,[2]LISTAS!$A$15:$B$50,2,0)),\"\",VLOOKUP(O327,[2]LISTAS!$A$15:$B$50,2,0))","v":""},{"$f":"IF(ISERROR(VLOOKUP(6,[2]LISTAS!$A$15:$B$50,2,0)),\"\",VLOOKUP(6,[2]LISTAS!$A$15:$B$50,2,0))","v":""},null,{"$f":"_xlfn.IFS(T327=\"------\",AD327,T327=\"LA RELACIÓN DE ACTIVIDADES DEBE SER A PARTIR DE LA SIGUIENTE FILA\",\"LA RELACIÓN DE ACTIVIDADES DEBE SER A PARTIR DE LA SIGUIENTE FILA\",T327<>\"------\",T327)","v":""},null,"ok"]
[null,null,null,null,null,null,null,null,null,null,null,null,null,null,null,null,null,null,null,"",{"$f":"IF(ISERROR(VLOOKUP(E328,[2]LISTAS!$A$15:$B$50,2,0)),\"\",VLOOKUP(E328,[2]LISTAS!$A$15:$B$50,2,0))","v":""},{"$f":"IF(ISERROR(VLOOKUP(G328,[2]LISTAS!$A$15:$B$50,2,0)),\"\",VLOOKUP(G328,[2]LISTAS!$A$15:$B$50,2,0))","v":""},{"$f":"IF(ISERROR(VLOOKUP(I328,[2]LISTAS!$A$15:$B$50,2,0)),\"\",VLOOKUP(I328,[2]LISTAS!$A$15:$B$50,2,0))","v":""},{"$f":"IF(ISERROR(VLOOKUP(K328,[2]LISTAS!$A$15:$B$50,2,0)),\"\",VLOOKUP(K328,[2]LISTAS!$A$15:$B$50,2,0))","v":""},{"$f":"IF(ISERROR(VLOOKUP(M328,[2]LISTAS!$A$15:$B$50,2,0)),\"\",VLOOKUP(M328,[2]LISTAS!$A$15:$B$50,2,0))","v":""},{"$f":"IF(ISERROR(VLOOKUP(O328,[2]LISTAS!$A$15:$B$50,2,0)),\"\",VLOOKUP(O328,[2]LISTAS!$A$15:$B$50,2,0))","v":""},{"$f":"IF(ISERROR(VLOOKUP(6,[2]LISTAS!$A$15:$B$50,2,0)),\"\",VLOOKUP(6,[2]LISTAS!$A$15:$B$50,2,0))","v":""},null,{"$f":"_xlfn.IFS(T328=\"------\",AD328,T328=\"LA RELACIÓN DE ACTIVIDADES DEBE SER A PARTIR DE LA SIGUIENTE FILA\",\"LA RELACIÓN DE ACTIVIDADES DEBE SER A PARTIR DE LA SIGUIENTE FILA\",T328<>\"------\",T328)","v":""},null,"ok"]
[null,null,null,null,null,null,null,null,null,null,null,null,null,null,null,null,null,null,null,"",{"$f":"IF(ISERROR(VLOOKUP(E329,[2]LISTAS!$A$15:$B$50,2,0)),\"\",VLOOKUP(E329,[2]LISTAS!$A$15:$B$50,2,0))","v":""},{"$f":"IF(ISERROR(VLOOKUP(G329,[2]LISTAS!$A$15:$B$50,2,0)),\"\",VLOOKUP(G329,[2]LISTAS!$A$15:$B$50,2,0))","v":""},{"$f":"IF(ISERROR(VLOOKUP(I329,[2]LISTAS!$A$15:$B$50,2,0)),\"\",VLOOKUP(I329,[2]LISTAS!$A$15:$B$50,2,0))","v":""},{"$f":"IF(ISERROR(VLOOKUP(K329,[2]LISTAS!$A$15:$B$50,2,0)),\"\",VLOOKUP(K329,[2]LISTAS!$A$15:$B$50,2,0))","v":""},{"$f":"IF(ISERROR(VLOOKUP(M329,[2]LISTAS!$A$15:$B$50,2,0)),\"\",VLOOKUP(M329,[2]LISTAS!$A$15:$B$50,2,0))","v":""},{"$f":"IF(ISERROR(VLOOKUP(O329,[2]LISTAS!$A$15:$B$50,2,0)),\"\",VLOOKUP(O329,[2]LISTAS!$A$15:$B$50,2,0))","v":""},{"$f":"IF(ISERROR(VLOOKUP(6,[2]LISTAS!$A$15:$B$50,2,0)),\"\",VLOOKUP(6,[2]LISTAS!$A$15:$B$50,2,0))","v":""},null,{"$f":"_xlfn.IFS(T329=\"------\",AD329,T329=\"LA RELACIÓN DE ACTIVIDADES DEBE SER A PARTIR DE LA SIGUIENTE FILA\",\"LA RELACIÓN DE ACTIVIDADES DEBE SER A PARTIR DE LA SIGUIENTE FILA\",T329<>\"------\",T329)","v":""},null,"ok"]
[null,null,null,null,null,null,null,null,null,null,null,null,null,null,null,null,null,null,null,"",{"$f":"IF(ISERROR(VLOOKUP(E330,[2]LISTAS!$A$15:$B$50,2,0)),\"\",VLOOKUP(E330,[2]LISTAS!$A$15:$B$50,2,0))","v":""},{"$f":"IF(ISERROR(VLOOKUP(G330,[2]LISTAS!$A$15:$B$50,2,0)),\"\",VLOOKUP(G330,[2]LISTAS!$A$15:$B$50,2,0))","v":""},{"$f":"IF(ISERROR(VLOOKUP(I330,[2]LISTAS!$A$15:$B$50,2,0)),\"\",VLOOKUP(I330,[2]LISTAS!$A$15:$B$50,2,0))","v":""},{"$f":"IF(ISERROR(VLOOKUP(K330,[2]LISTAS!$A$15:$B$50,2,0)),\"\",VLOOKUP(K330,[2]LISTAS!$A$15:$B$50,2,0))","v":""},{"$f":"IF(ISERROR(VLOOKUP(M330,[2]LISTAS!$A$15:$B$50,2,0)),\"\",VLOOKUP(M330,[2]LISTAS!$A$15:$B$50,2,0))","v":""},{"$f":"IF(ISERROR(VLOOKUP(O330,[2]LISTAS!$A$15:$B$50,2,0)),\"\",VLOOKUP(O330,[2]LISTAS!$A$15:$B$50,2,0))","v":""},{"$f":"IF(ISERROR(VLOOKUP(6,[2]LISTAS!$A$15:$B$50,2,0)),\"\",VLOOKUP(6,[2]LISTAS!$A$15:$B$50,2,0))","v":""},null,{"$f":"_xlfn.IFS(T330=\"------\",AD330,T330=\"LA RELACIÓN DE ACTIVIDADES DEBE SER A PARTIR DE LA SIGUIENTE FILA\",\"LA RELACIÓN DE ACTIVIDADES DEBE SER A PARTIR DE LA SIGUIENTE FILA\",T330<>\"------\",T330)","v":""},null,"ok"]
[null,null,null,null,null,null,null,null,null,null,null,null,null,null,null,null,null,null,null,"",{"$f":"IF(ISERROR(VLOOKUP(E331,[2]LISTAS!$A$15:$B$50,2,0)),\"\",VLOOKUP(E331,[2]LISTAS!$A$15:$B$50,2,0))","v":""},{"$f":"IF(ISERROR(VLOOKUP(G331,[2]LISTAS!$A$15:$B$50,2,0)),\"\",VLOOKUP(G331,[2]LISTAS!$A$15:$B$50,2,0))","v":""},{"$f":"IF(ISERROR(VLOOKUP(I331,[2]LISTAS!$A$15:$B$50,2,0)),\"\",VLOOKUP(I331,[2]LISTAS!$A$15:$B$50,2,0))","v":""},{"$f":"IF(ISERROR(VLOOKUP(K331,[2]LISTAS!$A$15:$B$50,2,0)),\"\",VLOOKUP(K331,[2]LISTAS!$A$15:$B$50,2,0))","v":""},{"$f":"IF(ISERROR(VLOOKUP(M331,[2]LISTAS!$A$15:$B$50,2,0)),\"\",VLOOKUP(M331,[2]LISTAS!$A$15:$B$50,2,0))","v":""},{"$f":"IF(ISERROR(VLOOKUP(O331,[2]LISTAS!$A$15:$B$50,2,0)),\"\",VLOOKUP(O331,[2]LISTAS!$A$15:$B$50,2,0))","v":""},{"$f":"IF(ISERROR(VLOOKUP(6,[2]LISTAS!$A$15:$B$50,2,0)),\"\",VLOOKUP(6,[2]LISTAS!$A$15:$B$50,2,0))","v":""},null,{"$f":"_xlfn.IFS(T331=\"------\",AD331,T331=\"LA RELACIÓN DE ACTIVIDADES DEBE SER A PARTIR DE LA SIGUIENTE FILA\",\"LA RELACIÓN DE ACTIVIDADES DEBE SER A PARTIR DE LA SIGUIENTE FILA\",T331<>\"------\",T331)","v":""},null,"ok"]
[null,null,null,null,null,null,null,null,null,null,null,null,null,null,null,null,null,null,null,"",{"$f":"IF(ISERROR(VLOOKUP(E332,[2]LISTAS!$A$15:$B$50,2,0)),\"\",VLOOKUP(E332,[2]LISTAS!$A$15:$B$50,2,0))","v":""},{"$f":"IF(ISERROR(VLOOKUP(G332,[2]LISTAS!$A$15:$B$50,2,0)),\"\",VLOOKUP(G332,[2]LISTAS!$A$15:$B$50,2,0))","v":""},{"$f":"IF(ISERROR(VLOOKUP(I332,[2]LISTAS!$A$15:$B$50,2,0)),\"\",VLOOKUP(I332,[2]LISTAS!$A$15:$B$50,2,0))","v":""},{"$f":"IF(ISERROR(VLOOKUP(K332,[2]LISTAS!$A$15:$B$50,2,0)),\"\",VLOOKUP(K332,[2]LISTAS!$A$15:$B$50,2,0))","v":""},{"$f":"IF(ISERROR(VLOOKUP(M332,[2]LISTAS!$A$15:$B$50,2,0)),\"\",VLOOKUP(M332,[2]LISTAS!$A$15:$B$50,2,0))","v":""},{"$f":"IF(ISERROR(VLOOKUP(O332,[2]LISTAS!$A$15:$B$50,2,0)),\"\",VLOOKUP(O332,[2]LISTAS!$A$15:$B$50,2,0))","v":""},{"$f":"IF(ISERROR(VLOOKUP(6,[2]LISTAS!$A$15:$B$50,2,0)),\"\",VLOOKUP(6,[2]LISTAS!$A$15:$B$50,2,0))","v":""},null,{"$f":"_xlfn.IFS(T332=\"------\",AD332,T332=\"LA RELACIÓN DE ACTIVIDADES DEBE SER A PARTIR DE LA SIGUIENTE FILA\",\"LA RELACIÓN DE ACTIVIDADES DEBE SER A PARTIR DE LA SIGUIENTE FILA\",T332<>\"------\",T332)","v":""},null,"ok"]
[null,null,null,null,null,null,null,null,null,null,null,null,null,null,null,null,null,null,null,"",{"$f":"IF(ISERROR(VLOOKUP(E333,[2]LISTAS!$A$15:$B$50,2,0)),\"\",VLOOKUP(E333,[2]LISTAS!$A$15:$B$50,2,0))","v":""},{"$f":"IF(ISERROR(VLOOKUP(G333,[2]LISTAS!$A$15:$B$50,2,0)),\"\",VLOOKUP(G333,[2]LISTAS!$A$15:$B$50,2,0))","v":""},{"$f":"IF(ISERROR(VLOOKUP(I333,[2]LISTAS!$A$15:$B$50,2,0)),\"\",VLOOKUP(I333,[2]LISTAS!$A$15:$B$50,2,0))","v":""},{"$f":"IF(ISERROR(VLOOKUP(K333,[2]LISTAS!$A$15:$B$50,2,0)),\"\",VLOOKUP(K333,[2]LISTAS!$A$15:$B$50,2,0))","v":""},{"$f":"IF(ISERROR(VLOOKUP(M333,[2]LISTAS!$A$15:$B$50,2,0)),\"\",VLOOKUP(M333,[2]LISTAS!$A$15:$B$50,2,0))","v":""},{"$f":"IF(ISERROR(VLOOKUP(O333,[2]LISTAS!$A$15:$B$50,2,0)),\"\",VLOOKUP(O333,[2]LISTAS!$A$15:$B$50,2,0))","v":""},{"$f":"IF(ISERROR(VLOOKUP(6,[2]LISTAS!$A$15:$B$50,2,0)),\"\",VLOOKUP(6,[2]LISTAS!$A$15:$B$50,2,0))","v":""},null,{"$f":"_xlfn.IFS(T333=\"------\",AD333,T333=\"LA RELACIÓN DE ACTIVIDADES DEBE SER A PARTIR DE LA SIGUIENTE FILA\",\"LA RELACIÓN DE ACTIVIDADES DEBE SER A PARTIR DE LA SIGUIENTE FILA\",T333<>\"------\",T333)","v":""},null,"ok"]
[null,null,null,null,null,null,null,null,null,null,null,null,null,null,null,null,null,null,null,"",{"$f":"IF(ISERROR(VLOOKUP(E334,[2]LISTAS!$A$15:$B$50,2,0)),\"\",VLOOKUP(E334,[2]LISTAS!$A$15:$B$50,2,0))","v":""},{"$f":"IF(ISERROR(VLOOKUP(G334,[2]LISTAS!$A$15:$B$50,2,0)),\"\",VLOOKUP(G334,[2]LISTAS!$A$15:$B$50,2,0))","v":""},{"$f":"IF(ISERROR(VLOOKUP(I334,[2]LISTAS!$A$15:$B$50,2,0)),\"\",VLOOKUP(I334,[2]LISTAS!$A$15:$B$50,2,0))","v":""},{"$f":"IF(ISERROR(VLOOKUP(K334,[2]LISTAS!$A$15:$B$50,2,0)),\"\",VLOOKUP(K334,[2]LISTAS!$A$15:$B$50,2,0))","v":""},{"$f":"IF(ISERROR(VLOOKUP(M334,[2]LISTAS!$A$15:$B$50,2,0)),\"\",VLOOKUP(M334,[2]LISTAS!$A$15:$B$50,2,0))","v":""},{"$f":"IF(ISERROR(VLOOKUP(O334,[2]LISTAS!$A$15:$B$50,2,0)),\"\",VLOOKUP(O334,[2]LISTAS!$A$15:$B$50,2,0))","v":""},{"$f":"IF(ISERROR(VLOOKUP(6,[2]LISTAS!$A$15:$B$50,2,0)),\"\",VLOOKUP(6,[2]LISTAS!$A$15:$B$50,2,0))","v":""},null,{"$f":"_xlfn.IFS(T334=\"------\",AD334,T334=\"LA RELACIÓN DE ACTIVIDADES DEBE SER A PARTIR DE LA SIGUIENTE FILA\",\"LA RELACIÓN DE ACTIVIDADES DEBE SER A PARTIR DE LA SIGUIENTE FILA\",T334<>\"------\",T334)","v":""},null,"ok"]
[null,null,null,null,null,null,null,null,null,null,null,null,null,null,null,null,null,null,null,"",{"$f":"IF(ISERROR(VLOOKUP(E335,[2]LISTAS!$A$15:$B$50,2,0)),\"\",VLOOKUP(E335,[2]LISTAS!$A$15:$B$50,2,0))","v":""},{"$f":"IF(ISERROR(VLOOKUP(G335,[2]LISTAS!$A$15:$B$50,2,0)),\"\",VLOOKUP(G335,[2]LISTAS!$A$15:$B$50,2,0))","v":""},{"$f":"IF(ISERROR(VLOOKUP(I335,[2]LISTAS!$A$15:$B$50,2,0)),\"\",VLOOKUP(I335,[2]LISTAS!$A$15:$B$50,2,0))","v":""},{"$f":"IF(ISERROR(VLOOKUP(K335,[2]LISTAS!$A$15:$B$50,2,0)),\"\",VLOOKUP(K335,[2]LISTAS!$A$15:$B$50,2,0))","v":""},{"$f":"IF(ISERROR(VLOOKUP(M335,[2]LISTAS!$A$15:$B$50,2,0)),\"\",VLOOKUP(M335,[2]LISTAS!$A$15:$B$50,2,0))","v":""},{"$f":"IF(ISERROR(VLOOKUP(O335,[2]LISTAS!$A$15:$B$50,2,0)),\"\",VLOOKUP(O335,[2]LISTAS!$A$15:$B$50,2,0))","v":""},{"$f":"IF(ISERROR(VLOOKUP(6,[2]LISTAS!$A$15:$B$50,2,0)),\"\",VLOOKUP(6,[2]LISTAS!$A$15:$B$50,2,0))","v":""},null,{"$f":"_xlfn.IFS(T335=\"------\",AD335,T335=\"LA RELACIÓN DE ACTIVIDADES DEBE SER A PARTIR DE LA SIGUIENTE FILA\",\"LA RELACIÓN DE ACTIVIDADES DEBE SER A PARTIR DE LA SIGUIENTE FILA\",T335<>\"------\",T335)","v":""},null,"ok"]
[null,null,null,null,null,null,null,null,null,null,null,null,null,null,null,null,null,null,null,"",{"$f":"IF(ISERROR(VLOOKUP(E336,[2]LISTAS!$A$15:$B$50,2,0)),\"\",VLOOKUP(E336,[2]LISTAS!$A$15:$B$50,2,0))","v":""},{"$f":"IF(ISERROR(VLOOKUP(G336,[2]LISTAS!$A$15:$B$50,2,0)),\"\",VLOOKUP(G336,[2]LISTAS!$A$15:$B$50,2,0))","v":""},{"$f":"IF(ISERROR(VLOOKUP(I336,[2]LISTAS!$A$15:$B$50,2,0)),\"\",VLOOKUP(I336,[2]LISTAS!$A$15:$B$50,2,0))","v":""},{"$f":"IF(ISERROR(VLOOKUP(K336,[2]LISTAS!$A$15:$B$50,2,0)),\"\",VLOOKUP(K336,[2]LISTAS!$A$15:$B$50,2,0))","v":""},{"$f":"IF(ISERROR(VLOOKUP(M336,[2]LISTAS!$A$15:$B$50,2,0)),\"\",VLOOKUP(M336,[2]LISTAS!$A$15:$B$50,2,0))","v":""},{"$f":"IF(ISERROR(VLOOKUP(O336,[2]LISTAS!$A$15:$B$50,2,0)),\"\",VLOOKUP(O336,[2]LISTAS!$A$15:$B$50,2,0))","v":""},{"$f":"IF(ISERROR(VLOOKUP(6,[2]LISTAS!$A$15:$B$50,2,0)),\"\",VLOOKUP(6,[2]LISTAS!$A$15:$B$50,2,0))","v":""},null,{"$f":"_xlfn.IFS(T336=\"------\",AD336,T336=\"LA RELACIÓN DE ACTIVIDADES DEBE SER A PARTIR DE LA SIGUIENTE FILA\",\"LA RELACIÓN DE ACTIVIDADES DEBE SER A PARTIR DE LA SIGUIENTE FILA\",T336<>\"------\",T336)","v":""},null,"ok"]
[null,null,null,null,null,null,null,null,null,null,null,null,null,null,null,null,null,null,null,"",{"$f":"IF(ISERROR(VLOOKUP(E337,[2]LISTAS!$A$15:$B$50,2,0)),\"\",VLOOKUP(E337,[2]LISTAS!$A$15:$B$50,2,0))","v":""},{"$f":"IF(ISERROR(VLOOKUP(G337,[2]LISTAS!$A$15:$B$50,2,0)),\"\",VLOOKUP(G337,[2]LISTAS!$A$15:$B$50,2,0))","v":""},{"$f":"IF(ISERROR(VLOOKUP(I337,[2]LISTAS!$A$15:$B$50,2,0)),\"\",VLOOKUP(I337,[2]LISTAS!$A$15:$B$50,2,0))","v":""},{"$f":"IF(ISERROR(VLOOKUP(K337,[2]LISTAS!$A$15:$B$50,2,0)),\"\",VLOOKUP(K337,[2]LISTAS!$A$15:$B$50,2,0))","v":""},{"$f":"IF(ISERROR(VLOOKUP(M337,[2]LISTAS!$A$15:$B$50,2,0)),\"\",VLOOKUP(M337,[2]LISTAS!$A$15:$B$50,2,0))","v":""},{"$f":"IF(ISERROR(VLOOKUP(O337,[2]LISTAS!$A$15:$B$50,2,0)),\"\",VLOOKUP(O337,[2]LISTAS!$A$15:$B$50,2,0))","v":""},{"$f":"IF(ISERROR(VLOOKUP(6,[2]LISTAS!$A$15:$B$50,2,0)),\"\",VLOOKUP(6,[2]LISTAS!$A$15:$B$50,2,0))","v":""},null,{"$f":"_xlfn.IFS(T337=\"------\",AD337,T337=\"LA RELACIÓN DE ACTIVIDADES DEBE SER A PARTIR DE LA SIGUIENTE FILA\",\"LA RELACIÓN DE ACTIVIDADES DEBE SER A PARTIR DE LA SIGUIENTE FILA\",T337<>\"------\",T337)","v":""},null,"ok"]
[null,null,null,null,null,null,null,null,null,null,null,null,null,null,null,null,null,null,null,"",{"$f":"IF(ISERROR(VLOOKUP(E338,[2]LISTAS!$A$15:$B$50,2,0)),\"\",VLOOKUP(E338,[2]LISTAS!$A$15:$B$50,2,0))","v":""},{"$f":"IF(ISERROR(VLOOKUP(G338,[2]LISTAS!$A$15:$B$50,2,0)),\"\",VLOOKUP(G338,[2]LISTAS!$A$15:$B$50,2,0))","v":""},{"$f":"IF(ISERROR(VLOOKUP(I338,[2]LISTAS!$A$15:$B$50,2,0)),\"\",VLOOKUP(I338,[2]LISTAS!$A$15:$B$50,2,0))","v":""},{"$f":"IF(ISERROR(VLOOKUP(K338,[2]LISTAS!$A$15:$B$50,2,0)),\"\",VLOOKUP(K338,[2]LISTAS!$A$15:$B$50,2,0))","v":""},{"$f":"IF(ISERROR(VLOOKUP(M338,[2]LISTAS!$A$15:$B$50,2,0)),\"\",VLOOKUP(M338,[2]LISTAS!$A$15:$B$50,2,0))","v":""},{"$f":"IF(ISERROR(VLOOKUP(O338,[2]LISTAS!$A$15:$B$50,2,0)),\"\",VLOOKUP(O338,[2]LISTAS!$A$15:$B$50,2,0))","v":""},{"$f":"IF(ISERROR(VLOOKUP(6,[2]LISTAS!$A$15:$B$50,2,0)),\"\",VLOOKUP(6,[2]LISTAS!$A$15:$B$50,2,0))","v":""},null,{"$f":"_xlfn.IFS(T338=\"------\",AD338,T338=\"LA RELACIÓN DE ACTIVIDADES DEBE SER A PARTIR DE LA SIGUIENTE FILA\",\"LA RELACIÓN DE ACTIVIDADES DEBE SER A PARTIR DE LA SIGUIENTE FILA\",T338<>\"------\",T338)","v":""},null,"ok"]
[null,null,null,null,null,null,null,null,null,null,null,null,null,null,null,null,null,null,null,"",{"$f":"IF(ISERROR(VLOOKUP(E339,[2]LISTAS!$A$15:$B$50,2,0)),\"\",VLOOKUP(E339,[2]LISTAS!$A$15:$B$50,2,0))","v":""},{"$f":"IF(ISERROR(VLOOKUP(G339,[2]LISTAS!$A$15:$B$50,2,0)),\"\",VLOOKUP(G339,[2]LISTAS!$A$15:$B$50,2,0))","v":""},{"$f":"IF(ISERROR(VLOOKUP(I339,[2]LISTAS!$A$15:$B$50,2,0)),\"\",VLOOKUP(I339,[2]LISTAS!$A$15:$B$50,2,0))","v":""},{"$f":"IF(ISERROR(VLOOKUP(K339,[2]LISTAS!$A$15:$B$50,2,0)),\"\",VLOOKUP(K339,[2]LISTAS!$A$15:$B$50,2,0))","v":""},{"$f":"IF(ISERROR(VLOOKUP(M339,[2]LISTAS!$A$15:$B$50,2,0)),\"\",VLOOKUP(M339,[2]LISTAS!$A$15:$B$50,2,0))","v":""},{"$f":"IF(ISERROR(VLOOKUP(O339,[2]LISTAS!$A$15:$B$50,2,0)),\"\",VLOOKUP(O339,[2]LISTAS!$A$15:$B$50,2,0))","v":""},{"$f":"IF(ISERROR(VLOOKUP(6,[2]LISTAS!$A$15:$B$50,2,0)),\"\",VLOOKUP(6,[2]LISTAS!$A$15:$B$50,2,0))","v":""},null,{"$f":"_xlfn.IFS(T339=\"------\",AD339,T339=\"LA RELACIÓN DE ACTIVIDADES DEBE SER A PARTIR DE LA SIGUIENTE FILA\",\"LA RELACIÓN DE ACTIVIDADES DEBE SER A PARTIR DE LA SIGUIENTE FILA\",T339<>\"------\",T339)","v":""},null,"ok"]
[null,null,null,null,null,null,null,null,null,null,null,null,null,null,null,null,null,null,null,"",{"$f":"IF(ISERROR(VLOOKUP(E340,[2]LISTAS!$A$15:$B$50,2,0)),\"\",VLOOKUP(E340,[2]LISTAS!$A$15:$B$50,2,0))","v":""},{"$f":"IF(ISERROR(VLOOKUP(G340,[2]LISTAS!$A$15:$B$50,2,0)),\"\",VLOOKUP(G340,[2]LISTAS!$A$15:$B$50,2,0))","v":""},{"$f":"IF(ISERROR(VLOOKUP(I340,[2]LISTAS!$A$15:$B$50,2,0)),\"\",VLOOKUP(I340,[2]LISTAS!$A$15:$B$50,2,0))","v":""},{"$f":"IF(ISERROR(VLOOKUP(K340,[2]LISTAS!$A$15:$B$50,2,0)),\"\",VLOOKUP(K340,[2]LISTAS!$A$15:$B$50,2,0))","v":""},{"$f":"IF(ISERROR(VLOOKUP(M340,[2]LISTAS!$A$15:$B$50,2,0)),\"\",VLOOKUP(M340,[2]LISTAS!$A$15:$B$50,2,0))","v":""},{"$f":"IF(ISERROR(VLOOKUP(O340,[2]LISTAS!$A$15:$B$50,2,0)),\"\",VLOOKUP(O340,[2]LISTAS!$A$15:$B$50,2,0))","v":""},{"$f":"IF(ISERROR(VLOOKUP(6,[2]LISTAS!$A$15:$B$50,2,0)),\"\",VLOOKUP(6,[2]LISTAS!$A$15:$B$50,2,0))","v":""},null,{"$f":"_xlfn.IFS(T340=\"------\",AD340,T340=\"LA RELACIÓN DE ACTIVIDADES DEBE SER A PARTIR DE LA SIGUIENTE FILA\",\"LA RELACIÓN DE ACTIVIDADES DEBE SER A PARTIR DE LA SIGUIENTE FILA\",T340<>\"------\",T340)","v":""},null,"ok"]
[null,null,null,null,null,null,null,null,null,null,null,null,null,null,null,null,null,null,null,"",{"$f":"IF(ISERROR(VLOOKUP(E341,[2]LISTAS!$A$15:$B$50,2,0)),\"\",VLOOKUP(E341,[2]LISTAS!$A$15:$B$50,2,0))","v":""},{"$f":"IF(ISERROR(VLOOKUP(G341,[2]LISTAS!$A$15:$B$50,2,0)),\"\",VLOOKUP(G341,[2]LISTAS!$A$15:$B$50,2,0))","v":""},{"$f":"IF(ISERROR(VLOOKUP(I341,[2]LISTAS!$A$15:$B$50,2,0)),\"\",VLOOKUP(I341,[2]LISTAS!$A$15:$B$50,2,0))","v":""},{"$f":"IF(ISERROR(VLOOKUP(K341,[2]LISTAS!$A$15:$B$50,2,0)),\"\",VLOOKUP(K341,[2]LISTAS!$A$15:$B$50,2,0))","v":""},{"$f":"IF(ISERROR(VLOOKUP(M341,[2]LISTAS!$A$15:$B$50,2,0)),\"\",VLOOKUP(M341,[2]LISTAS!$A$15:$B$50,2,0))","v":""},{"$f":"IF(ISERROR(VLOOKUP(O341,[2]LISTAS!$A$15:$B$50,2,0)),\"\",VLOOKUP(O341,[2]LISTAS!$A$15:$B$50,2,0))","v":""},{"$f":"IF(ISERROR(VLOOKUP(6,[2]LISTAS!$A$15:$B$50,2,0)),\"\",VLOOKUP(6,[2]LISTAS!$A$15:$B$50,2,0))","v":""},null,{"$f":"_xlfn.IFS(T341=\"------\",AD341,T341=\"LA RELACIÓN DE ACTIVIDADES DEBE SER A PARTIR DE LA SIGUIENTE FILA\",\"LA RELACIÓN DE ACTIVIDADES DEBE SER A PARTIR DE LA SIGUIENTE FILA\",T341<>\"------\",T341)","v":""},null,"ok"]
[null,null,null,null,null,null,null,null,null,null,null,null,null,null,null,null,null,null,null,"",{"$f":"IF(ISERROR(VLOOKUP(E342,[2]LISTAS!$A$15:$B$50,2,0)),\"\",VLOOKUP(E342,[2]LISTAS!$A$15:$B$50,2,0))","v":""},{"$f":"IF(ISERROR(VLOOKUP(G342,[2]LISTAS!$A$15:$B$50,2,0)),\"\",VLOOKUP(G342,[2]LISTAS!$A$15:$B$50,2,0))","v":""},{"$f":"IF(ISERROR(VLOOKUP(I342,[2]LISTAS!$A$15:$B$50,2,0)),\"\",VLOOKUP(I342,[2]LISTAS!$A$15:$B$50,2,0))","v":""},{"$f":"IF(ISERROR(VLOOKUP(K342,[2]LISTAS!$A$15:$B$50,2,0)),\"\",VLOOKUP(K342,[2]LISTAS!$A$15:$B$50,2,0))","v":""},{"$f":"IF(ISERROR(VLOOKUP(M342,[2]LISTAS!$A$15:$B$50,2,0)),\"\",VLOOKUP(M342,[2]LISTAS!$A$15:$B$50,2,0))","v":""},{"$f":"IF(ISERROR(VLOOKUP(O342,[2]LISTAS!$A$15:$B$50,2,0)),\"\",VLOOKUP(O342,[2]LISTAS!$A$15:$B$50,2,0))","v":""},{"$f":"IF(ISERROR(VLOOKUP(6,[2]LISTAS!$A$15:$B$50,2,0)),\"\",VLOOKUP(6,[2]LISTAS!$A$15:$B$50,2,0))","v":""},null,{"$f":"_xlfn.IFS(T342=\"------\",AD342,T342=\"LA RELACIÓN DE ACTIVIDADES DEBE SER A PARTIR DE LA SIGUIENTE FILA\",\"LA RELACIÓN DE ACTIVIDADES DEBE SER A PARTIR DE LA SIGUIENTE FILA\",T342<>\"------\",T342)","v":""},null,"ok"]
[null,null,null,null,null,null,null,null,null,null,null,null,null,null,null,null,null,null,null,"",{"$f":"IF(ISERROR(VLOOKUP(E343,[2]LISTAS!$A$15:$B$50,2,0)),\"\",VLOOKUP(E343,[2]LISTAS!$A$15:$B$50,2,0))","v":""},{"$f":"IF(ISERROR(VLOOKUP(G343,[2]LISTAS!$A$15:$B$50,2,0)),\"\",VLOOKUP(G343,[2]LISTAS!$A$15:$B$50,2,0))","v":""},{"$f":"IF(ISERROR(VLOOKUP(I343,[2]LISTAS!$A$15:$B$50,2,0)),\"\",VLOOKUP(I343,[2]LISTAS!$A$15:$B$50,2,0))","v":""},{"$f":"IF(ISERROR(VLOOKUP(K343,[2]LISTAS!$A$15:$B$50,2,0)),\"\",VLOOKUP(K343,[2]LISTAS!$A$15:$B$50,2,0))","v":""},{"$f":"IF(ISERROR(VLOOKUP(M343,[2]LISTAS!$A$15:$B$50,2,0)),\"\",VLOOKUP(M343,[2]LISTAS!$A$15:$B$50,2,0))","v":""},{"$f":"IF(ISERROR(VLOOKUP(O343,[2]LISTAS!$A$15:$B$50,2,0)),\"\",VLOOKUP(O343,[2]LISTAS!$A$15:$B$50,2,0))","v":""},{"$f":"IF(ISERROR(VLOOKUP(6,[2]LISTAS!$A$15:$B$50,2,0)),\"\",VLOOKUP(6,[2]LISTAS!$A$15:$B$50,2,0))","v":""},null,{"$f":"_xlfn.IFS(T343=\"------\",AD343,T343=\"LA RELACIÓN DE ACTIVIDADES DEBE SER A PARTIR DE LA SIGUIENTE FILA\",\"LA RELACIÓN DE ACTIVIDADES DEBE SER A PARTIR DE LA SIGUIENTE FILA\",T343<>\"------\",T343)","v":""},null,"ok"]
[null,null,null,null,null,null,null,null,null,null,null,null,null,null,null,null,null,null,null,"",{"$f":"IF(ISERROR(VLOOKUP(E344,[2]LISTAS!$A$15:$B$50,2,0)),\"\",VLOOKUP(E344,[2]LISTAS!$A$15:$B$50,2,0))","v":""},{"$f":"IF(ISERROR(VLOOKUP(G344,[2]LISTAS!$A$15:$B$50,2,0)),\"\",VLOOKUP(G344,[2]LISTAS!$A$15:$B$50,2,0))","v":""},{"$f":"IF(ISERROR(VLOOKUP(I344,[2]LISTAS!$A$15:$B$50,2,0)),\"\",VLOOKUP(I344,[2]LISTAS!$A$15:$B$50,2,0))","v":""},{"$f":"IF(ISERROR(VLOOKUP(K344,[2]LISTAS!$A$15:$B$50,2,0)),\"\",VLOOKUP(K344,[2]LISTAS!$A$15:$B$50,2,0))","v":""},{"$f":"IF(ISERROR(VLOOKUP(M344,[2]LISTAS!$A$15:$B$50,2,0)),\"\",VLOOKUP(M344,[2]LISTAS!$A$15:$B$50,2,0))","v":""},{"$f":"IF(ISERROR(VLOOKUP(O344,[2]LISTAS!$A$15:$B$50,2,0)),\"\",VLOOKUP(O344,[2]LISTAS!$A$15:$B$50,2,0))","v":""},{"$f":"IF(ISERROR(VLOOKUP(6,[2]LISTAS!$A$15:$B$50,2,0)),\"\",VLOOKUP(6,[2]LISTAS!$A$15:$B$50,2,0))","v":""},null,{"$f":"_xlfn.IFS(T344=\"------\",AD344,T344=\"LA RELACIÓN DE ACTIVIDADES DEBE SER A PARTIR DE LA SIGUIENTE FILA\",\"LA RELACIÓN DE ACTIVIDADES DEBE SER A PARTIR DE LA SIGUIENTE FILA\",T344<>\"------\",T344)","v":""},null,"ok"]
[null,null,null,null,null,null,null,null,null,null,null,null,null,null,null,null,null,null,null,"",{"$f":"IF(ISERROR(VLOOKUP(E345,[2]LISTAS!$A$15:$B$50,2,0)),\"\",VLOOKUP(E345,[2]LISTAS!$A$15:$B$50,2,0))","v":""},{"$f":"IF(ISERROR(VLOOKUP(G345,[2]LISTAS!$A$15:$B$50,2,0)),\"\",VLOOKUP(G345,[2]LISTAS!$A$15:$B$50,2,0))","v":""},{"$f":"IF(ISERROR(VLOOKUP(I345,[2]LISTAS!$A$15:$B$50,2,0)),\"\",VLOOKUP(I345,[2]LISTAS!$A$15:$B$50,2,0))","v":""},{"$f":"IF(ISERROR(VLOOKUP(K345,[2]LISTAS!$A$15:$B$50,2,0)),\"\",VLOOKUP(K345,[2]LISTAS!$A$15:$B$50,2,0))","v":""},{"$f":"IF(ISERROR(VLOOKUP(M345,[2]LISTAS!$A$15:$B$50,2,0)),\"\",VLOOKUP(M345,[2]LISTAS!$A$15:$B$50,2,0))","v":""},{"$f":"IF(ISERROR(VLOOKUP(O345,[2]LISTAS!$A$15:$B$50,2,0)),\"\",VLOOKUP(O345,[2]LISTAS!$A$15:$B$50,2,0))","v":""},{"$f":"IF(ISERROR(VLOOKUP(6,[2]LISTAS!$A$15:$B$50,2,0)),\"\",VLOOKUP(6,[2]LISTAS!$A$15:$B$50,2,0))","v":""},null,{"$f":"_xlfn.IFS(T345=\"------\",AD345,T345=\"LA RELACIÓN DE ACTIVIDADES DEBE SER A PARTIR DE LA SIGUIENTE FILA\",\"LA RELACIÓN DE ACTIVIDADES DEBE SER A PARTIR DE LA SIGUIENTE FILA\",T345<>\"------\",T345)","v":""},null,"ok"]
[null,null,null,null,null,null,null,null,null,null,null,null,null,null,null,null,null,null,null,"",{"$f":"IF(ISERROR(VLOOKUP(E346,[2]LISTAS!$A$15:$B$50,2,0)),\"\",VLOOKUP(E346,[2]LISTAS!$A$15:$B$50,2,0))","v":""},{"$f":"IF(ISERROR(VLOOKUP(G346,[2]LISTAS!$A$15:$B$50,2,0)),\"\",VLOOKUP(G346,[2]LISTAS!$A$15:$B$50,2,0))","v":""},{"$f":"IF(ISERROR(VLOOKUP(I346,[2]LISTAS!$A$15:$B$50,2,0)),\"\",VLOOKUP(I346,[2]LISTAS!$A$15:$B$50,2,0))","v":""},{"$f":"IF(ISERROR(VLOOKUP(K346,[2]LISTAS!$A$15:$B$50,2,0)),\"\",VLOOKUP(K346,[2]LISTAS!$A$15:$B$50,2,0))","v":""},{"$f":"IF(ISERROR(VLOOKUP(M346,[2]LISTAS!$A$15:$B$50,2,0)),\"\",VLOOKUP(M346,[2]LISTAS!$A$15:$B$50,2,0))","v":""},{"$f":"IF(ISERROR(VLOOKUP(O346,[2]LISTAS!$A$15:$B$50,2,0)),\"\",VLOOKUP(O346,[2]LISTAS!$A$15:$B$50,2,0))","v":""},{"$f":"IF(ISERROR(VLOOKUP(6,[2]LISTAS!$A$15:$B$50,2,0)),\"\",VLOOKUP(6,[2]LISTAS!$A$15:$B$50,2,0))","v":""},null,{"$f":"_xlfn.IFS(T346=\"------\",AD346,T346=\"LA RELACIÓN DE ACTIVIDADES DEBE SER A PARTIR DE LA SIGUIENTE FILA\",\"LA RELACIÓN DE ACTIVIDADES DEBE SER A PARTIR DE LA SIGUIENTE FILA\",T346<>\"------\",T346)","v":""},null,"ok"]
[null,null,null,null,null,null,null,null,null,null,null,null,null,null,null,null,null,null,null,"",{"$f":"IF(ISERROR(VLOOKUP(E347,[2]LISTAS!$A$15:$B$50,2,0)),\"\",VLOOKUP(E347,[2]LISTAS!$A$15:$B$50,2,0))","v":""},{"$f":"IF(ISERROR(VLOOKUP(G347,[2]LISTAS!$A$15:$B$50,2,0)),\"\",VLOOKUP(G347,[2]LISTAS!$A$15:$B$50,2,0))","v":""},{"$f":"IF(ISERROR(VLOOKUP(I347,[2]LISTAS!$A$15:$B$50,2,0)),\"\",VLOOKUP(I347,[2]LISTAS!$A$15:$B$50,2,0))","v":""},{"$f":"IF(ISERROR(VLOOKUP(K347,[2]LISTAS!$A$15:$B$50,2,0)),\"\",VLOOKUP(K347,[2]LISTAS!$A$15:$B$50,2,0))","v":""},{"$f":"IF(ISERROR(VLOOKUP(M347,[2]LISTAS!$A$15:$B$50,2,0)),\"\",VLOOKUP(M347,[2]LISTAS!$A$15:$B$50,2,0))","v":""},{"$f":"IF(ISERROR(VLOOKUP(O347,[2]LISTAS!$A$15:$B$50,2,0)),\"\",VLOOKUP(O347,[2]LISTAS!$A$15:$B$50,2,0))","v":""},{"$f":"IF(ISERROR(VLOOKUP(6,[2]LISTAS!$A$15:$B$50,2,0)),\"\",VLOOKUP(6,[2]LISTAS!$A$15:$B$50,2,0))","v":""},null,{"$f":"_xlfn.IFS(T347=\"------\",AD347,T347=\"LA RELACIÓN DE ACTIVIDADES DEBE SER A PARTIR DE LA SIGUIENTE FILA\",\"LA RELACIÓN DE ACTIVIDADES DEBE SER A PARTIR DE LA SIGUIENTE FILA\",T347<>\"------\",T347)","v":""},null,"ok"]
[null,null,null,null,null,null,null,null,null,null,null,null,null,null,null,null,null,null,null,"",{"$f":"IF(ISERROR(VLOOKUP(E348,[2]LISTAS!$A$15:$B$50,2,0)),\"\",VLOOKUP(E348,[2]LISTAS!$A$15:$B$50,2,0))","v":""},{"$f":"IF(ISERROR(VLOOKUP(G348,[2]LISTAS!$A$15:$B$50,2,0)),\"\",VLOOKUP(G348,[2]LISTAS!$A$15:$B$50,2,0))","v":""},{"$f":"IF(ISERROR(VLOOKUP(I348,[2]LISTAS!$A$15:$B$50,2,0)),\"\",VLOOKUP(I348,[2]LISTAS!$A$15:$B$50,2,0))","v":""},{"$f":"IF(ISERROR(VLOOKUP(K348,[2]LISTAS!$A$15:$B$50,2,0)),\"\",VLOOKUP(K348,[2]LISTAS!$A$15:$B$50,2,0))","v":""},{"$f":"IF(ISERROR(VLOOKUP(M348,[2]LISTAS!$A$15:$B$50,2,0)),\"\",VLOOKUP(M348,[2]LISTAS!$A$15:$B$50,2,0))","v":""},{"$f":"IF(ISERROR(VLOOKUP(O348,[2]LISTAS!$A$15:$B$50,2,0)),\"\",VLOOKUP(O348,[2]LISTAS!$A$15:$B$50,2,0))","v":""},{"$f":"IF(ISERROR(VLOOKUP(6,[2]LISTAS!$A$15:$B$50,2,0)),\"\",VLOOKUP(6,[2]LISTAS!$A$15:$B$50,2,0))","v":""},null,{"$f":"_xlfn.IFS(T348=\"------\",AD348,T348=\"LA RELACIÓN DE ACTIVIDADES DEBE SER A PARTIR DE LA SIGUIENTE FILA\",\"LA RELACIÓN DE ACTIVIDADES DEBE SER A PARTIR DE LA SIGUIENTE FILA\",T348<>\"------\",T348)","v":""},null,"ok"]
[null,null,null,null,null,null,null,null,null,null,null,null,null,null,null,null,null,null,null,"",{"$f":"IF(ISERROR(VLOOKUP(E349,[2]LISTAS!$A$15:$B$50,2,0)),\"\",VLOOKUP(E349,[2]LISTAS!$A$15:$B$50,2,0))","v":""},{"$f":"IF(ISERROR(VLOOKUP(G349,[2]LISTAS!$A$15:$B$50,2,0)),\"\",VLOOKUP(G349,[2]LISTAS!$A$15:$B$50,2,0))","v":""},{"$f":"IF(ISERROR(VLOOKUP(I349,[2]LISTAS!$A$15:$B$50,2,0)),\"\",VLOOKUP(I349,[2]LISTAS!$A$15:$B$50,2,0))","v":""},{"$f":"IF(ISERROR(VLOOKUP(K349,[2]LISTAS!$A$15:$B$50,2,0)),\"\",VLOOKUP(K349,[2]LISTAS!$A$15:$B$50,2,0))","v":""},{"$f":"IF(ISERROR(VLOOKUP(M349,[2]LISTAS!$A$15:$B$50,2,0)),\"\",VLOOKUP(M349,[2]LISTAS!$A$15:$B$50,2,0))","v":""},{"$f":"IF(ISERROR(VLOOKUP(O349,[2]LISTAS!$A$15:$B$50,2,0)),\"\",VLOOKUP(O349,[2]LISTAS!$A$15:$B$50,2,0))","v":""},{"$f":"IF(ISERROR(VLOOKUP(6,[2]LISTAS!$A$15:$B$50,2,0)),\"\",VLOOKUP(6,[2]LISTAS!$A$15:$B$50,2,0))","v":""},null,{"$f":"_xlfn.IFS(T349=\"------\",AD349,T349=\"LA RELACIÓN DE ACTIVIDADES DEBE SER A PARTIR DE LA SIGUIENTE FILA\",\"LA RELACIÓN DE ACTIVIDADES DEBE SER A PARTIR DE LA SIGUIENTE FILA\",T349<>\"------\",T349)","v":""},null,"ok"]
[null,null,null,null,null,null,null,null,null,null,null,null,null,null,null,null,null,null,null,"",{"$f":"IF(ISERROR(VLOOKUP(E350,[2]LISTAS!$A$15:$B$50,2,0)),\"\",VLOOKUP(E350,[2]LISTAS!$A$15:$B$50,2,0))","v":""},{"$f":"IF(ISERROR(VLOOKUP(G350,[2]LISTAS!$A$15:$B$50,2,0)),\"\",VLOOKUP(G350,[2]LISTAS!$A$15:$B$50,2,0))","v":""},{"$f":"IF(ISERROR(VLOOKUP(I350,[2]LISTAS!$A$15:$B$50,2,0)),\"\",VLOOKUP(I350,[2]LISTAS!$A$15:$B$50,2,0))","v":""},{"$f":"IF(ISERROR(VLOOKUP(K350,[2]LISTAS!$A$15:$B$50,2,0)),\"\",VLOOKUP(K350,[2]LISTAS!$A$15:$B$50,2,0))","v":""},{"$f":"IF(ISERROR(VLOOKUP(M350,[2]LISTAS!$A$15:$B$50,2,0)),\"\",VLOOKUP(M350,[2]LISTAS!$A$15:$B$50,2,0))","v":""},{"$f":"IF(ISERROR(VLOOKUP(O350,[2]LISTAS!$A$15:$B$50,2,0)),\"\",VLOOKUP(O350,[2]LISTAS!$A$15:$B$50,2,0))","v":""},{"$f":"IF(ISERROR(VLOOKUP(6,[2]LISTAS!$A$15:$B$50,2,0)),\"\",VLOOKUP(6,[2]LISTAS!$A$15:$B$50,2,0))","v":""},null,{"$f":"_xlfn.IFS(T350=\"------\",AD350,T350=\"LA RELACIÓN DE ACTIVIDADES DEBE SER A PARTIR DE LA SIGUIENTE FILA\",\"LA RELACIÓN DE ACTIVIDADES DEBE SER A PARTIR DE LA SIGUIENTE FILA\",T350<>\"------\",T350)","v":""},null,"ok"]
[null,null,null,null,null,null,null,null,null,null,null,null,null,null,null,null,null,null,null,"",{"$f":"IF(ISERROR(VLOOKUP(E351,[2]LISTAS!$A$15:$B$50,2,0)),\"\",VLOOKUP(E351,[2]LISTAS!$A$15:$B$50,2,0))","v":""},{"$f":"IF(ISERROR(VLOOKUP(G351,[2]LISTAS!$A$15:$B$50,2,0)),\"\",VLOOKUP(G351,[2]LISTAS!$A$15:$B$50,2,0))","v":""},{"$f":"IF(ISERROR(VLOOKUP(I351,[2]LISTAS!$A$15:$B$50,2,0)),\"\",VLOOKUP(I351,[2]LISTAS!$A$15:$B$50,2,0))","v":""},{"$f":"IF(ISERROR(VLOOKUP(K351,[2]LISTAS!$A$15:$B$50,2,0)),\"\",VLOOKUP(K351,[2]LISTAS!$A$15:$B$50,2,0))","v":""},{"$f":"IF(ISERROR(VLOOKUP(M351,[2]LISTAS!$A$15:$B$50,2,0)),\"\",VLOOKUP(M351,[2]LISTAS!$A$15:$B$50,2,0))","v":""},{"$f":"IF(ISERROR(VLOOKUP(O351,[2]LISTAS!$A$15:$B$50,2,0)),\"\",VLOOKUP(O351,[2]LISTAS!$A$15:$B$50,2,0))","v":""},{"$f":"IF(ISERROR(VLOOKUP(6,[2]LISTAS!$A$15:$B$50,2,0)),\"\",VLOOKUP(6,[2]LISTAS!$A$15:$B$50,2,0))","v":""},null,{"$f":"_xlfn.IFS(T351=\"------\",AD351,T351=\"LA RELACIÓN DE ACTIVIDADES DEBE SER A PARTIR DE LA SIGUIENTE FILA\",\"LA RELACIÓN DE ACTIVIDADES DEBE SER A PARTIR DE LA SIGUIENTE FILA\",T351<>\"------\",T351)","v":""},null,"ok"]
[null,null,null,null,null,null,null,null,null,null,null,null,null,null,null,null,null,null,null,"",{"$f":"IF(ISERROR(VLOOKUP(E352,[2]LISTAS!$A$15:$B$50,2,0)),\"\",VLOOKUP(E352,[2]LISTAS!$A$15:$B$50,2,0))","v":""},{"$f":"IF(ISERROR(VLOOKUP(G352,[2]LISTAS!$A$15:$B$50,2,0)),\"\",VLOOKUP(G352,[2]LISTAS!$A$15:$B$50,2,0))","v":""},{"$f":"IF(ISERROR(VLOOKUP(I352,[2]LISTAS!$A$15:$B$50,2,0)),\"\",VLOOKUP(I352,[2]LISTAS!$A$15:$B$50,2,0))","v":""},{"$f":"IF(ISERROR(VLOOKUP(K352,[2]LISTAS!$A$15:$B$50,2,0)),\"\",VLOOKUP(K352,[2]LISTAS!$A$15:$B$50,2,0))","v":""},{"$f":"IF(ISERROR(VLOOKUP(M352,[2]LISTAS!$A$15:$B$50,2,0)),\"\",VLOOKUP(M352,[2]LISTAS!$A$15:$B$50,2,0))","v":""},{"$f":"IF(ISERROR(VLOOKUP(O352,[2]LISTAS!$A$15:$B$50,2,0)),\"\",VLOOKUP(O352,[2]LISTAS!$A$15:$B$50,2,0))","v":""},{"$f":"IF(ISERROR(VLOOKUP(6,[2]LISTAS!$A$15:$B$50,2,0)),\"\",VLOOKUP(6,[2]LISTAS!$A$15:$B$50,2,0))","v":""},null,{"$f":"_xlfn.IFS(T352=\"------\",AD352,T352=\"LA RELACIÓN DE ACTIVIDADES DEBE SER A PARTIR DE LA SIGUIENTE FILA\",\"LA RELACIÓN DE ACTIVIDADES DEBE SER A PARTIR DE LA SIGUIENTE FILA\",T352<>\"------\",T352)","v":""},null,"ok"]
[null,null,null,null,null,null,null,null,null,null,null,null,null,null,null,null,null,null,null,"",{"$f":"IF(ISERROR(VLOOKUP(E353,[2]LISTAS!$A$15:$B$50,2,0)),\"\",VLOOKUP(E353,[2]LISTAS!$A$15:$B$50,2,0))","v":""},{"$f":"IF(ISERROR(VLOOKUP(G353,[2]LISTAS!$A$15:$B$50,2,0)),\"\",VLOOKUP(G353,[2]LISTAS!$A$15:$B$50,2,0))","v":""},{"$f":"IF(ISERROR(VLOOKUP(I353,[2]LISTAS!$A$15:$B$50,2,0)),\"\",VLOOKUP(I353,[2]LISTAS!$A$15:$B$50,2,0))","v":""},{"$f":"IF(ISERROR(VLOOKUP(K353,[2]LISTAS!$A$15:$B$50,2,0)),\"\",VLOOKUP(K353,[2]LISTAS!$A$15:$B$50,2,0))","v":""},{"$f":"IF(ISERROR(VLOOKUP(M353,[2]LISTAS!$A$15:$B$50,2,0)),\"\",VLOOKUP(M353,[2]LISTAS!$A$15:$B$50,2,0))","v":""},{"$f":"IF(ISERROR(VLOOKUP(O353,[2]LISTAS!$A$15:$B$50,2,0)),\"\",VLOOKUP(O353,[2]LISTAS!$A$15:$B$50,2,0))","v":""},{"$f":"IF(ISERROR(VLOOKUP(6,[2]LISTAS!$A$15:$B$50,2,0)),\"\",VLOOKUP(6,[2]LISTAS!$A$15:$B$50,2,0))","v":""},null,{"$f":"_xlfn.IFS(T353=\"------\",AD353,T353=\"LA RELACIÓN DE ACTIVIDADES DEBE SER A PARTIR DE LA SIGUIENTE FILA\",\"LA RELACIÓN DE ACTIVIDADES DEBE SER A PARTIR DE LA SIGUIENTE FILA\",T353<>\"------\",T353)","v":""},null,"ok"]
[null,null,null,null,null,null,null,null,null,null,null,null,null,null,null,null,null,null,null,"",{"$f":"IF(ISERROR(VLOOKUP(E354,[2]LISTAS!$A$15:$B$50,2,0)),\"\",VLOOKUP(E354,[2]LISTAS!$A$15:$B$50,2,0))","v":""},{"$f":"IF(ISERROR(VLOOKUP(G354,[2]LISTAS!$A$15:$B$50,2,0)),\"\",VLOOKUP(G354,[2]LISTAS!$A$15:$B$50,2,0))","v":""},{"$f":"IF(ISERROR(VLOOKUP(I354,[2]LISTAS!$A$15:$B$50,2,0)),\"\",VLOOKUP(I354,[2]LISTAS!$A$15:$B$50,2,0))","v":""},{"$f":"IF(ISERROR(VLOOKUP(K354,[2]LISTAS!$A$15:$B$50,2,0)),\"\",VLOOKUP(K354,[2]LISTAS!$A$15:$B$50,2,0))","v":""},{"$f":"IF(ISERROR(VLOOKUP(M354,[2]LISTAS!$A$15:$B$50,2,0)),\"\",VLOOKUP(M354,[2]LISTAS!$A$15:$B$50,2,0))","v":""},{"$f":"IF(ISERROR(VLOOKUP(O354,[2]LISTAS!$A$15:$B$50,2,0)),\"\",VLOOKUP(O354,[2]LISTAS!$A$15:$B$50,2,0))","v":""},{"$f":"IF(ISERROR(VLOOKUP(6,[2]LISTAS!$A$15:$B$50,2,0)),\"\",VLOOKUP(6,[2]LISTAS!$A$15:$B$50,2,0))","v":""},null,{"$f":"_xlfn.IFS(T354=\"------\",AD354,T354=\"LA RELACIÓN DE ACTIVIDADES DEBE SER A PARTIR DE LA SIGUIENTE FILA\",\"LA RELACIÓN DE ACTIVIDADES DEBE SER A PARTIR DE LA SIGUIENTE FILA\",T354<>\"------\",T354)","v":""},null,"ok"]
[null,null,null,null,null,null,null,null,null,null,null,null,null,null,null,null,null,null,null,"",{"$f":"IF(ISERROR(VLOOKUP(E355,[2]LISTAS!$A$15:$B$50,2,0)),\"\",VLOOKUP(E355,[2]LISTAS!$A$15:$B$50,2,0))","v":""},{"$f":"IF(ISERROR(VLOOKUP(G355,[2]LISTAS!$A$15:$B$50,2,0)),\"\",VLOOKUP(G355,[2]LISTAS!$A$15:$B$50,2,0))","v":""},{"$f":"IF(ISERROR(VLOOKUP(I355,[2]LISTAS!$A$15:$B$50,2,0)),\"\",VLOOKUP(I355,[2]LISTAS!$A$15:$B$50,2,0))","v":""},{"$f":"IF(ISERROR(VLOOKUP(K355,[2]LISTAS!$A$15:$B$50,2,0)),\"\",VLOOKUP(K355,[2]LISTAS!$A$15:$B$50,2,0))","v":""},{"$f":"IF(ISERROR(VLOOKUP(M355,[2]LISTAS!$A$15:$B$50,2,0)),\"\",VLOOKUP(M355,[2]LISTAS!$A$15:$B$50,2,0))","v":""},{"$f":"IF(ISERROR(VLOOKUP(O355,[2]LISTAS!$A$15:$B$50,2,0)),\"\",VLOOKUP(O355,[2]LISTAS!$A$15:$B$50,2,0))","v":""},{"$f":"IF(ISERROR(VLOOKUP(6,[2]LISTAS!$A$15:$B$50,2,0)),\"\",VLOOKUP(6,[2]LISTAS!$A$15:$B$50,2,0))","v":""},null,{"$f":"_xlfn.IFS(T355=\"------\",AD355,T355=\"LA RELACIÓN DE ACTIVIDADES DEBE SER A PARTIR DE LA SIGUIENTE FILA\",\"LA RELACIÓN DE ACTIVIDADES DEBE SER A PARTIR DE LA SIGUIENTE FILA\",T355<>\"------\",T355)","v":""},null,"ok"]
[null,null,null,null,null,null,null,null,null,null,null,null,null,null,null,null,null,null,null,"",{"$f":"IF(ISERROR(VLOOKUP(E356,[2]LISTAS!$A$15:$B$50,2,0)),\"\",VLOOKUP(E356,[2]LISTAS!$A$15:$B$50,2,0))","v":""},{"$f":"IF(ISERROR(VLOOKUP(G356,[2]LISTAS!$A$15:$B$50,2,0)),\"\",VLOOKUP(G356,[2]LISTAS!$A$15:$B$50,2,0))","v":""},{"$f":"IF(ISERROR(VLOOKUP(I356,[2]LISTAS!$A$15:$B$50,2,0)),\"\",VLOOKUP(I356,[2]LISTAS!$A$15:$B$50,2,0))","v":""},{"$f":"IF(ISERROR(VLOOKUP(K356,[2]LISTAS!$A$15:$B$50,2,0)),\"\",VLOOKUP(K356,[2]LISTAS!$A$15:$B$50,2,0))","v":""},{"$f":"IF(ISERROR(VLOOKUP(M356,[2]LISTAS!$A$15:$B$50,2,0)),\"\",VLOOKUP(M356,[2]LISTAS!$A$15:$B$50,2,0))","v":""},{"$f":"IF(ISERROR(VLOOKUP(O356,[2]LISTAS!$A$15:$B$50,2,0)),\"\",VLOOKUP(O356,[2]LISTAS!$A$15:$B$50,2,0))","v":""},{"$f":"IF(ISERROR(VLOOKUP(6,[2]LISTAS!$A$15:$B$50,2,0)),\"\",VLOOKUP(6,[2]LISTAS!$A$15:$B$50,2,0))","v":""},null,{"$f":"_xlfn.IFS(T356=\"------\",AD356,T356=\"LA RELACIÓN DE ACTIVIDADES DEBE SER A PARTIR DE LA SIGUIENTE FILA\",\"LA RELACIÓN DE ACTIVIDADES DEBE SER A PARTIR DE LA SIGUIENTE FILA\",T356<>\"------\",T356)","v":""},null,"ok"]
[null,null,null,null,null,null,null,null,null,null,null,null,null,null,null,null,null,null,null,"",{"$f":"IF(ISERROR(VLOOKUP(E357,[2]LISTAS!$A$15:$B$50,2,0)),\"\",VLOOKUP(E357,[2]LISTAS!$A$15:$B$50,2,0))","v":""},{"$f":"IF(ISERROR(VLOOKUP(G357,[2]LISTAS!$A$15:$B$50,2,0)),\"\",VLOOKUP(G357,[2]LISTAS!$A$15:$B$50,2,0))","v":""},{"$f":"IF(ISERROR(VLOOKUP(I357,[2]LISTAS!$A$15:$B$50,2,0)),\"\",VLOOKUP(I357,[2]LISTAS!$A$15:$B$50,2,0))","v":""},{"$f":"IF(ISERROR(VLOOKUP(K357,[2]LISTAS!$A$15:$B$50,2,0)),\"\",VLOOKUP(K357,[2]LISTAS!$A$15:$B$50,2,0))","v":""},{"$f":"IF(ISERROR(VLOOKUP(M357,[2]LISTAS!$A$15:$B$50,2,0)),\"\",VLOOKUP(M357,[2]LISTAS!$A$15:$B$50,2,0))","v":""},{"$f":"IF(ISERROR(VLOOKUP(O357,[2]LISTAS!$A$15:$B$50,2,0)),\"\",VLOOKUP(O357,[2]LISTAS!$A$15:$B$50,2,0))","v":""},{"$f":"IF(ISERROR(VLOOKUP(6,[2]LISTAS!$A$15:$B$50,2,0)),\"\",VLOOKUP(6,[2]LISTAS!$A$15:$B$50,2,0))","v":""},null,{"$f":"_xlfn.IFS(T357=\"------\",AD357,T357=\"LA RELACIÓN DE ACTIVIDADES DEBE SER A PARTIR DE LA SIGUIENTE FILA\",\"LA RELACIÓN DE ACTIVIDADES DEBE SER A PARTIR DE LA SIGUIENTE FILA\",T357<>\"------\",T357)","v":""},null,"ok"]
[null,null,null,null,null,null,null,null,null,null,null,null,null,null,null,null,null,null,null,"",{"$f":"IF(ISERROR(VLOOKUP(E358,[2]LISTAS!$A$15:$B$50,2,0)),\"\",VLOOKUP(E358,[2]LISTAS!$A$15:$B$50,2,0))","v":""},{"$f":"IF(ISERROR(VLOOKUP(G358,[2]LISTAS!$A$15:$B$50,2,0)),\"\",VLOOKUP(G358,[2]LISTAS!$A$15:$B$50,2,0))","v":""},{"$f":"IF(ISERROR(VLOOKUP(I358,[2]LISTAS!$A$15:$B$50,2,0)),\"\",VLOOKUP(I358,[2]LISTAS!$A$15:$B$50,2,0))","v":""},{"$f":"IF(ISERROR(VLOOKUP(K358,[2]LISTAS!$A$15:$B$50,2,0)),\"\",VLOOKUP(K358,[2]LISTAS!$A$15:$B$50,2,0))","v":""},{"$f":"IF(ISERROR(VLOOKUP(M358,[2]LISTAS!$A$15:$B$50,2,0)),\"\",VLOOKUP(M358,[2]LISTAS!$A$15:$B$50,2,0))","v":""},{"$f":"IF(ISERROR(VLOOKUP(O358,[2]LISTAS!$A$15:$B$50,2,0)),\"\",VLOOKUP(O358,[2]LISTAS!$A$15:$B$50,2,0))","v":""},{"$f":"IF(ISERROR(VLOOKUP(6,[2]LISTAS!$A$15:$B$50,2,0)),\"\",VLOOKUP(6,[2]LISTAS!$A$15:$B$50,2,0))","v":""},null,{"$f":"_xlfn.IFS(T358=\"------\",AD358,T358=\"LA RELACIÓN DE ACTIVIDADES DEBE SER A PARTIR DE LA SIGUIENTE FILA\",\"LA RELACIÓN DE ACTIVIDADES DEBE SER A PARTIR DE LA SIGUIENTE FILA\",T358<>\"------\",T358)","v":""},null,"ok"]
[null,null,null,null,null,null,null,null,null,null,null,null,null,null,null,null,null,null,null,"",{"$f":"IF(ISERROR(VLOOKUP(E359,[2]LISTAS!$A$15:$B$50,2,0)),\"\",VLOOKUP(E359,[2]LISTAS!$A$15:$B$50,2,0))","v":""},{"$f":"IF(ISERROR(VLOOKUP(G359,[2]LISTAS!$A$15:$B$50,2,0)),\"\",VLOOKUP(G359,[2]LISTAS!$A$15:$B$50,2,0))","v":""},{"$f":"IF(ISERROR(VLOOKUP(I359,[2]LISTAS!$A$15:$B$50,2,0)),\"\",VLOOKUP(I359,[2]LISTAS!$A$15:$B$50,2,0))","v":""},{"$f":"IF(ISERROR(VLOOKUP(K359,[2]LISTAS!$A$15:$B$50,2,0)),\"\",VLOOKUP(K359,[2]LISTAS!$A$15:$B$50,2,0))","v":""},{"$f":"IF(ISERROR(VLOOKUP(M359,[2]LISTAS!$A$15:$B$50,2,0)),\"\",VLOOKUP(M359,[2]LISTAS!$A$15:$B$50,2,0))","v":""},{"$f":"IF(ISERROR(VLOOKUP(O359,[2]LISTAS!$A$15:$B$50,2,0)),\"\",VLOOKUP(O359,[2]LISTAS!$A$15:$B$50,2,0))","v":""},{"$f":"IF(ISERROR(VLOOKUP(6,[2]LISTAS!$A$15:$B$50,2,0)),\"\",VLOOKUP(6,[2]LISTAS!$A$15:$B$50,2,0))","v":""},null,{"$f":"_xlfn.IFS(T359=\"------\",AD359,T359=\"LA RELACIÓN DE ACTIVIDADES DEBE SER A PARTIR DE LA SIGUIENTE FILA\",\"LA RELACIÓN DE ACTIVIDADES DEBE SER A PARTIR DE LA SIGUIENTE FILA\",T359<>\"------\",T359)","v":""},null,"ok"]
[null,null,null,null,null,null,null,null,null,null,null,null,null,null,null,null,null,null,null,"",{"$f":"IF(ISERROR(VLOOKUP(E360,[2]LISTAS!$A$15:$B$50,2,0)),\"\",VLOOKUP(E360,[2]LISTAS!$A$15:$B$50,2,0))","v":""},{"$f":"IF(ISERROR(VLOOKUP(G360,[2]LISTAS!$A$15:$B$50,2,0)),\"\",VLOOKUP(G360,[2]LISTAS!$A$15:$B$50,2,0))","v":""},{"$f":"IF(ISERROR(VLOOKUP(I360,[2]LISTAS!$A$15:$B$50,2,0)),\"\",VLOOKUP(I360,[2]LISTAS!$A$15:$B$50,2,0))","v":""},{"$f":"IF(ISERROR(VLOOKUP(K360,[2]LISTAS!$A$15:$B$50,2,0)),\"\",VLOOKUP(K360,[2]LISTAS!$A$15:$B$50,2,0))","v":""},{"$f":"IF(ISERROR(VLOOKUP(M360,[2]LISTAS!$A$15:$B$50,2,0)),\"\",VLOOKUP(M360,[2]LISTAS!$A$15:$B$50,2,0))","v":""},{"$f":"IF(ISERROR(VLOOKUP(O360,[2]LISTAS!$A$15:$B$50,2,0)),\"\",VLOOKUP(O360,[2]LISTAS!$A$15:$B$50,2,0))","v":""},{"$f":"IF(ISERROR(VLOOKUP(6,[2]LISTAS!$A$15:$B$50,2,0)),\"\",VLOOKUP(6,[2]LISTAS!$A$15:$B$50,2,0))","v":""},null,{"$f":"_xlfn.IFS(T360=\"------\",AD360,T360=\"LA RELACIÓN DE ACTIVIDADES DEBE SER A PARTIR DE LA SIGUIENTE FILA\",\"LA RELACIÓN DE ACTIVIDADES DEBE SER A PARTIR DE LA SIGUIENTE FILA\",T360<>\"------\",T360)","v":""},null,"ok"]
[null,null,null,null,null,null,null,null,null,null,null,null,null,null,null,null,null,null,null,"",{"$f":"IF(ISERROR(VLOOKUP(E361,[2]LISTAS!$A$15:$B$50,2,0)),\"\",VLOOKUP(E361,[2]LISTAS!$A$15:$B$50,2,0))","v":""},{"$f":"IF(ISERROR(VLOOKUP(G361,[2]LISTAS!$A$15:$B$50,2,0)),\"\",VLOOKUP(G361,[2]LISTAS!$A$15:$B$50,2,0))","v":""},{"$f":"IF(ISERROR(VLOOKUP(I361,[2]LISTAS!$A$15:$B$50,2,0)),\"\",VLOOKUP(I361,[2]LISTAS!$A$15:$B$50,2,0))","v":""},{"$f":"IF(ISERROR(VLOOKUP(K361,[2]LISTAS!$A$15:$B$50,2,0)),\"\",VLOOKUP(K361,[2]LISTAS!$A$15:$B$50,2,0))","v":""},{"$f":"IF(ISERROR(VLOOKUP(M361,[2]LISTAS!$A$15:$B$50,2,0)),\"\",VLOOKUP(M361,[2]LISTAS!$A$15:$B$50,2,0))","v":""},{"$f":"IF(ISERROR(VLOOKUP(O361,[2]LISTAS!$A$15:$B$50,2,0)),\"\",VLOOKUP(O361,[2]LISTAS!$A$15:$B$50,2,0))","v":""},{"$f":"IF(ISERROR(VLOOKUP(6,[2]LISTAS!$A$15:$B$50,2,0)),\"\",VLOOKUP(6,[2]LISTAS!$A$15:$B$50,2,0))","v":""},null,{"$f":"_xlfn.IFS(T361=\"------\",AD361,T361=\"LA RELACIÓN DE ACTIVIDADES DEBE SER A PARTIR DE LA SIGUIENTE FILA\",\"LA RELACIÓN DE ACTIVIDADES DEBE SER A PARTIR DE LA SIGUIENTE FILA\",T361<>\"------\",T361)","v":""},null,"ok"]
[null,null,null,null,null,null,null,null,null,null,null,null,null,null,null,null,null,null,null,"",{"$f":"IF(ISERROR(VLOOKUP(E362,[2]LISTAS!$A$15:$B$50,2,0)),\"\",VLOOKUP(E362,[2]LISTAS!$A$15:$B$50,2,0))","v":""},{"$f":"IF(ISERROR(VLOOKUP(G362,[2]LISTAS!$A$15:$B$50,2,0)),\"\",VLOOKUP(G362,[2]LISTAS!$A$15:$B$50,2,0))","v":""},{"$f":"IF(ISERROR(VLOOKUP(I362,[2]LISTAS!$A$15:$B$50,2,0)),\"\",VLOOKUP(I362,[2]LISTAS!$A$15:$B$50,2,0))","v":""},{"$f":"IF(ISERROR(VLOOKUP(K362,[2]LISTAS!$A$15:$B$50,2,0)),\"\",VLOOKUP(K362,[2]LISTAS!$A$15:$B$50,2,0))","v":""},{"$f":"IF(ISERROR(VLOOKUP(M362,[2]LISTAS!$A$15:$B$50,2,0)),\"\",VLOOKUP(M362,[2]LISTAS!$A$15:$B$50,2,0))","v":""},{"$f":"IF(ISERROR(VLOOKUP(O362,[2]LISTAS!$A$15:$B$50,2,0)),\"\",VLOOKUP(O362,[2]LISTAS!$A$15:$B$50,2,0))","v":""},{"$f":"IF(ISERROR(VLOOKUP(6,[2]LISTAS!$A$15:$B$50,2,0)),\"\",VLOOKUP(6,[2]LISTAS!$A$15:$B$50,2,0))","v":""},null,{"$f":"_xlfn.IFS(T362=\"------\",AD362,T362=\"LA RELACIÓN DE ACTIVIDADES DEBE SER A PARTIR DE LA SIGUIENTE FILA\",\"LA RELACIÓN DE ACTIVIDADES DEBE SER A PARTIR DE LA SIGUIENTE FILA\",T362<>\"------\",T362)","v":""},null,"ok"]
[null,null,null,null,null,null,null,null,null,null,null,null,null,null,null,null,null,null,null,"",{"$f":"IF(ISERROR(VLOOKUP(E363,[2]LISTAS!$A$15:$B$50,2,0)),\"\",VLOOKUP(E363,[2]LISTAS!$A$15:$B$50,2,0))","v":""},{"$f":"IF(ISERROR(VLOOKUP(G363,[2]LISTAS!$A$15:$B$50,2,0)),\"\",VLOOKUP(G363,[2]LISTAS!$A$15:$B$50,2,0))","v":""},{"$f":"IF(ISERROR(VLOOKUP(I363,[2]LISTAS!$A$15:$B$50,2,0)),\"\",VLOOKUP(I363,[2]LISTAS!$A$15:$B$50,2,0))","v":""},{"$f":"IF(ISERROR(VLOOKUP(K363,[2]LISTAS!$A$15:$B$50,2,0)),\"\",VLOOKUP(K363,[2]LISTAS!$A$15:$B$50,2,0))","v":""},{"$f":"IF(ISERROR(VLOOKUP(M363,[2]LISTAS!$A$15:$B$50,2,0)),\"\",VLOOKUP(M363,[2]LISTAS!$A$15:$B$50,2,0))","v":""},{"$f":"IF(ISERROR(VLOOKUP(O363,[2]LISTAS!$A$15:$B$50,2,0)),\"\",VLOOKUP(O363,[2]LISTAS!$A$15:$B$50,2,0))","v":""},{"$f":"IF(ISERROR(VLOOKUP(6,[2]LISTAS!$A$15:$B$50,2,0)),\"\",VLOOKUP(6,[2]LISTAS!$A$15:$B$50,2,0))","v":""},null,{"$f":"_xlfn.IFS(T363=\"------\",AD363,T363=\"LA RELACIÓN DE ACTIVIDADES DEBE SER A PARTIR DE LA SIGUIENTE FILA\",\"LA RELACIÓN DE ACTIVIDADES DEBE SER A PARTIR DE LA SIGUIENTE FILA\",T363<>\"------\",T363)","v":""},null,"ok"]
[null,null,null,null,null,null,null,null,null,null,null,null,null,null,null,null,null,null,null,"",{"$f":"IF(ISERROR(VLOOKUP(E364,[2]LISTAS!$A$15:$B$50,2,0)),\"\",VLOOKUP(E364,[2]LISTAS!$A$15:$B$50,2,0))","v":""},{"$f":"IF(ISERROR(VLOOKUP(G364,[2]LISTAS!$A$15:$B$50,2,0)),\"\",VLOOKUP(G364,[2]LISTAS!$A$15:$B$50,2,0))","v":""},{"$f":"IF(ISERROR(VLOOKUP(I364,[2]LISTAS!$A$15:$B$50,2,0)),\"\",VLOOKUP(I364,[2]LISTAS!$A$15:$B$50,2,0))","v":""},{"$f":"IF(ISERROR(VLOOKUP(K364,[2]LISTAS!$A$15:$B$50,2,0)),\"\",VLOOKUP(K364,[2]LISTAS!$A$15:$B$50,2,0))","v":""},{"$f":"IF(ISERROR(VLOOKUP(M364,[2]LISTAS!$A$15:$B$50,2,0)),\"\",VLOOKUP(M364,[2]LISTAS!$A$15:$B$50,2,0))","v":""},{"$f":"IF(ISERROR(VLOOKUP(O364,[2]LISTAS!$A$15:$B$50,2,0)),\"\",VLOOKUP(O364,[2]LISTAS!$A$15:$B$50,2,0))","v":""},{"$f":"IF(ISERROR(VLOOKUP(6,[2]LISTAS!$A$15:$B$50,2,0)),\"\",VLOOKUP(6,[2]LISTAS!$A$15:$B$50,2,0))","v":""},null,{"$f":"_xlfn.IFS(T364=\"------\",AD364,T364=\"LA RELACIÓN DE ACTIVIDADES DEBE SER A PARTIR DE LA SIGUIENTE FILA\",\"LA RELACIÓN DE ACTIVIDADES DEBE SER A PARTIR DE LA SIGUIENTE FILA\",T364<>\"------\",T364)","v":""},null,"ok"]
[null,null,null,null,null,null,null,null,null,null,null,null,null,null,null,null,null,null,null,"",{"$f":"IF(ISERROR(VLOOKUP(E365,[2]LISTAS!$A$15:$B$50,2,0)),\"\",VLOOKUP(E365,[2]LISTAS!$A$15:$B$50,2,0))","v":""},{"$f":"IF(ISERROR(VLOOKUP(G365,[2]LISTAS!$A$15:$B$50,2,0)),\"\",VLOOKUP(G365,[2]LISTAS!$A$15:$B$50,2,0))","v":""},{"$f":"IF(ISERROR(VLOOKUP(I365,[2]LISTAS!$A$15:$B$50,2,0)),\"\",VLOOKUP(I365,[2]LISTAS!$A$15:$B$50,2,0))","v":""},{"$f":"IF(ISERROR(VLOOKUP(K365,[2]LISTAS!$A$15:$B$50,2,0)),\"\",VLOOKUP(K365,[2]LISTAS!$A$15:$B$50,2,0))","v":""},{"$f":"IF(ISERROR(VLOOKUP(M365,[2]LISTAS!$A$15:$B$50,2,0)),\"\",VLOOKUP(M365,[2]LISTAS!$A$15:$B$50,2,0))","v":""},{"$f":"IF(ISERROR(VLOOKUP(O365,[2]LISTAS!$A$15:$B$50,2,0)),\"\",VLOOKUP(O365,[2]LISTAS!$A$15:$B$50,2,0))","v":""},{"$f":"IF(ISERROR(VLOOKUP(6,[2]LISTAS!$A$15:$B$50,2,0)),\"\",VLOOKUP(6,[2]LISTAS!$A$15:$B$50,2,0))","v":""},null,{"$f":"_xlfn.IFS(T365=\"------\",AD365,T365=\"LA RELACIÓN DE ACTIVIDADES DEBE SER A PARTIR DE LA SIGUIENTE FILA\",\"LA RELACIÓN DE ACTIVIDADES DEBE SER A PARTIR DE LA SIGUIENTE FILA\",T365<>\"------\",T365)","v":""},null,"ok"]
[null,null,null,null,null,null,null,null,null,null,null,null,null,null,null,null,null,null,null,"",{"$f":"IF(ISERROR(VLOOKUP(E366,[2]LISTAS!$A$15:$B$50,2,0)),\"\",VLOOKUP(E366,[2]LISTAS!$A$15:$B$50,2,0))","v":""},{"$f":"IF(ISERROR(VLOOKUP(G366,[2]LISTAS!$A$15:$B$50,2,0)),\"\",VLOOKUP(G366,[2]LISTAS!$A$15:$B$50,2,0))","v":""},{"$f":"IF(ISERROR(VLOOKUP(I366,[2]LISTAS!$A$15:$B$50,2,0)),\"\",VLOOKUP(I366,[2]LISTAS!$A$15:$B$50,2,0))","v":""},{"$f":"IF(ISERROR(VLOOKUP(K366,[2]LISTAS!$A$15:$B$50,2,0)),\"\",VLOOKUP(K366,[2]LISTAS!$A$15:$B$50,2,0))","v":""},{"$f":"IF(ISERROR(VLOOKUP(M366,[2]LISTAS!$A$15:$B$50,2,0)),\"\",VLOOKUP(M366,[2]LISTAS!$A$15:$B$50,2,0))","v":""},{"$f":"IF(ISERROR(VLOOKUP(O366,[2]LISTAS!$A$15:$B$50,2,0)),\"\",VLOOKUP(O366,[2]LISTAS!$A$15:$B$50,2,0))","v":""},{"$f":"IF(ISERROR(VLOOKUP(6,[2]LISTAS!$A$15:$B$50,2,0)),\"\",VLOOKUP(6,[2]LISTAS!$A$15:$B$50,2,0))","v":""},null,{"$f":"_xlfn.IFS(T366=\"------\",AD366,T366=\"LA RELACIÓN DE ACTIVIDADES DEBE SER A PARTIR DE LA SIGUIENTE FILA\",\"LA RELACIÓN DE ACTIVIDADES DEBE SER A PARTIR DE LA SIGUIENTE FILA\",T366<>\"------\",T366)","v":""},null,"ok"]
[null,null,null,null,null,null,null,null,null,null,null,null,null,null,null,null,null,null,null,"",{"$f":"IF(ISERROR(VLOOKUP(E367,[2]LISTAS!$A$15:$B$50,2,0)),\"\",VLOOKUP(E367,[2]LISTAS!$A$15:$B$50,2,0))","v":""},{"$f":"IF(ISERROR(VLOOKUP(G367,[2]LISTAS!$A$15:$B$50,2,0)),\"\",VLOOKUP(G367,[2]LISTAS!$A$15:$B$50,2,0))","v":""},{"$f":"IF(ISERROR(VLOOKUP(I367,[2]LISTAS!$A$15:$B$50,2,0)),\"\",VLOOKUP(I367,[2]LISTAS!$A$15:$B$50,2,0))","v":""},{"$f":"IF(ISERROR(VLOOKUP(K367,[2]LISTAS!$A$15:$B$50,2,0)),\"\",VLOOKUP(K367,[2]LISTAS!$A$15:$B$50,2,0))","v":""},{"$f":"IF(ISERROR(VLOOKUP(M367,[2]LISTAS!$A$15:$B$50,2,0)),\"\",VLOOKUP(M367,[2]LISTAS!$A$15:$B$50,2,0))","v":""},{"$f":"IF(ISERROR(VLOOKUP(O367,[2]LISTAS!$A$15:$B$50,2,0)),\"\",VLOOKUP(O367,[2]LISTAS!$A$15:$B$50,2,0))","v":""},{"$f":"IF(ISERROR(VLOOKUP(6,[2]LISTAS!$A$15:$B$50,2,0)),\"\",VLOOKUP(6,[2]LISTAS!$A$15:$B$50,2,0))","v":""},null,{"$f":"_xlfn.IFS(T367=\"------\",AD367,T367=\"LA RELACIÓN DE ACTIVIDADES DEBE SER A PARTIR DE LA SIGUIENTE FILA\",\"LA RELACIÓN DE ACTIVIDADES DEBE SER A PARTIR DE LA SIGUIENTE FILA\",T367<>\"------\",T367)","v":""},null,"ok"]
[null,null,null,null,null,null,null,null,null,null,null,null,null,null,null,null,null,null,null,"",{"$f":"IF(ISERROR(VLOOKUP(E368,[2]LISTAS!$A$15:$B$50,2,0)),\"\",VLOOKUP(E368,[2]LISTAS!$A$15:$B$50,2,0))","v":""},{"$f":"IF(ISERROR(VLOOKUP(G368,[2]LISTAS!$A$15:$B$50,2,0)),\"\",VLOOKUP(G368,[2]LISTAS!$A$15:$B$50,2,0))","v":""},{"$f":"IF(ISERROR(VLOOKUP(I368,[2]LISTAS!$A$15:$B$50,2,0)),\"\",VLOOKUP(I368,[2]LISTAS!$A$15:$B$50,2,0))","v":""},{"$f":"IF(ISERROR(VLOOKUP(K368,[2]LISTAS!$A$15:$B$50,2,0)),\"\",VLOOKUP(K368,[2]LISTAS!$A$15:$B$50,2,0))","v":""},{"$f":"IF(ISERROR(VLOOKUP(M368,[2]LISTAS!$A$15:$B$50,2,0)),\"\",VLOOKUP(M368,[2]LISTAS!$A$15:$B$50,2,0))","v":""},{"$f":"IF(ISERROR(VLOOKUP(O368,[2]LISTAS!$A$15:$B$50,2,0)),\"\",VLOOKUP(O368,[2]LISTAS!$A$15:$B$50,2,0))","v":""},{"$f":"IF(ISERROR(VLOOKUP(6,[2]LISTAS!$A$15:$B$50,2,0)),\"\",VLOOKUP(6,[2]LISTAS!$A$15:$B$50,2,0))","v":""},null,{"$f":"_xlfn.IFS(T368=\"------\",AD368,T368=\"LA RELACIÓN DE ACTIVIDADES DEBE SER A PARTIR DE LA SIGUIENTE FILA\",\"LA RELACIÓN DE ACTIVIDADES DEBE SER A PARTIR DE LA SIGUIENTE FILA\",T368<>\"------\",T368)","v":""},null,"ok"]
[null,null,null,null,null,null,null,null,null,null,null,null,null,null,null,null,null,null,null,"",{"$f":"IF(ISERROR(VLOOKUP(E369,[2]LISTAS!$A$15:$B$50,2,0)),\"\",VLOOKUP(E369,[2]LISTAS!$A$15:$B$50,2,0))","v":""},{"$f":"IF(ISERROR(VLOOKUP(G369,[2]LISTAS!$A$15:$B$50,2,0)),\"\",VLOOKUP(G369,[2]LISTAS!$A$15:$B$50,2,0))","v":""},{"$f":"IF(ISERROR(VLOOKUP(I369,[2]LISTAS!$A$15:$B$50,2,0)),\"\",VLOOKUP(I369,[2]LISTAS!$A$15:$B$50,2,0))","v":""},{"$f":"IF(ISERROR(VLOOKUP(K369,[2]LISTAS!$A$15:$B$50,2,0)),\"\",VLOOKUP(K369,[2]LISTAS!$A$15:$B$50,2,0))","v":""},{"$f":"IF(ISERROR(VLOOKUP(M369,[2]LISTAS!$A$15:$B$50,2,0)),\"\",VLOOKUP(M369,[2]LISTAS!$A$15:$B$50,2,0))","v":""},{"$f":"IF(ISERROR(VLOOKUP(O369,[2]LISTAS!$A$15:$B$50,2,0)),\"\",VLOOKUP(O369,[2]LISTAS!$A$15:$B$50,2,0))","v":""},{"$f":"IF(ISERROR(VLOOKUP(6,[2]LISTAS!$A$15:$B$50,2,0)),\"\",VLOOKUP(6,[2]LISTAS!$A$15:$B$50,2,0))","v":""},null,{"$f":"_xlfn.IFS(T369=\"------\",AD369,T369=\"LA RELACIÓN DE ACTIVIDADES DEBE SER A PARTIR DE LA SIGUIENTE FILA\",\"LA RELACIÓN DE ACTIVIDADES DEBE SER A PARTIR DE LA SIGUIENTE FILA\",T369<>\"------\",T369)","v":""},null,"ok"]
[null,null,null,null,null,null,null,null,null,null,null,null,null,null,null,null,null,null,null,"",{"$f":"IF(ISERROR(VLOOKUP(E370,[2]LISTAS!$A$15:$B$50,2,0)),\"\",VLOOKUP(E370,[2]LISTAS!$A$15:$B$50,2,0))","v":""},{"$f":"IF(ISERROR(VLOOKUP(G370,[2]LISTAS!$A$15:$B$50,2,0)),\"\",VLOOKUP(G370,[2]LISTAS!$A$15:$B$50,2,0))","v":""},{"$f":"IF(ISERROR(VLOOKUP(I370,[2]LISTAS!$A$15:$B$50,2,0)),\"\",VLOOKUP(I370,[2]LISTAS!$A$15:$B$50,2,0))","v":""},{"$f":"IF(ISERROR(VLOOKUP(K370,[2]LISTAS!$A$15:$B$50,2,0)),\"\",VLOOKUP(K370,[2]LISTAS!$A$15:$B$50,2,0))","v":""},{"$f":"IF(ISERROR(VLOOKUP(M370,[2]LISTAS!$A$15:$B$50,2,0)),\"\",VLOOKUP(M370,[2]LISTAS!$A$15:$B$50,2,0))","v":""},{"$f":"IF(ISERROR(VLOOKUP(O370,[2]LISTAS!$A$15:$B$50,2,0)),\"\",VLOOKUP(O370,[2]LISTAS!$A$15:$B$50,2,0))","v":""},{"$f":"IF(ISERROR(VLOOKUP(6,[2]LISTAS!$A$15:$B$50,2,0)),\"\",VLOOKUP(6,[2]LISTAS!$A$15:$B$50,2,0))","v":""},null,{"$f":"_xlfn.IFS(T370=\"------\",AD370,T370=\"LA RELACIÓN DE ACTIVIDADES DEBE SER A PARTIR DE LA SIGUIENTE FILA\",\"LA RELACIÓN DE ACTIVIDADES DEBE SER A PARTIR DE LA SIGUIENTE FILA\",T370<>\"------\",T370)","v":""},null,"ok"]
[null,null,null,null,null,null,null,null,null,null,null,null,null,null,null,null,null,null,null,"",{"$f":"IF(ISERROR(VLOOKUP(E371,[2]LISTAS!$A$15:$B$50,2,0)),\"\",VLOOKUP(E371,[2]LISTAS!$A$15:$B$50,2,0))","v":""},{"$f":"IF(ISERROR(VLOOKUP(G371,[2]LISTAS!$A$15:$B$50,2,0)),\"\",VLOOKUP(G371,[2]LISTAS!$A$15:$B$50,2,0))","v":""},{"$f":"IF(ISERROR(VLOOKUP(I371,[2]LISTAS!$A$15:$B$50,2,0)),\"\",VLOOKUP(I371,[2]LISTAS!$A$15:$B$50,2,0))","v":""},{"$f":"IF(ISERROR(VLOOKUP(K371,[2]LISTAS!$A$15:$B$50,2,0)),\"\",VLOOKUP(K371,[2]LISTAS!$A$15:$B$50,2,0))","v":""},{"$f":"IF(ISERROR(VLOOKUP(M371,[2]LISTAS!$A$15:$B$50,2,0)),\"\",VLOOKUP(M371,[2]LISTAS!$A$15:$B$50,2,0))","v":""},{"$f":"IF(ISERROR(VLOOKUP(O371,[2]LISTAS!$A$15:$B$50,2,0)),\"\",VLOOKUP(O371,[2]LISTAS!$A$15:$B$50,2,0))","v":""},{"$f":"IF(ISERROR(VLOOKUP(6,[2]LISTAS!$A$15:$B$50,2,0)),\"\",VLOOKUP(6,[2]LISTAS!$A$15:$B$50,2,0))","v":""},null,{"$f":"_xlfn.IFS(T371=\"------\",AD371,T371=\"LA RELACIÓN DE ACTIVIDADES DEBE SER A PARTIR DE LA SIGUIENTE FILA\",\"LA RELACIÓN DE ACTIVIDADES DEBE SER A PARTIR DE LA SIGUIENTE FILA\",T371<>\"------\",T371)","v":""},null,"ok"]
[null,null,null,null,null,null,null,null,null,null,null,null,null,null,null,null,null,null,null,"",{"$f":"IF(ISERROR(VLOOKUP(E372,[2]LISTAS!$A$15:$B$50,2,0)),\"\",VLOOKUP(E372,[2]LISTAS!$A$15:$B$50,2,0))","v":""},{"$f":"IF(ISERROR(VLOOKUP(G372,[2]LISTAS!$A$15:$B$50,2,0)),\"\",VLOOKUP(G372,[2]LISTAS!$A$15:$B$50,2,0))","v":""},{"$f":"IF(ISERROR(VLOOKUP(I372,[2]LISTAS!$A$15:$B$50,2,0)),\"\",VLOOKUP(I372,[2]LISTAS!$A$15:$B$50,2,0))","v":""},{"$f":"IF(ISERROR(VLOOKUP(K372,[2]LISTAS!$A$15:$B$50,2,0)),\"\",VLOOKUP(K372,[2]LISTAS!$A$15:$B$50,2,0))","v":""},{"$f":"IF(ISERROR(VLOOKUP(M372,[2]LISTAS!$A$15:$B$50,2,0)),\"\",VLOOKUP(M372,[2]LISTAS!$A$15:$B$50,2,0))","v":""},{"$f":"IF(ISERROR(VLOOKUP(O372,[2]LISTAS!$A$15:$B$50,2,0)),\"\",VLOOKUP(O372,[2]LISTAS!$A$15:$B$50,2,0))","v":""},{"$f":"IF(ISERROR(VLOOKUP(6,[2]LISTAS!$A$15:$B$50,2,0)),\"\",VLOOKUP(6,[2]LISTAS!$A$15:$B$50,2,0))","v":""},null,{"$f":"_xlfn.IFS(T372=\"------\",AD372,T372=\"LA RELACIÓN DE ACTIVIDADES DEBE SER A PARTIR DE LA SIGUIENTE FILA\",\"LA RELACIÓN DE ACTIVIDADES DEBE SER A PARTIR DE LA SIGUIENTE FILA\",T372<>\"------\",T372)","v":""},null,"ok"]
[null,null,null,null,null,null,null,null,null,null,null,null,null,null,null,null,null,null,null,"",{"$f":"IF(ISERROR(VLOOKUP(E373,[2]LISTAS!$A$15:$B$50,2,0)),\"\",VLOOKUP(E373,[2]LISTAS!$A$15:$B$50,2,0))","v":""},{"$f":"IF(ISERROR(VLOOKUP(G373,[2]LISTAS!$A$15:$B$50,2,0)),\"\",VLOOKUP(G373,[2]LISTAS!$A$15:$B$50,2,0))","v":""},{"$f":"IF(ISERROR(VLOOKUP(I373,[2]LISTAS!$A$15:$B$50,2,0)),\"\",VLOOKUP(I373,[2]LISTAS!$A$15:$B$50,2,0))","v":""},{"$f":"IF(ISERROR(VLOOKUP(K373,[2]LISTAS!$A$15:$B$50,2,0)),\"\",VLOOKUP(K373,[2]LISTAS!$A$15:$B$50,2,0))","v":""},{"$f":"IF(ISERROR(VLOOKUP(M373,[2]LISTAS!$A$15:$B$50,2,0)),\"\",VLOOKUP(M373,[2]LISTAS!$A$15:$B$50,2,0))","v":""},{"$f":"IF(ISERROR(VLOOKUP(O373,[2]LISTAS!$A$15:$B$50,2,0)),\"\",VLOOKUP(O373,[2]LISTAS!$A$15:$B$50,2,0))","v":""},{"$f":"IF(ISERROR(VLOOKUP(6,[2]LISTAS!$A$15:$B$50,2,0)),\"\",VLOOKUP(6,[2]LISTAS!$A$15:$B$50,2,0))","v":""},null,{"$f":"_xlfn.IFS(T373=\"------\",AD373,T373=\"LA RELACIÓN DE ACTIVIDADES DEBE SER A PARTIR DE LA SIGUIENTE FILA\",\"LA RELACIÓN DE ACTIVIDADES DEBE SER A PARTIR DE LA SIGUIENTE FILA\",T373<>\"------\",T373)","v":""},null,"ok"]
[null,null,null,null,null,null,null,null,null,null,null,null,null,null,null,null,null,null,null,"",{"$f":"IF(ISERROR(VLOOKUP(E374,[2]LISTAS!$A$15:$B$50,2,0)),\"\",VLOOKUP(E374,[2]LISTAS!$A$15:$B$50,2,0))","v":""},{"$f":"IF(ISERROR(VLOOKUP(G374,[2]LISTAS!$A$15:$B$50,2,0)),\"\",VLOOKUP(G374,[2]LISTAS!$A$15:$B$50,2,0))","v":""},{"$f":"IF(ISERROR(VLOOKUP(I374,[2]LISTAS!$A$15:$B$50,2,0)),\"\",VLOOKUP(I374,[2]LISTAS!$A$15:$B$50,2,0))","v":""},{"$f":"IF(ISERROR(VLOOKUP(K374,[2]LISTAS!$A$15:$B$50,2,0)),\"\",VLOOKUP(K374,[2]LISTAS!$A$15:$B$50,2,0))","v":""},{"$f":"IF(ISERROR(VLOOKUP(M374,[2]LISTAS!$A$15:$B$50,2,0)),\"\",VLOOKUP(M374,[2]LISTAS!$A$15:$B$50,2,0))","v":""},{"$f":"IF(ISERROR(VLOOKUP(O374,[2]LISTAS!$A$15:$B$50,2,0)),\"\",VLOOKUP(O374,[2]LISTAS!$A$15:$B$50,2,0))","v":""},{"$f":"IF(ISERROR(VLOOKUP(6,[2]LISTAS!$A$15:$B$50,2,0)),\"\",VLOOKUP(6,[2]LISTAS!$A$15:$B$50,2,0))","v":""},null,{"$f":"_xlfn.IFS(T374=\"------\",AD374,T374=\"LA RELACIÓN DE ACTIVIDADES DEBE SER A PARTIR DE LA SIGUIENTE FILA\",\"LA RELACIÓN DE ACTIVIDADES DEBE SER A PARTIR DE LA SIGUIENTE FILA\",T374<>\"------\",T374)","v":""},null,"ok"]
[null,null,null,null,null,null,null,null,null,null,null,null,null,null,null,null,null,null,null,{"$f":"IF(AND(B375=\"\",C375=\"\"),\"\",IF(AND(D375<>\"\"),U375&\"-\"&V375&\"-\"&W375&\"-\"&X375&\"-\"&Y375&\"-\"&Z375&\"-\"&AA375,IF(AND(C375<>\"\"),\"LA RELACIÓN DE ACTIVIDADES DEBE SER A PARTIR DE LA SIGUIENTE FILA\",)))","v":""},{"$f":"IF(ISERROR(VLOOKUP(E375,[2]LISTAS!$A$15:$B$50,2,0)),\"\",VLOOKUP(E375,[2]LISTAS!$A$15:$B$50,2,0))","v":""},{"$f":"IF(ISERROR(VLOOKUP(G375,[2]LISTAS!$A$15:$B$50,2,0)),\"\",VLOOKUP(G375,[2]LISTAS!$A$15:$B$50,2,0))","v":""},{"$f":"IF(ISERROR(VLOOKUP(I375,[2]LISTAS!$A$15:$B$50,2,0)),\"\",VLOOKUP(I375,[2]LISTAS!$A$15:$B$50,2,0))","v":""},{"$f":"IF(ISERROR(VLOOKUP(K375,[2]LISTAS!$A$15:$B$50,2,0)),\"\",VLOOKUP(K375,[2]LISTAS!$A$15:$B$50,2,0))","v":""},{"$f":"IF(ISERROR(VLOOKUP(M375,[2]LISTAS!$A$15:$B$50,2,0)),\"\",VLOOKUP(M375,[2]LISTAS!$A$15:$B$50,2,0))","v":""},{"$f":"IF(ISERROR(VLOOKUP(O375,[2]LISTAS!$A$15:$B$50,2,0)),\"\",VLOOKUP(O375,[2]LISTAS!$A$15:$B$50,2,0))","v":""},{"$f":"IF(ISERROR(VLOOKUP(6,[2]LISTAS!$A$15:$B$50,2,0)),\"\",VLOOKUP(6,[2]LISTAS!$A$15:$B$50,2,0))","v":""},null,{"$f":"_xlfn.IFS(T375=\"------\",AD375,T375=\"LA RELACIÓN DE ACTIVIDADES DEBE SER A PARTIR DE LA SIGUIENTE FILA\",\"LA RELACIÓN DE ACTIVIDADES DEBE SER A PARTIR DE LA SIGUIENTE FILA\",T375<>\"------\",T375)","v":""},null,"ok"]
[null,null,null,null,null,null,null,null,null,null,null,null,null,null,null,null,null,null,null,"",{"$f":"IF(ISERROR(VLOOKUP(E376,[2]LISTAS!$A$15:$B$50,2,0)),\"\",VLOOKUP(E376,[2]LISTAS!$A$15:$B$50,2,0))","v":""},{"$f":"IF(ISERROR(VLOOKUP(G376,[2]LISTAS!$A$15:$B$50,2,0)),\"\",VLOOKUP(G376,[2]LISTAS!$A$15:$B$50,2,0))","v":""},{"$f":"IF(ISERROR(VLOOKUP(I376,[2]LISTAS!$A$15:$B$50,2,0)),\"\",VLOOKUP(I376,[2]LISTAS!$A$15:$B$50,2,0))","v":""},{"$f":"IF(ISERROR(VLOOKUP(K376,[2]LISTAS!$A$15:$B$50,2,0)),\"\",VLOOKUP(K376,[2]LISTAS!$A$15:$B$50,2,0))","v":""},{"$f":"IF(ISERROR(VLOOKUP(M376,[2]LISTAS!$A$15:$B$50,2,0)),\"\",VLOOKUP(M376,[2]LISTAS!$A$15:$B$50,2,0))","v":""},{"$f":"IF(ISERROR(VLOOKUP(O376,[2]LISTAS!$A$15:$B$50,2,0)),\"\",VLOOKUP(O376,[2]LISTAS!$A$15:$B$50,2,0))","v":""},{"$f":"IF(ISERROR(VLOOKUP(6,[2]LISTAS!$A$15:$B$50,2,0)),\"\",VLOOKUP(6,[2]LISTAS!$A$15:$B$50,2,0))","v":""},null,{"$f":"_xlfn.IFS(T376=\"------\",AD376,T376=\"LA RELACIÓN DE ACTIVIDADES DEBE SER A PARTIR DE LA SIGUIENTE FILA\",\"LA RELACIÓN DE ACTIVIDADES DEBE SER A PARTIR DE LA SIGUIENTE FILA\",T376<>\"------\",T376)","v":""},null,"ok"]
[null,null,null,null,null,null,null,null,null,null,null,null,null,null,null,null,null,null,null,"",{"$f":"IF(ISERROR(VLOOKUP(E377,[2]LISTAS!$A$15:$B$50,2,0)),\"\",VLOOKUP(E377,[2]LISTAS!$A$15:$B$50,2,0))","v":""},{"$f":"IF(ISERROR(VLOOKUP(G377,[2]LISTAS!$A$15:$B$50,2,0)),\"\",VLOOKUP(G377,[2]LISTAS!$A$15:$B$50,2,0))","v":""},{"$f":"IF(ISERROR(VLOOKUP(I377,[2]LISTAS!$A$15:$B$50,2,0)),\"\",VLOOKUP(I377,[2]LISTAS!$A$15:$B$50,2,0))","v":""},{"$f":"IF(ISERROR(VLOOKUP(K377,[2]LISTAS!$A$15:$B$50,2,0)),\"\",VLOOKUP(K377,[2]LISTAS!$A$15:$B$50,2,0))","v":""},{"$f":"IF(ISERROR(VLOOKUP(M377,[2]LISTAS!$A$15:$B$50,2,0)),\"\",VLOOKUP(M377,[2]LISTAS!$A$15:$B$50,2,0))","v":""},{"$f":"IF(ISERROR(VLOOKUP(O377,[2]LISTAS!$A$15:$B$50,2,0)),\"\",VLOOKUP(O377,[2]LISTAS!$A$15:$B$50,2,0))","v":""},{"$f":"IF(ISERROR(VLOOKUP(6,[2]LISTAS!$A$15:$B$50,2,0)),\"\",VLOOKUP(6,[2]LISTAS!$A$15:$B$50,2,0))","v":""},null,{"$f":"_xlfn.IFS(T377=\"------\",AD377,T377=\"LA RELACIÓN DE ACTIVIDADES DEBE SER A PARTIR DE LA SIGUIENTE FILA\",\"LA RELACIÓN DE ACTIVIDADES DEBE SER A PARTIR DE LA SIGUIENTE FILA\",T377<>\"------\",T377)","v":""},null,"ok"]
[null,null,null,null,null,null,null,null,null,null,null,null,null,null,null,null,null,null,null,"",{"$f":"IF(ISERROR(VLOOKUP(E378,[2]LISTAS!$A$15:$B$50,2,0)),\"\",VLOOKUP(E378,[2]LISTAS!$A$15:$B$50,2,0))","v":""},{"$f":"IF(ISERROR(VLOOKUP(G378,[2]LISTAS!$A$15:$B$50,2,0)),\"\",VLOOKUP(G378,[2]LISTAS!$A$15:$B$50,2,0))","v":""},{"$f":"IF(ISERROR(VLOOKUP(I378,[2]LISTAS!$A$15:$B$50,2,0)),\"\",VLOOKUP(I378,[2]LISTAS!$A$15:$B$50,2,0))","v":""},{"$f":"IF(ISERROR(VLOOKUP(K378,[2]LISTAS!$A$15:$B$50,2,0)),\"\",VLOOKUP(K378,[2]LISTAS!$A$15:$B$50,2,0))","v":""},{"$f":"IF(ISERROR(VLOOKUP(M378,[2]LISTAS!$A$15:$B$50,2,0)),\"\",VLOOKUP(M378,[2]LISTAS!$A$15:$B$50,2,0))","v":""},{"$f":"IF(ISERROR(VLOOKUP(O378,[2]LISTAS!$A$15:$B$50,2,0)),\"\",VLOOKUP(O378,[2]LISTAS!$A$15:$B$50,2,0))","v":""},{"$f":"IF(ISERROR(VLOOKUP(6,[2]LISTAS!$A$15:$B$50,2,0)),\"\",VLOOKUP(6,[2]LISTAS!$A$15:$B$50,2,0))","v":""},null,{"$f":"_xlfn.IFS(T378=\"------\",AD378,T378=\"LA RELACIÓN DE ACTIVIDADES DEBE SER A PARTIR DE LA SIGUIENTE FILA\",\"LA RELACIÓN DE ACTIVIDADES DEBE SER A PARTIR DE LA SIGUIENTE FILA\",T378<>\"------\",T378)","v":""},null,"ok"]
[null,null,null,null,null,null,null,null,null,null,null,null,null,null,null,null,null,null,null,"",{"$f":"IF(ISERROR(VLOOKUP(E379,[2]LISTAS!$A$15:$B$50,2,0)),\"\",VLOOKUP(E379,[2]LISTAS!$A$15:$B$50,2,0))","v":""},{"$f":"IF(ISERROR(VLOOKUP(G379,[2]LISTAS!$A$15:$B$50,2,0)),\"\",VLOOKUP(G379,[2]LISTAS!$A$15:$B$50,2,0))","v":""},{"$f":"IF(ISERROR(VLOOKUP(I379,[2]LISTAS!$A$15:$B$50,2,0)),\"\",VLOOKUP(I379,[2]LISTAS!$A$15:$B$50,2,0))","v":""},{"$f":"IF(ISERROR(VLOOKUP(K379,[2]LISTAS!$A$15:$B$50,2,0)),\"\",VLOOKUP(K379,[2]LISTAS!$A$15:$B$50,2,0))","v":""},{"$f":"IF(ISERROR(VLOOKUP(M379,[2]LISTAS!$A$15:$B$50,2,0)),\"\",VLOOKUP(M379,[2]LISTAS!$A$15:$B$50,2,0))","v":""},{"$f":"IF(ISERROR(VLOOKUP(O379,[2]LISTAS!$A$15:$B$50,2,0)),\"\",VLOOKUP(O379,[2]LISTAS!$A$15:$B$50,2,0))","v":""},{"$f":"IF(ISERROR(VLOOKUP(6,[2]LISTAS!$A$15:$B$50,2,0)),\"\",VLOOKUP(6,[2]LISTAS!$A$15:$B$50,2,0))","v":""},null,{"$f":"_xlfn.IFS(T379=\"------\",AD379,T379=\"LA RELACIÓN DE ACTIVIDADES DEBE SER A PARTIR DE LA SIGUIENTE FILA\",\"LA RELACIÓN DE ACTIVIDADES DEBE SER A PARTIR DE LA SIGUIENTE FILA\",T379<>\"------\",T379)","v":""},null,"ok"]
[null,null,null,null,null,null,null,null,null,null,null,null,null,null,null,null,null,null,null,"",{"$f":"IF(ISERROR(VLOOKUP(E380,[2]LISTAS!$A$15:$B$50,2,0)),\"\",VLOOKUP(E380,[2]LISTAS!$A$15:$B$50,2,0))","v":""},{"$f":"IF(ISERROR(VLOOKUP(G380,[2]LISTAS!$A$15:$B$50,2,0)),\"\",VLOOKUP(G380,[2]LISTAS!$A$15:$B$50,2,0))","v":""},{"$f":"IF(ISERROR(VLOOKUP(I380,[2]LISTAS!$A$15:$B$50,2,0)),\"\",VLOOKUP(I380,[2]LISTAS!$A$15:$B$50,2,0))","v":""},{"$f":"IF(ISERROR(VLOOKUP(K380,[2]LISTAS!$A$15:$B$50,2,0)),\"\",VLOOKUP(K380,[2]LISTAS!$A$15:$B$50,2,0))","v":""},{"$f":"IF(ISERROR(VLOOKUP(M380,[2]LISTAS!$A$15:$B$50,2,0)),\"\",VLOOKUP(M380,[2]LISTAS!$A$15:$B$50,2,0))","v":""},{"$f":"IF(ISERROR(VLOOKUP(O380,[2]LISTAS!$A$15:$B$50,2,0)),\"\",VLOOKUP(O380,[2]LISTAS!$A$15:$B$50,2,0))","v":""},{"$f":"IF(ISERROR(VLOOKUP(6,[2]LISTAS!$A$15:$B$50,2,0)),\"\",VLOOKUP(6,[2]LISTAS!$A$15:$B$50,2,0))","v":""},null,{"$f":"_xlfn.IFS(T380=\"------\",AD380,T380=\"LA RELACIÓN DE ACTIVIDADES DEBE SER A PARTIR DE LA SIGUIENTE FILA\",\"LA RELACIÓN DE ACTIVIDADES DEBE SER A PARTIR DE LA SIGUIENTE FILA\",T380<>\"------\",T380)","v":""},null,"ok"]
[null,null,null,null,null,null,null,null,null,null,null,null,null,null,null,null,null,null,null,"",{"$f":"IF(ISERROR(VLOOKUP(E381,[2]LISTAS!$A$15:$B$50,2,0)),\"\",VLOOKUP(E381,[2]LISTAS!$A$15:$B$50,2,0))","v":""},{"$f":"IF(ISERROR(VLOOKUP(G381,[2]LISTAS!$A$15:$B$50,2,0)),\"\",VLOOKUP(G381,[2]LISTAS!$A$15:$B$50,2,0))","v":""},{"$f":"IF(ISERROR(VLOOKUP(I381,[2]LISTAS!$A$15:$B$50,2,0)),\"\",VLOOKUP(I381,[2]LISTAS!$A$15:$B$50,2,0))","v":""},{"$f":"IF(ISERROR(VLOOKUP(K381,[2]LISTAS!$A$15:$B$50,2,0)),\"\",VLOOKUP(K381,[2]LISTAS!$A$15:$B$50,2,0))","v":""},{"$f":"IF(ISERROR(VLOOKUP(M381,[2]LISTAS!$A$15:$B$50,2,0)),\"\",VLOOKUP(M381,[2]LISTAS!$A$15:$B$50,2,0))","v":""},{"$f":"IF(ISERROR(VLOOKUP(O381,[2]LISTAS!$A$15:$B$50,2,0)),\"\",VLOOKUP(O381,[2]LISTAS!$A$15:$B$50,2,0))","v":""},{"$f":"IF(ISERROR(VLOOKUP(6,[2]LISTAS!$A$15:$B$50,2,0)),\"\",VLOOKUP(6,[2]LISTAS!$A$15:$B$50,2,0))","v":""},null,{"$f":"_xlfn.IFS(T381=\"------\",AD381,T381=\"LA RELACIÓN DE ACTIVIDADES DEBE SER A PARTIR DE LA SIGUIENTE FILA\",\"LA RELACIÓN DE ACTIVIDADES DEBE SER A PARTIR DE LA SIGUIENTE FILA\",T381<>\"------\",T381)","v":""},null,"ok"]
[null,null,null,null,null,null,null,null,null,null,null,null,null,null,null,null,null,null,null,"",{"$f":"IF(ISERROR(VLOOKUP(E382,[2]LISTAS!$A$15:$B$50,2,0)),\"\",VLOOKUP(E382,[2]LISTAS!$A$15:$B$50,2,0))","v":""},{"$f":"IF(ISERROR(VLOOKUP(G382,[2]LISTAS!$A$15:$B$50,2,0)),\"\",VLOOKUP(G382,[2]LISTAS!$A$15:$B$50,2,0))","v":""},{"$f":"IF(ISERROR(VLOOKUP(I382,[2]LISTAS!$A$15:$B$50,2,0)),\"\",VLOOKUP(I382,[2]LISTAS!$A$15:$B$50,2,0))","v":""},{"$f":"IF(ISERROR(VLOOKUP(K382,[2]LISTAS!$A$15:$B$50,2,0)),\"\",VLOOKUP(K382,[2]LISTAS!$A$15:$B$50,2,0))","v":""},{"$f":"IF(ISERROR(VLOOKUP(M382,[2]LISTAS!$A$15:$B$50,2,0)),\"\",VLOOKUP(M382,[2]LISTAS!$A$15:$B$50,2,0))","v":""},{"$f":"IF(ISERROR(VLOOKUP(O382,[2]LISTAS!$A$15:$B$50,2,0)),\"\",VLOOKUP(O382,[2]LISTAS!$A$15:$B$50,2,0))","v":""},{"$f":"IF(ISERROR(VLOOKUP(6,[2]LISTAS!$A$15:$B$50,2,0)),\"\",VLOOKUP(6,[2]LISTAS!$A$15:$B$50,2,0))","v":""},null,{"$f":"_xlfn.IFS(T382=\"------\",AD382,T382=\"LA RELACIÓN DE ACTIVIDADES DEBE SER A PARTIR DE LA SIGUIENTE FILA\",\"LA RELACIÓN DE ACTIVIDADES DEBE SER A PARTIR DE LA SIGUIENTE FILA\",T382<>\"------\",T382)","v":""},null,"ok"]
[null,null,null,null,null,null,null,null,null,null,null,null,null,null,null,null,null,null,null,"",{"$f":"IF(ISERROR(VLOOKUP(E383,[2]LISTAS!$A$15:$B$50,2,0)),\"\",VLOOKUP(E383,[2]LISTAS!$A$15:$B$50,2,0))","v":""},{"$f":"IF(ISERROR(VLOOKUP(G383,[2]LISTAS!$A$15:$B$50,2,0)),\"\",VLOOKUP(G383,[2]LISTAS!$A$15:$B$50,2,0))","v":""},{"$f":"IF(ISERROR(VLOOKUP(I383,[2]LISTAS!$A$15:$B$50,2,0)),\"\",VLOOKUP(I383,[2]LISTAS!$A$15:$B$50,2,0))","v":""},{"$f":"IF(ISERROR(VLOOKUP(K383,[2]LISTAS!$A$15:$B$50,2,0)),\"\",VLOOKUP(K383,[2]LISTAS!$A$15:$B$50,2,0))","v":""},{"$f":"IF(ISERROR(VLOOKUP(M383,[2]LISTAS!$A$15:$B$50,2,0)),\"\",VLOOKUP(M383,[2]LISTAS!$A$15:$B$50,2,0))","v":""},{"$f":"IF(ISERROR(VLOOKUP(O383,[2]LISTAS!$A$15:$B$50,2,0)),\"\",VLOOKUP(O383,[2]LISTAS!$A$15:$B$50,2,0))","v":""},{"$f":"IF(ISERROR(VLOOKUP(6,[2]LISTAS!$A$15:$B$50,2,0)),\"\",VLOOKUP(6,[2]LISTAS!$A$15:$B$50,2,0))","v":""},null,{"$f":"_xlfn.IFS(T383=\"------\",AD383,T383=\"LA RELACIÓN DE ACTIVIDADES DEBE SER A PARTIR DE LA SIGUIENTE FILA\",\"LA RELACIÓN DE ACTIVIDADES DEBE SER A PARTIR DE LA SIGUIENTE FILA\",T383<>\"------\",T383)","v":""},null,"ok"]
[null,null,null,null,null,null,null,null,null,null,null,null,null,null,null,null,null,null,null,"",{"$f":"IF(ISERROR(VLOOKUP(E384,[2]LISTAS!$A$15:$B$50,2,0)),\"\",VLOOKUP(E384,[2]LISTAS!$A$15:$B$50,2,0))","v":""},{"$f":"IF(ISERROR(VLOOKUP(G384,[2]LISTAS!$A$15:$B$50,2,0)),\"\",VLOOKUP(G384,[2]LISTAS!$A$15:$B$50,2,0))","v":""},{"$f":"IF(ISERROR(VLOOKUP(I384,[2]LISTAS!$A$15:$B$50,2,0)),\"\",VLOOKUP(I384,[2]LISTAS!$A$15:$B$50,2,0))","v":""},{"$f":"IF(ISERROR(VLOOKUP(K384,[2]LISTAS!$A$15:$B$50,2,0)),\"\",VLOOKUP(K384,[2]LISTAS!$A$15:$B$50,2,0))","v":""},{"$f":"IF(ISERROR(VLOOKUP(M384,[2]LISTAS!$A$15:$B$50,2,0)),\"\",VLOOKUP(M384,[2]LISTAS!$A$15:$B$50,2,0))","v":""},{"$f":"IF(ISERROR(VLOOKUP(O384,[2]LISTAS!$A$15:$B$50,2,0)),\"\",VLOOKUP(O384,[2]LISTAS!$A$15:$B$50,2,0))","v":""},{"$f":"IF(ISERROR(VLOOKUP(6,[2]LISTAS!$A$15:$B$50,2,0)),\"\",VLOOKUP(6,[2]LISTAS!$A$15:$B$50,2,0))","v":""},null,{"$f":"_xlfn.IFS(T384=\"------\",AD384,T384=\"LA RELACIÓN DE ACTIVIDADES DEBE SER A PARTIR DE LA SIGUIENTE FILA\",\"LA RELACIÓN DE ACTIVIDADES DEBE SER A PARTIR DE LA SIGUIENTE FILA\",T384<>\"------\",T384)","v":""},null,"ok"]
[null,null,null,null,null,null,null,null,null,null,null,null,null,null,null,null,null,null,null,"",{"$f":"IF(ISERROR(VLOOKUP(E385,[2]LISTAS!$A$15:$B$50,2,0)),\"\",VLOOKUP(E385,[2]LISTAS!$A$15:$B$50,2,0))","v":""},{"$f":"IF(ISERROR(VLOOKUP(G385,[2]LISTAS!$A$15:$B$50,2,0)),\"\",VLOOKUP(G385,[2]LISTAS!$A$15:$B$50,2,0))","v":""},{"$f":"IF(ISERROR(VLOOKUP(I385,[2]LISTAS!$A$15:$B$50,2,0)),\"\",VLOOKUP(I385,[2]LISTAS!$A$15:$B$50,2,0))","v":""},{"$f":"IF(ISERROR(VLOOKUP(K385,[2]LISTAS!$A$15:$B$50,2,0)),\"\",VLOOKUP(K385,[2]LISTAS!$A$15:$B$50,2,0))","v":""},{"$f":"IF(ISERROR(VLOOKUP(M385,[2]LISTAS!$A$15:$B$50,2,0)),\"\",VLOOKUP(M385,[2]LISTAS!$A$15:$B$50,2,0))","v":""},{"$f":"IF(ISERROR(VLOOKUP(O385,[2]LISTAS!$A$15:$B$50,2,0)),\"\",VLOOKUP(O385,[2]LISTAS!$A$15:$B$50,2,0))","v":""},{"$f":"IF(ISERROR(VLOOKUP(6,[2]LISTAS!$A$15:$B$50,2,0)),\"\",VLOOKUP(6,[2]LISTAS!$A$15:$B$50,2,0))","v":""},null,{"$f":"_xlfn.IFS(T385=\"------\",AD385,T385=\"LA RELACIÓN DE ACTIVIDADES DEBE SER A PARTIR DE LA SIGUIENTE FILA\",\"LA RELACIÓN DE ACTIVIDADES DEBE SER A PARTIR DE LA SIGUIENTE FILA\",T385<>\"------\",T385)","v":""},null,"ok"]
[null,null,null,null,null,null,null,null,null,null,null,null,null,null,null,null,null,null,null,"",{"$f":"IF(ISERROR(VLOOKUP(E386,[2]LISTAS!$A$15:$B$50,2,0)),\"\",VLOOKUP(E386,[2]LISTAS!$A$15:$B$50,2,0))","v":""},{"$f":"IF(ISERROR(VLOOKUP(G386,[2]LISTAS!$A$15:$B$50,2,0)),\"\",VLOOKUP(G386,[2]LISTAS!$A$15:$B$50,2,0))","v":""},{"$f":"IF(ISERROR(VLOOKUP(I386,[2]LISTAS!$A$15:$B$50,2,0)),\"\",VLOOKUP(I386,[2]LISTAS!$A$15:$B$50,2,0))","v":""},{"$f":"IF(ISERROR(VLOOKUP(K386,[2]LISTAS!$A$15:$B$50,2,0)),\"\",VLOOKUP(K386,[2]LISTAS!$A$15:$B$50,2,0))","v":""},{"$f":"IF(ISERROR(VLOOKUP(M386,[2]LISTAS!$A$15:$B$50,2,0)),\"\",VLOOKUP(M386,[2]LISTAS!$A$15:$B$50,2,0))","v":""},{"$f":"IF(ISERROR(VLOOKUP(O386,[2]LISTAS!$A$15:$B$50,2,0)),\"\",VLOOKUP(O386,[2]LISTAS!$A$15:$B$50,2,0))","v":""},{"$f":"IF(ISERROR(VLOOKUP(6,[2]LISTAS!$A$15:$B$50,2,0)),\"\",VLOOKUP(6,[2]LISTAS!$A$15:$B$50,2,0))","v":""},null,{"$f":"_xlfn.IFS(T386=\"------\",AD386,T386=\"LA RELACIÓN DE ACTIVIDADES DEBE SER A PARTIR DE LA SIGUIENTE FILA\",\"LA RELACIÓN DE ACTIVIDADES DEBE SER A PARTIR DE LA SIGUIENTE FILA\",T386<>\"------\",T386)","v":""},null,"ok"]
[null,null,null,null,null,null,null,null,null,null,null,null,null,null,null,null,null,null,null,"",{"$f":"IF(ISERROR(VLOOKUP(E387,[2]LISTAS!$A$15:$B$50,2,0)),\"\",VLOOKUP(E387,[2]LISTAS!$A$15:$B$50,2,0))","v":""},{"$f":"IF(ISERROR(VLOOKUP(G387,[2]LISTAS!$A$15:$B$50,2,0)),\"\",VLOOKUP(G387,[2]LISTAS!$A$15:$B$50,2,0))","v":""},{"$f":"IF(ISERROR(VLOOKUP(I387,[2]LISTAS!$A$15:$B$50,2,0)),\"\",VLOOKUP(I387,[2]LISTAS!$A$15:$B$50,2,0))","v":""},{"$f":"IF(ISERROR(VLOOKUP(K387,[2]LISTAS!$A$15:$B$50,2,0)),\"\",VLOOKUP(K387,[2]LISTAS!$A$15:$B$50,2,0))","v":""},{"$f":"IF(ISERROR(VLOOKUP(M387,[2]LISTAS!$A$15:$B$50,2,0)),\"\",VLOOKUP(M387,[2]LISTAS!$A$15:$B$50,2,0))","v":""},{"$f":"IF(ISERROR(VLOOKUP(O387,[2]LISTAS!$A$15:$B$50,2,0)),\"\",VLOOKUP(O387,[2]LISTAS!$A$15:$B$50,2,0))","v":""},{"$f":"IF(ISERROR(VLOOKUP(6,[2]LISTAS!$A$15:$B$50,2,0)),\"\",VLOOKUP(6,[2]LISTAS!$A$15:$B$50,2,0))","v":""},null,{"$f":"_xlfn.IFS(T387=\"------\",AD387,T387=\"LA RELACIÓN DE ACTIVIDADES DEBE SER A PARTIR DE LA SIGUIENTE FILA\",\"LA RELACIÓN DE ACTIVIDADES DEBE SER A PARTIR DE LA SIGUIENTE FILA\",T387<>\"------\",T387)","v":""},null,"ok"]
[null,null,null,null,null,null,null,null,null,null,null,null,null,null,null,null,null,null,null,"",{"$f":"IF(ISERROR(VLOOKUP(E388,[2]LISTAS!$A$15:$B$50,2,0)),\"\",VLOOKUP(E388,[2]LISTAS!$A$15:$B$50,2,0))","v":""},{"$f":"IF(ISERROR(VLOOKUP(G388,[2]LISTAS!$A$15:$B$50,2,0)),\"\",VLOOKUP(G388,[2]LISTAS!$A$15:$B$50,2,0))","v":""},{"$f":"IF(ISERROR(VLOOKUP(I388,[2]LISTAS!$A$15:$B$50,2,0)),\"\",VLOOKUP(I388,[2]LISTAS!$A$15:$B$50,2,0))","v":""},{"$f":"IF(ISERROR(VLOOKUP(K388,[2]LISTAS!$A$15:$B$50,2,0)),\"\",VLOOKUP(K388,[2]LISTAS!$A$15:$B$50,2,0))","v":""},{"$f":"IF(ISERROR(VLOOKUP(M388,[2]LISTAS!$A$15:$B$50,2,0)),\"\",VLOOKUP(M388,[2]LISTAS!$A$15:$B$50,2,0))","v":""},{"$f":"IF(ISERROR(VLOOKUP(O388,[2]LISTAS!$A$15:$B$50,2,0)),\"\",VLOOKUP(O388,[2]LISTAS!$A$15:$B$50,2,0))","v":""},{"$f":"IF(ISERROR(VLOOKUP(6,[2]LISTAS!$A$15:$B$50,2,0)),\"\",VLOOKUP(6,[2]LISTAS!$A$15:$B$50,2,0))","v":""},null,{"$f":"_xlfn.IFS(T388=\"------\",AD388,T388=\"LA RELACIÓN DE ACTIVIDADES DEBE SER A PARTIR DE LA SIGUIENTE FILA\",\"LA RELACIÓN DE ACTIVIDADES DEBE SER A PARTIR DE LA SIGUIENTE FILA\",T388<>\"------\",T388)","v":""},null,"ok"]
[null,null,null,null,null,null,null,null,null,null,null,null,null,null,null,null,null,null,null,"",{"$f":"IF(ISERROR(VLOOKUP(E389,[2]LISTAS!$A$15:$B$50,2,0)),\"\",VLOOKUP(E389,[2]LISTAS!$A$15:$B$50,2,0))","v":""},{"$f":"IF(ISERROR(VLOOKUP(G389,[2]LISTAS!$A$15:$B$50,2,0)),\"\",VLOOKUP(G389,[2]LISTAS!$A$15:$B$50,2,0))","v":""},{"$f":"IF(ISERROR(VLOOKUP(I389,[2]LISTAS!$A$15:$B$50,2,0)),\"\",VLOOKUP(I389,[2]LISTAS!$A$15:$B$50,2,0))","v":""},{"$f":"IF(ISERROR(VLOOKUP(K389,[2]LISTAS!$A$15:$B$50,2,0)),\"\",VLOOKUP(K389,[2]LISTAS!$A$15:$B$50,2,0))","v":""},{"$f":"IF(ISERROR(VLOOKUP(M389,[2]LISTAS!$A$15:$B$50,2,0)),\"\",VLOOKUP(M389,[2]LISTAS!$A$15:$B$50,2,0))","v":""},{"$f":"IF(ISERROR(VLOOKUP(O389,[2]LISTAS!$A$15:$B$50,2,0)),\"\",VLOOKUP(O389,[2]LISTAS!$A$15:$B$50,2,0))","v":""},{"$f":"IF(ISERROR(VLOOKUP(6,[2]LISTAS!$A$15:$B$50,2,0)),\"\",VLOOKUP(6,[2]LISTAS!$A$15:$B$50,2,0))","v":""},null,{"$f":"_xlfn.IFS(T389=\"------\",AD389,T389=\"LA RELACIÓN DE ACTIVIDADES DEBE SER A PARTIR DE LA SIGUIENTE FILA\",\"LA RELACIÓN DE ACTIVIDADES DEBE SER A PARTIR DE LA SIGUIENTE FILA\",T389<>\"------\",T389)","v":""},null,"ok"]
[null,null,null,null,null,null,null,null,null,null,null,null,null,null,null,null,null,null,null,"",{"$f":"IF(ISERROR(VLOOKUP(E390,[2]LISTAS!$A$15:$B$50,2,0)),\"\",VLOOKUP(E390,[2]LISTAS!$A$15:$B$50,2,0))","v":""},{"$f":"IF(ISERROR(VLOOKUP(G390,[2]LISTAS!$A$15:$B$50,2,0)),\"\",VLOOKUP(G390,[2]LISTAS!$A$15:$B$50,2,0))","v":""},{"$f":"IF(ISERROR(VLOOKUP(I390,[2]LISTAS!$A$15:$B$50,2,0)),\"\",VLOOKUP(I390,[2]LISTAS!$A$15:$B$50,2,0))","v":""},{"$f":"IF(ISERROR(VLOOKUP(K390,[2]LISTAS!$A$15:$B$50,2,0)),\"\",VLOOKUP(K390,[2]LISTAS!$A$15:$B$50,2,0))","v":""},{"$f":"IF(ISERROR(VLOOKUP(M390,[2]LISTAS!$A$15:$B$50,2,0)),\"\",VLOOKUP(M390,[2]LISTAS!$A$15:$B$50,2,0))","v":""},{"$f":"IF(ISERROR(VLOOKUP(O390,[2]LISTAS!$A$15:$B$50,2,0)),\"\",VLOOKUP(O390,[2]LISTAS!$A$15:$B$50,2,0))","v":""},{"$f":"IF(ISERROR(VLOOKUP(6,[2]LISTAS!$A$15:$B$50,2,0)),\"\",VLOOKUP(6,[2]LISTAS!$A$15:$B$50,2,0))","v":""},null,{"$f":"_xlfn.IFS(T390=\"------\",AD390,T390=\"LA RELACIÓN DE ACTIVIDADES DEBE SER A PARTIR DE LA SIGUIENTE FILA\",\"LA RELACIÓN DE ACTIVIDADES DEBE SER A PARTIR DE LA SIGUIENTE FILA\",T390<>\"------\",T390)","v":""},null,"ok"]
[null,null,null,null,null,null,null,null,null,null,null,null,null,null,null,null,null,null,null,"",{"$f":"IF(ISERROR(VLOOKUP(E391,[2]LISTAS!$A$15:$B$50,2,0)),\"\",VLOOKUP(E391,[2]LISTAS!$A$15:$B$50,2,0))","v":""},{"$f":"IF(ISERROR(VLOOKUP(G391,[2]LISTAS!$A$15:$B$50,2,0)),\"\",VLOOKUP(G391,[2]LISTAS!$A$15:$B$50,2,0))","v":""},{"$f":"IF(ISERROR(VLOOKUP(I391,[2]LISTAS!$A$15:$B$50,2,0)),\"\",VLOOKUP(I391,[2]LISTAS!$A$15:$B$50,2,0))","v":""},{"$f":"IF(ISERROR(VLOOKUP(K391,[2]LISTAS!$A$15:$B$50,2,0)),\"\",VLOOKUP(K391,[2]LISTAS!$A$15:$B$50,2,0))","v":""},{"$f":"IF(ISERROR(VLOOKUP(M391,[2]LISTAS!$A$15:$B$50,2,0)),\"\",VLOOKUP(M391,[2]LISTAS!$A$15:$B$50,2,0))","v":""},{"$f":"IF(ISERROR(VLOOKUP(O391,[2]LISTAS!$A$15:$B$50,2,0)),\"\",VLOOKUP(O391,[2]LISTAS!$A$15:$B$50,2,0))","v":""},{"$f":"IF(ISERROR(VLOOKUP(6,[2]LISTAS!$A$15:$B$50,2,0)),\"\",VLOOKUP(6,[2]LISTAS!$A$15:$B$50,2,0))","v":""},null,{"$f":"_xlfn.IFS(T391=\"------\",AD391,T391=\"LA RELACIÓN DE ACTIVIDADES DEBE SER A PARTIR DE LA SIGUIENTE FILA\",\"LA RELACIÓN DE ACTIVIDADES DEBE SER A PARTIR DE LA SIGUIENTE FILA\",T391<>\"------\",T391)","v":""},null,"ok"]
[null,null,null,null,null,null,null,null,null,null,null,null,null,null,null,null,null,null,null,"",{"$f":"IF(ISERROR(VLOOKUP(E392,[2]LISTAS!$A$15:$B$50,2,0)),\"\",VLOOKUP(E392,[2]LISTAS!$A$15:$B$50,2,0))","v":""},{"$f":"IF(ISERROR(VLOOKUP(G392,[2]LISTAS!$A$15:$B$50,2,0)),\"\",VLOOKUP(G392,[2]LISTAS!$A$15:$B$50,2,0))","v":""},{"$f":"IF(ISERROR(VLOOKUP(I392,[2]LISTAS!$A$15:$B$50,2,0)),\"\",VLOOKUP(I392,[2]LISTAS!$A$15:$B$50,2,0))","v":""},{"$f":"IF(ISERROR(VLOOKUP(K392,[2]LISTAS!$A$15:$B$50,2,0)),\"\",VLOOKUP(K392,[2]LISTAS!$A$15:$B$50,2,0))","v":""},{"$f":"IF(ISERROR(VLOOKUP(M392,[2]LISTAS!$A$15:$B$50,2,0)),\"\",VLOOKUP(M392,[2]LISTAS!$A$15:$B$50,2,0))","v":""},{"$f":"IF(ISERROR(VLOOKUP(O392,[2]LISTAS!$A$15:$B$50,2,0)),\"\",VLOOKUP(O392,[2]LISTAS!$A$15:$B$50,2,0))","v":""},{"$f":"IF(ISERROR(VLOOKUP(6,[2]LISTAS!$A$15:$B$50,2,0)),\"\",VLOOKUP(6,[2]LISTAS!$A$15:$B$50,2,0))","v":""},null,{"$f":"_xlfn.IFS(T392=\"------\",AD392,T392=\"LA RELACIÓN DE ACTIVIDADES DEBE SER A PARTIR DE LA SIGUIENTE FILA\",\"LA RELACIÓN DE ACTIVIDADES DEBE SER A PARTIR DE LA SIGUIENTE FILA\",T392<>\"------\",T392)","v":""},null,"ok"]
[null,null,null,null,null,null,null,null,null,null,null,null,null,null,null,null,null,null,null,"",{"$f":"IF(ISERROR(VLOOKUP(E393,[2]LISTAS!$A$15:$B$50,2,0)),\"\",VLOOKUP(E393,[2]LISTAS!$A$15:$B$50,2,0))","v":""},{"$f":"IF(ISERROR(VLOOKUP(G393,[2]LISTAS!$A$15:$B$50,2,0)),\"\",VLOOKUP(G393,[2]LISTAS!$A$15:$B$50,2,0))","v":""},{"$f":"IF(ISERROR(VLOOKUP(I393,[2]LISTAS!$A$15:$B$50,2,0)),\"\",VLOOKUP(I393,[2]LISTAS!$A$15:$B$50,2,0))","v":""},{"$f":"IF(ISERROR(VLOOKUP(K393,[2]LISTAS!$A$15:$B$50,2,0)),\"\",VLOOKUP(K393,[2]LISTAS!$A$15:$B$50,2,0))","v":""},{"$f":"IF(ISERROR(VLOOKUP(M393,[2]LISTAS!$A$15:$B$50,2,0)),\"\",VLOOKUP(M393,[2]LISTAS!$A$15:$B$50,2,0))","v":""},{"$f":"IF(ISERROR(VLOOKUP(O393,[2]LISTAS!$A$15:$B$50,2,0)),\"\",VLOOKUP(O393,[2]LISTAS!$A$15:$B$50,2,0))","v":""},{"$f":"IF(ISERROR(VLOOKUP(6,[2]LISTAS!$A$15:$B$50,2,0)),\"\",VLOOKUP(6,[2]LISTAS!$A$15:$B$50,2,0))","v":""},null,{"$f":"_xlfn.IFS(T393=\"------\",AD393,T393=\"LA RELACIÓN DE ACTIVIDADES DEBE SER A PARTIR DE LA SIGUIENTE FILA\",\"LA RELACIÓN DE ACTIVIDADES DEBE SER A PARTIR DE LA SIGUIENTE FILA\",T393<>\"------\",T393)","v":""},null,"ok"]
[null,null,null,null,null,null,null,null,null,null,null,null,null,null,null,null,null,null,null,"",{"$f":"IF(ISERROR(VLOOKUP(E394,[2]LISTAS!$A$15:$B$50,2,0)),\"\",VLOOKUP(E394,[2]LISTAS!$A$15:$B$50,2,0))","v":""},{"$f":"IF(ISERROR(VLOOKUP(G394,[2]LISTAS!$A$15:$B$50,2,0)),\"\",VLOOKUP(G394,[2]LISTAS!$A$15:$B$50,2,0))","v":""},{"$f":"IF(ISERROR(VLOOKUP(I394,[2]LISTAS!$A$15:$B$50,2,0)),\"\",VLOOKUP(I394,[2]LISTAS!$A$15:$B$50,2,0))","v":""},{"$f":"IF(ISERROR(VLOOKUP(K394,[2]LISTAS!$A$15:$B$50,2,0)),\"\",VLOOKUP(K394,[2]LISTAS!$A$15:$B$50,2,0))","v":""},{"$f":"IF(ISERROR(VLOOKUP(M394,[2]LISTAS!$A$15:$B$50,2,0)),\"\",VLOOKUP(M394,[2]LISTAS!$A$15:$B$50,2,0))","v":""},{"$f":"IF(ISERROR(VLOOKUP(O394,[2]LISTAS!$A$15:$B$50,2,0)),\"\",VLOOKUP(O394,[2]LISTAS!$A$15:$B$50,2,0))","v":""},{"$f":"IF(ISERROR(VLOOKUP(6,[2]LISTAS!$A$15:$B$50,2,0)),\"\",VLOOKUP(6,[2]LISTAS!$A$15:$B$50,2,0))","v":""},null,{"$f":"_xlfn.IFS(T394=\"------\",AD394,T394=\"LA RELACIÓN DE ACTIVIDADES DEBE SER A PARTIR DE LA SIGUIENTE FILA\",\"LA RELACIÓN DE ACTIVIDADES DEBE SER A PARTIR DE LA SIGUIENTE FILA\",T394<>\"------\",T394)","v":""},null,"ok"]
[null,null,null,null,null,null,null,null,null,null,null,null,null,null,null,null,null,null,null,"",{"$f":"IF(ISERROR(VLOOKUP(E395,[2]LISTAS!$A$15:$B$50,2,0)),\"\",VLOOKUP(E395,[2]LISTAS!$A$15:$B$50,2,0))","v":""},{"$f":"IF(ISERROR(VLOOKUP(G395,[2]LISTAS!$A$15:$B$50,2,0)),\"\",VLOOKUP(G395,[2]LISTAS!$A$15:$B$50,2,0))","v":""},{"$f":"IF(ISERROR(VLOOKUP(I395,[2]LISTAS!$A$15:$B$50,2,0)),\"\",VLOOKUP(I395,[2]LISTAS!$A$15:$B$50,2,0))","v":""},{"$f":"IF(ISERROR(VLOOKUP(K395,[2]LISTAS!$A$15:$B$50,2,0)),\"\",VLOOKUP(K395,[2]LISTAS!$A$15:$B$50,2,0))","v":""},{"$f":"IF(ISERROR(VLOOKUP(M395,[2]LISTAS!$A$15:$B$50,2,0)),\"\",VLOOKUP(M395,[2]LISTAS!$A$15:$B$50,2,0))","v":""},{"$f":"IF(ISERROR(VLOOKUP(O395,[2]LISTAS!$A$15:$B$50,2,0)),\"\",VLOOKUP(O395,[2]LISTAS!$A$15:$B$50,2,0))","v":""},{"$f":"IF(ISERROR(VLOOKUP(6,[2]LISTAS!$A$15:$B$50,2,0)),\"\",VLOOKUP(6,[2]LISTAS!$A$15:$B$50,2,0))","v":""},null,{"$f":"_xlfn.IFS(T395=\"------\",AD395,T395=\"LA RELACIÓN DE ACTIVIDADES DEBE SER A PARTIR DE LA SIGUIENTE FILA\",\"LA RELACIÓN DE ACTIVIDADES DEBE SER A PARTIR DE LA SIGUIENTE FILA\",T395<>\"------\",T395)","v":""},null,"ok"]
[null,null,null,null,null,null,null,null,null,null,null,null,null,null,null,null,null,null,null,"",{"$f":"IF(ISERROR(VLOOKUP(E396,[2]LISTAS!$A$15:$B$50,2,0)),\"\",VLOOKUP(E396,[2]LISTAS!$A$15:$B$50,2,0))","v":""},{"$f":"IF(ISERROR(VLOOKUP(G396,[2]LISTAS!$A$15:$B$50,2,0)),\"\",VLOOKUP(G396,[2]LISTAS!$A$15:$B$50,2,0))","v":""},{"$f":"IF(ISERROR(VLOOKUP(I396,[2]LISTAS!$A$15:$B$50,2,0)),\"\",VLOOKUP(I396,[2]LISTAS!$A$15:$B$50,2,0))","v":""},{"$f":"IF(ISERROR(VLOOKUP(K396,[2]LISTAS!$A$15:$B$50,2,0)),\"\",VLOOKUP(K396,[2]LISTAS!$A$15:$B$50,2,0))","v":""},{"$f":"IF(ISERROR(VLOOKUP(M396,[2]LISTAS!$A$15:$B$50,2,0)),\"\",VLOOKUP(M396,[2]LISTAS!$A$15:$B$50,2,0))","v":""},{"$f":"IF(ISERROR(VLOOKUP(O396,[2]LISTAS!$A$15:$B$50,2,0)),\"\",VLOOKUP(O396,[2]LISTAS!$A$15:$B$50,2,0))","v":""},{"$f":"IF(ISERROR(VLOOKUP(6,[2]LISTAS!$A$15:$B$50,2,0)),\"\",VLOOKUP(6,[2]LISTAS!$A$15:$B$50,2,0))","v":""},null,{"$f":"_xlfn.IFS(T396=\"------\",AD396,T396=\"LA RELACIÓN DE ACTIVIDADES DEBE SER A PARTIR DE LA SIGUIENTE FILA\",\"LA RELACIÓN DE ACTIVIDADES DEBE SER A PARTIR DE LA SIGUIENTE FILA\",T396<>\"------\",T396)","v":""},null,"ok"]
[null,null,null,null,null,null,null,null,null,null,null,null,null,null,null,null,null,null,null,"",{"$f":"IF(ISERROR(VLOOKUP(E397,[2]LISTAS!$A$15:$B$50,2,0)),\"\",VLOOKUP(E397,[2]LISTAS!$A$15:$B$50,2,0))","v":""},{"$f":"IF(ISERROR(VLOOKUP(G397,[2]LISTAS!$A$15:$B$50,2,0)),\"\",VLOOKUP(G397,[2]LISTAS!$A$15:$B$50,2,0))","v":""},{"$f":"IF(ISERROR(VLOOKUP(I397,[2]LISTAS!$A$15:$B$50,2,0)),\"\",VLOOKUP(I397,[2]LISTAS!$A$15:$B$50,2,0))","v":""},{"$f":"IF(ISERROR(VLOOKUP(K397,[2]LISTAS!$A$15:$B$50,2,0)),\"\",VLOOKUP(K397,[2]LISTAS!$A$15:$B$50,2,0))","v":""},{"$f":"IF(ISERROR(VLOOKUP(M397,[2]LISTAS!$A$15:$B$50,2,0)),\"\",VLOOKUP(M397,[2]LISTAS!$A$15:$B$50,2,0))","v":""},{"$f":"IF(ISERROR(VLOOKUP(O397,[2]LISTAS!$A$15:$B$50,2,0)),\"\",VLOOKUP(O397,[2]LISTAS!$A$15:$B$50,2,0))","v":""},{"$f":"IF(ISERROR(VLOOKUP(6,[2]LISTAS!$A$15:$B$50,2,0)),\"\",VLOOKUP(6,[2]LISTAS!$A$15:$B$50,2,0))","v":""},null,{"$f":"_xlfn.IFS(T397=\"------\",AD397,T397=\"LA RELACIÓN DE ACTIVIDADES DEBE SER A PARTIR DE LA SIGUIENTE FILA\",\"LA RELACIÓN DE ACTIVIDADES DEBE SER A PARTIR DE LA SIGUIENTE FILA\",T397<>\"------\",T397)","v":""},null,"ok"]
[null,null,null,null,null,null,null,null,null,null,null,null,null,null,null,null,null,null,null,"",{"$f":"IF(ISERROR(VLOOKUP(E398,[2]LISTAS!$A$15:$B$50,2,0)),\"\",VLOOKUP(E398,[2]LISTAS!$A$15:$B$50,2,0))","v":""},{"$f":"IF(ISERROR(VLOOKUP(G398,[2]LISTAS!$A$15:$B$50,2,0)),\"\",VLOOKUP(G398,[2]LISTAS!$A$15:$B$50,2,0))","v":""},{"$f":"IF(ISERROR(VLOOKUP(I398,[2]LISTAS!$A$15:$B$50,2,0)),\"\",VLOOKUP(I398,[2]LISTAS!$A$15:$B$50,2,0))","v":""},{"$f":"IF(ISERROR(VLOOKUP(K398,[2]LISTAS!$A$15:$B$50,2,0)),\"\",VLOOKUP(K398,[2]LISTAS!$A$15:$B$50,2,0))","v":""},{"$f":"IF(ISERROR(VLOOKUP(M398,[2]LISTAS!$A$15:$B$50,2,0)),\"\",VLOOKUP(M398,[2]LISTAS!$A$15:$B$50,2,0))","v":""},{"$f":"IF(ISERROR(VLOOKUP(O398,[2]LISTAS!$A$15:$B$50,2,0)),\"\",VLOOKUP(O398,[2]LISTAS!$A$15:$B$50,2,0))","v":""},{"$f":"IF(ISERROR(VLOOKUP(6,[2]LISTAS!$A$15:$B$50,2,0)),\"\",VLOOKUP(6,[2]LISTAS!$A$15:$B$50,2,0))","v":""},null,{"$f":"_xlfn.IFS(T398=\"------\",AD398,T398=\"LA RELACIÓN DE ACTIVIDADES DEBE SER A PARTIR DE LA SIGUIENTE FILA\",\"LA RELACIÓN DE ACTIVIDADES DEBE SER A PARTIR DE LA SIGUIENTE FILA\",T398<>\"------\",T398)","v":""},null,"ok"]
[null,null,null,null,null,null,null,null,null,null,null,null,null,null,null,null,null,null,null,"",{"$f":"IF(ISERROR(VLOOKUP(E399,[2]LISTAS!$A$15:$B$50,2,0)),\"\",VLOOKUP(E399,[2]LISTAS!$A$15:$B$50,2,0))","v":""},{"$f":"IF(ISERROR(VLOOKUP(G399,[2]LISTAS!$A$15:$B$50,2,0)),\"\",VLOOKUP(G399,[2]LISTAS!$A$15:$B$50,2,0))","v":""},{"$f":"IF(ISERROR(VLOOKUP(I399,[2]LISTAS!$A$15:$B$50,2,0)),\"\",VLOOKUP(I399,[2]LISTAS!$A$15:$B$50,2,0))","v":""},{"$f":"IF(ISERROR(VLOOKUP(K399,[2]LISTAS!$A$15:$B$50,2,0)),\"\",VLOOKUP(K399,[2]LISTAS!$A$15:$B$50,2,0))","v":""},{"$f":"IF(ISERROR(VLOOKUP(M399,[2]LISTAS!$A$15:$B$50,2,0)),\"\",VLOOKUP(M399,[2]LISTAS!$A$15:$B$50,2,0))","v":""},{"$f":"IF(ISERROR(VLOOKUP(O399,[2]LISTAS!$A$15:$B$50,2,0)),\"\",VLOOKUP(O399,[2]LISTAS!$A$15:$B$50,2,0))","v":""},{"$f":"IF(ISERROR(VLOOKUP(6,[2]LISTAS!$A$15:$B$50,2,0)),\"\",VLOOKUP(6,[2]LISTAS!$A$15:$B$50,2,0))","v":""},null,{"$f":"_xlfn.IFS(T399=\"------\",AD399,T399=\"LA RELACIÓN DE ACTIVIDADES DEBE SER A PARTIR DE LA SIGUIENTE FILA\",\"LA RELACIÓN DE ACTIVIDADES DEBE SER A PARTIR DE LA SIGUIENTE FILA\",T399<>\"------\",T399)","v":""},null,"ok"]
[null,null,null,null,null,null,null,null,null,null,null,null,null,null,null,null,null,null,null,"",{"$f":"IF(ISERROR(VLOOKUP(E400,[2]LISTAS!$A$15:$B$50,2,0)),\"\",VLOOKUP(E400,[2]LISTAS!$A$15:$B$50,2,0))","v":""},{"$f":"IF(ISERROR(VLOOKUP(G400,[2]LISTAS!$A$15:$B$50,2,0)),\"\",VLOOKUP(G400,[2]LISTAS!$A$15:$B$50,2,0))","v":""},{"$f":"IF(ISERROR(VLOOKUP(I400,[2]LISTAS!$A$15:$B$50,2,0)),\"\",VLOOKUP(I400,[2]LISTAS!$A$15:$B$50,2,0))","v":""},{"$f":"IF(ISERROR(VLOOKUP(K400,[2]LISTAS!$A$15:$B$50,2,0)),\"\",VLOOKUP(K400,[2]LISTAS!$A$15:$B$50,2,0))","v":""},{"$f":"IF(ISERROR(VLOOKUP(M400,[2]LISTAS!$A$15:$B$50,2,0)),\"\",VLOOKUP(M400,[2]LISTAS!$A$15:$B$50,2,0))","v":""},{"$f":"IF(ISERROR(VLOOKUP(O400,[2]LISTAS!$A$15:$B$50,2,0)),\"\",VLOOKUP(O400,[2]LISTAS!$A$15:$B$50,2,0))","v":""},{"$f":"IF(ISERROR(VLOOKUP(6,[2]LISTAS!$A$15:$B$50,2,0)),\"\",VLOOKUP(6,[2]LISTAS!$A$15:$B$50,2,0))","v":""},null,{"$f":"_xlfn.IFS(T400=\"------\",AD400,T400=\"LA RELACIÓN DE ACTIVIDADES DEBE SER A PARTIR DE LA SIGUIENTE FILA\",\"LA RELACIÓN DE ACTIVIDADES DEBE SER A PARTIR DE LA SIGUIENTE FILA\",T400<>\"------\",T400)","v":""},null,"ok"]
[null,null,null,null,null,null,null,null,null,null,null,null,null,null,null,null,null,null,null,"",{"$f":"IF(ISERROR(VLOOKUP(E401,[2]LISTAS!$A$15:$B$50,2,0)),\"\",VLOOKUP(E401,[2]LISTAS!$A$15:$B$50,2,0))","v":""},{"$f":"IF(ISERROR(VLOOKUP(G401,[2]LISTAS!$A$15:$B$50,2,0)),\"\",VLOOKUP(G401,[2]LISTAS!$A$15:$B$50,2,0))","v":""},{"$f":"IF(ISERROR(VLOOKUP(I401,[2]LISTAS!$A$15:$B$50,2,0)),\"\",VLOOKUP(I401,[2]LISTAS!$A$15:$B$50,2,0))","v":""},{"$f":"IF(ISERROR(VLOOKUP(K401,[2]LISTAS!$A$15:$B$50,2,0)),\"\",VLOOKUP(K401,[2]LISTAS!$A$15:$B$50,2,0))","v":""},{"$f":"IF(ISERROR(VLOOKUP(M401,[2]LISTAS!$A$15:$B$50,2,0)),\"\",VLOOKUP(M401,[2]LISTAS!$A$15:$B$50,2,0))","v":""},{"$f":"IF(ISERROR(VLOOKUP(O401,[2]LISTAS!$A$15:$B$50,2,0)),\"\",VLOOKUP(O401,[2]LISTAS!$A$15:$B$50,2,0))","v":""},{"$f":"IF(ISERROR(VLOOKUP(6,[2]LISTAS!$A$15:$B$50,2,0)),\"\",VLOOKUP(6,[2]LISTAS!$A$15:$B$50,2,0))","v":""},null,{"$f":"_xlfn.IFS(T401=\"------\",AD401,T401=\"LA RELACIÓN DE ACTIVIDADES DEBE SER A PARTIR DE LA SIGUIENTE FILA\",\"LA RELACIÓN DE ACTIVIDADES DEBE SER A PARTIR DE LA SIGUIENTE FILA\",T401<>\"------\",T401)","v":""},null,"ok"]
[null,null,null,null,null,null,null,null,null,null,null,null,null,null,null,null,null,null,null,"",{"$f":"IF(ISERROR(VLOOKUP(E402,[2]LISTAS!$A$15:$B$50,2,0)),\"\",VLOOKUP(E402,[2]LISTAS!$A$15:$B$50,2,0))","v":""},{"$f":"IF(ISERROR(VLOOKUP(G402,[2]LISTAS!$A$15:$B$50,2,0)),\"\",VLOOKUP(G402,[2]LISTAS!$A$15:$B$50,2,0))","v":""},{"$f":"IF(ISERROR(VLOOKUP(I402,[2]LISTAS!$A$15:$B$50,2,0)),\"\",VLOOKUP(I402,[2]LISTAS!$A$15:$B$50,2,0))","v":""},{"$f":"IF(ISERROR(VLOOKUP(K402,[2]LISTAS!$A$15:$B$50,2,0)),\"\",VLOOKUP(K402,[2]LISTAS!$A$15:$B$50,2,0))","v":""},{"$f":"IF(ISERROR(VLOOKUP(M402,[2]LISTAS!$A$15:$B$50,2,0)),\"\",VLOOKUP(M402,[2]LISTAS!$A$15:$B$50,2,0))","v":""},{"$f":"IF(ISERROR(VLOOKUP(O402,[2]LISTAS!$A$15:$B$50,2,0)),\"\",VLOOKUP(O402,[2]LISTAS!$A$15:$B$50,2,0))","v":""},{"$f":"IF(ISERROR(VLOOKUP(6,[2]LISTAS!$A$15:$B$50,2,0)),\"\",VLOOKUP(6,[2]LISTAS!$A$15:$B$50,2,0))","v":""},null,{"$f":"_xlfn.IFS(T402=\"------\",AD402,T402=\"LA RELACIÓN DE ACTIVIDADES DEBE SER A PARTIR DE LA SIGUIENTE FILA\",\"LA RELACIÓN DE ACTIVIDADES DEBE SER A PARTIR DE LA SIGUIENTE FILA\",T402<>\"------\",T402)","v":""},null,"ok"]
[null,null,null,null,null,null,null,null,null,null,null,null,null,null,null,null,null,null,null,"",{"$f":"IF(ISERROR(VLOOKUP(E403,[2]LISTAS!$A$15:$B$50,2,0)),\"\",VLOOKUP(E403,[2]LISTAS!$A$15:$B$50,2,0))","v":""},{"$f":"IF(ISERROR(VLOOKUP(G403,[2]LISTAS!$A$15:$B$50,2,0)),\"\",VLOOKUP(G403,[2]LISTAS!$A$15:$B$50,2,0))","v":""},{"$f":"IF(ISERROR(VLOOKUP(I403,[2]LISTAS!$A$15:$B$50,2,0)),\"\",VLOOKUP(I403,[2]LISTAS!$A$15:$B$50,2,0))","v":""},{"$f":"IF(ISERROR(VLOOKUP(K403,[2]LISTAS!$A$15:$B$50,2,0)),\"\",VLOOKUP(K403,[2]LISTAS!$A$15:$B$50,2,0))","v":""},{"$f":"IF(ISERROR(VLOOKUP(M403,[2]LISTAS!$A$15:$B$50,2,0)),\"\",VLOOKUP(M403,[2]LISTAS!$A$15:$B$50,2,0))","v":""},{"$f":"IF(ISERROR(VLOOKUP(O403,[2]LISTAS!$A$15:$B$50,2,0)),\"\",VLOOKUP(O403,[2]LISTAS!$A$15:$B$50,2,0))","v":""},{"$f":"IF(ISERROR(VLOOKUP(6,[2]LISTAS!$A$15:$B$50,2,0)),\"\",VLOOKUP(6,[2]LISTAS!$A$15:$B$50,2,0))","v":""},null,{"$f":"_xlfn.IFS(T403=\"------\",AD403,T403=\"LA RELACIÓN DE ACTIVIDADES DEBE SER A PARTIR DE LA SIGUIENTE FILA\",\"LA RELACIÓN DE ACTIVIDADES DEBE SER A PARTIR DE LA SIGUIENTE FILA\",T403<>\"------\",T403)","v":""},null,"ok"]
[null,null,null,null,null,null,null,null,null,null,null,null,null,null,null,null,null,null,null,"",{"$f":"IF(ISERROR(VLOOKUP(E404,[2]LISTAS!$A$15:$B$50,2,0)),\"\",VLOOKUP(E404,[2]LISTAS!$A$15:$B$50,2,0))","v":""},{"$f":"IF(ISERROR(VLOOKUP(G404,[2]LISTAS!$A$15:$B$50,2,0)),\"\",VLOOKUP(G404,[2]LISTAS!$A$15:$B$50,2,0))","v":""},{"$f":"IF(ISERROR(VLOOKUP(I404,[2]LISTAS!$A$15:$B$50,2,0)),\"\",VLOOKUP(I404,[2]LISTAS!$A$15:$B$50,2,0))","v":""},{"$f":"IF(ISERROR(VLOOKUP(K404,[2]LISTAS!$A$15:$B$50,2,0)),\"\",VLOOKUP(K404,[2]LISTAS!$A$15:$B$50,2,0))","v":""},{"$f":"IF(ISERROR(VLOOKUP(M404,[2]LISTAS!$A$15:$B$50,2,0)),\"\",VLOOKUP(M404,[2]LISTAS!$A$15:$B$50,2,0))","v":""},{"$f":"IF(ISERROR(VLOOKUP(O404,[2]LISTAS!$A$15:$B$50,2,0)),\"\",VLOOKUP(O404,[2]LISTAS!$A$15:$B$50,2,0))","v":""},{"$f":"IF(ISERROR(VLOOKUP(6,[2]LISTAS!$A$15:$B$50,2,0)),\"\",VLOOKUP(6,[2]LISTAS!$A$15:$B$50,2,0))","v":""},null,{"$f":"_xlfn.IFS(T404=\"------\",AD404,T404=\"LA RELACIÓN DE ACTIVIDADES DEBE SER A PARTIR DE LA SIGUIENTE FILA\",\"LA RELACIÓN DE ACTIVIDADES DEBE SER A PARTIR DE LA SIGUIENTE FILA\",T404<>\"------\",T404)","v":""},null,"ok"]
[null,null,null,null,null,null,null,null,null,null,null,null,null,null,null,null,null,null,null,"",{"$f":"IF(ISERROR(VLOOKUP(E405,[2]LISTAS!$A$15:$B$50,2,0)),\"\",VLOOKUP(E405,[2]LISTAS!$A$15:$B$50,2,0))","v":""},{"$f":"IF(ISERROR(VLOOKUP(G405,[2]LISTAS!$A$15:$B$50,2,0)),\"\",VLOOKUP(G405,[2]LISTAS!$A$15:$B$50,2,0))","v":""},{"$f":"IF(ISERROR(VLOOKUP(I405,[2]LISTAS!$A$15:$B$50,2,0)),\"\",VLOOKUP(I405,[2]LISTAS!$A$15:$B$50,2,0))","v":""},{"$f":"IF(ISERROR(VLOOKUP(K405,[2]LISTAS!$A$15:$B$50,2,0)),\"\",VLOOKUP(K405,[2]LISTAS!$A$15:$B$50,2,0))","v":""},{"$f":"IF(ISERROR(VLOOKUP(M405,[2]LISTAS!$A$15:$B$50,2,0)),\"\",VLOOKUP(M405,[2]LISTAS!$A$15:$B$50,2,0))","v":""},{"$f":"IF(ISERROR(VLOOKUP(O405,[2]LISTAS!$A$15:$B$50,2,0)),\"\",VLOOKUP(O405,[2]LISTAS!$A$15:$B$50,2,0))","v":""},{"$f":"IF(ISERROR(VLOOKUP(6,[2]LISTAS!$A$15:$B$50,2,0)),\"\",VLOOKUP(6,[2]LISTAS!$A$15:$B$50,2,0))","v":""},null,{"$f":"_xlfn.IFS(T405=\"------\",AD405,T405=\"LA RELACIÓN DE ACTIVIDADES DEBE SER A PARTIR DE LA SIGUIENTE FILA\",\"LA RELACIÓN DE ACTIVIDADES DEBE SER A PARTIR DE LA SIGUIENTE FILA\",T405<>\"------\",T405)","v":""},null,"ok"]
[null,null,null,null,null,null,null,null,null,null,null,null,null,null,null,null,null,null,null,"",{"$f":"IF(ISERROR(VLOOKUP(E406,[2]LISTAS!$A$15:$B$50,2,0)),\"\",VLOOKUP(E406,[2]LISTAS!$A$15:$B$50,2,0))","v":""},{"$f":"IF(ISERROR(VLOOKUP(G406,[2]LISTAS!$A$15:$B$50,2,0)),\"\",VLOOKUP(G406,[2]LISTAS!$A$15:$B$50,2,0))","v":""},{"$f":"IF(ISERROR(VLOOKUP(I406,[2]LISTAS!$A$15:$B$50,2,0)),\"\",VLOOKUP(I406,[2]LISTAS!$A$15:$B$50,2,0))","v":""},{"$f":"IF(ISERROR(VLOOKUP(K406,[2]LISTAS!$A$15:$B$50,2,0)),\"\",VLOOKUP(K406,[2]LISTAS!$A$15:$B$50,2,0))","v":""},{"$f":"IF(ISERROR(VLOOKUP(M406,[2]LISTAS!$A$15:$B$50,2,0)),\"\",VLOOKUP(M406,[2]LISTAS!$A$15:$B$50,2,0))","v":""},{"$f":"IF(ISERROR(VLOOKUP(O406,[2]LISTAS!$A$15:$B$50,2,0)),\"\",VLOOKUP(O406,[2]LISTAS!$A$15:$B$50,2,0))","v":""},{"$f":"IF(ISERROR(VLOOKUP(6,[2]LISTAS!$A$15:$B$50,2,0)),\"\",VLOOKUP(6,[2]LISTAS!$A$15:$B$50,2,0))","v":""},null,{"$f":"_xlfn.IFS(T406=\"------\",AD406,T406=\"LA RELACIÓN DE ACTIVIDADES DEBE SER A PARTIR DE LA SIGUIENTE FILA\",\"LA RELACIÓN DE ACTIVIDADES DEBE SER A PARTIR DE LA SIGUIENTE FILA\",T406<>\"------\",T406)","v":""},null,"ok"]
[null,null,null,null,null,null,null,null,null,null,null,null,null,null,null,null,null,null,null,"",{"$f":"IF(ISERROR(VLOOKUP(E407,[2]LISTAS!$A$15:$B$50,2,0)),\"\",VLOOKUP(E407,[2]LISTAS!$A$15:$B$50,2,0))","v":""},{"$f":"IF(ISERROR(VLOOKUP(G407,[2]LISTAS!$A$15:$B$50,2,0)),\"\",VLOOKUP(G407,[2]LISTAS!$A$15:$B$50,2,0))","v":""},{"$f":"IF(ISERROR(VLOOKUP(I407,[2]LISTAS!$A$15:$B$50,2,0)),\"\",VLOOKUP(I407,[2]LISTAS!$A$15:$B$50,2,0))","v":""},{"$f":"IF(ISERROR(VLOOKUP(K407,[2]LISTAS!$A$15:$B$50,2,0)),\"\",VLOOKUP(K407,[2]LISTAS!$A$15:$B$50,2,0))","v":""},{"$f":"IF(ISERROR(VLOOKUP(M407,[2]LISTAS!$A$15:$B$50,2,0)),\"\",VLOOKUP(M407,[2]LISTAS!$A$15:$B$50,2,0))","v":""},{"$f":"IF(ISERROR(VLOOKUP(O407,[2]LISTAS!$A$15:$B$50,2,0)),\"\",VLOOKUP(O407,[2]LISTAS!$A$15:$B$50,2,0))","v":""},{"$f":"IF(ISERROR(VLOOKUP(6,[2]LISTAS!$A$15:$B$50,2,0)),\"\",VLOOKUP(6,[2]LISTAS!$A$15:$B$50,2,0))","v":""},null,{"$f":"_xlfn.IFS(T407=\"------\",AD407,T407=\"LA RELACIÓN DE ACTIVIDADES DEBE SER A PARTIR DE LA SIGUIENTE FILA\",\"LA RELACIÓN DE ACTIVIDADES DEBE SER A PARTIR DE LA SIGUIENTE FILA\",T407<>\"------\",T407)","v":""},null,"ok"]
[null,null,null,null,null,null,null,null,null,null,null,null,null,null,null,null,null,null,null,"",{"$f":"IF(ISERROR(VLOOKUP(E408,[2]LISTAS!$A$15:$B$50,2,0)),\"\",VLOOKUP(E408,[2]LISTAS!$A$15:$B$50,2,0))","v":""},{"$f":"IF(ISERROR(VLOOKUP(G408,[2]LISTAS!$A$15:$B$50,2,0)),\"\",VLOOKUP(G408,[2]LISTAS!$A$15:$B$50,2,0))","v":""},{"$f":"IF(ISERROR(VLOOKUP(I408,[2]LISTAS!$A$15:$B$50,2,0)),\"\",VLOOKUP(I408,[2]LISTAS!$A$15:$B$50,2,0))","v":""},{"$f":"IF(ISERROR(VLOOKUP(K408,[2]LISTAS!$A$15:$B$50,2,0)),\"\",VLOOKUP(K408,[2]LISTAS!$A$15:$B$50,2,0))","v":""},{"$f":"IF(ISERROR(VLOOKUP(M408,[2]LISTAS!$A$15:$B$50,2,0)),\"\",VLOOKUP(M408,[2]LISTAS!$A$15:$B$50,2,0))","v":""},{"$f":"IF(ISERROR(VLOOKUP(O408,[2]LISTAS!$A$15:$B$50,2,0)),\"\",VLOOKUP(O408,[2]LISTAS!$A$15:$B$50,2,0))","v":""},{"$f":"IF(ISERROR(VLOOKUP(6,[2]LISTAS!$A$15:$B$50,2,0)),\"\",VLOOKUP(6,[2]LISTAS!$A$15:$B$50,2,0))","v":""},null,{"$f":"_xlfn.IFS(T408=\"------\",AD408,T408=\"LA RELACIÓN DE ACTIVIDADES DEBE SER A PARTIR DE LA SIGUIENTE FILA\",\"LA RELACIÓN DE ACTIVIDADES DEBE SER A PARTIR DE LA SIGUIENTE FILA\",T408<>\"------\",T408)","v":""},null,"ok"]
[null,null,null,null,null,null,null,null,null,null,null,null,null,null,null,null,null,null,null,"",{"$f":"IF(ISERROR(VLOOKUP(E409,[2]LISTAS!$A$15:$B$50,2,0)),\"\",VLOOKUP(E409,[2]LISTAS!$A$15:$B$50,2,0))","v":""},{"$f":"IF(ISERROR(VLOOKUP(G409,[2]LISTAS!$A$15:$B$50,2,0)),\"\",VLOOKUP(G409,[2]LISTAS!$A$15:$B$50,2,0))","v":""},{"$f":"IF(ISERROR(VLOOKUP(I409,[2]LISTAS!$A$15:$B$50,2,0)),\"\",VLOOKUP(I409,[2]LISTAS!$A$15:$B$50,2,0))","v":""},{"$f":"IF(ISERROR(VLOOKUP(K409,[2]LISTAS!$A$15:$B$50,2,0)),\"\",VLOOKUP(K409,[2]LISTAS!$A$15:$B$50,2,0))","v":""},{"$f":"IF(ISERROR(VLOOKUP(M409,[2]LISTAS!$A$15:$B$50,2,0)),\"\",VLOOKUP(M409,[2]LISTAS!$A$15:$B$50,2,0))","v":""},{"$f":"IF(ISERROR(VLOOKUP(O409,[2]LISTAS!$A$15:$B$50,2,0)),\"\",VLOOKUP(O409,[2]LISTAS!$A$15:$B$50,2,0))","v":""},{"$f":"IF(ISERROR(VLOOKUP(6,[2]LISTAS!$A$15:$B$50,2,0)),\"\",VLOOKUP(6,[2]LISTAS!$A$15:$B$50,2,0))","v":""},null,{"$f":"_xlfn.IFS(T409=\"------\",AD409,T409=\"LA RELACIÓN DE ACTIVIDADES DEBE SER A PARTIR DE LA SIGUIENTE FILA\",\"LA RELACIÓN DE ACTIVIDADES DEBE SER A PARTIR DE LA SIGUIENTE FILA\",T409<>\"------\",T409)","v":""},null,"ok"]
[null,null,null,null,null,null,null,null,null,null,null,null,null,null,null,null,null,null,null,"",{"$f":"IF(ISERROR(VLOOKUP(E410,[2]LISTAS!$A$15:$B$50,2,0)),\"\",VLOOKUP(E410,[2]LISTAS!$A$15:$B$50,2,0))","v":""},{"$f":"IF(ISERROR(VLOOKUP(G410,[2]LISTAS!$A$15:$B$50,2,0)),\"\",VLOOKUP(G410,[2]LISTAS!$A$15:$B$50,2,0))","v":""},{"$f":"IF(ISERROR(VLOOKUP(I410,[2]LISTAS!$A$15:$B$50,2,0)),\"\",VLOOKUP(I410,[2]LISTAS!$A$15:$B$50,2,0))","v":""},{"$f":"IF(ISERROR(VLOOKUP(K410,[2]LISTAS!$A$15:$B$50,2,0)),\"\",VLOOKUP(K410,[2]LISTAS!$A$15:$B$50,2,0))","v":""},{"$f":"IF(ISERROR(VLOOKUP(M410,[2]LISTAS!$A$15:$B$50,2,0)),\"\",VLOOKUP(M410,[2]LISTAS!$A$15:$B$50,2,0))","v":""},{"$f":"IF(ISERROR(VLOOKUP(O410,[2]LISTAS!$A$15:$B$50,2,0)),\"\",VLOOKUP(O410,[2]LISTAS!$A$15:$B$50,2,0))","v":""},{"$f":"IF(ISERROR(VLOOKUP(6,[2]LISTAS!$A$15:$B$50,2,0)),\"\",VLOOKUP(6,[2]LISTAS!$A$15:$B$50,2,0))","v":""},null,{"$f":"_xlfn.IFS(T410=\"------\",AD410,T410=\"LA RELACIÓN DE ACTIVIDADES DEBE SER A PARTIR DE LA SIGUIENTE FILA\",\"LA RELACIÓN DE ACTIVIDADES DEBE SER A PARTIR DE LA SIGUIENTE FILA\",T410<>\"------\",T410)","v":""},null,"ok"]
[null,null,null,null,null,null,null,null,null,null,null,null,null,null,null,null,null,null,null,"",{"$f":"IF(ISERROR(VLOOKUP(E411,[2]LISTAS!$A$15:$B$50,2,0)),\"\",VLOOKUP(E411,[2]LISTAS!$A$15:$B$50,2,0))","v":""},{"$f":"IF(ISERROR(VLOOKUP(G411,[2]LISTAS!$A$15:$B$50,2,0)),\"\",VLOOKUP(G411,[2]LISTAS!$A$15:$B$50,2,0))","v":""},{"$f":"IF(ISERROR(VLOOKUP(I411,[2]LISTAS!$A$15:$B$50,2,0)),\"\",VLOOKUP(I411,[2]LISTAS!$A$15:$B$50,2,0))","v":""},{"$f":"IF(ISERROR(VLOOKUP(K411,[2]LISTAS!$A$15:$B$50,2,0)),\"\",VLOOKUP(K411,[2]LISTAS!$A$15:$B$50,2,0))","v":""},{"$f":"IF(ISERROR(VLOOKUP(M411,[2]LISTAS!$A$15:$B$50,2,0)),\"\",VLOOKUP(M411,[2]LISTAS!$A$15:$B$50,2,0))","v":""},{"$f":"IF(ISERROR(VLOOKUP(O411,[2]LISTAS!$A$15:$B$50,2,0)),\"\",VLOOKUP(O411,[2]LISTAS!$A$15:$B$50,2,0))","v":""},{"$f":"IF(ISERROR(VLOOKUP(6,[2]LISTAS!$A$15:$B$50,2,0)),\"\",VLOOKUP(6,[2]LISTAS!$A$15:$B$50,2,0))","v":""},null,{"$f":"_xlfn.IFS(T411=\"------\",AD411,T411=\"LA RELACIÓN DE ACTIVIDADES DEBE SER A PARTIR DE LA SIGUIENTE FILA\",\"LA RELACIÓN DE ACTIVIDADES DEBE SER A PARTIR DE LA SIGUIENTE FILA\",T411<>\"------\",T411)","v":""},null,"ok"]
[null,null,null,null,null,null,null,null,null,null,null,null,null,null,null,null,null,null,null,"",{"$f":"IF(ISERROR(VLOOKUP(E412,[2]LISTAS!$A$15:$B$50,2,0)),\"\",VLOOKUP(E412,[2]LISTAS!$A$15:$B$50,2,0))","v":""},{"$f":"IF(ISERROR(VLOOKUP(G412,[2]LISTAS!$A$15:$B$50,2,0)),\"\",VLOOKUP(G412,[2]LISTAS!$A$15:$B$50,2,0))","v":""},{"$f":"IF(ISERROR(VLOOKUP(I412,[2]LISTAS!$A$15:$B$50,2,0)),\"\",VLOOKUP(I412,[2]LISTAS!$A$15:$B$50,2,0))","v":""},{"$f":"IF(ISERROR(VLOOKUP(K412,[2]LISTAS!$A$15:$B$50,2,0)),\"\",VLOOKUP(K412,[2]LISTAS!$A$15:$B$50,2,0))","v":""},{"$f":"IF(ISERROR(VLOOKUP(M412,[2]LISTAS!$A$15:$B$50,2,0)),\"\",VLOOKUP(M412,[2]LISTAS!$A$15:$B$50,2,0))","v":""},{"$f":"IF(ISERROR(VLOOKUP(O412,[2]LISTAS!$A$15:$B$50,2,0)),\"\",VLOOKUP(O412,[2]LISTAS!$A$15:$B$50,2,0))","v":""},{"$f":"IF(ISERROR(VLOOKUP(6,[2]LISTAS!$A$15:$B$50,2,0)),\"\",VLOOKUP(6,[2]LISTAS!$A$15:$B$50,2,0))","v":""},null,{"$f":"_xlfn.IFS(T412=\"------\",AD412,T412=\"LA RELACIÓN DE ACTIVIDADES DEBE SER A PARTIR DE LA SIGUIENTE FILA\",\"LA RELACIÓN DE ACTIVIDADES DEBE SER A PARTIR DE LA SIGUIENTE FILA\",T412<>\"------\",T412)","v":""},null,"ok"]
[null,null,null,null,null,null,null,null,null,null,null,null,null,null,null,null,null,null,null,"",{"$f":"IF(ISERROR(VLOOKUP(E413,[2]LISTAS!$A$15:$B$50,2,0)),\"\",VLOOKUP(E413,[2]LISTAS!$A$15:$B$50,2,0))","v":""},{"$f":"IF(ISERROR(VLOOKUP(G413,[2]LISTAS!$A$15:$B$50,2,0)),\"\",VLOOKUP(G413,[2]LISTAS!$A$15:$B$50,2,0))","v":""},{"$f":"IF(ISERROR(VLOOKUP(I413,[2]LISTAS!$A$15:$B$50,2,0)),\"\",VLOOKUP(I413,[2]LISTAS!$A$15:$B$50,2,0))","v":""},{"$f":"IF(ISERROR(VLOOKUP(K413,[2]LISTAS!$A$15:$B$50,2,0)),\"\",VLOOKUP(K413,[2]LISTAS!$A$15:$B$50,2,0))","v":""},{"$f":"IF(ISERROR(VLOOKUP(M413,[2]LISTAS!$A$15:$B$50,2,0)),\"\",VLOOKUP(M413,[2]LISTAS!$A$15:$B$50,2,0))","v":""},{"$f":"IF(ISERROR(VLOOKUP(O413,[2]LISTAS!$A$15:$B$50,2,0)),\"\",VLOOKUP(O413,[2]LISTAS!$A$15:$B$50,2,0))","v":""},{"$f":"IF(ISERROR(VLOOKUP(6,[2]LISTAS!$A$15:$B$50,2,0)),\"\",VLOOKUP(6,[2]LISTAS!$A$15:$B$50,2,0))","v":""},null,{"$f":"_xlfn.IFS(T413=\"------\",AD413,T413=\"LA RELACIÓN DE ACTIVIDADES DEBE SER A PARTIR DE LA SIGUIENTE FILA\",\"LA RELACIÓN DE ACTIVIDADES DEBE SER A PARTIR DE LA SIGUIENTE FILA\",T413<>\"------\",T413)","v":""},null,"ok"]
[null,null,null,null,null,null,null,null,null,null,null,null,null,null,null,null,null,null,null,"",{"$f":"IF(ISERROR(VLOOKUP(E414,[2]LISTAS!$A$15:$B$50,2,0)),\"\",VLOOKUP(E414,[2]LISTAS!$A$15:$B$50,2,0))","v":""},{"$f":"IF(ISERROR(VLOOKUP(G414,[2]LISTAS!$A$15:$B$50,2,0)),\"\",VLOOKUP(G414,[2]LISTAS!$A$15:$B$50,2,0))","v":""},{"$f":"IF(ISERROR(VLOOKUP(I414,[2]LISTAS!$A$15:$B$50,2,0)),\"\",VLOOKUP(I414,[2]LISTAS!$A$15:$B$50,2,0))","v":""},{"$f":"IF(ISERROR(VLOOKUP(K414,[2]LISTAS!$A$15:$B$50,2,0)),\"\",VLOOKUP(K414,[2]LISTAS!$A$15:$B$50,2,0))","v":""},{"$f":"IF(ISERROR(VLOOKUP(M414,[2]LISTAS!$A$15:$B$50,2,0)),\"\",VLOOKUP(M414,[2]LISTAS!$A$15:$B$50,2,0))","v":""},{"$f":"IF(ISERROR(VLOOKUP(O414,[2]LISTAS!$A$15:$B$50,2,0)),\"\",VLOOKUP(O414,[2]LISTAS!$A$15:$B$50,2,0))","v":""},{"$f":"IF(ISERROR(VLOOKUP(6,[2]LISTAS!$A$15:$B$50,2,0)),\"\",VLOOKUP(6,[2]LISTAS!$A$15:$B$50,2,0))","v":""},null,{"$f":"_xlfn.IFS(T414=\"------\",AD414,T414=\"LA RELACIÓN DE ACTIVIDADES DEBE SER A PARTIR DE LA SIGUIENTE FILA\",\"LA RELACIÓN DE ACTIVIDADES DEBE SER A PARTIR DE LA SIGUIENTE FILA\",T414<>\"------\",T414)","v":""},null,"ok"]
[null,null,null,null,null,null,null,null,null,null,null,null,null,null,null,null,null,null,null,"",{"$f":"IF(ISERROR(VLOOKUP(E415,[2]LISTAS!$A$15:$B$50,2,0)),\"\",VLOOKUP(E415,[2]LISTAS!$A$15:$B$50,2,0))","v":""},{"$f":"IF(ISERROR(VLOOKUP(G415,[2]LISTAS!$A$15:$B$50,2,0)),\"\",VLOOKUP(G415,[2]LISTAS!$A$15:$B$50,2,0))","v":""},{"$f":"IF(ISERROR(VLOOKUP(I415,[2]LISTAS!$A$15:$B$50,2,0)),\"\",VLOOKUP(I415,[2]LISTAS!$A$15:$B$50,2,0))","v":""},{"$f":"IF(ISERROR(VLOOKUP(K415,[2]LISTAS!$A$15:$B$50,2,0)),\"\",VLOOKUP(K415,[2]LISTAS!$A$15:$B$50,2,0))","v":""},{"$f":"IF(ISERROR(VLOOKUP(M415,[2]LISTAS!$A$15:$B$50,2,0)),\"\",VLOOKUP(M415,[2]LISTAS!$A$15:$B$50,2,0))","v":""},{"$f":"IF(ISERROR(VLOOKUP(O415,[2]LISTAS!$A$15:$B$50,2,0)),\"\",VLOOKUP(O415,[2]LISTAS!$A$15:$B$50,2,0))","v":""},{"$f":"IF(ISERROR(VLOOKUP(6,[2]LISTAS!$A$15:$B$50,2,0)),\"\",VLOOKUP(6,[2]LISTAS!$A$15:$B$50,2,0))","v":""},null,{"$f":"_xlfn.IFS(T415=\"------\",AD415,T415=\"LA RELACIÓN DE ACTIVIDADES DEBE SER A PARTIR DE LA SIGUIENTE FILA\",\"LA RELACIÓN DE ACTIVIDADES DEBE SER A PARTIR DE LA SIGUIENTE FILA\",T415<>\"------\",T415)","v":""},null,"ok"]
[null,null,null,null,null,null,null,null,null,null,null,null,null,null,null,null,null,null,null,"",{"$f":"IF(ISERROR(VLOOKUP(E416,[2]LISTAS!$A$15:$B$50,2,0)),\"\",VLOOKUP(E416,[2]LISTAS!$A$15:$B$50,2,0))","v":""},{"$f":"IF(ISERROR(VLOOKUP(G416,[2]LISTAS!$A$15:$B$50,2,0)),\"\",VLOOKUP(G416,[2]LISTAS!$A$15:$B$50,2,0))","v":""},{"$f":"IF(ISERROR(VLOOKUP(I416,[2]LISTAS!$A$15:$B$50,2,0)),\"\",VLOOKUP(I416,[2]LISTAS!$A$15:$B$50,2,0))","v":""},{"$f":"IF(ISERROR(VLOOKUP(K416,[2]LISTAS!$A$15:$B$50,2,0)),\"\",VLOOKUP(K416,[2]LISTAS!$A$15:$B$50,2,0))","v":""},{"$f":"IF(ISERROR(VLOOKUP(M416,[2]LISTAS!$A$15:$B$50,2,0)),\"\",VLOOKUP(M416,[2]LISTAS!$A$15:$B$50,2,0))","v":""},{"$f":"IF(ISERROR(VLOOKUP(O416,[2]LISTAS!$A$15:$B$50,2,0)),\"\",VLOOKUP(O416,[2]LISTAS!$A$15:$B$50,2,0))","v":""},{"$f":"IF(ISERROR(VLOOKUP(6,[2]LISTAS!$A$15:$B$50,2,0)),\"\",VLOOKUP(6,[2]LISTAS!$A$15:$B$50,2,0))","v":""},null,{"$f":"_xlfn.IFS(T416=\"------\",AD416,T416=\"LA RELACIÓN DE ACTIVIDADES DEBE SER A PARTIR DE LA SIGUIENTE FILA\",\"LA RELACIÓN DE ACTIVIDADES DEBE SER A PARTIR DE LA SIGUIENTE FILA\",T416<>\"------\",T416)","v":""},null,"ok"]
[null,null,null,null,null,null,null,null,null,null,null,null,null,null,null,null,null,null,null,"",{"$f":"IF(ISERROR(VLOOKUP(E417,[2]LISTAS!$A$15:$B$50,2,0)),\"\",VLOOKUP(E417,[2]LISTAS!$A$15:$B$50,2,0))","v":""},{"$f":"IF(ISERROR(VLOOKUP(G417,[2]LISTAS!$A$15:$B$50,2,0)),\"\",VLOOKUP(G417,[2]LISTAS!$A$15:$B$50,2,0))","v":""},{"$f":"IF(ISERROR(VLOOKUP(I417,[2]LISTAS!$A$15:$B$50,2,0)),\"\",VLOOKUP(I417,[2]LISTAS!$A$15:$B$50,2,0))","v":""},{"$f":"IF(ISERROR(VLOOKUP(K417,[2]LISTAS!$A$15:$B$50,2,0)),\"\",VLOOKUP(K417,[2]LISTAS!$A$15:$B$50,2,0))","v":""},{"$f":"IF(ISERROR(VLOOKUP(M417,[2]LISTAS!$A$15:$B$50,2,0)),\"\",VLOOKUP(M417,[2]LISTAS!$A$15:$B$50,2,0))","v":""},{"$f":"IF(ISERROR(VLOOKUP(O417,[2]LISTAS!$A$15:$B$50,2,0)),\"\",VLOOKUP(O417,[2]LISTAS!$A$15:$B$50,2,0))","v":""},{"$f":"IF(ISERROR(VLOOKUP(6,[2]LISTAS!$A$15:$B$50,2,0)),\"\",VLOOKUP(6,[2]LISTAS!$A$15:$B$50,2,0))","v":""},null,{"$f":"_xlfn.IFS(T417=\"------\",AD417,T417=\"LA RELACIÓN DE ACTIVIDADES DEBE SER A PARTIR DE LA SIGUIENTE FILA\",\"LA RELACIÓN DE ACTIVIDADES DEBE SER A PARTIR DE LA SIGUIENTE FILA\",T417<>\"------\",T417)","v":""},null,"ok"]
[null,null,null,null,null,null,null,null,null,null,null,null,null,null,null,null,null,null,null,"",{"$f":"IF(ISERROR(VLOOKUP(E418,[2]LISTAS!$A$15:$B$50,2,0)),\"\",VLOOKUP(E418,[2]LISTAS!$A$15:$B$50,2,0))","v":""},{"$f":"IF(ISERROR(VLOOKUP(G418,[2]LISTAS!$A$15:$B$50,2,0)),\"\",VLOOKUP(G418,[2]LISTAS!$A$15:$B$50,2,0))","v":""},{"$f":"IF(ISERROR(VLOOKUP(I418,[2]LISTAS!$A$15:$B$50,2,0)),\"\",VLOOKUP(I418,[2]LISTAS!$A$15:$B$50,2,0))","v":""},{"$f":"IF(ISERROR(VLOOKUP(K418,[2]LISTAS!$A$15:$B$50,2,0)),\"\",VLOOKUP(K418,[2]LISTAS!$A$15:$B$50,2,0))","v":""},{"$f":"IF(ISERROR(VLOOKUP(M418,[2]LISTAS!$A$15:$B$50,2,0)),\"\",VLOOKUP(M418,[2]LISTAS!$A$15:$B$50,2,0))","v":""},{"$f":"IF(ISERROR(VLOOKUP(O418,[2]LISTAS!$A$15:$B$50,2,0)),\"\",VLOOKUP(O418,[2]LISTAS!$A$15:$B$50,2,0))","v":""},{"$f":"IF(ISERROR(VLOOKUP(6,[2]LISTAS!$A$15:$B$50,2,0)),\"\",VLOOKUP(6,[2]LISTAS!$A$15:$B$50,2,0))","v":""},null,{"$f":"_xlfn.IFS(T418=\"------\",AD418,T418=\"LA RELACIÓN DE ACTIVIDADES DEBE SER A PARTIR DE LA SIGUIENTE FILA\",\"LA RELACIÓN DE ACTIVIDADES DEBE SER A PARTIR DE LA SIGUIENTE FILA\",T418<>\"------\",T418)","v":""},null,"ok"]
[null,null,null,null,null,null,null,null,null,null,null,null,null,null,null,null,null,null,null,"",{"$f":"IF(ISERROR(VLOOKUP(E419,[2]LISTAS!$A$15:$B$50,2,0)),\"\",VLOOKUP(E419,[2]LISTAS!$A$15:$B$50,2,0))","v":""},{"$f":"IF(ISERROR(VLOOKUP(G419,[2]LISTAS!$A$15:$B$50,2,0)),\"\",VLOOKUP(G419,[2]LISTAS!$A$15:$B$50,2,0))","v":""},{"$f":"IF(ISERROR(VLOOKUP(I419,[2]LISTAS!$A$15:$B$50,2,0)),\"\",VLOOKUP(I419,[2]LISTAS!$A$15:$B$50,2,0))","v":""},{"$f":"IF(ISERROR(VLOOKUP(K419,[2]LISTAS!$A$15:$B$50,2,0)),\"\",VLOOKUP(K419,[2]LISTAS!$A$15:$B$50,2,0))","v":""},{"$f":"IF(ISERROR(VLOOKUP(M419,[2]LISTAS!$A$15:$B$50,2,0)),\"\",VLOOKUP(M419,[2]LISTAS!$A$15:$B$50,2,0))","v":""},{"$f":"IF(ISERROR(VLOOKUP(O419,[2]LISTAS!$A$15:$B$50,2,0)),\"\",VLOOKUP(O419,[2]LISTAS!$A$15:$B$50,2,0))","v":""},{"$f":"IF(ISERROR(VLOOKUP(6,[2]LISTAS!$A$15:$B$50,2,0)),\"\",VLOOKUP(6,[2]LISTAS!$A$15:$B$50,2,0))","v":""},null,{"$f":"_xlfn.IFS(T419=\"------\",AD419,T419=\"LA RELACIÓN DE ACTIVIDADES DEBE SER A PARTIR DE LA SIGUIENTE FILA\",\"LA RELACIÓN DE ACTIVIDADES DEBE SER A PARTIR DE LA SIGUIENTE FILA\",T419<>\"------\",T419)","v":""},null,"ok"]
[null,null,null,null,null,null,null,null,null,null,null,null,null,null,null,null,null,null,null,"",{"$f":"IF(ISERROR(VLOOKUP(E420,[2]LISTAS!$A$15:$B$50,2,0)),\"\",VLOOKUP(E420,[2]LISTAS!$A$15:$B$50,2,0))","v":""},{"$f":"IF(ISERROR(VLOOKUP(G420,[2]LISTAS!$A$15:$B$50,2,0)),\"\",VLOOKUP(G420,[2]LISTAS!$A$15:$B$50,2,0))","v":""},{"$f":"IF(ISERROR(VLOOKUP(I420,[2]LISTAS!$A$15:$B$50,2,0)),\"\",VLOOKUP(I420,[2]LISTAS!$A$15:$B$50,2,0))","v":""},{"$f":"IF(ISERROR(VLOOKUP(K420,[2]LISTAS!$A$15:$B$50,2,0)),\"\",VLOOKUP(K420,[2]LISTAS!$A$15:$B$50,2,0))","v":""},{"$f":"IF(ISERROR(VLOOKUP(M420,[2]LISTAS!$A$15:$B$50,2,0)),\"\",VLOOKUP(M420,[2]LISTAS!$A$15:$B$50,2,0))","v":""},{"$f":"IF(ISERROR(VLOOKUP(O420,[2]LISTAS!$A$15:$B$50,2,0)),\"\",VLOOKUP(O420,[2]LISTAS!$A$15:$B$50,2,0))","v":""},{"$f":"IF(ISERROR(VLOOKUP(6,[2]LISTAS!$A$15:$B$50,2,0)),\"\",VLOOKUP(6,[2]LISTAS!$A$15:$B$50,2,0))","v":""},null,{"$f":"_xlfn.IFS(T420=\"------\",AD420,T420=\"LA RELACIÓN DE ACTIVIDADES DEBE SER A PARTIR DE LA SIGUIENTE FILA\",\"LA RELACIÓN DE ACTIVIDADES DEBE SER A PARTIR DE LA SIGUIENTE FILA\",T420<>\"------\",T420)","v":""},null,"ok"]
[null,null,null,null,null,null,null,null,null,null,null,null,null,null,null,null,null,null,null,"",{"$f":"IF(ISERROR(VLOOKUP(E421,[2]LISTAS!$A$15:$B$50,2,0)),\"\",VLOOKUP(E421,[2]LISTAS!$A$15:$B$50,2,0))","v":""},{"$f":"IF(ISERROR(VLOOKUP(G421,[2]LISTAS!$A$15:$B$50,2,0)),\"\",VLOOKUP(G421,[2]LISTAS!$A$15:$B$50,2,0))","v":""},{"$f":"IF(ISERROR(VLOOKUP(I421,[2]LISTAS!$A$15:$B$50,2,0)),\"\",VLOOKUP(I421,[2]LISTAS!$A$15:$B$50,2,0))","v":""},{"$f":"IF(ISERROR(VLOOKUP(K421,[2]LISTAS!$A$15:$B$50,2,0)),\"\",VLOOKUP(K421,[2]LISTAS!$A$15:$B$50,2,0))","v":""},{"$f":"IF(ISERROR(VLOOKUP(M421,[2]LISTAS!$A$15:$B$50,2,0)),\"\",VLOOKUP(M421,[2]LISTAS!$A$15:$B$50,2,0))","v":""},{"$f":"IF(ISERROR(VLOOKUP(O421,[2]LISTAS!$A$15:$B$50,2,0)),\"\",VLOOKUP(O421,[2]LISTAS!$A$15:$B$50,2,0))","v":""},{"$f":"IF(ISERROR(VLOOKUP(6,[2]LISTAS!$A$15:$B$50,2,0)),\"\",VLOOKUP(6,[2]LISTAS!$A$15:$B$50,2,0))","v":""},null,{"$f":"_xlfn.IFS(T421=\"------\",AD421,T421=\"LA RELACIÓN DE ACTIVIDADES DEBE SER A PARTIR DE LA SIGUIENTE FILA\",\"LA RELACIÓN DE ACTIVIDADES DEBE SER A PARTIR DE LA SIGUIENTE FILA\",T421<>\"------\",T421)","v":""},null,"ok"]
[null,null,null,null,null,null,null,null,null,null,null,null,null,null,null,null,null,null,null,"",{"$f":"IF(ISERROR(VLOOKUP(E422,[2]LISTAS!$A$15:$B$50,2,0)),\"\",VLOOKUP(E422,[2]LISTAS!$A$15:$B$50,2,0))","v":""},{"$f":"IF(ISERROR(VLOOKUP(G422,[2]LISTAS!$A$15:$B$50,2,0)),\"\",VLOOKUP(G422,[2]LISTAS!$A$15:$B$50,2,0))","v":""},{"$f":"IF(ISERROR(VLOOKUP(I422,[2]LISTAS!$A$15:$B$50,2,0)),\"\",VLOOKUP(I422,[2]LISTAS!$A$15:$B$50,2,0))","v":""},{"$f":"IF(ISERROR(VLOOKUP(K422,[2]LISTAS!$A$15:$B$50,2,0)),\"\",VLOOKUP(K422,[2]LISTAS!$A$15:$B$50,2,0))","v":""},{"$f":"IF(ISERROR(VLOOKUP(M422,[2]LISTAS!$A$15:$B$50,2,0)),\"\",VLOOKUP(M422,[2]LISTAS!$A$15:$B$50,2,0))","v":""},{"$f":"IF(ISERROR(VLOOKUP(O422,[2]LISTAS!$A$15:$B$50,2,0)),\"\",VLOOKUP(O422,[2]LISTAS!$A$15:$B$50,2,0))","v":""},{"$f":"IF(ISERROR(VLOOKUP(6,[2]LISTAS!$A$15:$B$50,2,0)),\"\",VLOOKUP(6,[2]LISTAS!$A$15:$B$50,2,0))","v":""},null,{"$f":"_xlfn.IFS(T422=\"------\",AD422,T422=\"LA RELACIÓN DE ACTIVIDADES DEBE SER A PARTIR DE LA SIGUIENTE FILA\",\"LA RELACIÓN DE ACTIVIDADES DEBE SER A PARTIR DE LA SIGUIENTE FILA\",T422<>\"------\",T422)","v":""},null,"ok"]
[null,null,null,null,null,null,null,null,null,null,null,null,null,null,null,null,null,null,null,"",{"$f":"IF(ISERROR(VLOOKUP(E423,[2]LISTAS!$A$15:$B$50,2,0)),\"\",VLOOKUP(E423,[2]LISTAS!$A$15:$B$50,2,0))","v":""},{"$f":"IF(ISERROR(VLOOKUP(G423,[2]LISTAS!$A$15:$B$50,2,0)),\"\",VLOOKUP(G423,[2]LISTAS!$A$15:$B$50,2,0))","v":""},{"$f":"IF(ISERROR(VLOOKUP(I423,[2]LISTAS!$A$15:$B$50,2,0)),\"\",VLOOKUP(I423,[2]LISTAS!$A$15:$B$50,2,0))","v":""},{"$f":"IF(ISERROR(VLOOKUP(K423,[2]LISTAS!$A$15:$B$50,2,0)),\"\",VLOOKUP(K423,[2]LISTAS!$A$15:$B$50,2,0))","v":""},{"$f":"IF(ISERROR(VLOOKUP(M423,[2]LISTAS!$A$15:$B$50,2,0)),\"\",VLOOKUP(M423,[2]LISTAS!$A$15:$B$50,2,0))","v":""},{"$f":"IF(ISERROR(VLOOKUP(O423,[2]LISTAS!$A$15:$B$50,2,0)),\"\",VLOOKUP(O423,[2]LISTAS!$A$15:$B$50,2,0))","v":""},{"$f":"IF(ISERROR(VLOOKUP(6,[2]LISTAS!$A$15:$B$50,2,0)),\"\",VLOOKUP(6,[2]LISTAS!$A$15:$B$50,2,0))","v":""},null,{"$f":"_xlfn.IFS(T423=\"------\",AD423,T423=\"LA RELACIÓN DE ACTIVIDADES DEBE SER A PARTIR DE LA SIGUIENTE FILA\",\"LA RELACIÓN DE ACTIVIDADES DEBE SER A PARTIR DE LA SIGUIENTE FILA\",T423<>\"------\",T423)","v":""},null,"ok"]
[null,null,null,null,null,null,null,null,null,null,null,null,null,null,null,null,null,null,null,"",{"$f":"IF(ISERROR(VLOOKUP(E424,[2]LISTAS!$A$15:$B$50,2,0)),\"\",VLOOKUP(E424,[2]LISTAS!$A$15:$B$50,2,0))","v":""},{"$f":"IF(ISERROR(VLOOKUP(G424,[2]LISTAS!$A$15:$B$50,2,0)),\"\",VLOOKUP(G424,[2]LISTAS!$A$15:$B$50,2,0))","v":""},{"$f":"IF(ISERROR(VLOOKUP(I424,[2]LISTAS!$A$15:$B$50,2,0)),\"\",VLOOKUP(I424,[2]LISTAS!$A$15:$B$50,2,0))","v":""},{"$f":"IF(ISERROR(VLOOKUP(K424,[2]LISTAS!$A$15:$B$50,2,0)),\"\",VLOOKUP(K424,[2]LISTAS!$A$15:$B$50,2,0))","v":""},{"$f":"IF(ISERROR(VLOOKUP(M424,[2]LISTAS!$A$15:$B$50,2,0)),\"\",VLOOKUP(M424,[2]LISTAS!$A$15:$B$50,2,0))","v":""},{"$f":"IF(ISERROR(VLOOKUP(O424,[2]LISTAS!$A$15:$B$50,2,0)),\"\",VLOOKUP(O424,[2]LISTAS!$A$15:$B$50,2,0))","v":""},{"$f":"IF(ISERROR(VLOOKUP(6,[2]LISTAS!$A$15:$B$50,2,0)),\"\",VLOOKUP(6,[2]LISTAS!$A$15:$B$50,2,0))","v":""},null,{"$f":"_xlfn.IFS(T424=\"------\",AD424,T424=\"LA RELACIÓN DE ACTIVIDADES DEBE SER A PARTIR DE LA SIGUIENTE FILA\",\"LA RELACIÓN DE ACTIVIDADES DEBE SER A PARTIR DE LA SIGUIENTE FILA\",T424<>\"------\",T424)","v":""},null,"ok"]
[null,null,null,null,null,null,null,null,null,null,null,null,null,null,null,null,null,null,null,"",{"$f":"IF(ISERROR(VLOOKUP(E425,[2]LISTAS!$A$15:$B$50,2,0)),\"\",VLOOKUP(E425,[2]LISTAS!$A$15:$B$50,2,0))","v":""},{"$f":"IF(ISERROR(VLOOKUP(G425,[2]LISTAS!$A$15:$B$50,2,0)),\"\",VLOOKUP(G425,[2]LISTAS!$A$15:$B$50,2,0))","v":""},{"$f":"IF(ISERROR(VLOOKUP(I425,[2]LISTAS!$A$15:$B$50,2,0)),\"\",VLOOKUP(I425,[2]LISTAS!$A$15:$B$50,2,0))","v":""},{"$f":"IF(ISERROR(VLOOKUP(K425,[2]LISTAS!$A$15:$B$50,2,0)),\"\",VLOOKUP(K425,[2]LISTAS!$A$15:$B$50,2,0))","v":""},{"$f":"IF(ISERROR(VLOOKUP(M425,[2]LISTAS!$A$15:$B$50,2,0)),\"\",VLOOKUP(M425,[2]LISTAS!$A$15:$B$50,2,0))","v":""},{"$f":"IF(ISERROR(VLOOKUP(O425,[2]LISTAS!$A$15:$B$50,2,0)),\"\",VLOOKUP(O425,[2]LISTAS!$A$15:$B$50,2,0))","v":""},{"$f":"IF(ISERROR(VLOOKUP(6,[2]LISTAS!$A$15:$B$50,2,0)),\"\",VLOOKUP(6,[2]LISTAS!$A$15:$B$50,2,0))","v":""},null,{"$f":"_xlfn.IFS(T425=\"------\",AD425,T425=\"LA RELACIÓN DE ACTIVIDADES DEBE SER A PARTIR DE LA SIGUIENTE FILA\",\"LA RELACIÓN DE ACTIVIDADES DEBE SER A PARTIR DE LA SIGUIENTE FILA\",T425<>\"------\",T425)","v":""},null,"ok"]
[null,null,null,null,null,null,null,null,null,null,null,null,null,null,null,null,null,null,null,"",{"$f":"IF(ISERROR(VLOOKUP(E426,[2]LISTAS!$A$15:$B$50,2,0)),\"\",VLOOKUP(E426,[2]LISTAS!$A$15:$B$50,2,0))","v":""},{"$f":"IF(ISERROR(VLOOKUP(G426,[2]LISTAS!$A$15:$B$50,2,0)),\"\",VLOOKUP(G426,[2]LISTAS!$A$15:$B$50,2,0))","v":""},{"$f":"IF(ISERROR(VLOOKUP(I426,[2]LISTAS!$A$15:$B$50,2,0)),\"\",VLOOKUP(I426,[2]LISTAS!$A$15:$B$50,2,0))","v":""},{"$f":"IF(ISERROR(VLOOKUP(K426,[2]LISTAS!$A$15:$B$50,2,0)),\"\",VLOOKUP(K426,[2]LISTAS!$A$15:$B$50,2,0))","v":""},{"$f":"IF(ISERROR(VLOOKUP(M426,[2]LISTAS!$A$15:$B$50,2,0)),\"\",VLOOKUP(M426,[2]LISTAS!$A$15:$B$50,2,0))","v":""},{"$f":"IF(ISERROR(VLOOKUP(O426,[2]LISTAS!$A$15:$B$50,2,0)),\"\",VLOOKUP(O426,[2]LISTAS!$A$15:$B$50,2,0))","v":""},{"$f":"IF(ISERROR(VLOOKUP(6,[2]LISTAS!$A$15:$B$50,2,0)),\"\",VLOOKUP(6,[2]LISTAS!$A$15:$B$50,2,0))","v":""},null,{"$f":"_xlfn.IFS(T426=\"------\",AD426,T426=\"LA RELACIÓN DE ACTIVIDADES DEBE SER A PARTIR DE LA SIGUIENTE FILA\",\"LA RELACIÓN DE ACTIVIDADES DEBE SER A PARTIR DE LA SIGUIENTE FILA\",T426<>\"------\",T426)","v":""},null,"ok"]
[null,null,null,null,null,null,null,null,null,null,null,null,null,null,null,null,null,null,null,"",{"$f":"IF(ISERROR(VLOOKUP(E427,[2]LISTAS!$A$15:$B$50,2,0)),\"\",VLOOKUP(E427,[2]LISTAS!$A$15:$B$50,2,0))","v":""},{"$f":"IF(ISERROR(VLOOKUP(G427,[2]LISTAS!$A$15:$B$50,2,0)),\"\",VLOOKUP(G427,[2]LISTAS!$A$15:$B$50,2,0))","v":""},{"$f":"IF(ISERROR(VLOOKUP(I427,[2]LISTAS!$A$15:$B$50,2,0)),\"\",VLOOKUP(I427,[2]LISTAS!$A$15:$B$50,2,0))","v":""},{"$f":"IF(ISERROR(VLOOKUP(K427,[2]LISTAS!$A$15:$B$50,2,0)),\"\",VLOOKUP(K427,[2]LISTAS!$A$15:$B$50,2,0))","v":""},{"$f":"IF(ISERROR(VLOOKUP(M427,[2]LISTAS!$A$15:$B$50,2,0)),\"\",VLOOKUP(M427,[2]LISTAS!$A$15:$B$50,2,0))","v":""},{"$f":"IF(ISERROR(VLOOKUP(O427,[2]LISTAS!$A$15:$B$50,2,0)),\"\",VLOOKUP(O427,[2]LISTAS!$A$15:$B$50,2,0))","v":""},{"$f":"IF(ISERROR(VLOOKUP(6,[2]LISTAS!$A$15:$B$50,2,0)),\"\",VLOOKUP(6,[2]LISTAS!$A$15:$B$50,2,0))","v":""},null,{"$f":"_xlfn.IFS(T427=\"------\",AD427,T427=\"LA RELACIÓN DE ACTIVIDADES DEBE SER A PARTIR DE LA SIGUIENTE FILA\",\"LA RELACIÓN DE ACTIVIDADES DEBE SER A PARTIR DE LA SIGUIENTE FILA\",T427<>\"------\",T427)","v":""},null,"ok"]
[null,null,null,null,null,null,null,null,null,null,null,null,null,null,null,null,null,null,null,"",{"$f":"IF(ISERROR(VLOOKUP(E428,[2]LISTAS!$A$15:$B$50,2,0)),\"\",VLOOKUP(E428,[2]LISTAS!$A$15:$B$50,2,0))","v":""},{"$f":"IF(ISERROR(VLOOKUP(G428,[2]LISTAS!$A$15:$B$50,2,0)),\"\",VLOOKUP(G428,[2]LISTAS!$A$15:$B$50,2,0))","v":""},{"$f":"IF(ISERROR(VLOOKUP(I428,[2]LISTAS!$A$15:$B$50,2,0)),\"\",VLOOKUP(I428,[2]LISTAS!$A$15:$B$50,2,0))","v":""},{"$f":"IF(ISERROR(VLOOKUP(K428,[2]LISTAS!$A$15:$B$50,2,0)),\"\",VLOOKUP(K428,[2]LISTAS!$A$15:$B$50,2,0))","v":""},{"$f":"IF(ISERROR(VLOOKUP(M428,[2]LISTAS!$A$15:$B$50,2,0)),\"\",VLOOKUP(M428,[2]LISTAS!$A$15:$B$50,2,0))","v":""},{"$f":"IF(ISERROR(VLOOKUP(O428,[2]LISTAS!$A$15:$B$50,2,0)),\"\",VLOOKUP(O428,[2]LISTAS!$A$15:$B$50,2,0))","v":""},{"$f":"IF(ISERROR(VLOOKUP(6,[2]LISTAS!$A$15:$B$50,2,0)),\"\",VLOOKUP(6,[2]LISTAS!$A$15:$B$50,2,0))","v":""},null,{"$f":"_xlfn.IFS(T428=\"------\",AD428,T428=\"LA RELACIÓN DE ACTIVIDADES DEBE SER A PARTIR DE LA SIGUIENTE FILA\",\"LA RELACIÓN DE ACTIVIDADES DEBE SER A PARTIR DE LA SIGUIENTE FILA\",T428<>\"------\",T428)","v":""},null,"ok"]
[null,null,null,null,null,null,null,null,null,null,null,null,null,null,null,null,null,null,null,"",{"$f":"IF(ISERROR(VLOOKUP(E429,[2]LISTAS!$A$15:$B$50,2,0)),\"\",VLOOKUP(E429,[2]LISTAS!$A$15:$B$50,2,0))","v":""},{"$f":"IF(ISERROR(VLOOKUP(G429,[2]LISTAS!$A$15:$B$50,2,0)),\"\",VLOOKUP(G429,[2]LISTAS!$A$15:$B$50,2,0))","v":""},{"$f":"IF(ISERROR(VLOOKUP(I429,[2]LISTAS!$A$15:$B$50,2,0)),\"\",VLOOKUP(I429,[2]LISTAS!$A$15:$B$50,2,0))","v":""},{"$f":"IF(ISERROR(VLOOKUP(K429,[2]LISTAS!$A$15:$B$50,2,0)),\"\",VLOOKUP(K429,[2]LISTAS!$A$15:$B$50,2,0))","v":""},{"$f":"IF(ISERROR(VLOOKUP(M429,[2]LISTAS!$A$15:$B$50,2,0)),\"\",VLOOKUP(M429,[2]LISTAS!$A$15:$B$50,2,0))","v":""},{"$f":"IF(ISERROR(VLOOKUP(O429,[2]LISTAS!$A$15:$B$50,2,0)),\"\",VLOOKUP(O429,[2]LISTAS!$A$15:$B$50,2,0))","v":""},{"$f":"IF(ISERROR(VLOOKUP(6,[2]LISTAS!$A$15:$B$50,2,0)),\"\",VLOOKUP(6,[2]LISTAS!$A$15:$B$50,2,0))","v":""},null,{"$f":"_xlfn.IFS(T429=\"------\",AD429,T429=\"LA RELACIÓN DE ACTIVIDADES DEBE SER A PARTIR DE LA SIGUIENTE FILA\",\"LA RELACIÓN DE ACTIVIDADES DEBE SER A PARTIR DE LA SIGUIENTE FILA\",T429<>\"------\",T429)","v":""},null,"ok"]
[null,null,null,null,null,null,null,null,null,null,null,null,null,null,null,null,null,null,null,"",{"$f":"IF(ISERROR(VLOOKUP(E430,[2]LISTAS!$A$15:$B$50,2,0)),\"\",VLOOKUP(E430,[2]LISTAS!$A$15:$B$50,2,0))","v":""},{"$f":"IF(ISERROR(VLOOKUP(G430,[2]LISTAS!$A$15:$B$50,2,0)),\"\",VLOOKUP(G430,[2]LISTAS!$A$15:$B$50,2,0))","v":""},{"$f":"IF(ISERROR(VLOOKUP(I430,[2]LISTAS!$A$15:$B$50,2,0)),\"\",VLOOKUP(I430,[2]LISTAS!$A$15:$B$50,2,0))","v":""},{"$f":"IF(ISERROR(VLOOKUP(K430,[2]LISTAS!$A$15:$B$50,2,0)),\"\",VLOOKUP(K430,[2]LISTAS!$A$15:$B$50,2,0))","v":""},{"$f":"IF(ISERROR(VLOOKUP(M430,[2]LISTAS!$A$15:$B$50,2,0)),\"\",VLOOKUP(M430,[2]LISTAS!$A$15:$B$50,2,0))","v":""},{"$f":"IF(ISERROR(VLOOKUP(O430,[2]LISTAS!$A$15:$B$50,2,0)),\"\",VLOOKUP(O430,[2]LISTAS!$A$15:$B$50,2,0))","v":""},{"$f":"IF(ISERROR(VLOOKUP(6,[2]LISTAS!$A$15:$B$50,2,0)),\"\",VLOOKUP(6,[2]LISTAS!$A$15:$B$50,2,0))","v":""},null,{"$f":"_xlfn.IFS(T430=\"------\",AD430,T430=\"LA RELACIÓN DE ACTIVIDADES DEBE SER A PARTIR DE LA SIGUIENTE FILA\",\"LA RELACIÓN DE ACTIVIDADES DEBE SER A PARTIR DE LA SIGUIENTE FILA\",T430<>\"------\",T430)","v":""},null,"ok"]
[null,null,null,null,null,null,null,null,null,null,null,null,null,null,null,null,null,null,null,"",{"$f":"IF(ISERROR(VLOOKUP(E431,[2]LISTAS!$A$15:$B$50,2,0)),\"\",VLOOKUP(E431,[2]LISTAS!$A$15:$B$50,2,0))","v":""},{"$f":"IF(ISERROR(VLOOKUP(G431,[2]LISTAS!$A$15:$B$50,2,0)),\"\",VLOOKUP(G431,[2]LISTAS!$A$15:$B$50,2,0))","v":""},{"$f":"IF(ISERROR(VLOOKUP(I431,[2]LISTAS!$A$15:$B$50,2,0)),\"\",VLOOKUP(I431,[2]LISTAS!$A$15:$B$50,2,0))","v":""},{"$f":"IF(ISERROR(VLOOKUP(K431,[2]LISTAS!$A$15:$B$50,2,0)),\"\",VLOOKUP(K431,[2]LISTAS!$A$15:$B$50,2,0))","v":""},{"$f":"IF(ISERROR(VLOOKUP(M431,[2]LISTAS!$A$15:$B$50,2,0)),\"\",VLOOKUP(M431,[2]LISTAS!$A$15:$B$50,2,0))","v":""},{"$f":"IF(ISERROR(VLOOKUP(O431,[2]LISTAS!$A$15:$B$50,2,0)),\"\",VLOOKUP(O431,[2]LISTAS!$A$15:$B$50,2,0))","v":""},{"$f":"IF(ISERROR(VLOOKUP(6,[2]LISTAS!$A$15:$B$50,2,0)),\"\",VLOOKUP(6,[2]LISTAS!$A$15:$B$50,2,0))","v":""},null,{"$f":"_xlfn.IFS(T431=\"------\",AD431,T431=\"LA RELACIÓN DE ACTIVIDADES DEBE SER A PARTIR DE LA SIGUIENTE FILA\",\"LA RELACIÓN DE ACTIVIDADES DEBE SER A PARTIR DE LA SIGUIENTE FILA\",T431<>\"------\",T431)","v":""},null,"ok"]
[null,null,null,null,null,null,null,null,null,null,null,null,null,null,null,null,null,null,null,"",{"$f":"IF(ISERROR(VLOOKUP(E432,[2]LISTAS!$A$15:$B$50,2,0)),\"\",VLOOKUP(E432,[2]LISTAS!$A$15:$B$50,2,0))","v":""},{"$f":"IF(ISERROR(VLOOKUP(G432,[2]LISTAS!$A$15:$B$50,2,0)),\"\",VLOOKUP(G432,[2]LISTAS!$A$15:$B$50,2,0))","v":""},{"$f":"IF(ISERROR(VLOOKUP(I432,[2]LISTAS!$A$15:$B$50,2,0)),\"\",VLOOKUP(I432,[2]LISTAS!$A$15:$B$50,2,0))","v":""},{"$f":"IF(ISERROR(VLOOKUP(K432,[2]LISTAS!$A$15:$B$50,2,0)),\"\",VLOOKUP(K432,[2]LISTAS!$A$15:$B$50,2,0))","v":""},{"$f":"IF(ISERROR(VLOOKUP(M432,[2]LISTAS!$A$15:$B$50,2,0)),\"\",VLOOKUP(M432,[2]LISTAS!$A$15:$B$50,2,0))","v":""},{"$f":"IF(ISERROR(VLOOKUP(O432,[2]LISTAS!$A$15:$B$50,2,0)),\"\",VLOOKUP(O432,[2]LISTAS!$A$15:$B$50,2,0))","v":""},{"$f":"IF(ISERROR(VLOOKUP(6,[2]LISTAS!$A$15:$B$50,2,0)),\"\",VLOOKUP(6,[2]LISTAS!$A$15:$B$50,2,0))","v":""},null,{"$f":"_xlfn.IFS(T432=\"------\",AD432,T432=\"LA RELACIÓN DE ACTIVIDADES DEBE SER A PARTIR DE LA SIGUIENTE FILA\",\"LA RELACIÓN DE ACTIVIDADES DEBE SER A PARTIR DE LA SIGUIENTE FILA\",T432<>\"------\",T432)","v":""},null,"ok"]
[null,null,null,null,null,null,null,null,null,null,null,null,null,null,null,null,null,null,null,"",{"$f":"IF(ISERROR(VLOOKUP(E433,[2]LISTAS!$A$15:$B$50,2,0)),\"\",VLOOKUP(E433,[2]LISTAS!$A$15:$B$50,2,0))","v":""},{"$f":"IF(ISERROR(VLOOKUP(G433,[2]LISTAS!$A$15:$B$50,2,0)),\"\",VLOOKUP(G433,[2]LISTAS!$A$15:$B$50,2,0))","v":""},{"$f":"IF(ISERROR(VLOOKUP(I433,[2]LISTAS!$A$15:$B$50,2,0)),\"\",VLOOKUP(I433,[2]LISTAS!$A$15:$B$50,2,0))","v":""},{"$f":"IF(ISERROR(VLOOKUP(K433,[2]LISTAS!$A$15:$B$50,2,0)),\"\",VLOOKUP(K433,[2]LISTAS!$A$15:$B$50,2,0))","v":""},{"$f":"IF(ISERROR(VLOOKUP(M433,[2]LISTAS!$A$15:$B$50,2,0)),\"\",VLOOKUP(M433,[2]LISTAS!$A$15:$B$50,2,0))","v":""},{"$f":"IF(ISERROR(VLOOKUP(O433,[2]LISTAS!$A$15:$B$50,2,0)),\"\",VLOOKUP(O433,[2]LISTAS!$A$15:$B$50,2,0))","v":""},{"$f":"IF(ISERROR(VLOOKUP(6,[2]LISTAS!$A$15:$B$50,2,0)),\"\",VLOOKUP(6,[2]LISTAS!$A$15:$B$50,2,0))","v":""},null,{"$f":"_xlfn.IFS(T433=\"------\",AD433,T433=\"LA RELACIÓN DE ACTIVIDADES DEBE SER A PARTIR DE LA SIGUIENTE FILA\",\"LA RELACIÓN DE ACTIVIDADES DEBE SER A PARTIR DE LA SIGUIENTE FILA\",T433<>\"------\",T433)","v":""},null,"ok"]
[null,null,null,null,null,null,null,null,null,null,null,null,null,null,null,null,null,null,null,"",{"$f":"IF(ISERROR(VLOOKUP(E434,[2]LISTAS!$A$15:$B$50,2,0)),\"\",VLOOKUP(E434,[2]LISTAS!$A$15:$B$50,2,0))","v":""},{"$f":"IF(ISERROR(VLOOKUP(G434,[2]LISTAS!$A$15:$B$50,2,0)),\"\",VLOOKUP(G434,[2]LISTAS!$A$15:$B$50,2,0))","v":""},{"$f":"IF(ISERROR(VLOOKUP(I434,[2]LISTAS!$A$15:$B$50,2,0)),\"\",VLOOKUP(I434,[2]LISTAS!$A$15:$B$50,2,0))","v":""},{"$f":"IF(ISERROR(VLOOKUP(K434,[2]LISTAS!$A$15:$B$50,2,0)),\"\",VLOOKUP(K434,[2]LISTAS!$A$15:$B$50,2,0))","v":""},{"$f":"IF(ISERROR(VLOOKUP(M434,[2]LISTAS!$A$15:$B$50,2,0)),\"\",VLOOKUP(M434,[2]LISTAS!$A$15:$B$50,2,0))","v":""},{"$f":"IF(ISERROR(VLOOKUP(O434,[2]LISTAS!$A$15:$B$50,2,0)),\"\",VLOOKUP(O434,[2]LISTAS!$A$15:$B$50,2,0))","v":""},{"$f":"IF(ISERROR(VLOOKUP(6,[2]LISTAS!$A$15:$B$50,2,0)),\"\",VLOOKUP(6,[2]LISTAS!$A$15:$B$50,2,0))","v":""},null,{"$f":"_xlfn.IFS(T434=\"------\",AD434,T434=\"LA RELACIÓN DE ACTIVIDADES DEBE SER A PARTIR DE LA SIGUIENTE FILA\",\"LA RELACIÓN DE ACTIVIDADES DEBE SER A PARTIR DE LA SIGUIENTE FILA\",T434<>\"------\",T434)","v":""},null,"ok"]
[null,null,null,null,null,null,null,null,null,null,null,null,null,null,null,null,null,null,null,"",{"$f":"IF(ISERROR(VLOOKUP(E435,[2]LISTAS!$A$15:$B$50,2,0)),\"\",VLOOKUP(E435,[2]LISTAS!$A$15:$B$50,2,0))","v":""},{"$f":"IF(ISERROR(VLOOKUP(G435,[2]LISTAS!$A$15:$B$50,2,0)),\"\",VLOOKUP(G435,[2]LISTAS!$A$15:$B$50,2,0))","v":""},{"$f":"IF(ISERROR(VLOOKUP(I435,[2]LISTAS!$A$15:$B$50,2,0)),\"\",VLOOKUP(I435,[2]LISTAS!$A$15:$B$50,2,0))","v":""},{"$f":"IF(ISERROR(VLOOKUP(K435,[2]LISTAS!$A$15:$B$50,2,0)),\"\",VLOOKUP(K435,[2]LISTAS!$A$15:$B$50,2,0))","v":""},{"$f":"IF(ISERROR(VLOOKUP(M435,[2]LISTAS!$A$15:$B$50,2,0)),\"\",VLOOKUP(M435,[2]LISTAS!$A$15:$B$50,2,0))","v":""},{"$f":"IF(ISERROR(VLOOKUP(O435,[2]LISTAS!$A$15:$B$50,2,0)),\"\",VLOOKUP(O435,[2]LISTAS!$A$15:$B$50,2,0))","v":""},{"$f":"IF(ISERROR(VLOOKUP(6,[2]LISTAS!$A$15:$B$50,2,0)),\"\",VLOOKUP(6,[2]LISTAS!$A$15:$B$50,2,0))","v":""},null,{"$f":"_xlfn.IFS(T435=\"------\",AD435,T435=\"LA RELACIÓN DE ACTIVIDADES DEBE SER A PARTIR DE LA SIGUIENTE FILA\",\"LA RELACIÓN DE ACTIVIDADES DEBE SER A PARTIR DE LA SIGUIENTE FILA\",T435<>\"------\",T435)","v":""},null,"ok"]
[null,null,null,null,null,null,null,null,null,null,null,null,null,null,null,null,null,null,null,"",{"$f":"IF(ISERROR(VLOOKUP(E436,[2]LISTAS!$A$15:$B$50,2,0)),\"\",VLOOKUP(E436,[2]LISTAS!$A$15:$B$50,2,0))","v":""},{"$f":"IF(ISERROR(VLOOKUP(G436,[2]LISTAS!$A$15:$B$50,2,0)),\"\",VLOOKUP(G436,[2]LISTAS!$A$15:$B$50,2,0))","v":""},{"$f":"IF(ISERROR(VLOOKUP(I436,[2]LISTAS!$A$15:$B$50,2,0)),\"\",VLOOKUP(I436,[2]LISTAS!$A$15:$B$50,2,0))","v":""},{"$f":"IF(ISERROR(VLOOKUP(K436,[2]LISTAS!$A$15:$B$50,2,0)),\"\",VLOOKUP(K436,[2]LISTAS!$A$15:$B$50,2,0))","v":""},{"$f":"IF(ISERROR(VLOOKUP(M436,[2]LISTAS!$A$15:$B$50,2,0)),\"\",VLOOKUP(M436,[2]LISTAS!$A$15:$B$50,2,0))","v":""},{"$f":"IF(ISERROR(VLOOKUP(O436,[2]LISTAS!$A$15:$B$50,2,0)),\"\",VLOOKUP(O436,[2]LISTAS!$A$15:$B$50,2,0))","v":""},{"$f":"IF(ISERROR(VLOOKUP(6,[2]LISTAS!$A$15:$B$50,2,0)),\"\",VLOOKUP(6,[2]LISTAS!$A$15:$B$50,2,0))","v":""},null,{"$f":"_xlfn.IFS(T436=\"------\",AD436,T436=\"LA RELACIÓN DE ACTIVIDADES DEBE SER A PARTIR DE LA SIGUIENTE FILA\",\"LA RELACIÓN DE ACTIVIDADES DEBE SER A PARTIR DE LA SIGUIENTE FILA\",T436<>\"------\",T436)","v":""},null,"ok"]
[null,null,null,null,null,null,null,null,null,null,null,null,null,null,null,null,null,null,null,"",{"$f":"IF(ISERROR(VLOOKUP(E437,[2]LISTAS!$A$15:$B$50,2,0)),\"\",VLOOKUP(E437,[2]LISTAS!$A$15:$B$50,2,0))","v":""},{"$f":"IF(ISERROR(VLOOKUP(G437,[2]LISTAS!$A$15:$B$50,2,0)),\"\",VLOOKUP(G437,[2]LISTAS!$A$15:$B$50,2,0))","v":""},{"$f":"IF(ISERROR(VLOOKUP(I437,[2]LISTAS!$A$15:$B$50,2,0)),\"\",VLOOKUP(I437,[2]LISTAS!$A$15:$B$50,2,0))","v":""},{"$f":"IF(ISERROR(VLOOKUP(K437,[2]LISTAS!$A$15:$B$50,2,0)),\"\",VLOOKUP(K437,[2]LISTAS!$A$15:$B$50,2,0))","v":""},{"$f":"IF(ISERROR(VLOOKUP(M437,[2]LISTAS!$A$15:$B$50,2,0)),\"\",VLOOKUP(M437,[2]LISTAS!$A$15:$B$50,2,0))","v":""},{"$f":"IF(ISERROR(VLOOKUP(O437,[2]LISTAS!$A$15:$B$50,2,0)),\"\",VLOOKUP(O437,[2]LISTAS!$A$15:$B$50,2,0))","v":""},{"$f":"IF(ISERROR(VLOOKUP(6,[2]LISTAS!$A$15:$B$50,2,0)),\"\",VLOOKUP(6,[2]LISTAS!$A$15:$B$50,2,0))","v":""},null,{"$f":"_xlfn.IFS(T437=\"------\",AD437,T437=\"LA RELACIÓN DE ACTIVIDADES DEBE SER A PARTIR DE LA SIGUIENTE FILA\",\"LA RELACIÓN DE ACTIVIDADES DEBE SER A PARTIR DE LA SIGUIENTE FILA\",T437<>\"------\",T437)","v":""},null,"ok"]
[null,null,null,null,null,null,null,null,null,null,null,null,null,null,null,null,null,null,null,"",{"$f":"IF(ISERROR(VLOOKUP(E438,[2]LISTAS!$A$15:$B$50,2,0)),\"\",VLOOKUP(E438,[2]LISTAS!$A$15:$B$50,2,0))","v":""},{"$f":"IF(ISERROR(VLOOKUP(G438,[2]LISTAS!$A$15:$B$50,2,0)),\"\",VLOOKUP(G438,[2]LISTAS!$A$15:$B$50,2,0))","v":""},{"$f":"IF(ISERROR(VLOOKUP(I438,[2]LISTAS!$A$15:$B$50,2,0)),\"\",VLOOKUP(I438,[2]LISTAS!$A$15:$B$50,2,0))","v":""},{"$f":"IF(ISERROR(VLOOKUP(K438,[2]LISTAS!$A$15:$B$50,2,0)),\"\",VLOOKUP(K438,[2]LISTAS!$A$15:$B$50,2,0))","v":""},{"$f":"IF(ISERROR(VLOOKUP(M438,[2]LISTAS!$A$15:$B$50,2,0)),\"\",VLOOKUP(M438,[2]LISTAS!$A$15:$B$50,2,0))","v":""},{"$f":"IF(ISERROR(VLOOKUP(O438,[2]LISTAS!$A$15:$B$50,2,0)),\"\",VLOOKUP(O438,[2]LISTAS!$A$15:$B$50,2,0))","v":""},{"$f":"IF(ISERROR(VLOOKUP(6,[2]LISTAS!$A$15:$B$50,2,0)),\"\",VLOOKUP(6,[2]LISTAS!$A$15:$B$50,2,0))","v":""},null,{"$f":"_xlfn.IFS(T438=\"------\",AD438,T438=\"LA RELACIÓN DE ACTIVIDADES DEBE SER A PARTIR DE LA SIGUIENTE FILA\",\"LA RELACIÓN DE ACTIVIDADES DEBE SER A PARTIR DE LA SIGUIENTE FILA\",T438<>\"------\",T438)","v":""},null,"ok"]
[null,null,null,null,null,null,null,null,null,null,null,null,null,null,null,null,null,null,null,{"$f":"IF(AND(B439=\"\",C439=\"\"),\"\",IF(AND(D439<>\"\"),U439&\"-\"&V439&\"-\"&W439&\"-\"&X439&\"-\"&Y439&\"-\"&Z439&\"-\"&AA439,IF(AND(C439<>\"\"),\"LA RELACIÓN DE ACTIVIDADES DEBE SER A PARTIR DE LA SIGUIENTE FILA\",)))","v":""},{"$f":"IF(ISERROR(VLOOKUP(E439,[2]LISTAS!$A$15:$B$50,2,0)),\"\",VLOOKUP(E439,[2]LISTAS!$A$15:$B$50,2,0))","v":""},{"$f":"IF(ISERROR(VLOOKUP(G439,[2]LISTAS!$A$15:$B$50,2,0)),\"\",VLOOKUP(G439,[2]LISTAS!$A$15:$B$50,2,0))","v":""},{"$f":"IF(ISERROR(VLOOKUP(I439,[2]LISTAS!$A$15:$B$50,2,0)),\"\",VLOOKUP(I439,[2]LISTAS!$A$15:$B$50,2,0))","v":""},{"$f":"IF(ISERROR(VLOOKUP(K439,[2]LISTAS!$A$15:$B$50,2,0)),\"\",VLOOKUP(K439,[2]LISTAS!$A$15:$B$50,2,0))","v":""},{"$f":"IF(ISERROR(VLOOKUP(M439,[2]LISTAS!$A$15:$B$50,2,0)),\"\",VLOOKUP(M439,[2]LISTAS!$A$15:$B$50,2,0))","v":""},{"$f":"IF(ISERROR(VLOOKUP(O439,[2]LISTAS!$A$15:$B$50,2,0)),\"\",VLOOKUP(O439,[2]LISTAS!$A$15:$B$50,2,0))","v":""},{"$f":"IF(ISERROR(VLOOKUP(6,[2]LISTAS!$A$15:$B$50,2,0)),\"\",VLOOKUP(6,[2]LISTAS!$A$15:$B$50,2,0))","v":""},null,{"$f":"_xlfn.IFS(T439=\"------\",AD439,T439=\"LA RELACIÓN DE ACTIVIDADES DEBE SER A PARTIR DE LA SIGUIENTE FILA\",\"LA RELACIÓN DE ACTIVIDADES DEBE SER A PARTIR DE LA SIGUIENTE FILA\",T439<>\"------\",T439)","v":""},null,"ok"]
[null,null,null,null,null,null,null,null,null,null,null,null,null,null,null,null,null,null,null,"",{"$f":"IF(ISERROR(VLOOKUP(E440,[2]LISTAS!$A$15:$B$50,2,0)),\"\",VLOOKUP(E440,[2]LISTAS!$A$15:$B$50,2,0))","v":""},{"$f":"IF(ISERROR(VLOOKUP(G440,[2]LISTAS!$A$15:$B$50,2,0)),\"\",VLOOKUP(G440,[2]LISTAS!$A$15:$B$50,2,0))","v":""},{"$f":"IF(ISERROR(VLOOKUP(I440,[2]LISTAS!$A$15:$B$50,2,0)),\"\",VLOOKUP(I440,[2]LISTAS!$A$15:$B$50,2,0))","v":""},{"$f":"IF(ISERROR(VLOOKUP(K440,[2]LISTAS!$A$15:$B$50,2,0)),\"\",VLOOKUP(K440,[2]LISTAS!$A$15:$B$50,2,0))","v":""},{"$f":"IF(ISERROR(VLOOKUP(M440,[2]LISTAS!$A$15:$B$50,2,0)),\"\",VLOOKUP(M440,[2]LISTAS!$A$15:$B$50,2,0))","v":""},{"$f":"IF(ISERROR(VLOOKUP(O440,[2]LISTAS!$A$15:$B$50,2,0)),\"\",VLOOKUP(O440,[2]LISTAS!$A$15:$B$50,2,0))","v":""},{"$f":"IF(ISERROR(VLOOKUP(6,[2]LISTAS!$A$15:$B$50,2,0)),\"\",VLOOKUP(6,[2]LISTAS!$A$15:$B$50,2,0))","v":""},null,{"$f":"_xlfn.IFS(T440=\"------\",AD440,T440=\"LA RELACIÓN DE ACTIVIDADES DEBE SER A PARTIR DE LA SIGUIENTE FILA\",\"LA RELACIÓN DE ACTIVIDADES DEBE SER A PARTIR DE LA SIGUIENTE FILA\",T440<>\"------\",T440)","v":""},null,"ok"]
[null,null,null,null,null,null,null,null,null,null,null,null,null,null,null,null,null,null,null,"",{"$f":"IF(ISERROR(VLOOKUP(E441,[2]LISTAS!$A$15:$B$50,2,0)),\"\",VLOOKUP(E441,[2]LISTAS!$A$15:$B$50,2,0))","v":""},{"$f":"IF(ISERROR(VLOOKUP(G441,[2]LISTAS!$A$15:$B$50,2,0)),\"\",VLOOKUP(G441,[2]LISTAS!$A$15:$B$50,2,0))","v":""},{"$f":"IF(ISERROR(VLOOKUP(I441,[2]LISTAS!$A$15:$B$50,2,0)),\"\",VLOOKUP(I441,[2]LISTAS!$A$15:$B$50,2,0))","v":""},{"$f":"IF(ISERROR(VLOOKUP(K441,[2]LISTAS!$A$15:$B$50,2,0)),\"\",VLOOKUP(K441,[2]LISTAS!$A$15:$B$50,2,0))","v":""},{"$f":"IF(ISERROR(VLOOKUP(M441,[2]LISTAS!$A$15:$B$50,2,0)),\"\",VLOOKUP(M441,[2]LISTAS!$A$15:$B$50,2,0))","v":""},{"$f":"IF(ISERROR(VLOOKUP(O441,[2]LISTAS!$A$15:$B$50,2,0)),\"\",VLOOKUP(O441,[2]LISTAS!$A$15:$B$50,2,0))","v":""},{"$f":"IF(ISERROR(VLOOKUP(6,[2]LISTAS!$A$15:$B$50,2,0)),\"\",VLOOKUP(6,[2]LISTAS!$A$15:$B$50,2,0))","v":""},null,{"$f":"_xlfn.IFS(T441=\"------\",AD441,T441=\"LA RELACIÓN DE ACTIVIDADES DEBE SER A PARTIR DE LA SIGUIENTE FILA\",\"LA RELACIÓN DE ACTIVIDADES DEBE SER A PARTIR DE LA SIGUIENTE FILA\",T441<>\"------\",T441)","v":""},null,"ok"]
[null,null,null,null,null,null,null,null,null,null,null,null,null,null,null,null,null,null,null,"",{"$f":"IF(ISERROR(VLOOKUP(E442,[2]LISTAS!$A$15:$B$50,2,0)),\"\",VLOOKUP(E442,[2]LISTAS!$A$15:$B$50,2,0))","v":""},{"$f":"IF(ISERROR(VLOOKUP(G442,[2]LISTAS!$A$15:$B$50,2,0)),\"\",VLOOKUP(G442,[2]LISTAS!$A$15:$B$50,2,0))","v":""},{"$f":"IF(ISERROR(VLOOKUP(I442,[2]LISTAS!$A$15:$B$50,2,0)),\"\",VLOOKUP(I442,[2]LISTAS!$A$15:$B$50,2,0))","v":""},{"$f":"IF(ISERROR(VLOOKUP(K442,[2]LISTAS!$A$15:$B$50,2,0)),\"\",VLOOKUP(K442,[2]LISTAS!$A$15:$B$50,2,0))","v":""},{"$f":"IF(ISERROR(VLOOKUP(M442,[2]LISTAS!$A$15:$B$50,2,0)),\"\",VLOOKUP(M442,[2]LISTAS!$A$15:$B$50,2,0))","v":""},{"$f":"IF(ISERROR(VLOOKUP(O442,[2]LISTAS!$A$15:$B$50,2,0)),\"\",VLOOKUP(O442,[2]LISTAS!$A$15:$B$50,2,0))","v":""},{"$f":"IF(ISERROR(VLOOKUP(6,[2]LISTAS!$A$15:$B$50,2,0)),\"\",VLOOKUP(6,[2]LISTAS!$A$15:$B$50,2,0))","v":""},null,{"$f":"_xlfn.IFS(T442=\"------\",AD442,T442=\"LA RELACIÓN DE ACTIVIDADES DEBE SER A PARTIR DE LA SIGUIENTE FILA\",\"LA RELACIÓN DE ACTIVIDADES DEBE SER A PARTIR DE LA SIGUIENTE FILA\",T442<>\"------\",T442)","v":""},null,"ok"]
[null,null,null,null,null,null,null,null,null,null,null,null,null,null,null,null,null,null,null,"",{"$f":"IF(ISERROR(VLOOKUP(E443,[2]LISTAS!$A$15:$B$50,2,0)),\"\",VLOOKUP(E443,[2]LISTAS!$A$15:$B$50,2,0))","v":""},{"$f":"IF(ISERROR(VLOOKUP(G443,[2]LISTAS!$A$15:$B$50,2,0)),\"\",VLOOKUP(G443,[2]LISTAS!$A$15:$B$50,2,0))","v":""},{"$f":"IF(ISERROR(VLOOKUP(I443,[2]LISTAS!$A$15:$B$50,2,0)),\"\",VLOOKUP(I443,[2]LISTAS!$A$15:$B$50,2,0))","v":""},{"$f":"IF(ISERROR(VLOOKUP(K443,[2]LISTAS!$A$15:$B$50,2,0)),\"\",VLOOKUP(K443,[2]LISTAS!$A$15:$B$50,2,0))","v":""},{"$f":"IF(ISERROR(VLOOKUP(M443,[2]LISTAS!$A$15:$B$50,2,0)),\"\",VLOOKUP(M443,[2]LISTAS!$A$15:$B$50,2,0))","v":""},{"$f":"IF(ISERROR(VLOOKUP(O443,[2]LISTAS!$A$15:$B$50,2,0)),\"\",VLOOKUP(O443,[2]LISTAS!$A$15:$B$50,2,0))","v":""},{"$f":"IF(ISERROR(VLOOKUP(6,[2]LISTAS!$A$15:$B$50,2,0)),\"\",VLOOKUP(6,[2]LISTAS!$A$15:$B$50,2,0))","v":""},null,{"$f":"_xlfn.IFS(T443=\"------\",AD443,T443=\"LA RELACIÓN DE ACTIVIDADES DEBE SER A PARTIR DE LA SIGUIENTE FILA\",\"LA RELACIÓN DE ACTIVIDADES DEBE SER A PARTIR DE LA SIGUIENTE FILA\",T443<>\"------\",T443)","v":""},null,"ok"]
[null,null,null,null,null,null,null,null,null,null,null,null,null,null,null,null,null,null,null,"",{"$f":"IF(ISERROR(VLOOKUP(E444,[2]LISTAS!$A$15:$B$50,2,0)),\"\",VLOOKUP(E444,[2]LISTAS!$A$15:$B$50,2,0))","v":""},{"$f":"IF(ISERROR(VLOOKUP(G444,[2]LISTAS!$A$15:$B$50,2,0)),\"\",VLOOKUP(G444,[2]LISTAS!$A$15:$B$50,2,0))","v":""},{"$f":"IF(ISERROR(VLOOKUP(I444,[2]LISTAS!$A$15:$B$50,2,0)),\"\",VLOOKUP(I444,[2]LISTAS!$A$15:$B$50,2,0))","v":""},{"$f":"IF(ISERROR(VLOOKUP(K444,[2]LISTAS!$A$15:$B$50,2,0)),\"\",VLOOKUP(K444,[2]LISTAS!$A$15:$B$50,2,0))","v":""},{"$f":"IF(ISERROR(VLOOKUP(M444,[2]LISTAS!$A$15:$B$50,2,0)),\"\",VLOOKUP(M444,[2]LISTAS!$A$15:$B$50,2,0))","v":""},{"$f":"IF(ISERROR(VLOOKUP(O444,[2]LISTAS!$A$15:$B$50,2,0)),\"\",VLOOKUP(O444,[2]LISTAS!$A$15:$B$50,2,0))","v":""},{"$f":"IF(ISERROR(VLOOKUP(6,[2]LISTAS!$A$15:$B$50,2,0)),\"\",VLOOKUP(6,[2]LISTAS!$A$15:$B$50,2,0))","v":""},null,{"$f":"_xlfn.IFS(T444=\"------\",AD444,T444=\"LA RELACIÓN DE ACTIVIDADES DEBE SER A PARTIR DE LA SIGUIENTE FILA\",\"LA RELACIÓN DE ACTIVIDADES DEBE SER A PARTIR DE LA SIGUIENTE FILA\",T444<>\"------\",T444)","v":""},null,"ok"]
[null,null,null,null,null,null,null,null,null,null,null,null,null,null,null,null,null,null,null,"",{"$f":"IF(ISERROR(VLOOKUP(E445,[2]LISTAS!$A$15:$B$50,2,0)),\"\",VLOOKUP(E445,[2]LISTAS!$A$15:$B$50,2,0))","v":""},{"$f":"IF(ISERROR(VLOOKUP(G445,[2]LISTAS!$A$15:$B$50,2,0)),\"\",VLOOKUP(G445,[2]LISTAS!$A$15:$B$50,2,0))","v":""},{"$f":"IF(ISERROR(VLOOKUP(I445,[2]LISTAS!$A$15:$B$50,2,0)),\"\",VLOOKUP(I445,[2]LISTAS!$A$15:$B$50,2,0))","v":""},{"$f":"IF(ISERROR(VLOOKUP(K445,[2]LISTAS!$A$15:$B$50,2,0)),\"\",VLOOKUP(K445,[2]LISTAS!$A$15:$B$50,2,0))","v":""},{"$f":"IF(ISERROR(VLOOKUP(M445,[2]LISTAS!$A$15:$B$50,2,0)),\"\",VLOOKUP(M445,[2]LISTAS!$A$15:$B$50,2,0))","v":""},{"$f":"IF(ISERROR(VLOOKUP(O445,[2]LISTAS!$A$15:$B$50,2,0)),\"\",VLOOKUP(O445,[2]LISTAS!$A$15:$B$50,2,0))","v":""},{"$f":"IF(ISERROR(VLOOKUP(6,[2]LISTAS!$A$15:$B$50,2,0)),\"\",VLOOKUP(6,[2]LISTAS!$A$15:$B$50,2,0))","v":""},null,{"$f":"_xlfn.IFS(T445=\"------\",AD445,T445=\"LA RELACIÓN DE ACTIVIDADES DEBE SER A PARTIR DE LA SIGUIENTE FILA\",\"LA RELACIÓN DE ACTIVIDADES DEBE SER A PARTIR DE LA SIGUIENTE FILA\",T445<>\"------\",T445)","v":""},null,"ok"]
[null,null,null,null,null,null,null,null,null,null,null,null,null,null,null,null,null,null,null,"",{"$f":"IF(ISERROR(VLOOKUP(E446,[2]LISTAS!$A$15:$B$50,2,0)),\"\",VLOOKUP(E446,[2]LISTAS!$A$15:$B$50,2,0))","v":""},{"$f":"IF(ISERROR(VLOOKUP(G446,[2]LISTAS!$A$15:$B$50,2,0)),\"\",VLOOKUP(G446,[2]LISTAS!$A$15:$B$50,2,0))","v":""},{"$f":"IF(ISERROR(VLOOKUP(I446,[2]LISTAS!$A$15:$B$50,2,0)),\"\",VLOOKUP(I446,[2]LISTAS!$A$15:$B$50,2,0))","v":""},{"$f":"IF(ISERROR(VLOOKUP(K446,[2]LISTAS!$A$15:$B$50,2,0)),\"\",VLOOKUP(K446,[2]LISTAS!$A$15:$B$50,2,0))","v":""},{"$f":"IF(ISERROR(VLOOKUP(M446,[2]LISTAS!$A$15:$B$50,2,0)),\"\",VLOOKUP(M446,[2]LISTAS!$A$15:$B$50,2,0))","v":""},{"$f":"IF(ISERROR(VLOOKUP(O446,[2]LISTAS!$A$15:$B$50,2,0)),\"\",VLOOKUP(O446,[2]LISTAS!$A$15:$B$50,2,0))","v":""},{"$f":"IF(ISERROR(VLOOKUP(6,[2]LISTAS!$A$15:$B$50,2,0)),\"\",VLOOKUP(6,[2]LISTAS!$A$15:$B$50,2,0))","v":""},null,{"$f":"_xlfn.IFS(T446=\"------\",AD446,T446=\"LA RELACIÓN DE ACTIVIDADES DEBE SER A PARTIR DE LA SIGUIENTE FILA\",\"LA RELACIÓN DE ACTIVIDADES DEBE SER A PARTIR DE LA SIGUIENTE FILA\",T446<>\"------\",T446)","v":""},null,"ok"]
[null,null,null,null,null,null,null,null,null,null,null,null,null,null,null,null,null,null,null,"",{"$f":"IF(ISERROR(VLOOKUP(E447,[2]LISTAS!$A$15:$B$50,2,0)),\"\",VLOOKUP(E447,[2]LISTAS!$A$15:$B$50,2,0))","v":""},{"$f":"IF(ISERROR(VLOOKUP(G447,[2]LISTAS!$A$15:$B$50,2,0)),\"\",VLOOKUP(G447,[2]LISTAS!$A$15:$B$50,2,0))","v":""},{"$f":"IF(ISERROR(VLOOKUP(I447,[2]LISTAS!$A$15:$B$50,2,0)),\"\",VLOOKUP(I447,[2]LISTAS!$A$15:$B$50,2,0))","v":""},{"$f":"IF(ISERROR(VLOOKUP(K447,[2]LISTAS!$A$15:$B$50,2,0)),\"\",VLOOKUP(K447,[2]LISTAS!$A$15:$B$50,2,0))","v":""},{"$f":"IF(ISERROR(VLOOKUP(M447,[2]LISTAS!$A$15:$B$50,2,0)),\"\",VLOOKUP(M447,[2]LISTAS!$A$15:$B$50,2,0))","v":""},{"$f":"IF(ISERROR(VLOOKUP(O447,[2]LISTAS!$A$15:$B$50,2,0)),\"\",VLOOKUP(O447,[2]LISTAS!$A$15:$B$50,2,0))","v":""},{"$f":"IF(ISERROR(VLOOKUP(6,[2]LISTAS!$A$15:$B$50,2,0)),\"\",VLOOKUP(6,[2]LISTAS!$A$15:$B$50,2,0))","v":""},null,{"$f":"_xlfn.IFS(T447=\"------\",AD447,T447=\"LA RELACIÓN DE ACTIVIDADES DEBE SER A PARTIR DE LA SIGUIENTE FILA\",\"LA RELACIÓN DE ACTIVIDADES DEBE SER A PARTIR DE LA SIGUIENTE FILA\",T447<>\"------\",T447)","v":""},null,"ok"]
[null,null,null,null,null,null,null,null,null,null,null,null,null,null,null,null,null,null,null,"",{"$f":"IF(ISERROR(VLOOKUP(E448,[2]LISTAS!$A$15:$B$50,2,0)),\"\",VLOOKUP(E448,[2]LISTAS!$A$15:$B$50,2,0))","v":""},{"$f":"IF(ISERROR(VLOOKUP(G448,[2]LISTAS!$A$15:$B$50,2,0)),\"\",VLOOKUP(G448,[2]LISTAS!$A$15:$B$50,2,0))","v":""},{"$f":"IF(ISERROR(VLOOKUP(I448,[2]LISTAS!$A$15:$B$50,2,0)),\"\",VLOOKUP(I448,[2]LISTAS!$A$15:$B$50,2,0))","v":""},{"$f":"IF(ISERROR(VLOOKUP(K448,[2]LISTAS!$A$15:$B$50,2,0)),\"\",VLOOKUP(K448,[2]LISTAS!$A$15:$B$50,2,0))","v":""},{"$f":"IF(ISERROR(VLOOKUP(M448,[2]LISTAS!$A$15:$B$50,2,0)),\"\",VLOOKUP(M448,[2]LISTAS!$A$15:$B$50,2,0))","v":""},{"$f":"IF(ISERROR(VLOOKUP(O448,[2]LISTAS!$A$15:$B$50,2,0)),\"\",VLOOKUP(O448,[2]LISTAS!$A$15:$B$50,2,0))","v":""},{"$f":"IF(ISERROR(VLOOKUP(6,[2]LISTAS!$A$15:$B$50,2,0)),\"\",VLOOKUP(6,[2]LISTAS!$A$15:$B$50,2,0))","v":""},null,{"$f":"_xlfn.IFS(T448=\"------\",AD448,T448=\"LA RELACIÓN DE ACTIVIDADES DEBE SER A PARTIR DE LA SIGUIENTE FILA\",\"LA RELACIÓN DE ACTIVIDADES DEBE SER A PARTIR DE LA SIGUIENTE FILA\",T448<>\"------\",T448)","v":""},null,"ok"]
[null,null,null,null,null,null,null,null,null,null,null,null,null,null,null,null,null,null,null,"",{"$f":"IF(ISERROR(VLOOKUP(E449,[2]LISTAS!$A$15:$B$50,2,0)),\"\",VLOOKUP(E449,[2]LISTAS!$A$15:$B$50,2,0))","v":""},{"$f":"IF(ISERROR(VLOOKUP(G449,[2]LISTAS!$A$15:$B$50,2,0)),\"\",VLOOKUP(G449,[2]LISTAS!$A$15:$B$50,2,0))","v":""},{"$f":"IF(ISERROR(VLOOKUP(I449,[2]LISTAS!$A$15:$B$50,2,0)),\"\",VLOOKUP(I449,[2]LISTAS!$A$15:$B$50,2,0))","v":""},{"$f":"IF(ISERROR(VLOOKUP(K449,[2]LISTAS!$A$15:$B$50,2,0)),\"\",VLOOKUP(K449,[2]LISTAS!$A$15:$B$50,2,0))","v":""},{"$f":"IF(ISERROR(VLOOKUP(M449,[2]LISTAS!$A$15:$B$50,2,0)),\"\",VLOOKUP(M449,[2]LISTAS!$A$15:$B$50,2,0))","v":""},{"$f":"IF(ISERROR(VLOOKUP(O449,[2]LISTAS!$A$15:$B$50,2,0)),\"\",VLOOKUP(O449,[2]LISTAS!$A$15:$B$50,2,0))","v":""},{"$f":"IF(ISERROR(VLOOKUP(6,[2]LISTAS!$A$15:$B$50,2,0)),\"\",VLOOKUP(6,[2]LISTAS!$A$15:$B$50,2,0))","v":""},null,{"$f":"_xlfn.IFS(T449=\"------\",AD449,T449=\"LA RELACIÓN DE ACTIVIDADES DEBE SER A PARTIR DE LA SIGUIENTE FILA\",\"LA RELACIÓN DE ACTIVIDADES DEBE SER A PARTIR DE LA SIGUIENTE FILA\",T449<>\"------\",T449)","v":""},null,"ok"]
[null,null,null,null,null,null,null,null,null,null,null,null,null,null,null,null,null,null,null,"",{"$f":"IF(ISERROR(VLOOKUP(E450,[2]LISTAS!$A$15:$B$50,2,0)),\"\",VLOOKUP(E450,[2]LISTAS!$A$15:$B$50,2,0))","v":""},{"$f":"IF(ISERROR(VLOOKUP(G450,[2]LISTAS!$A$15:$B$50,2,0)),\"\",VLOOKUP(G450,[2]LISTAS!$A$15:$B$50,2,0))","v":""},{"$f":"IF(ISERROR(VLOOKUP(I450,[2]LISTAS!$A$15:$B$50,2,0)),\"\",VLOOKUP(I450,[2]LISTAS!$A$15:$B$50,2,0))","v":""},{"$f":"IF(ISERROR(VLOOKUP(K450,[2]LISTAS!$A$15:$B$50,2,0)),\"\",VLOOKUP(K450,[2]LISTAS!$A$15:$B$50,2,0))","v":""},{"$f":"IF(ISERROR(VLOOKUP(M450,[2]LISTAS!$A$15:$B$50,2,0)),\"\",VLOOKUP(M450,[2]LISTAS!$A$15:$B$50,2,0))","v":""},{"$f":"IF(ISERROR(VLOOKUP(O450,[2]LISTAS!$A$15:$B$50,2,0)),\"\",VLOOKUP(O450,[2]LISTAS!$A$15:$B$50,2,0))","v":""},{"$f":"IF(ISERROR(VLOOKUP(6,[2]LISTAS!$A$15:$B$50,2,0)),\"\",VLOOKUP(6,[2]LISTAS!$A$15:$B$50,2,0))","v":""},null,{"$f":"_xlfn.IFS(T450=\"------\",AD450,T450=\"LA RELACIÓN DE ACTIVIDADES DEBE SER A PARTIR DE LA SIGUIENTE FILA\",\"LA RELACIÓN DE ACTIVIDADES DEBE SER A PARTIR DE LA SIGUIENTE FILA\",T450<>\"------\",T450)","v":""},null,"ok"]
[null,null,null,null,null,null,null,null,null,null,null,null,null,null,null,null,null,null,null,"",{"$f":"IF(ISERROR(VLOOKUP(E451,[2]LISTAS!$A$15:$B$50,2,0)),\"\",VLOOKUP(E451,[2]LISTAS!$A$15:$B$50,2,0))","v":""},{"$f":"IF(ISERROR(VLOOKUP(G451,[2]LISTAS!$A$15:$B$50,2,0)),\"\",VLOOKUP(G451,[2]LISTAS!$A$15:$B$50,2,0))","v":""},{"$f":"IF(ISERROR(VLOOKUP(I451,[2]LISTAS!$A$15:$B$50,2,0)),\"\",VLOOKUP(I451,[2]LISTAS!$A$15:$B$50,2,0))","v":""},{"$f":"IF(ISERROR(VLOOKUP(K451,[2]LISTAS!$A$15:$B$50,2,0)),\"\",VLOOKUP(K451,[2]LISTAS!$A$15:$B$50,2,0))","v":""},{"$f":"IF(ISERROR(VLOOKUP(M451,[2]LISTAS!$A$15:$B$50,2,0)),\"\",VLOOKUP(M451,[2]LISTAS!$A$15:$B$50,2,0))","v":""},{"$f":"IF(ISERROR(VLOOKUP(O451,[2]LISTAS!$A$15:$B$50,2,0)),\"\",VLOOKUP(O451,[2]LISTAS!$A$15:$B$50,2,0))","v":""},{"$f":"IF(ISERROR(VLOOKUP(6,[2]LISTAS!$A$15:$B$50,2,0)),\"\",VLOOKUP(6,[2]LISTAS!$A$15:$B$50,2,0))","v":""},null,{"$f":"_xlfn.IFS(T451=\"------\",AD451,T451=\"LA RELACIÓN DE ACTIVIDADES DEBE SER A PARTIR DE LA SIGUIENTE FILA\",\"LA RELACIÓN DE ACTIVIDADES DEBE SER A PARTIR DE LA SIGUIENTE FILA\",T451<>\"------\",T451)","v":""},null,"ok"]
[null,null,null,null,null,null,null,null,null,null,null,null,null,null,null,null,null,null,null,"",{"$f":"IF(ISERROR(VLOOKUP(E452,[2]LISTAS!$A$15:$B$50,2,0)),\"\",VLOOKUP(E452,[2]LISTAS!$A$15:$B$50,2,0))","v":""},{"$f":"IF(ISERROR(VLOOKUP(G452,[2]LISTAS!$A$15:$B$50,2,0)),\"\",VLOOKUP(G452,[2]LISTAS!$A$15:$B$50,2,0))","v":""},{"$f":"IF(ISERROR(VLOOKUP(I452,[2]LISTAS!$A$15:$B$50,2,0)),\"\",VLOOKUP(I452,[2]LISTAS!$A$15:$B$50,2,0))","v":""},{"$f":"IF(ISERROR(VLOOKUP(K452,[2]LISTAS!$A$15:$B$50,2,0)),\"\",VLOOKUP(K452,[2]LISTAS!$A$15:$B$50,2,0))","v":""},{"$f":"IF(ISERROR(VLOOKUP(M452,[2]LISTAS!$A$15:$B$50,2,0)),\"\",VLOOKUP(M452,[2]LISTAS!$A$15:$B$50,2,0))","v":""},{"$f":"IF(ISERROR(VLOOKUP(O452,[2]LISTAS!$A$15:$B$50,2,0)),\"\",VLOOKUP(O452,[2]LISTAS!$A$15:$B$50,2,0))","v":""},{"$f":"IF(ISERROR(VLOOKUP(6,[2]LISTAS!$A$15:$B$50,2,0)),\"\",VLOOKUP(6,[2]LISTAS!$A$15:$B$50,2,0))","v":""},null,{"$f":"_xlfn.IFS(T452=\"------\",AD452,T452=\"LA RELACIÓN DE ACTIVIDADES DEBE SER A PARTIR DE LA SIGUIENTE FILA\",\"LA RELACIÓN DE ACTIVIDADES DEBE SER A PARTIR DE LA SIGUIENTE FILA\",T452<>\"------\",T452)","v":""},null,"ok"]
[null,null,null,null,null,null,null,null,null,null,null,null,null,null,null,null,null,null,null,"",{"$f":"IF(ISERROR(VLOOKUP(E453,[2]LISTAS!$A$15:$B$50,2,0)),\"\",VLOOKUP(E453,[2]LISTAS!$A$15:$B$50,2,0))","v":""},{"$f":"IF(ISERROR(VLOOKUP(G453,[2]LISTAS!$A$15:$B$50,2,0)),\"\",VLOOKUP(G453,[2]LISTAS!$A$15:$B$50,2,0))","v":""},{"$f":"IF(ISERROR(VLOOKUP(I453,[2]LISTAS!$A$15:$B$50,2,0)),\"\",VLOOKUP(I453,[2]LISTAS!$A$15:$B$50,2,0))","v":""},{"$f":"IF(ISERROR(VLOOKUP(K453,[2]LISTAS!$A$15:$B$50,2,0)),\"\",VLOOKUP(K453,[2]LISTAS!$A$15:$B$50,2,0))","v":""},{"$f":"IF(ISERROR(VLOOKUP(M453,[2]LISTAS!$A$15:$B$50,2,0)),\"\",VLOOKUP(M453,[2]LISTAS!$A$15:$B$50,2,0))","v":""},{"$f":"IF(ISERROR(VLOOKUP(O453,[2]LISTAS!$A$15:$B$50,2,0)),\"\",VLOOKUP(O453,[2]LISTAS!$A$15:$B$50,2,0))","v":""},{"$f":"IF(ISERROR(VLOOKUP(6,[2]LISTAS!$A$15:$B$50,2,0)),\"\",VLOOKUP(6,[2]LISTAS!$A$15:$B$50,2,0))","v":""},null,{"$f":"_xlfn.IFS(T453=\"------\",AD453,T453=\"LA RELACIÓN DE ACTIVIDADES DEBE SER A PARTIR DE LA SIGUIENTE FILA\",\"LA RELACIÓN DE ACTIVIDADES DEBE SER A PARTIR DE LA SIGUIENTE FILA\",T453<>\"------\",T453)","v":""},null,"ok"]
[null,null,null,null,null,null,null,null,null,null,null,null,null,null,null,null,null,null,null,"",{"$f":"IF(ISERROR(VLOOKUP(E454,[2]LISTAS!$A$15:$B$50,2,0)),\"\",VLOOKUP(E454,[2]LISTAS!$A$15:$B$50,2,0))","v":""},{"$f":"IF(ISERROR(VLOOKUP(G454,[2]LISTAS!$A$15:$B$50,2,0)),\"\",VLOOKUP(G454,[2]LISTAS!$A$15:$B$50,2,0))","v":""},{"$f":"IF(ISERROR(VLOOKUP(I454,[2]LISTAS!$A$15:$B$50,2,0)),\"\",VLOOKUP(I454,[2]LISTAS!$A$15:$B$50,2,0))","v":""},{"$f":"IF(ISERROR(VLOOKUP(K454,[2]LISTAS!$A$15:$B$50,2,0)),\"\",VLOOKUP(K454,[2]LISTAS!$A$15:$B$50,2,0))","v":""},{"$f":"IF(ISERROR(VLOOKUP(M454,[2]LISTAS!$A$15:$B$50,2,0)),\"\",VLOOKUP(M454,[2]LISTAS!$A$15:$B$50,2,0))","v":""},{"$f":"IF(ISERROR(VLOOKUP(O454,[2]LISTAS!$A$15:$B$50,2,0)),\"\",VLOOKUP(O454,[2]LISTAS!$A$15:$B$50,2,0))","v":""},{"$f":"IF(ISERROR(VLOOKUP(6,[2]LISTAS!$A$15:$B$50,2,0)),\"\",VLOOKUP(6,[2]LISTAS!$A$15:$B$50,2,0))","v":""},null,{"$f":"_xlfn.IFS(T454=\"------\",AD454,T454=\"LA RELACIÓN DE ACTIVIDADES DEBE SER A PARTIR DE LA SIGUIENTE FILA\",\"LA RELACIÓN DE ACTIVIDADES DEBE SER A PARTIR DE LA SIGUIENTE FILA\",T454<>\"------\",T454)","v":""},null,"ok"]
[null,null,null,null,null,null,null,null,null,null,null,null,null,null,null,null,null,null,null,"",{"$f":"IF(ISERROR(VLOOKUP(E455,[2]LISTAS!$A$15:$B$50,2,0)),\"\",VLOOKUP(E455,[2]LISTAS!$A$15:$B$50,2,0))","v":""},{"$f":"IF(ISERROR(VLOOKUP(G455,[2]LISTAS!$A$15:$B$50,2,0)),\"\",VLOOKUP(G455,[2]LISTAS!$A$15:$B$50,2,0))","v":""},{"$f":"IF(ISERROR(VLOOKUP(I455,[2]LISTAS!$A$15:$B$50,2,0)),\"\",VLOOKUP(I455,[2]LISTAS!$A$15:$B$50,2,0))","v":""},{"$f":"IF(ISERROR(VLOOKUP(K455,[2]LISTAS!$A$15:$B$50,2,0)),\"\",VLOOKUP(K455,[2]LISTAS!$A$15:$B$50,2,0))","v":""},{"$f":"IF(ISERROR(VLOOKUP(M455,[2]LISTAS!$A$15:$B$50,2,0)),\"\",VLOOKUP(M455,[2]LISTAS!$A$15:$B$50,2,0))","v":""},{"$f":"IF(ISERROR(VLOOKUP(O455,[2]LISTAS!$A$15:$B$50,2,0)),\"\",VLOOKUP(O455,[2]LISTAS!$A$15:$B$50,2,0))","v":""},{"$f":"IF(ISERROR(VLOOKUP(6,[2]LISTAS!$A$15:$B$50,2,0)),\"\",VLOOKUP(6,[2]LISTAS!$A$15:$B$50,2,0))","v":""},null,{"$f":"_xlfn.IFS(T455=\"------\",AD455,T455=\"LA RELACIÓN DE ACTIVIDADES DEBE SER A PARTIR DE LA SIGUIENTE FILA\",\"LA RELACIÓN DE ACTIVIDADES DEBE SER A PARTIR DE LA SIGUIENTE FILA\",T455<>\"------\",T455)","v":""},null,"ok"]
[null,null,null,null,null,null,null,null,null,null,null,null,null,null,null,null,null,null,null,"",{"$f":"IF(ISERROR(VLOOKUP(E456,[2]LISTAS!$A$15:$B$50,2,0)),\"\",VLOOKUP(E456,[2]LISTAS!$A$15:$B$50,2,0))","v":""},{"$f":"IF(ISERROR(VLOOKUP(G456,[2]LISTAS!$A$15:$B$50,2,0)),\"\",VLOOKUP(G456,[2]LISTAS!$A$15:$B$50,2,0))","v":""},{"$f":"IF(ISERROR(VLOOKUP(I456,[2]LISTAS!$A$15:$B$50,2,0)),\"\",VLOOKUP(I456,[2]LISTAS!$A$15:$B$50,2,0))","v":""},{"$f":"IF(ISERROR(VLOOKUP(K456,[2]LISTAS!$A$15:$B$50,2,0)),\"\",VLOOKUP(K456,[2]LISTAS!$A$15:$B$50,2,0))","v":""},{"$f":"IF(ISERROR(VLOOKUP(M456,[2]LISTAS!$A$15:$B$50,2,0)),\"\",VLOOKUP(M456,[2]LISTAS!$A$15:$B$50,2,0))","v":""},{"$f":"IF(ISERROR(VLOOKUP(O456,[2]LISTAS!$A$15:$B$50,2,0)),\"\",VLOOKUP(O456,[2]LISTAS!$A$15:$B$50,2,0))","v":""},{"$f":"IF(ISERROR(VLOOKUP(6,[2]LISTAS!$A$15:$B$50,2,0)),\"\",VLOOKUP(6,[2]LISTAS!$A$15:$B$50,2,0))","v":""},null,{"$f":"_xlfn.IFS(T456=\"------\",AD456,T456=\"LA RELACIÓN DE ACTIVIDADES DEBE SER A PARTIR DE LA SIGUIENTE FILA\",\"LA RELACIÓN DE ACTIVIDADES DEBE SER A PARTIR DE LA SIGUIENTE FILA\",T456<>\"------\",T456)","v":""},null,"ok"]
[null,null,null,null,null,null,null,null,null,null,null,null,null,null,null,null,null,null,null,"",{"$f":"IF(ISERROR(VLOOKUP(E457,[2]LISTAS!$A$15:$B$50,2,0)),\"\",VLOOKUP(E457,[2]LISTAS!$A$15:$B$50,2,0))","v":""},{"$f":"IF(ISERROR(VLOOKUP(G457,[2]LISTAS!$A$15:$B$50,2,0)),\"\",VLOOKUP(G457,[2]LISTAS!$A$15:$B$50,2,0))","v":""},{"$f":"IF(ISERROR(VLOOKUP(I457,[2]LISTAS!$A$15:$B$50,2,0)),\"\",VLOOKUP(I457,[2]LISTAS!$A$15:$B$50,2,0))","v":""},{"$f":"IF(ISERROR(VLOOKUP(K457,[2]LISTAS!$A$15:$B$50,2,0)),\"\",VLOOKUP(K457,[2]LISTAS!$A$15:$B$50,2,0))","v":""},{"$f":"IF(ISERROR(VLOOKUP(M457,[2]LISTAS!$A$15:$B$50,2,0)),\"\",VLOOKUP(M457,[2]LISTAS!$A$15:$B$50,2,0))","v":""},{"$f":"IF(ISERROR(VLOOKUP(O457,[2]LISTAS!$A$15:$B$50,2,0)),\"\",VLOOKUP(O457,[2]LISTAS!$A$15:$B$50,2,0))","v":""},{"$f":"IF(ISERROR(VLOOKUP(6,[2]LISTAS!$A$15:$B$50,2,0)),\"\",VLOOKUP(6,[2]LISTAS!$A$15:$B$50,2,0))","v":""},null,{"$f":"_xlfn.IFS(T457=\"------\",AD457,T457=\"LA RELACIÓN DE ACTIVIDADES DEBE SER A PARTIR DE LA SIGUIENTE FILA\",\"LA RELACIÓN DE ACTIVIDADES DEBE SER A PARTIR DE LA SIGUIENTE FILA\",T457<>\"------\",T457)","v":""},null,"ok"]
[null,null,null,null,null,null,null,null,null,null,null,null,null,null,null,null,null,null,null,"",{"$f":"IF(ISERROR(VLOOKUP(E458,[2]LISTAS!$A$15:$B$50,2,0)),\"\",VLOOKUP(E458,[2]LISTAS!$A$15:$B$50,2,0))","v":""},{"$f":"IF(ISERROR(VLOOKUP(G458,[2]LISTAS!$A$15:$B$50,2,0)),\"\",VLOOKUP(G458,[2]LISTAS!$A$15:$B$50,2,0))","v":""},{"$f":"IF(ISERROR(VLOOKUP(I458,[2]LISTAS!$A$15:$B$50,2,0)),\"\",VLOOKUP(I458,[2]LISTAS!$A$15:$B$50,2,0))","v":""},{"$f":"IF(ISERROR(VLOOKUP(K458,[2]LISTAS!$A$15:$B$50,2,0)),\"\",VLOOKUP(K458,[2]LISTAS!$A$15:$B$50,2,0))","v":""},{"$f":"IF(ISERROR(VLOOKUP(M458,[2]LISTAS!$A$15:$B$50,2,0)),\"\",VLOOKUP(M458,[2]LISTAS!$A$15:$B$50,2,0))","v":""},{"$f":"IF(ISERROR(VLOOKUP(O458,[2]LISTAS!$A$15:$B$50,2,0)),\"\",VLOOKUP(O458,[2]LISTAS!$A$15:$B$50,2,0))","v":""},{"$f":"IF(ISERROR(VLOOKUP(6,[2]LISTAS!$A$15:$B$50,2,0)),\"\",VLOOKUP(6,[2]LISTAS!$A$15:$B$50,2,0))","v":""},null,{"$f":"_xlfn.IFS(T458=\"------\",AD458,T458=\"LA RELACIÓN DE ACTIVIDADES DEBE SER A PARTIR DE LA SIGUIENTE FILA\",\"LA RELACIÓN DE ACTIVIDADES DEBE SER A PARTIR DE LA SIGUIENTE FILA\",T458<>\"------\",T458)","v":""},null,"ok"]
[null,null,null,null,null,null,null,null,null,null,null,null,null,null,null,null,null,null,null,"",{"$f":"IF(ISERROR(VLOOKUP(E459,[2]LISTAS!$A$15:$B$50,2,0)),\"\",VLOOKUP(E459,[2]LISTAS!$A$15:$B$50,2,0))","v":""},{"$f":"IF(ISERROR(VLOOKUP(G459,[2]LISTAS!$A$15:$B$50,2,0)),\"\",VLOOKUP(G459,[2]LISTAS!$A$15:$B$50,2,0))","v":""},{"$f":"IF(ISERROR(VLOOKUP(I459,[2]LISTAS!$A$15:$B$50,2,0)),\"\",VLOOKUP(I459,[2]LISTAS!$A$15:$B$50,2,0))","v":""},{"$f":"IF(ISERROR(VLOOKUP(K459,[2]LISTAS!$A$15:$B$50,2,0)),\"\",VLOOKUP(K459,[2]LISTAS!$A$15:$B$50,2,0))","v":""},{"$f":"IF(ISERROR(VLOOKUP(M459,[2]LISTAS!$A$15:$B$50,2,0)),\"\",VLOOKUP(M459,[2]LISTAS!$A$15:$B$50,2,0))","v":""},{"$f":"IF(ISERROR(VLOOKUP(O459,[2]LISTAS!$A$15:$B$50,2,0)),\"\",VLOOKUP(O459,[2]LISTAS!$A$15:$B$50,2,0))","v":""},{"$f":"IF(ISERROR(VLOOKUP(6,[2]LISTAS!$A$15:$B$50,2,0)),\"\",VLOOKUP(6,[2]LISTAS!$A$15:$B$50,2,0))","v":""},null,{"$f":"_xlfn.IFS(T459=\"------\",AD459,T459=\"LA RELACIÓN DE ACTIVIDADES DEBE SER A PARTIR DE LA SIGUIENTE FILA\",\"LA RELACIÓN DE ACTIVIDADES DEBE SER A PARTIR DE LA SIGUIENTE FILA\",T459<>\"------\",T459)","v":""},null,"ok"]
[null,null,null,null,null,null,null,null,null,null,null,null,null,null,null,null,null,null,null,"",{"$f":"IF(ISERROR(VLOOKUP(E460,[2]LISTAS!$A$15:$B$50,2,0)),\"\",VLOOKUP(E460,[2]LISTAS!$A$15:$B$50,2,0))","v":""},{"$f":"IF(ISERROR(VLOOKUP(G460,[2]LISTAS!$A$15:$B$50,2,0)),\"\",VLOOKUP(G460,[2]LISTAS!$A$15:$B$50,2,0))","v":""},{"$f":"IF(ISERROR(VLOOKUP(I460,[2]LISTAS!$A$15:$B$50,2,0)),\"\",VLOOKUP(I460,[2]LISTAS!$A$15:$B$50,2,0))","v":""},{"$f":"IF(ISERROR(VLOOKUP(K460,[2]LISTAS!$A$15:$B$50,2,0)),\"\",VLOOKUP(K460,[2]LISTAS!$A$15:$B$50,2,0))","v":""},{"$f":"IF(ISERROR(VLOOKUP(M460,[2]LISTAS!$A$15:$B$50,2,0)),\"\",VLOOKUP(M460,[2]LISTAS!$A$15:$B$50,2,0))","v":""},{"$f":"IF(ISERROR(VLOOKUP(O460,[2]LISTAS!$A$15:$B$50,2,0)),\"\",VLOOKUP(O460,[2]LISTAS!$A$15:$B$50,2,0))","v":""},{"$f":"IF(ISERROR(VLOOKUP(6,[2]LISTAS!$A$15:$B$50,2,0)),\"\",VLOOKUP(6,[2]LISTAS!$A$15:$B$50,2,0))","v":""},null,{"$f":"_xlfn.IFS(T460=\"------\",AD460,T460=\"LA RELACIÓN DE ACTIVIDADES DEBE SER A PARTIR DE LA SIGUIENTE FILA\",\"LA RELACIÓN DE ACTIVIDADES DEBE SER A PARTIR DE LA SIGUIENTE FILA\",T460<>\"------\",T460)","v":""},null,"ok"]
[null,null,null,null,null,null,null,null,null,null,null,null,null,null,null,null,null,null,null,"",{"$f":"IF(ISERROR(VLOOKUP(E461,[2]LISTAS!$A$15:$B$50,2,0)),\"\",VLOOKUP(E461,[2]LISTAS!$A$15:$B$50,2,0))","v":""},{"$f":"IF(ISERROR(VLOOKUP(G461,[2]LISTAS!$A$15:$B$50,2,0)),\"\",VLOOKUP(G461,[2]LISTAS!$A$15:$B$50,2,0))","v":""},{"$f":"IF(ISERROR(VLOOKUP(I461,[2]LISTAS!$A$15:$B$50,2,0)),\"\",VLOOKUP(I461,[2]LISTAS!$A$15:$B$50,2,0))","v":""},{"$f":"IF(ISERROR(VLOOKUP(K461,[2]LISTAS!$A$15:$B$50,2,0)),\"\",VLOOKUP(K461,[2]LISTAS!$A$15:$B$50,2,0))","v":""},{"$f":"IF(ISERROR(VLOOKUP(M461,[2]LISTAS!$A$15:$B$50,2,0)),\"\",VLOOKUP(M461,[2]LISTAS!$A$15:$B$50,2,0))","v":""},{"$f":"IF(ISERROR(VLOOKUP(O461,[2]LISTAS!$A$15:$B$50,2,0)),\"\",VLOOKUP(O461,[2]LISTAS!$A$15:$B$50,2,0))","v":""},{"$f":"IF(ISERROR(VLOOKUP(6,[2]LISTAS!$A$15:$B$50,2,0)),\"\",VLOOKUP(6,[2]LISTAS!$A$15:$B$50,2,0))","v":""},null,{"$f":"_xlfn.IFS(T461=\"------\",AD461,T461=\"LA RELACIÓN DE ACTIVIDADES DEBE SER A PARTIR DE LA SIGUIENTE FILA\",\"LA RELACIÓN DE ACTIVIDADES DEBE SER A PARTIR DE LA SIGUIENTE FILA\",T461<>\"------\",T461)","v":""},null,"ok"]
[null,null,null,null,null,null,null,null,null,null,null,null,null,null,null,null,null,null,null,"",{"$f":"IF(ISERROR(VLOOKUP(E462,[2]LISTAS!$A$15:$B$50,2,0)),\"\",VLOOKUP(E462,[2]LISTAS!$A$15:$B$50,2,0))","v":""},{"$f":"IF(ISERROR(VLOOKUP(G462,[2]LISTAS!$A$15:$B$50,2,0)),\"\",VLOOKUP(G462,[2]LISTAS!$A$15:$B$50,2,0))","v":""},{"$f":"IF(ISERROR(VLOOKUP(I462,[2]LISTAS!$A$15:$B$50,2,0)),\"\",VLOOKUP(I462,[2]LISTAS!$A$15:$B$50,2,0))","v":""},{"$f":"IF(ISERROR(VLOOKUP(K462,[2]LISTAS!$A$15:$B$50,2,0)),\"\",VLOOKUP(K462,[2]LISTAS!$A$15:$B$50,2,0))","v":""},{"$f":"IF(ISERROR(VLOOKUP(M462,[2]LISTAS!$A$15:$B$50,2,0)),\"\",VLOOKUP(M462,[2]LISTAS!$A$15:$B$50,2,0))","v":""},{"$f":"IF(ISERROR(VLOOKUP(O462,[2]LISTAS!$A$15:$B$50,2,0)),\"\",VLOOKUP(O462,[2]LISTAS!$A$15:$B$50,2,0))","v":""},{"$f":"IF(ISERROR(VLOOKUP(6,[2]LISTAS!$A$15:$B$50,2,0)),\"\",VLOOKUP(6,[2]LISTAS!$A$15:$B$50,2,0))","v":""},null,{"$f":"_xlfn.IFS(T462=\"------\",AD462,T462=\"LA RELACIÓN DE ACTIVIDADES DEBE SER A PARTIR DE LA SIGUIENTE FILA\",\"LA RELACIÓN DE ACTIVIDADES DEBE SER A PARTIR DE LA SIGUIENTE FILA\",T462<>\"------\",T462)","v":""},null,"ok"]
[null,null,null,null,null,null,null,null,null,null,null,null,null,null,null,null,null,null,null,"",{"$f":"IF(ISERROR(VLOOKUP(E463,[2]LISTAS!$A$15:$B$50,2,0)),\"\",VLOOKUP(E463,[2]LISTAS!$A$15:$B$50,2,0))","v":""},{"$f":"IF(ISERROR(VLOOKUP(G463,[2]LISTAS!$A$15:$B$50,2,0)),\"\",VLOOKUP(G463,[2]LISTAS!$A$15:$B$50,2,0))","v":""},{"$f":"IF(ISERROR(VLOOKUP(I463,[2]LISTAS!$A$15:$B$50,2,0)),\"\",VLOOKUP(I463,[2]LISTAS!$A$15:$B$50,2,0))","v":""},{"$f":"IF(ISERROR(VLOOKUP(K463,[2]LISTAS!$A$15:$B$50,2,0)),\"\",VLOOKUP(K463,[2]LISTAS!$A$15:$B$50,2,0))","v":""},{"$f":"IF(ISERROR(VLOOKUP(M463,[2]LISTAS!$A$15:$B$50,2,0)),\"\",VLOOKUP(M463,[2]LISTAS!$A$15:$B$50,2,0))","v":""},{"$f":"IF(ISERROR(VLOOKUP(O463,[2]LISTAS!$A$15:$B$50,2,0)),\"\",VLOOKUP(O463,[2]LISTAS!$A$15:$B$50,2,0))","v":""},{"$f":"IF(ISERROR(VLOOKUP(6,[2]LISTAS!$A$15:$B$50,2,0)),\"\",VLOOKUP(6,[2]LISTAS!$A$15:$B$50,2,0))","v":""},null,{"$f":"_xlfn.IFS(T463=\"------\",AD463,T463=\"LA RELACIÓN DE ACTIVIDADES DEBE SER A PARTIR DE LA SIGUIENTE FILA\",\"LA RELACIÓN DE ACTIVIDADES DEBE SER A PARTIR DE LA SIGUIENTE FILA\",T463<>\"------\",T463)","v":""},null,"ok"]
[null,null,null,null,null,null,null,null,null,null,null,null,null,null,null,null,null,null,null,"",{"$f":"IF(ISERROR(VLOOKUP(E464,[2]LISTAS!$A$15:$B$50,2,0)),\"\",VLOOKUP(E464,[2]LISTAS!$A$15:$B$50,2,0))","v":""},{"$f":"IF(ISERROR(VLOOKUP(G464,[2]LISTAS!$A$15:$B$50,2,0)),\"\",VLOOKUP(G464,[2]LISTAS!$A$15:$B$50,2,0))","v":""},{"$f":"IF(ISERROR(VLOOKUP(I464,[2]LISTAS!$A$15:$B$50,2,0)),\"\",VLOOKUP(I464,[2]LISTAS!$A$15:$B$50,2,0))","v":""},{"$f":"IF(ISERROR(VLOOKUP(K464,[2]LISTAS!$A$15:$B$50,2,0)),\"\",VLOOKUP(K464,[2]LISTAS!$A$15:$B$50,2,0))","v":""},{"$f":"IF(ISERROR(VLOOKUP(M464,[2]LISTAS!$A$15:$B$50,2,0)),\"\",VLOOKUP(M464,[2]LISTAS!$A$15:$B$50,2,0))","v":""},{"$f":"IF(ISERROR(VLOOKUP(O464,[2]LISTAS!$A$15:$B$50,2,0)),\"\",VLOOKUP(O464,[2]LISTAS!$A$15:$B$50,2,0))","v":""},{"$f":"IF(ISERROR(VLOOKUP(6,[2]LISTAS!$A$15:$B$50,2,0)),\"\",VLOOKUP(6,[2]LISTAS!$A$15:$B$50,2,0))","v":""},null,{"$f":"_xlfn.IFS(T464=\"------\",AD464,T464=\"LA RELACIÓN DE ACTIVIDADES DEBE SER A PARTIR DE LA SIGUIENTE FILA\",\"LA RELACIÓN DE ACTIVIDADES DEBE SER A PARTIR DE LA SIGUIENTE FILA\",T464<>\"------\",T464)","v":""},null,"ok"]
[null,null,null,null,null,null,null,null,null,null,null,null,null,null,null,null,null,null,null,"",{"$f":"IF(ISERROR(VLOOKUP(E465,[2]LISTAS!$A$15:$B$50,2,0)),\"\",VLOOKUP(E465,[2]LISTAS!$A$15:$B$50,2,0))","v":""},{"$f":"IF(ISERROR(VLOOKUP(G465,[2]LISTAS!$A$15:$B$50,2,0)),\"\",VLOOKUP(G465,[2]LISTAS!$A$15:$B$50,2,0))","v":""},{"$f":"IF(ISERROR(VLOOKUP(I465,[2]LISTAS!$A$15:$B$50,2,0)),\"\",VLOOKUP(I465,[2]LISTAS!$A$15:$B$50,2,0))","v":""},{"$f":"IF(ISERROR(VLOOKUP(K465,[2]LISTAS!$A$15:$B$50,2,0)),\"\",VLOOKUP(K465,[2]LISTAS!$A$15:$B$50,2,0))","v":""},{"$f":"IF(ISERROR(VLOOKUP(M465,[2]LISTAS!$A$15:$B$50,2,0)),\"\",VLOOKUP(M465,[2]LISTAS!$A$15:$B$50,2,0))","v":""},{"$f":"IF(ISERROR(VLOOKUP(O465,[2]LISTAS!$A$15:$B$50,2,0)),\"\",VLOOKUP(O465,[2]LISTAS!$A$15:$B$50,2,0))","v":""},{"$f":"IF(ISERROR(VLOOKUP(6,[2]LISTAS!$A$15:$B$50,2,0)),\"\",VLOOKUP(6,[2]LISTAS!$A$15:$B$50,2,0))","v":""},null,{"$f":"_xlfn.IFS(T465=\"------\",AD465,T465=\"LA RELACIÓN DE ACTIVIDADES DEBE SER A PARTIR DE LA SIGUIENTE FILA\",\"LA RELACIÓN DE ACTIVIDADES DEBE SER A PARTIR DE LA SIGUIENTE FILA\",T465<>\"------\",T465)","v":""},null,"ok"]
[null,null,null,null,null,null,null,null,null,null,null,null,null,null,null,null,null,null,null,"",{"$f":"IF(ISERROR(VLOOKUP(E466,[2]LISTAS!$A$15:$B$50,2,0)),\"\",VLOOKUP(E466,[2]LISTAS!$A$15:$B$50,2,0))","v":""},{"$f":"IF(ISERROR(VLOOKUP(G466,[2]LISTAS!$A$15:$B$50,2,0)),\"\",VLOOKUP(G466,[2]LISTAS!$A$15:$B$50,2,0))","v":""},{"$f":"IF(ISERROR(VLOOKUP(I466,[2]LISTAS!$A$15:$B$50,2,0)),\"\",VLOOKUP(I466,[2]LISTAS!$A$15:$B$50,2,0))","v":""},{"$f":"IF(ISERROR(VLOOKUP(K466,[2]LISTAS!$A$15:$B$50,2,0)),\"\",VLOOKUP(K466,[2]LISTAS!$A$15:$B$50,2,0))","v":""},{"$f":"IF(ISERROR(VLOOKUP(M466,[2]LISTAS!$A$15:$B$50,2,0)),\"\",VLOOKUP(M466,[2]LISTAS!$A$15:$B$50,2,0))","v":""},{"$f":"IF(ISERROR(VLOOKUP(O466,[2]LISTAS!$A$15:$B$50,2,0)),\"\",VLOOKUP(O466,[2]LISTAS!$A$15:$B$50,2,0))","v":""},{"$f":"IF(ISERROR(VLOOKUP(6,[2]LISTAS!$A$15:$B$50,2,0)),\"\",VLOOKUP(6,[2]LISTAS!$A$15:$B$50,2,0))","v":""},null,{"$f":"_xlfn.IFS(T466=\"------\",AD466,T466=\"LA RELACIÓN DE ACTIVIDADES DEBE SER A PARTIR DE LA SIGUIENTE FILA\",\"LA RELACIÓN DE ACTIVIDADES DEBE SER A PARTIR DE LA SIGUIENTE FILA\",T466<>\"------\",T466)","v":""},null,"ok"]
[null,null,null,null,null,null,null,null,null,null,null,null,null,null,null,null,null,null,null,"",{"$f":"IF(ISERROR(VLOOKUP(E467,[2]LISTAS!$A$15:$B$50,2,0)),\"\",VLOOKUP(E467,[2]LISTAS!$A$15:$B$50,2,0))","v":""},{"$f":"IF(ISERROR(VLOOKUP(G467,[2]LISTAS!$A$15:$B$50,2,0)),\"\",VLOOKUP(G467,[2]LISTAS!$A$15:$B$50,2,0))","v":""},{"$f":"IF(ISERROR(VLOOKUP(I467,[2]LISTAS!$A$15:$B$50,2,0)),\"\",VLOOKUP(I467,[2]LISTAS!$A$15:$B$50,2,0))","v":""},{"$f":"IF(ISERROR(VLOOKUP(K467,[2]LISTAS!$A$15:$B$50,2,0)),\"\",VLOOKUP(K467,[2]LISTAS!$A$15:$B$50,2,0))","v":""},{"$f":"IF(ISERROR(VLOOKUP(M467,[2]LISTAS!$A$15:$B$50,2,0)),\"\",VLOOKUP(M467,[2]LISTAS!$A$15:$B$50,2,0))","v":""},{"$f":"IF(ISERROR(VLOOKUP(O467,[2]LISTAS!$A$15:$B$50,2,0)),\"\",VLOOKUP(O467,[2]LISTAS!$A$15:$B$50,2,0))","v":""},{"$f":"IF(ISERROR(VLOOKUP(6,[2]LISTAS!$A$15:$B$50,2,0)),\"\",VLOOKUP(6,[2]LISTAS!$A$15:$B$50,2,0))","v":""},null,{"$f":"_xlfn.IFS(T467=\"------\",AD467,T467=\"LA RELACIÓN DE ACTIVIDADES DEBE SER A PARTIR DE LA SIGUIENTE FILA\",\"LA RELACIÓN DE ACTIVIDADES DEBE SER A PARTIR DE LA SIGUIENTE FILA\",T467<>\"------\",T467)","v":""},null,"ok"]
[null,null,null,null,null,null,null,null,null,null,null,null,null,null,null,null,null,null,null,"",{"$f":"IF(ISERROR(VLOOKUP(E468,[2]LISTAS!$A$15:$B$50,2,0)),\"\",VLOOKUP(E468,[2]LISTAS!$A$15:$B$50,2,0))","v":""},{"$f":"IF(ISERROR(VLOOKUP(G468,[2]LISTAS!$A$15:$B$50,2,0)),\"\",VLOOKUP(G468,[2]LISTAS!$A$15:$B$50,2,0))","v":""},{"$f":"IF(ISERROR(VLOOKUP(I468,[2]LISTAS!$A$15:$B$50,2,0)),\"\",VLOOKUP(I468,[2]LISTAS!$A$15:$B$50,2,0))","v":""},{"$f":"IF(ISERROR(VLOOKUP(K468,[2]LISTAS!$A$15:$B$50,2,0)),\"\",VLOOKUP(K468,[2]LISTAS!$A$15:$B$50,2,0))","v":""},{"$f":"IF(ISERROR(VLOOKUP(M468,[2]LISTAS!$A$15:$B$50,2,0)),\"\",VLOOKUP(M468,[2]LISTAS!$A$15:$B$50,2,0))","v":""},{"$f":"IF(ISERROR(VLOOKUP(O468,[2]LISTAS!$A$15:$B$50,2,0)),\"\",VLOOKUP(O468,[2]LISTAS!$A$15:$B$50,2,0))","v":""},{"$f":"IF(ISERROR(VLOOKUP(6,[2]LISTAS!$A$15:$B$50,2,0)),\"\",VLOOKUP(6,[2]LISTAS!$A$15:$B$50,2,0))","v":""},null,{"$f":"_xlfn.IFS(T468=\"------\",AD468,T468=\"LA RELACIÓN DE ACTIVIDADES DEBE SER A PARTIR DE LA SIGUIENTE FILA\",\"LA RELACIÓN DE ACTIVIDADES DEBE SER A PARTIR DE LA SIGUIENTE FILA\",T468<>\"------\",T468)","v":""},null,"ok"]
[null,null,null,null,null,null,null,null,null,null,null,null,null,null,null,null,null,null,null,"",{"$f":"IF(ISERROR(VLOOKUP(E469,[2]LISTAS!$A$15:$B$50,2,0)),\"\",VLOOKUP(E469,[2]LISTAS!$A$15:$B$50,2,0))","v":""},{"$f":"IF(ISERROR(VLOOKUP(G469,[2]LISTAS!$A$15:$B$50,2,0)),\"\",VLOOKUP(G469,[2]LISTAS!$A$15:$B$50,2,0))","v":""},{"$f":"IF(ISERROR(VLOOKUP(I469,[2]LISTAS!$A$15:$B$50,2,0)),\"\",VLOOKUP(I469,[2]LISTAS!$A$15:$B$50,2,0))","v":""},{"$f":"IF(ISERROR(VLOOKUP(K469,[2]LISTAS!$A$15:$B$50,2,0)),\"\",VLOOKUP(K469,[2]LISTAS!$A$15:$B$50,2,0))","v":""},{"$f":"IF(ISERROR(VLOOKUP(M469,[2]LISTAS!$A$15:$B$50,2,0)),\"\",VLOOKUP(M469,[2]LISTAS!$A$15:$B$50,2,0))","v":""},{"$f":"IF(ISERROR(VLOOKUP(O469,[2]LISTAS!$A$15:$B$50,2,0)),\"\",VLOOKUP(O469,[2]LISTAS!$A$15:$B$50,2,0))","v":""},{"$f":"IF(ISERROR(VLOOKUP(6,[2]LISTAS!$A$15:$B$50,2,0)),\"\",VLOOKUP(6,[2]LISTAS!$A$15:$B$50,2,0))","v":""},null,{"$f":"_xlfn.IFS(T469=\"------\",AD469,T469=\"LA RELACIÓN DE ACTIVIDADES DEBE SER A PARTIR DE LA SIGUIENTE FILA\",\"LA RELACIÓN DE ACTIVIDADES DEBE SER A PARTIR DE LA SIGUIENTE FILA\",T469<>\"------\",T469)","v":""},null,"ok"]
[null,null,null,null,null,null,null,null,null,null,null,null,null,null,null,null,null,null,null,"",{"$f":"IF(ISERROR(VLOOKUP(E470,[2]LISTAS!$A$15:$B$50,2,0)),\"\",VLOOKUP(E470,[2]LISTAS!$A$15:$B$50,2,0))","v":""},{"$f":"IF(ISERROR(VLOOKUP(G470,[2]LISTAS!$A$15:$B$50,2,0)),\"\",VLOOKUP(G470,[2]LISTAS!$A$15:$B$50,2,0))","v":""},{"$f":"IF(ISERROR(VLOOKUP(I470,[2]LISTAS!$A$15:$B$50,2,0)),\"\",VLOOKUP(I470,[2]LISTAS!$A$15:$B$50,2,0))","v":""},{"$f":"IF(ISERROR(VLOOKUP(K470,[2]LISTAS!$A$15:$B$50,2,0)),\"\",VLOOKUP(K470,[2]LISTAS!$A$15:$B$50,2,0))","v":""},{"$f":"IF(ISERROR(VLOOKUP(M470,[2]LISTAS!$A$15:$B$50,2,0)),\"\",VLOOKUP(M470,[2]LISTAS!$A$15:$B$50,2,0))","v":""},{"$f":"IF(ISERROR(VLOOKUP(O470,[2]LISTAS!$A$15:$B$50,2,0)),\"\",VLOOKUP(O470,[2]LISTAS!$A$15:$B$50,2,0))","v":""},{"$f":"IF(ISERROR(VLOOKUP(6,[2]LISTAS!$A$15:$B$50,2,0)),\"\",VLOOKUP(6,[2]LISTAS!$A$15:$B$50,2,0))","v":""},null,{"$f":"_xlfn.IFS(T470=\"------\",AD470,T470=\"LA RELACIÓN DE ACTIVIDADES DEBE SER A PARTIR DE LA SIGUIENTE FILA\",\"LA RELACIÓN DE ACTIVIDADES DEBE SER A PARTIR DE LA SIGUIENTE FILA\",T470<>\"------\",T470)","v":""},null,"ok"]
[null,null,null,null,null,null,null,null,null,null,null,null,null,null,null,null,null,null,null,"",{"$f":"IF(ISERROR(VLOOKUP(E471,[2]LISTAS!$A$15:$B$50,2,0)),\"\",VLOOKUP(E471,[2]LISTAS!$A$15:$B$50,2,0))","v":""},{"$f":"IF(ISERROR(VLOOKUP(G471,[2]LISTAS!$A$15:$B$50,2,0)),\"\",VLOOKUP(G471,[2]LISTAS!$A$15:$B$50,2,0))","v":""},{"$f":"IF(ISERROR(VLOOKUP(I471,[2]LISTAS!$A$15:$B$50,2,0)),\"\",VLOOKUP(I471,[2]LISTAS!$A$15:$B$50,2,0))","v":""},{"$f":"IF(ISERROR(VLOOKUP(K471,[2]LISTAS!$A$15:$B$50,2,0)),\"\",VLOOKUP(K471,[2]LISTAS!$A$15:$B$50,2,0))","v":""},{"$f":"IF(ISERROR(VLOOKUP(M471,[2]LISTAS!$A$15:$B$50,2,0)),\"\",VLOOKUP(M471,[2]LISTAS!$A$15:$B$50,2,0))","v":""},{"$f":"IF(ISERROR(VLOOKUP(O471,[2]LISTAS!$A$15:$B$50,2,0)),\"\",VLOOKUP(O471,[2]LISTAS!$A$15:$B$50,2,0))","v":""},{"$f":"IF(ISERROR(VLOOKUP(6,[2]LISTAS!$A$15:$B$50,2,0)),\"\",VLOOKUP(6,[2]LISTAS!$A$15:$B$50,2,0))","v":""},null,{"$f":"_xlfn.IFS(T471=\"------\",AD471,T471=\"LA RELACIÓN DE ACTIVIDADES DEBE SER A PARTIR DE LA SIGUIENTE FILA\",\"LA RELACIÓN DE ACTIVIDADES DEBE SER A PARTIR DE LA SIGUIENTE FILA\",T471<>\"------\",T471)","v":""},null,"ok"]
[null,null,null,null,null,null,null,null,null,null,null,null,null,null,null,null,null,null,null,"",{"$f":"IF(ISERROR(VLOOKUP(E472,[2]LISTAS!$A$15:$B$50,2,0)),\"\",VLOOKUP(E472,[2]LISTAS!$A$15:$B$50,2,0))","v":""},{"$f":"IF(ISERROR(VLOOKUP(G472,[2]LISTAS!$A$15:$B$50,2,0)),\"\",VLOOKUP(G472,[2]LISTAS!$A$15:$B$50,2,0))","v":""},{"$f":"IF(ISERROR(VLOOKUP(I472,[2]LISTAS!$A$15:$B$50,2,0)),\"\",VLOOKUP(I472,[2]LISTAS!$A$15:$B$50,2,0))","v":""},{"$f":"IF(ISERROR(VLOOKUP(K472,[2]LISTAS!$A$15:$B$50,2,0)),\"\",VLOOKUP(K472,[2]LISTAS!$A$15:$B$50,2,0))","v":""},{"$f":"IF(ISERROR(VLOOKUP(M472,[2]LISTAS!$A$15:$B$50,2,0)),\"\",VLOOKUP(M472,[2]LISTAS!$A$15:$B$50,2,0))","v":""},{"$f":"IF(ISERROR(VLOOKUP(O472,[2]LISTAS!$A$15:$B$50,2,0)),\"\",VLOOKUP(O472,[2]LISTAS!$A$15:$B$50,2,0))","v":""},{"$f":"IF(ISERROR(VLOOKUP(6,[2]LISTAS!$A$15:$B$50,2,0)),\"\",VLOOKUP(6,[2]LISTAS!$A$15:$B$50,2,0))","v":""},null,{"$f":"_xlfn.IFS(T472=\"------\",AD472,T472=\"LA RELACIÓN DE ACTIVIDADES DEBE SER A PARTIR DE LA SIGUIENTE FILA\",\"LA RELACIÓN DE ACTIVIDADES DEBE SER A PARTIR DE LA SIGUIENTE FILA\",T472<>\"------\",T472)","v":""},null,"ok"]
[null,null,null,null,null,null,null,null,null,null,null,null,null,null,null,null,null,null,null,"",{"$f":"IF(ISERROR(VLOOKUP(E473,[2]LISTAS!$A$15:$B$50,2,0)),\"\",VLOOKUP(E473,[2]LISTAS!$A$15:$B$50,2,0))","v":""},{"$f":"IF(ISERROR(VLOOKUP(G473,[2]LISTAS!$A$15:$B$50,2,0)),\"\",VLOOKUP(G473,[2]LISTAS!$A$15:$B$50,2,0))","v":""},{"$f":"IF(ISERROR(VLOOKUP(I473,[2]LISTAS!$A$15:$B$50,2,0)),\"\",VLOOKUP(I473,[2]LISTAS!$A$15:$B$50,2,0))","v":""},{"$f":"IF(ISERROR(VLOOKUP(K473,[2]LISTAS!$A$15:$B$50,2,0)),\"\",VLOOKUP(K473,[2]LISTAS!$A$15:$B$50,2,0))","v":""},{"$f":"IF(ISERROR(VLOOKUP(M473,[2]LISTAS!$A$15:$B$50,2,0)),\"\",VLOOKUP(M473,[2]LISTAS!$A$15:$B$50,2,0))","v":""},{"$f":"IF(ISERROR(VLOOKUP(O473,[2]LISTAS!$A$15:$B$50,2,0)),\"\",VLOOKUP(O473,[2]LISTAS!$A$15:$B$50,2,0))","v":""},{"$f":"IF(ISERROR(VLOOKUP(6,[2]LISTAS!$A$15:$B$50,2,0)),\"\",VLOOKUP(6,[2]LISTAS!$A$15:$B$50,2,0))","v":""},null,{"$f":"_xlfn.IFS(T473=\"------\",AD473,T473=\"LA RELACIÓN DE ACTIVIDADES DEBE SER A PARTIR DE LA SIGUIENTE FILA\",\"LA RELACIÓN DE ACTIVIDADES DEBE SER A PARTIR DE LA SIGUIENTE FILA\",T473<>\"------\",T473)","v":""},null,"ok"]
[null,null,null,null,null,null,null,null,null,null,null,null,null,null,null,null,null,null,null,"",{"$f":"IF(ISERROR(VLOOKUP(E474,[2]LISTAS!$A$15:$B$50,2,0)),\"\",VLOOKUP(E474,[2]LISTAS!$A$15:$B$50,2,0))","v":""},{"$f":"IF(ISERROR(VLOOKUP(G474,[2]LISTAS!$A$15:$B$50,2,0)),\"\",VLOOKUP(G474,[2]LISTAS!$A$15:$B$50,2,0))","v":""},{"$f":"IF(ISERROR(VLOOKUP(I474,[2]LISTAS!$A$15:$B$50,2,0)),\"\",VLOOKUP(I474,[2]LISTAS!$A$15:$B$50,2,0))","v":""},{"$f":"IF(ISERROR(VLOOKUP(K474,[2]LISTAS!$A$15:$B$50,2,0)),\"\",VLOOKUP(K474,[2]LISTAS!$A$15:$B$50,2,0))","v":""},{"$f":"IF(ISERROR(VLOOKUP(M474,[2]LISTAS!$A$15:$B$50,2,0)),\"\",VLOOKUP(M474,[2]LISTAS!$A$15:$B$50,2,0))","v":""},{"$f":"IF(ISERROR(VLOOKUP(O474,[2]LISTAS!$A$15:$B$50,2,0)),\"\",VLOOKUP(O474,[2]LISTAS!$A$15:$B$50,2,0))","v":""},{"$f":"IF(ISERROR(VLOOKUP(6,[2]LISTAS!$A$15:$B$50,2,0)),\"\",VLOOKUP(6,[2]LISTAS!$A$15:$B$50,2,0))","v":""},null,{"$f":"_xlfn.IFS(T474=\"------\",AD474,T474=\"LA RELACIÓN DE ACTIVIDADES DEBE SER A PARTIR DE LA SIGUIENTE FILA\",\"LA RELACIÓN DE ACTIVIDADES DEBE SER A PARTIR DE LA SIGUIENTE FILA\",T474<>\"------\",T474)","v":""},null,"ok"]
[null,null,null,null,null,null,null,null,null,null,null,null,null,null,null,null,null,null,null,"",{"$f":"IF(ISERROR(VLOOKUP(E475,[2]LISTAS!$A$15:$B$50,2,0)),\"\",VLOOKUP(E475,[2]LISTAS!$A$15:$B$50,2,0))","v":""},{"$f":"IF(ISERROR(VLOOKUP(G475,[2]LISTAS!$A$15:$B$50,2,0)),\"\",VLOOKUP(G475,[2]LISTAS!$A$15:$B$50,2,0))","v":""},{"$f":"IF(ISERROR(VLOOKUP(I475,[2]LISTAS!$A$15:$B$50,2,0)),\"\",VLOOKUP(I475,[2]LISTAS!$A$15:$B$50,2,0))","v":""},{"$f":"IF(ISERROR(VLOOKUP(K475,[2]LISTAS!$A$15:$B$50,2,0)),\"\",VLOOKUP(K475,[2]LISTAS!$A$15:$B$50,2,0))","v":""},{"$f":"IF(ISERROR(VLOOKUP(M475,[2]LISTAS!$A$15:$B$50,2,0)),\"\",VLOOKUP(M475,[2]LISTAS!$A$15:$B$50,2,0))","v":""},{"$f":"IF(ISERROR(VLOOKUP(O475,[2]LISTAS!$A$15:$B$50,2,0)),\"\",VLOOKUP(O475,[2]LISTAS!$A$15:$B$50,2,0))","v":""},{"$f":"IF(ISERROR(VLOOKUP(6,[2]LISTAS!$A$15:$B$50,2,0)),\"\",VLOOKUP(6,[2]LISTAS!$A$15:$B$50,2,0))","v":""},null,{"$f":"_xlfn.IFS(T475=\"------\",AD475,T475=\"LA RELACIÓN DE ACTIVIDADES DEBE SER A PARTIR DE LA SIGUIENTE FILA\",\"LA RELACIÓN DE ACTIVIDADES DEBE SER A PARTIR DE LA SIGUIENTE FILA\",T475<>\"------\",T475)","v":""},null,"ok"]
[null,null,null,null,null,null,null,null,null,null,null,null,null,null,null,null,null,null,null,"",{"$f":"IF(ISERROR(VLOOKUP(E476,[2]LISTAS!$A$15:$B$50,2,0)),\"\",VLOOKUP(E476,[2]LISTAS!$A$15:$B$50,2,0))","v":""},{"$f":"IF(ISERROR(VLOOKUP(G476,[2]LISTAS!$A$15:$B$50,2,0)),\"\",VLOOKUP(G476,[2]LISTAS!$A$15:$B$50,2,0))","v":""},{"$f":"IF(ISERROR(VLOOKUP(I476,[2]LISTAS!$A$15:$B$50,2,0)),\"\",VLOOKUP(I476,[2]LISTAS!$A$15:$B$50,2,0))","v":""},{"$f":"IF(ISERROR(VLOOKUP(K476,[2]LISTAS!$A$15:$B$50,2,0)),\"\",VLOOKUP(K476,[2]LISTAS!$A$15:$B$50,2,0))","v":""},{"$f":"IF(ISERROR(VLOOKUP(M476,[2]LISTAS!$A$15:$B$50,2,0)),\"\",VLOOKUP(M476,[2]LISTAS!$A$15:$B$50,2,0))","v":""},{"$f":"IF(ISERROR(VLOOKUP(O476,[2]LISTAS!$A$15:$B$50,2,0)),\"\",VLOOKUP(O476,[2]LISTAS!$A$15:$B$50,2,0))","v":""},{"$f":"IF(ISERROR(VLOOKUP(6,[2]LISTAS!$A$15:$B$50,2,0)),\"\",VLOOKUP(6,[2]LISTAS!$A$15:$B$50,2,0))","v":""},null,{"$f":"_xlfn.IFS(T476=\"------\",AD476,T476=\"LA RELACIÓN DE ACTIVIDADES DEBE SER A PARTIR DE LA SIGUIENTE FILA\",\"LA RELACIÓN DE ACTIVIDADES DEBE SER A PARTIR DE LA SIGUIENTE FILA\",T476<>\"------\",T476)","v":""},null,"ok"]
[null,null,null,null,null,null,null,null,null,null,null,null,null,null,null,null,null,null,null,"",{"$f":"IF(ISERROR(VLOOKUP(E477,[2]LISTAS!$A$15:$B$50,2,0)),\"\",VLOOKUP(E477,[2]LISTAS!$A$15:$B$50,2,0))","v":""},{"$f":"IF(ISERROR(VLOOKUP(G477,[2]LISTAS!$A$15:$B$50,2,0)),\"\",VLOOKUP(G477,[2]LISTAS!$A$15:$B$50,2,0))","v":""},{"$f":"IF(ISERROR(VLOOKUP(I477,[2]LISTAS!$A$15:$B$50,2,0)),\"\",VLOOKUP(I477,[2]LISTAS!$A$15:$B$50,2,0))","v":""},{"$f":"IF(ISERROR(VLOOKUP(K477,[2]LISTAS!$A$15:$B$50,2,0)),\"\",VLOOKUP(K477,[2]LISTAS!$A$15:$B$50,2,0))","v":""},{"$f":"IF(ISERROR(VLOOKUP(M477,[2]LISTAS!$A$15:$B$50,2,0)),\"\",VLOOKUP(M477,[2]LISTAS!$A$15:$B$50,2,0))","v":""},{"$f":"IF(ISERROR(VLOOKUP(O477,[2]LISTAS!$A$15:$B$50,2,0)),\"\",VLOOKUP(O477,[2]LISTAS!$A$15:$B$50,2,0))","v":""},{"$f":"IF(ISERROR(VLOOKUP(6,[2]LISTAS!$A$15:$B$50,2,0)),\"\",VLOOKUP(6,[2]LISTAS!$A$15:$B$50,2,0))","v":""},null,{"$f":"_xlfn.IFS(T477=\"------\",AD477,T477=\"LA RELACIÓN DE ACTIVIDADES DEBE SER A PARTIR DE LA SIGUIENTE FILA\",\"LA RELACIÓN DE ACTIVIDADES DEBE SER A PARTIR DE LA SIGUIENTE FILA\",T477<>\"------\",T477)","v":""},null,"ok"]
[null,null,null,null,null,null,null,null,null,null,null,null,null,null,null,null,null,null,null,"",{"$f":"IF(ISERROR(VLOOKUP(E478,[2]LISTAS!$A$15:$B$50,2,0)),\"\",VLOOKUP(E478,[2]LISTAS!$A$15:$B$50,2,0))","v":""},{"$f":"IF(ISERROR(VLOOKUP(G478,[2]LISTAS!$A$15:$B$50,2,0)),\"\",VLOOKUP(G478,[2]LISTAS!$A$15:$B$50,2,0))","v":""},{"$f":"IF(ISERROR(VLOOKUP(I478,[2]LISTAS!$A$15:$B$50,2,0)),\"\",VLOOKUP(I478,[2]LISTAS!$A$15:$B$50,2,0))","v":""},{"$f":"IF(ISERROR(VLOOKUP(K478,[2]LISTAS!$A$15:$B$50,2,0)),\"\",VLOOKUP(K478,[2]LISTAS!$A$15:$B$50,2,0))","v":""},{"$f":"IF(ISERROR(VLOOKUP(M478,[2]LISTAS!$A$15:$B$50,2,0)),\"\",VLOOKUP(M478,[2]LISTAS!$A$15:$B$50,2,0))","v":""},{"$f":"IF(ISERROR(VLOOKUP(O478,[2]LISTAS!$A$15:$B$50,2,0)),\"\",VLOOKUP(O478,[2]LISTAS!$A$15:$B$50,2,0))","v":""},{"$f":"IF(ISERROR(VLOOKUP(6,[2]LISTAS!$A$15:$B$50,2,0)),\"\",VLOOKUP(6,[2]LISTAS!$A$15:$B$50,2,0))","v":""},null,{"$f":"_xlfn.IFS(T478=\"------\",AD478,T478=\"LA RELACIÓN DE ACTIVIDADES DEBE SER A PARTIR DE LA SIGUIENTE FILA\",\"LA RELACIÓN DE ACTIVIDADES DEBE SER A PARTIR DE LA SIGUIENTE FILA\",T478<>\"------\",T478)","v":""},null,"ok"]
[null,null,null,null,null,null,null,null,null,null,null,null,null,null,null,null,null,null,null,"",{"$f":"IF(ISERROR(VLOOKUP(E479,[2]LISTAS!$A$15:$B$50,2,0)),\"\",VLOOKUP(E479,[2]LISTAS!$A$15:$B$50,2,0))","v":""},{"$f":"IF(ISERROR(VLOOKUP(G479,[2]LISTAS!$A$15:$B$50,2,0)),\"\",VLOOKUP(G479,[2]LISTAS!$A$15:$B$50,2,0))","v":""},{"$f":"IF(ISERROR(VLOOKUP(I479,[2]LISTAS!$A$15:$B$50,2,0)),\"\",VLOOKUP(I479,[2]LISTAS!$A$15:$B$50,2,0))","v":""},{"$f":"IF(ISERROR(VLOOKUP(K479,[2]LISTAS!$A$15:$B$50,2,0)),\"\",VLOOKUP(K479,[2]LISTAS!$A$15:$B$50,2,0))","v":""},{"$f":"IF(ISERROR(VLOOKUP(M479,[2]LISTAS!$A$15:$B$50,2,0)),\"\",VLOOKUP(M479,[2]LISTAS!$A$15:$B$50,2,0))","v":""},{"$f":"IF(ISERROR(VLOOKUP(O479,[2]LISTAS!$A$15:$B$50,2,0)),\"\",VLOOKUP(O479,[2]LISTAS!$A$15:$B$50,2,0))","v":""},{"$f":"IF(ISERROR(VLOOKUP(6,[2]LISTAS!$A$15:$B$50,2,0)),\"\",VLOOKUP(6,[2]LISTAS!$A$15:$B$50,2,0))","v":""},null,{"$f":"_xlfn.IFS(T479=\"------\",AD479,T479=\"LA RELACIÓN DE ACTIVIDADES DEBE SER A PARTIR DE LA SIGUIENTE FILA\",\"LA RELACIÓN DE ACTIVIDADES DEBE SER A PARTIR DE LA SIGUIENTE FILA\",T479<>\"------\",T479)","v":""},null,"ok"]
[null,null,null,null,null,null,null,null,null,null,null,null,null,null,null,null,null,null,null,"",{"$f":"IF(ISERROR(VLOOKUP(E480,[2]LISTAS!$A$15:$B$50,2,0)),\"\",VLOOKUP(E480,[2]LISTAS!$A$15:$B$50,2,0))","v":""},{"$f":"IF(ISERROR(VLOOKUP(G480,[2]LISTAS!$A$15:$B$50,2,0)),\"\",VLOOKUP(G480,[2]LISTAS!$A$15:$B$50,2,0))","v":""},{"$f":"IF(ISERROR(VLOOKUP(I480,[2]LISTAS!$A$15:$B$50,2,0)),\"\",VLOOKUP(I480,[2]LISTAS!$A$15:$B$50,2,0))","v":""},{"$f":"IF(ISERROR(VLOOKUP(K480,[2]LISTAS!$A$15:$B$50,2,0)),\"\",VLOOKUP(K480,[2]LISTAS!$A$15:$B$50,2,0))","v":""},{"$f":"IF(ISERROR(VLOOKUP(M480,[2]LISTAS!$A$15:$B$50,2,0)),\"\",VLOOKUP(M480,[2]LISTAS!$A$15:$B$50,2,0))","v":""},{"$f":"IF(ISERROR(VLOOKUP(O480,[2]LISTAS!$A$15:$B$50,2,0)),\"\",VLOOKUP(O480,[2]LISTAS!$A$15:$B$50,2,0))","v":""},{"$f":"IF(ISERROR(VLOOKUP(6,[2]LISTAS!$A$15:$B$50,2,0)),\"\",VLOOKUP(6,[2]LISTAS!$A$15:$B$50,2,0))","v":""},null,{"$f":"_xlfn.IFS(T480=\"------\",AD480,T480=\"LA RELACIÓN DE ACTIVIDADES DEBE SER A PARTIR DE LA SIGUIENTE FILA\",\"LA RELACIÓN DE ACTIVIDADES DEBE SER A PARTIR DE LA SIGUIENTE FILA\",T480<>\"------\",T480)","v":""},null,"ok"]
[null,null,null,null,null,null,null,null,null,null,null,null,null,null,null,null,null,null,null,"",{"$f":"IF(ISERROR(VLOOKUP(E481,[2]LISTAS!$A$15:$B$50,2,0)),\"\",VLOOKUP(E481,[2]LISTAS!$A$15:$B$50,2,0))","v":""},{"$f":"IF(ISERROR(VLOOKUP(G481,[2]LISTAS!$A$15:$B$50,2,0)),\"\",VLOOKUP(G481,[2]LISTAS!$A$15:$B$50,2,0))","v":""},{"$f":"IF(ISERROR(VLOOKUP(I481,[2]LISTAS!$A$15:$B$50,2,0)),\"\",VLOOKUP(I481,[2]LISTAS!$A$15:$B$50,2,0))","v":""},{"$f":"IF(ISERROR(VLOOKUP(K481,[2]LISTAS!$A$15:$B$50,2,0)),\"\",VLOOKUP(K481,[2]LISTAS!$A$15:$B$50,2,0))","v":""},{"$f":"IF(ISERROR(VLOOKUP(M481,[2]LISTAS!$A$15:$B$50,2,0)),\"\",VLOOKUP(M481,[2]LISTAS!$A$15:$B$50,2,0))","v":""},{"$f":"IF(ISERROR(VLOOKUP(O481,[2]LISTAS!$A$15:$B$50,2,0)),\"\",VLOOKUP(O481,[2]LISTAS!$A$15:$B$50,2,0))","v":""},{"$f":"IF(ISERROR(VLOOKUP(6,[2]LISTAS!$A$15:$B$50,2,0)),\"\",VLOOKUP(6,[2]LISTAS!$A$15:$B$50,2,0))","v":""},null,{"$f":"_xlfn.IFS(T481=\"------\",AD481,T481=\"LA RELACIÓN DE ACTIVIDADES DEBE SER A PARTIR DE LA SIGUIENTE FILA\",\"LA RELACIÓN DE ACTIVIDADES DEBE SER A PARTIR DE LA SIGUIENTE FILA\",T481<>\"------\",T481)","v":""},null,"ok"]
[null,null,null,null,null,null,null,null,null,null,null,null,null,null,null,null,null,null,null,"",{"$f":"IF(ISERROR(VLOOKUP(E482,[2]LISTAS!$A$15:$B$50,2,0)),\"\",VLOOKUP(E482,[2]LISTAS!$A$15:$B$50,2,0))","v":""},{"$f":"IF(ISERROR(VLOOKUP(G482,[2]LISTAS!$A$15:$B$50,2,0)),\"\",VLOOKUP(G482,[2]LISTAS!$A$15:$B$50,2,0))","v":""},{"$f":"IF(ISERROR(VLOOKUP(I482,[2]LISTAS!$A$15:$B$50,2,0)),\"\",VLOOKUP(I482,[2]LISTAS!$A$15:$B$50,2,0))","v":""},{"$f":"IF(ISERROR(VLOOKUP(K482,[2]LISTAS!$A$15:$B$50,2,0)),\"\",VLOOKUP(K482,[2]LISTAS!$A$15:$B$50,2,0))","v":""},{"$f":"IF(ISERROR(VLOOKUP(M482,[2]LISTAS!$A$15:$B$50,2,0)),\"\",VLOOKUP(M482,[2]LISTAS!$A$15:$B$50,2,0))","v":""},{"$f":"IF(ISERROR(VLOOKUP(O482,[2]LISTAS!$A$15:$B$50,2,0)),\"\",VLOOKUP(O482,[2]LISTAS!$A$15:$B$50,2,0))","v":""},{"$f":"IF(ISERROR(VLOOKUP(6,[2]LISTAS!$A$15:$B$50,2,0)),\"\",VLOOKUP(6,[2]LISTAS!$A$15:$B$50,2,0))","v":""},null,{"$f":"_xlfn.IFS(T482=\"------\",AD482,T482=\"LA RELACIÓN DE ACTIVIDADES DEBE SER A PARTIR DE LA SIGUIENTE FILA\",\"LA RELACIÓN DE ACTIVIDADES DEBE SER A PARTIR DE LA SIGUIENTE FILA\",T482<>\"------\",T482)","v":""},null,"ok"]
[null,null,null,null,null,null,null,null,null,null,null,null,null,null,null,null,null,null,null,"",{"$f":"IF(ISERROR(VLOOKUP(E483,[2]LISTAS!$A$15:$B$50,2,0)),\"\",VLOOKUP(E483,[2]LISTAS!$A$15:$B$50,2,0))","v":""},{"$f":"IF(ISERROR(VLOOKUP(G483,[2]LISTAS!$A$15:$B$50,2,0)),\"\",VLOOKUP(G483,[2]LISTAS!$A$15:$B$50,2,0))","v":""},{"$f":"IF(ISERROR(VLOOKUP(I483,[2]LISTAS!$A$15:$B$50,2,0)),\"\",VLOOKUP(I483,[2]LISTAS!$A$15:$B$50,2,0))","v":""},{"$f":"IF(ISERROR(VLOOKUP(K483,[2]LISTAS!$A$15:$B$50,2,0)),\"\",VLOOKUP(K483,[2]LISTAS!$A$15:$B$50,2,0))","v":""},{"$f":"IF(ISERROR(VLOOKUP(M483,[2]LISTAS!$A$15:$B$50,2,0)),\"\",VLOOKUP(M483,[2]LISTAS!$A$15:$B$50,2,0))","v":""},{"$f":"IF(ISERROR(VLOOKUP(O483,[2]LISTAS!$A$15:$B$50,2,0)),\"\",VLOOKUP(O483,[2]LISTAS!$A$15:$B$50,2,0))","v":""},{"$f":"IF(ISERROR(VLOOKUP(6,[2]LISTAS!$A$15:$B$50,2,0)),\"\",VLOOKUP(6,[2]LISTAS!$A$15:$B$50,2,0))","v":""},null,{"$f":"_xlfn.IFS(T483=\"------\",AD483,T483=\"LA RELACIÓN DE ACTIVIDADES DEBE SER A PARTIR DE LA SIGUIENTE FILA\",\"LA RELACIÓN DE ACTIVIDADES DEBE SER A PARTIR DE LA SIGUIENTE FILA\",T483<>\"------\",T483)","v":""},null,"ok"]
[null,null,null,null,null,null,null,null,null,null,null,null,null,null,null,null,null,null,null,"",{"$f":"IF(ISERROR(VLOOKUP(E484,[2]LISTAS!$A$15:$B$50,2,0)),\"\",VLOOKUP(E484,[2]LISTAS!$A$15:$B$50,2,0))","v":""},{"$f":"IF(ISERROR(VLOOKUP(G484,[2]LISTAS!$A$15:$B$50,2,0)),\"\",VLOOKUP(G484,[2]LISTAS!$A$15:$B$50,2,0))","v":""},{"$f":"IF(ISERROR(VLOOKUP(I484,[2]LISTAS!$A$15:$B$50,2,0)),\"\",VLOOKUP(I484,[2]LISTAS!$A$15:$B$50,2,0))","v":""},{"$f":"IF(ISERROR(VLOOKUP(K484,[2]LISTAS!$A$15:$B$50,2,0)),\"\",VLOOKUP(K484,[2]LISTAS!$A$15:$B$50,2,0))","v":""},{"$f":"IF(ISERROR(VLOOKUP(M484,[2]LISTAS!$A$15:$B$50,2,0)),\"\",VLOOKUP(M484,[2]LISTAS!$A$15:$B$50,2,0))","v":""},{"$f":"IF(ISERROR(VLOOKUP(O484,[2]LISTAS!$A$15:$B$50,2,0)),\"\",VLOOKUP(O484,[2]LISTAS!$A$15:$B$50,2,0))","v":""},{"$f":"IF(ISERROR(VLOOKUP(6,[2]LISTAS!$A$15:$B$50,2,0)),\"\",VLOOKUP(6,[2]LISTAS!$A$15:$B$50,2,0))","v":""},null,{"$f":"_xlfn.IFS(T484=\"------\",AD484,T484=\"LA RELACIÓN DE ACTIVIDADES DEBE SER A PARTIR DE LA SIGUIENTE FILA\",\"LA RELACIÓN DE ACTIVIDADES DEBE SER A PARTIR DE LA SIGUIENTE FILA\",T484<>\"------\",T484)","v":""},null,"ok"]
[null,null,null,null,null,null,null,null,null,null,null,null,null,null,null,null,null,null,null,"",{"$f":"IF(ISERROR(VLOOKUP(E485,[2]LISTAS!$A$15:$B$50,2,0)),\"\",VLOOKUP(E485,[2]LISTAS!$A$15:$B$50,2,0))","v":""},{"$f":"IF(ISERROR(VLOOKUP(G485,[2]LISTAS!$A$15:$B$50,2,0)),\"\",VLOOKUP(G485,[2]LISTAS!$A$15:$B$50,2,0))","v":""},{"$f":"IF(ISERROR(VLOOKUP(I485,[2]LISTAS!$A$15:$B$50,2,0)),\"\",VLOOKUP(I485,[2]LISTAS!$A$15:$B$50,2,0))","v":""},{"$f":"IF(ISERROR(VLOOKUP(K485,[2]LISTAS!$A$15:$B$50,2,0)),\"\",VLOOKUP(K485,[2]LISTAS!$A$15:$B$50,2,0))","v":""},{"$f":"IF(ISERROR(VLOOKUP(M485,[2]LISTAS!$A$15:$B$50,2,0)),\"\",VLOOKUP(M485,[2]LISTAS!$A$15:$B$50,2,0))","v":""},{"$f":"IF(ISERROR(VLOOKUP(O485,[2]LISTAS!$A$15:$B$50,2,0)),\"\",VLOOKUP(O485,[2]LISTAS!$A$15:$B$50,2,0))","v":""},{"$f":"IF(ISERROR(VLOOKUP(6,[2]LISTAS!$A$15:$B$50,2,0)),\"\",VLOOKUP(6,[2]LISTAS!$A$15:$B$50,2,0))","v":""},null,{"$f":"_xlfn.IFS(T485=\"------\",AD485,T485=\"LA RELACIÓN DE ACTIVIDADES DEBE SER A PARTIR DE LA SIGUIENTE FILA\",\"LA RELACIÓN DE ACTIVIDADES DEBE SER A PARTIR DE LA SIGUIENTE FILA\",T485<>\"------\",T485)","v":""},null,"ok"]
[null,null,null,null,null,null,null,null,null,null,null,null,null,null,null,null,null,null,null,"",{"$f":"IF(ISERROR(VLOOKUP(E486,[2]LISTAS!$A$15:$B$50,2,0)),\"\",VLOOKUP(E486,[2]LISTAS!$A$15:$B$50,2,0))","v":""},{"$f":"IF(ISERROR(VLOOKUP(G486,[2]LISTAS!$A$15:$B$50,2,0)),\"\",VLOOKUP(G486,[2]LISTAS!$A$15:$B$50,2,0))","v":""},{"$f":"IF(ISERROR(VLOOKUP(I486,[2]LISTAS!$A$15:$B$50,2,0)),\"\",VLOOKUP(I486,[2]LISTAS!$A$15:$B$50,2,0))","v":""},{"$f":"IF(ISERROR(VLOOKUP(K486,[2]LISTAS!$A$15:$B$50,2,0)),\"\",VLOOKUP(K486,[2]LISTAS!$A$15:$B$50,2,0))","v":""},{"$f":"IF(ISERROR(VLOOKUP(M486,[2]LISTAS!$A$15:$B$50,2,0)),\"\",VLOOKUP(M486,[2]LISTAS!$A$15:$B$50,2,0))","v":""},{"$f":"IF(ISERROR(VLOOKUP(O486,[2]LISTAS!$A$15:$B$50,2,0)),\"\",VLOOKUP(O486,[2]LISTAS!$A$15:$B$50,2,0))","v":""},{"$f":"IF(ISERROR(VLOOKUP(6,[2]LISTAS!$A$15:$B$50,2,0)),\"\",VLOOKUP(6,[2]LISTAS!$A$15:$B$50,2,0))","v":""},null,{"$f":"_xlfn.IFS(T486=\"------\",AD486,T486=\"LA RELACIÓN DE ACTIVIDADES DEBE SER A PARTIR DE LA SIGUIENTE FILA\",\"LA RELACIÓN DE ACTIVIDADES DEBE SER A PARTIR DE LA SIGUIENTE FILA\",T486<>\"------\",T486)","v":""},null,"ok"]
[null,null,null,null,null,null,null,null,null,null,null,null,null,null,null,null,null,null,null,"",{"$f":"IF(ISERROR(VLOOKUP(E487,[2]LISTAS!$A$15:$B$50,2,0)),\"\",VLOOKUP(E487,[2]LISTAS!$A$15:$B$50,2,0))","v":""},{"$f":"IF(ISERROR(VLOOKUP(G487,[2]LISTAS!$A$15:$B$50,2,0)),\"\",VLOOKUP(G487,[2]LISTAS!$A$15:$B$50,2,0))","v":""},{"$f":"IF(ISERROR(VLOOKUP(I487,[2]LISTAS!$A$15:$B$50,2,0)),\"\",VLOOKUP(I487,[2]LISTAS!$A$15:$B$50,2,0))","v":""},{"$f":"IF(ISERROR(VLOOKUP(K487,[2]LISTAS!$A$15:$B$50,2,0)),\"\",VLOOKUP(K487,[2]LISTAS!$A$15:$B$50,2,0))","v":""},{"$f":"IF(ISERROR(VLOOKUP(M487,[2]LISTAS!$A$15:$B$50,2,0)),\"\",VLOOKUP(M487,[2]LISTAS!$A$15:$B$50,2,0))","v":""},{"$f":"IF(ISERROR(VLOOKUP(O487,[2]LISTAS!$A$15:$B$50,2,0)),\"\",VLOOKUP(O487,[2]LISTAS!$A$15:$B$50,2,0))","v":""},{"$f":"IF(ISERROR(VLOOKUP(6,[2]LISTAS!$A$15:$B$50,2,0)),\"\",VLOOKUP(6,[2]LISTAS!$A$15:$B$50,2,0))","v":""},null,{"$f":"_xlfn.IFS(T487=\"------\",AD487,T487=\"LA RELACIÓN DE ACTIVIDADES DEBE SER A PARTIR DE LA SIGUIENTE FILA\",\"LA RELACIÓN DE ACTIVIDADES DEBE SER A PARTIR DE LA SIGUIENTE FILA\",T487<>\"------\",T487)","v":""},null,"ok"]
[null,null,null,null,null,null,null,null,null,null,null,null,null,null,null,null,null,null,null,"",{"$f":"IF(ISERROR(VLOOKUP(E488,[2]LISTAS!$A$15:$B$50,2,0)),\"\",VLOOKUP(E488,[2]LISTAS!$A$15:$B$50,2,0))","v":""},{"$f":"IF(ISERROR(VLOOKUP(G488,[2]LISTAS!$A$15:$B$50,2,0)),\"\",VLOOKUP(G488,[2]LISTAS!$A$15:$B$50,2,0))","v":""},{"$f":"IF(ISERROR(VLOOKUP(I488,[2]LISTAS!$A$15:$B$50,2,0)),\"\",VLOOKUP(I488,[2]LISTAS!$A$15:$B$50,2,0))","v":""},{"$f":"IF(ISERROR(VLOOKUP(K488,[2]LISTAS!$A$15:$B$50,2,0)),\"\",VLOOKUP(K488,[2]LISTAS!$A$15:$B$50,2,0))","v":""},{"$f":"IF(ISERROR(VLOOKUP(M488,[2]LISTAS!$A$15:$B$50,2,0)),\"\",VLOOKUP(M488,[2]LISTAS!$A$15:$B$50,2,0))","v":""},{"$f":"IF(ISERROR(VLOOKUP(O488,[2]LISTAS!$A$15:$B$50,2,0)),\"\",VLOOKUP(O488,[2]LISTAS!$A$15:$B$50,2,0))","v":""},{"$f":"IF(ISERROR(VLOOKUP(6,[2]LISTAS!$A$15:$B$50,2,0)),\"\",VLOOKUP(6,[2]LISTAS!$A$15:$B$50,2,0))","v":""},null,{"$f":"_xlfn.IFS(T488=\"------\",AD488,T488=\"LA RELACIÓN DE ACTIVIDADES DEBE SER A PARTIR DE LA SIGUIENTE FILA\",\"LA RELACIÓN DE ACTIVIDADES DEBE SER A PARTIR DE LA SIGUIENTE FILA\",T488<>\"------\",T488)","v":""},null,"ok"]
[null,null,null,null,null,null,null,null,null,null,null,null,null,null,null,null,null,null,null,"",{"$f":"IF(ISERROR(VLOOKUP(E489,[2]LISTAS!$A$15:$B$50,2,0)),\"\",VLOOKUP(E489,[2]LISTAS!$A$15:$B$50,2,0))","v":""},{"$f":"IF(ISERROR(VLOOKUP(G489,[2]LISTAS!$A$15:$B$50,2,0)),\"\",VLOOKUP(G489,[2]LISTAS!$A$15:$B$50,2,0))","v":""},{"$f":"IF(ISERROR(VLOOKUP(I489,[2]LISTAS!$A$15:$B$50,2,0)),\"\",VLOOKUP(I489,[2]LISTAS!$A$15:$B$50,2,0))","v":""},{"$f":"IF(ISERROR(VLOOKUP(K489,[2]LISTAS!$A$15:$B$50,2,0)),\"\",VLOOKUP(K489,[2]LISTAS!$A$15:$B$50,2,0))","v":""},{"$f":"IF(ISERROR(VLOOKUP(M489,[2]LISTAS!$A$15:$B$50,2,0)),\"\",VLOOKUP(M489,[2]LISTAS!$A$15:$B$50,2,0))","v":""},{"$f":"IF(ISERROR(VLOOKUP(O489,[2]LISTAS!$A$15:$B$50,2,0)),\"\",VLOOKUP(O489,[2]LISTAS!$A$15:$B$50,2,0))","v":""},{"$f":"IF(ISERROR(VLOOKUP(6,[2]LISTAS!$A$15:$B$50,2,0)),\"\",VLOOKUP(6,[2]LISTAS!$A$15:$B$50,2,0))","v":""},null,{"$f":"_xlfn.IFS(T489=\"------\",AD489,T489=\"LA RELACIÓN DE ACTIVIDADES DEBE SER A PARTIR DE LA SIGUIENTE FILA\",\"LA RELACIÓN DE ACTIVIDADES DEBE SER A PARTIR DE LA SIGUIENTE FILA\",T489<>\"------\",T489)","v":""},null,"ok"]
[null,null,null,null,null,null,null,null,null,null,null,null,null,null,null,null,null,null,null,"",{"$f":"IF(ISERROR(VLOOKUP(E490,[2]LISTAS!$A$15:$B$50,2,0)),\"\",VLOOKUP(E490,[2]LISTAS!$A$15:$B$50,2,0))","v":""},{"$f":"IF(ISERROR(VLOOKUP(G490,[2]LISTAS!$A$15:$B$50,2,0)),\"\",VLOOKUP(G490,[2]LISTAS!$A$15:$B$50,2,0))","v":""},{"$f":"IF(ISERROR(VLOOKUP(I490,[2]LISTAS!$A$15:$B$50,2,0)),\"\",VLOOKUP(I490,[2]LISTAS!$A$15:$B$50,2,0))","v":""},{"$f":"IF(ISERROR(VLOOKUP(K490,[2]LISTAS!$A$15:$B$50,2,0)),\"\",VLOOKUP(K490,[2]LISTAS!$A$15:$B$50,2,0))","v":""},{"$f":"IF(ISERROR(VLOOKUP(M490,[2]LISTAS!$A$15:$B$50,2,0)),\"\",VLOOKUP(M490,[2]LISTAS!$A$15:$B$50,2,0))","v":""},{"$f":"IF(ISERROR(VLOOKUP(O490,[2]LISTAS!$A$15:$B$50,2,0)),\"\",VLOOKUP(O490,[2]LISTAS!$A$15:$B$50,2,0))","v":""},{"$f":"IF(ISERROR(VLOOKUP(6,[2]LISTAS!$A$15:$B$50,2,0)),\"\",VLOOKUP(6,[2]LISTAS!$A$15:$B$50,2,0))","v":""},null,{"$f":"_xlfn.IFS(T490=\"------\",AD490,T490=\"LA RELACIÓN DE ACTIVIDADES DEBE SER A PARTIR DE LA SIGUIENTE FILA\",\"LA RELACIÓN DE ACTIVIDADES DEBE SER A PARTIR DE LA SIGUIENTE FILA\",T490<>\"------\",T490)","v":""},null,"ok"]
[null,null,null,null,null,null,null,null,null,null,null,null,null,null,null,null,null,null,null,"",{"$f":"IF(ISERROR(VLOOKUP(E491,[2]LISTAS!$A$15:$B$50,2,0)),\"\",VLOOKUP(E491,[2]LISTAS!$A$15:$B$50,2,0))","v":""},{"$f":"IF(ISERROR(VLOOKUP(G491,[2]LISTAS!$A$15:$B$50,2,0)),\"\",VLOOKUP(G491,[2]LISTAS!$A$15:$B$50,2,0))","v":""},{"$f":"IF(ISERROR(VLOOKUP(I491,[2]LISTAS!$A$15:$B$50,2,0)),\"\",VLOOKUP(I491,[2]LISTAS!$A$15:$B$50,2,0))","v":""},{"$f":"IF(ISERROR(VLOOKUP(K491,[2]LISTAS!$A$15:$B$50,2,0)),\"\",VLOOKUP(K491,[2]LISTAS!$A$15:$B$50,2,0))","v":""},{"$f":"IF(ISERROR(VLOOKUP(M491,[2]LISTAS!$A$15:$B$50,2,0)),\"\",VLOOKUP(M491,[2]LISTAS!$A$15:$B$50,2,0))","v":""},{"$f":"IF(ISERROR(VLOOKUP(O491,[2]LISTAS!$A$15:$B$50,2,0)),\"\",VLOOKUP(O491,[2]LISTAS!$A$15:$B$50,2,0))","v":""},{"$f":"IF(ISERROR(VLOOKUP(6,[2]LISTAS!$A$15:$B$50,2,0)),\"\",VLOOKUP(6,[2]LISTAS!$A$15:$B$50,2,0))","v":""},null,{"$f":"_xlfn.IFS(T491=\"------\",AD491,T491=\"LA RELACIÓN DE ACTIVIDADES DEBE SER A PARTIR DE LA SIGUIENTE FILA\",\"LA RELACIÓN DE ACTIVIDADES DEBE SER A PARTIR DE LA SIGUIENTE FILA\",T491<>\"------\",T491)","v":""},null,"ok"]
[null,null,null,null,null,null,null,null,null,null,null,null,null,null,null,null,null,null,null,"",{"$f":"IF(ISERROR(VLOOKUP(E492,[2]LISTAS!$A$15:$B$50,2,0)),\"\",VLOOKUP(E492,[2]LISTAS!$A$15:$B$50,2,0))","v":""},{"$f":"IF(ISERROR(VLOOKUP(G492,[2]LISTAS!$A$15:$B$50,2,0)),\"\",VLOOKUP(G492,[2]LISTAS!$A$15:$B$50,2,0))","v":""},{"$f":"IF(ISERROR(VLOOKUP(I492,[2]LISTAS!$A$15:$B$50,2,0)),\"\",VLOOKUP(I492,[2]LISTAS!$A$15:$B$50,2,0))","v":""},{"$f":"IF(ISERROR(VLOOKUP(K492,[2]LISTAS!$A$15:$B$50,2,0)),\"\",VLOOKUP(K492,[2]LISTAS!$A$15:$B$50,2,0))","v":""},{"$f":"IF(ISERROR(VLOOKUP(M492,[2]LISTAS!$A$15:$B$50,2,0)),\"\",VLOOKUP(M492,[2]LISTAS!$A$15:$B$50,2,0))","v":""},{"$f":"IF(ISERROR(VLOOKUP(O492,[2]LISTAS!$A$15:$B$50,2,0)),\"\",VLOOKUP(O492,[2]LISTAS!$A$15:$B$50,2,0))","v":""},{"$f":"IF(ISERROR(VLOOKUP(6,[2]LISTAS!$A$15:$B$50,2,0)),\"\",VLOOKUP(6,[2]LISTAS!$A$15:$B$50,2,0))","v":""},null,{"$f":"_xlfn.IFS(T492=\"------\",AD492,T492=\"LA RELACIÓN DE ACTIVIDADES DEBE SER A PARTIR DE LA SIGUIENTE FILA\",\"LA RELACIÓN DE ACTIVIDADES DEBE SER A PARTIR DE LA SIGUIENTE FILA\",T492<>\"------\",T492)","v":""},null,"ok"]
[null,null,null,null,null,null,null,null,null,null,null,null,null,null,null,null,null,null,null,"",{"$f":"IF(ISERROR(VLOOKUP(E493,[2]LISTAS!$A$15:$B$50,2,0)),\"\",VLOOKUP(E493,[2]LISTAS!$A$15:$B$50,2,0))","v":""},{"$f":"IF(ISERROR(VLOOKUP(G493,[2]LISTAS!$A$15:$B$50,2,0)),\"\",VLOOKUP(G493,[2]LISTAS!$A$15:$B$50,2,0))","v":""},{"$f":"IF(ISERROR(VLOOKUP(I493,[2]LISTAS!$A$15:$B$50,2,0)),\"\",VLOOKUP(I493,[2]LISTAS!$A$15:$B$50,2,0))","v":""},{"$f":"IF(ISERROR(VLOOKUP(K493,[2]LISTAS!$A$15:$B$50,2,0)),\"\",VLOOKUP(K493,[2]LISTAS!$A$15:$B$50,2,0))","v":""},{"$f":"IF(ISERROR(VLOOKUP(M493,[2]LISTAS!$A$15:$B$50,2,0)),\"\",VLOOKUP(M493,[2]LISTAS!$A$15:$B$50,2,0))","v":""},{"$f":"IF(ISERROR(VLOOKUP(O493,[2]LISTAS!$A$15:$B$50,2,0)),\"\",VLOOKUP(O493,[2]LISTAS!$A$15:$B$50,2,0))","v":""},{"$f":"IF(ISERROR(VLOOKUP(6,[2]LISTAS!$A$15:$B$50,2,0)),\"\",VLOOKUP(6,[2]LISTAS!$A$15:$B$50,2,0))","v":""},null,{"$f":"_xlfn.IFS(T493=\"------\",AD493,T493=\"LA RELACIÓN DE ACTIVIDADES DEBE SER A PARTIR DE LA SIGUIENTE FILA\",\"LA RELACIÓN DE ACTIVIDADES DEBE SER A PARTIR DE LA SIGUIENTE FILA\",T493<>\"------\",T493)","v":""},null,"ok"]
[null,null,null,null,null,null,null,null,null,null,null,null,null,null,null,null,null,null,null,"",{"$f":"IF(ISERROR(VLOOKUP(E494,[2]LISTAS!$A$15:$B$50,2,0)),\"\",VLOOKUP(E494,[2]LISTAS!$A$15:$B$50,2,0))","v":""},{"$f":"IF(ISERROR(VLOOKUP(G494,[2]LISTAS!$A$15:$B$50,2,0)),\"\",VLOOKUP(G494,[2]LISTAS!$A$15:$B$50,2,0))","v":""},{"$f":"IF(ISERROR(VLOOKUP(I494,[2]LISTAS!$A$15:$B$50,2,0)),\"\",VLOOKUP(I494,[2]LISTAS!$A$15:$B$50,2,0))","v":""},{"$f":"IF(ISERROR(VLOOKUP(K494,[2]LISTAS!$A$15:$B$50,2,0)),\"\",VLOOKUP(K494,[2]LISTAS!$A$15:$B$50,2,0))","v":""},{"$f":"IF(ISERROR(VLOOKUP(M494,[2]LISTAS!$A$15:$B$50,2,0)),\"\",VLOOKUP(M494,[2]LISTAS!$A$15:$B$50,2,0))","v":""},{"$f":"IF(ISERROR(VLOOKUP(O494,[2]LISTAS!$A$15:$B$50,2,0)),\"\",VLOOKUP(O494,[2]LISTAS!$A$15:$B$50,2,0))","v":""},{"$f":"IF(ISERROR(VLOOKUP(6,[2]LISTAS!$A$15:$B$50,2,0)),\"\",VLOOKUP(6,[2]LISTAS!$A$15:$B$50,2,0))","v":""},null,{"$f":"_xlfn.IFS(T494=\"------\",AD494,T494=\"LA RELACIÓN DE ACTIVIDADES DEBE SER A PARTIR DE LA SIGUIENTE FILA\",\"LA RELACIÓN DE ACTIVIDADES DEBE SER A PARTIR DE LA SIGUIENTE FILA\",T494<>\"------\",T494)","v":""},null,"ok"]
[null,null,null,null,null,null,null,null,null,null,null,null,null,null,null,null,null,null,null,"",{"$f":"IF(ISERROR(VLOOKUP(E495,[2]LISTAS!$A$15:$B$50,2,0)),\"\",VLOOKUP(E495,[2]LISTAS!$A$15:$B$50,2,0))","v":""},{"$f":"IF(ISERROR(VLOOKUP(G495,[2]LISTAS!$A$15:$B$50,2,0)),\"\",VLOOKUP(G495,[2]LISTAS!$A$15:$B$50,2,0))","v":""},{"$f":"IF(ISERROR(VLOOKUP(I495,[2]LISTAS!$A$15:$B$50,2,0)),\"\",VLOOKUP(I495,[2]LISTAS!$A$15:$B$50,2,0))","v":""},{"$f":"IF(ISERROR(VLOOKUP(K495,[2]LISTAS!$A$15:$B$50,2,0)),\"\",VLOOKUP(K495,[2]LISTAS!$A$15:$B$50,2,0))","v":""},{"$f":"IF(ISERROR(VLOOKUP(M495,[2]LISTAS!$A$15:$B$50,2,0)),\"\",VLOOKUP(M495,[2]LISTAS!$A$15:$B$50,2,0))","v":""},{"$f":"IF(ISERROR(VLOOKUP(O495,[2]LISTAS!$A$15:$B$50,2,0)),\"\",VLOOKUP(O495,[2]LISTAS!$A$15:$B$50,2,0))","v":""},{"$f":"IF(ISERROR(VLOOKUP(6,[2]LISTAS!$A$15:$B$50,2,0)),\"\",VLOOKUP(6,[2]LISTAS!$A$15:$B$50,2,0))","v":""},null,{"$f":"_xlfn.IFS(T495=\"------\",AD495,T495=\"LA RELACIÓN DE ACTIVIDADES DEBE SER A PARTIR DE LA SIGUIENTE FILA\",\"LA RELACIÓN DE ACTIVIDADES DEBE SER A PARTIR DE LA SIGUIENTE FILA\",T495<>\"------\",T495)","v":""},null,"ok"]
[null,null,null,null,null,null,null,null,null,null,null,null,null,null,null,null,null,null,null,"",{"$f":"IF(ISERROR(VLOOKUP(E496,[2]LISTAS!$A$15:$B$50,2,0)),\"\",VLOOKUP(E496,[2]LISTAS!$A$15:$B$50,2,0))","v":""},{"$f":"IF(ISERROR(VLOOKUP(G496,[2]LISTAS!$A$15:$B$50,2,0)),\"\",VLOOKUP(G496,[2]LISTAS!$A$15:$B$50,2,0))","v":""},{"$f":"IF(ISERROR(VLOOKUP(I496,[2]LISTAS!$A$15:$B$50,2,0)),\"\",VLOOKUP(I496,[2]LISTAS!$A$15:$B$50,2,0))","v":""},{"$f":"IF(ISERROR(VLOOKUP(K496,[2]LISTAS!$A$15:$B$50,2,0)),\"\",VLOOKUP(K496,[2]LISTAS!$A$15:$B$50,2,0))","v":""},{"$f":"IF(ISERROR(VLOOKUP(M496,[2]LISTAS!$A$15:$B$50,2,0)),\"\",VLOOKUP(M496,[2]LISTAS!$A$15:$B$50,2,0))","v":""},{"$f":"IF(ISERROR(VLOOKUP(O496,[2]LISTAS!$A$15:$B$50,2,0)),\"\",VLOOKUP(O496,[2]LISTAS!$A$15:$B$50,2,0))","v":""},{"$f":"IF(ISERROR(VLOOKUP(6,[2]LISTAS!$A$15:$B$50,2,0)),\"\",VLOOKUP(6,[2]LISTAS!$A$15:$B$50,2,0))","v":""},null,{"$f":"_xlfn.IFS(T496=\"------\",AD496,T496=\"LA RELACIÓN DE ACTIVIDADES DEBE SER A PARTIR DE LA SIGUIENTE FILA\",\"LA RELACIÓN DE ACTIVIDADES DEBE SER A PARTIR DE LA SIGUIENTE FILA\",T496<>\"------\",T496)","v":""},null,"ok"]
[null,null,null,null,null,null,null,null,null,null,null,null,null,null,null,null,null,null,null,"",{"$f":"IF(ISERROR(VLOOKUP(E497,[2]LISTAS!$A$15:$B$50,2,0)),\"\",VLOOKUP(E497,[2]LISTAS!$A$15:$B$50,2,0))","v":""},{"$f":"IF(ISERROR(VLOOKUP(G497,[2]LISTAS!$A$15:$B$50,2,0)),\"\",VLOOKUP(G497,[2]LISTAS!$A$15:$B$50,2,0))","v":""},{"$f":"IF(ISERROR(VLOOKUP(I497,[2]LISTAS!$A$15:$B$50,2,0)),\"\",VLOOKUP(I497,[2]LISTAS!$A$15:$B$50,2,0))","v":""},{"$f":"IF(ISERROR(VLOOKUP(K497,[2]LISTAS!$A$15:$B$50,2,0)),\"\",VLOOKUP(K497,[2]LISTAS!$A$15:$B$50,2,0))","v":""},{"$f":"IF(ISERROR(VLOOKUP(M497,[2]LISTAS!$A$15:$B$50,2,0)),\"\",VLOOKUP(M497,[2]LISTAS!$A$15:$B$50,2,0))","v":""},{"$f":"IF(ISERROR(VLOOKUP(O497,[2]LISTAS!$A$15:$B$50,2,0)),\"\",VLOOKUP(O497,[2]LISTAS!$A$15:$B$50,2,0))","v":""},{"$f":"IF(ISERROR(VLOOKUP(6,[2]LISTAS!$A$15:$B$50,2,0)),\"\",VLOOKUP(6,[2]LISTAS!$A$15:$B$50,2,0))","v":""},null,{"$f":"_xlfn.IFS(T497=\"------\",AD497,T497=\"LA RELACIÓN DE ACTIVIDADES DEBE SER A PARTIR DE LA SIGUIENTE FILA\",\"LA RELACIÓN DE ACTIVIDADES DEBE SER A PARTIR DE LA SIGUIENTE FILA\",T497<>\"------\",T497)","v":""},null,"ok"]
[null,null,null,null,null,null,null,null,null,null,null,null,null,null,null,null,null,null,null,"",{"$f":"IF(ISERROR(VLOOKUP(E498,[2]LISTAS!$A$15:$B$50,2,0)),\"\",VLOOKUP(E498,[2]LISTAS!$A$15:$B$50,2,0))","v":""},{"$f":"IF(ISERROR(VLOOKUP(G498,[2]LISTAS!$A$15:$B$50,2,0)),\"\",VLOOKUP(G498,[2]LISTAS!$A$15:$B$50,2,0))","v":""},{"$f":"IF(ISERROR(VLOOKUP(I498,[2]LISTAS!$A$15:$B$50,2,0)),\"\",VLOOKUP(I498,[2]LISTAS!$A$15:$B$50,2,0))","v":""},{"$f":"IF(ISERROR(VLOOKUP(K498,[2]LISTAS!$A$15:$B$50,2,0)),\"\",VLOOKUP(K498,[2]LISTAS!$A$15:$B$50,2,0))","v":""},{"$f":"IF(ISERROR(VLOOKUP(M498,[2]LISTAS!$A$15:$B$50,2,0)),\"\",VLOOKUP(M498,[2]LISTAS!$A$15:$B$50,2,0))","v":""},{"$f":"IF(ISERROR(VLOOKUP(O498,[2]LISTAS!$A$15:$B$50,2,0)),\"\",VLOOKUP(O498,[2]LISTAS!$A$15:$B$50,2,0))","v":""},{"$f":"IF(ISERROR(VLOOKUP(6,[2]LISTAS!$A$15:$B$50,2,0)),\"\",VLOOKUP(6,[2]LISTAS!$A$15:$B$50,2,0))","v":""},null,{"$f":"_xlfn.IFS(T498=\"------\",AD498,T498=\"LA RELACIÓN DE ACTIVIDADES DEBE SER A PARTIR DE LA SIGUIENTE FILA\",\"LA RELACIÓN DE ACTIVIDADES DEBE SER A PARTIR DE LA SIGUIENTE FILA\",T498<>\"------\",T498)","v":""},null,"ok"]
[null,null,null,null,null,null,null,null,null,null,null,null,null,null,null,null,null,null,null,"",{"$f":"IF(ISERROR(VLOOKUP(E499,[2]LISTAS!$A$15:$B$50,2,0)),\"\",VLOOKUP(E499,[2]LISTAS!$A$15:$B$50,2,0))","v":""},{"$f":"IF(ISERROR(VLOOKUP(G499,[2]LISTAS!$A$15:$B$50,2,0)),\"\",VLOOKUP(G499,[2]LISTAS!$A$15:$B$50,2,0))","v":""},{"$f":"IF(ISERROR(VLOOKUP(I499,[2]LISTAS!$A$15:$B$50,2,0)),\"\",VLOOKUP(I499,[2]LISTAS!$A$15:$B$50,2,0))","v":""},{"$f":"IF(ISERROR(VLOOKUP(K499,[2]LISTAS!$A$15:$B$50,2,0)),\"\",VLOOKUP(K499,[2]LISTAS!$A$15:$B$50,2,0))","v":""},{"$f":"IF(ISERROR(VLOOKUP(M499,[2]LISTAS!$A$15:$B$50,2,0)),\"\",VLOOKUP(M499,[2]LISTAS!$A$15:$B$50,2,0))","v":""},{"$f":"IF(ISERROR(VLOOKUP(O499,[2]LISTAS!$A$15:$B$50,2,0)),\"\",VLOOKUP(O499,[2]LISTAS!$A$15:$B$50,2,0))","v":""},{"$f":"IF(ISERROR(VLOOKUP(6,[2]LISTAS!$A$15:$B$50,2,0)),\"\",VLOOKUP(6,[2]LISTAS!$A$15:$B$50,2,0))","v":""},null,{"$f":"_xlfn.IFS(T499=\"------\",AD499,T499=\"LA RELACIÓN DE ACTIVIDADES DEBE SER A PARTIR DE LA SIGUIENTE FILA\",\"LA RELACIÓN DE ACTIVIDADES DEBE SER A PARTIR DE LA SIGUIENTE FILA\",T499<>\"------\",T499)","v":""},null,"ok"]
[null,null,null,null,null,null,null,null,null,null,null,null,null,null,null,null,null,null,null,"",{"$f":"IF(ISERROR(VLOOKUP(E500,[2]LISTAS!$A$15:$B$50,2,0)),\"\",VLOOKUP(E500,[2]LISTAS!$A$15:$B$50,2,0))","v":""},{"$f":"IF(ISERROR(VLOOKUP(G500,[2]LISTAS!$A$15:$B$50,2,0)),\"\",VLOOKUP(G500,[2]LISTAS!$A$15:$B$50,2,0))","v":""},{"$f":"IF(ISERROR(VLOOKUP(I500,[2]LISTAS!$A$15:$B$50,2,0)),\"\",VLOOKUP(I500,[2]LISTAS!$A$15:$B$50,2,0))","v":""},{"$f":"IF(ISERROR(VLOOKUP(K500,[2]LISTAS!$A$15:$B$50,2,0)),\"\",VLOOKUP(K500,[2]LISTAS!$A$15:$B$50,2,0))","v":""},{"$f":"IF(ISERROR(VLOOKUP(M500,[2]LISTAS!$A$15:$B$50,2,0)),\"\",VLOOKUP(M500,[2]LISTAS!$A$15:$B$50,2,0))","v":""},{"$f":"IF(ISERROR(VLOOKUP(O500,[2]LISTAS!$A$15:$B$50,2,0)),\"\",VLOOKUP(O500,[2]LISTAS!$A$15:$B$50,2,0))","v":""},{"$f":"IF(ISERROR(VLOOKUP(6,[2]LISTAS!$A$15:$B$50,2,0)),\"\",VLOOKUP(6,[2]LISTAS!$A$15:$B$50,2,0))","v":""},null,{"$f":"_xlfn.IFS(T500=\"------\",AD500,T500=\"LA RELACIÓN DE ACTIVIDADES DEBE SER A PARTIR DE LA SIGUIENTE FILA\",\"LA RELACIÓN DE ACTIVIDADES DEBE SER A PARTIR DE LA SIGUIENTE FILA\",T500<>\"------\",T500)","v":""},null,"ok"]
[null,null,null,null,null,null,null,null,null,null,null,null,null,null,null,null,null,null,null,"",{"$f":"IF(ISERROR(VLOOKUP(E501,[2]LISTAS!$A$15:$B$50,2,0)),\"\",VLOOKUP(E501,[2]LISTAS!$A$15:$B$50,2,0))","v":""},{"$f":"IF(ISERROR(VLOOKUP(G501,[2]LISTAS!$A$15:$B$50,2,0)),\"\",VLOOKUP(G501,[2]LISTAS!$A$15:$B$50,2,0))","v":""},{"$f":"IF(ISERROR(VLOOKUP(I501,[2]LISTAS!$A$15:$B$50,2,0)),\"\",VLOOKUP(I501,[2]LISTAS!$A$15:$B$50,2,0))","v":""},{"$f":"IF(ISERROR(VLOOKUP(K501,[2]LISTAS!$A$15:$B$50,2,0)),\"\",VLOOKUP(K501,[2]LISTAS!$A$15:$B$50,2,0))","v":""},{"$f":"IF(ISERROR(VLOOKUP(M501,[2]LISTAS!$A$15:$B$50,2,0)),\"\",VLOOKUP(M501,[2]LISTAS!$A$15:$B$50,2,0))","v":""},{"$f":"IF(ISERROR(VLOOKUP(O501,[2]LISTAS!$A$15:$B$50,2,0)),\"\",VLOOKUP(O501,[2]LISTAS!$A$15:$B$50,2,0))","v":""},{"$f":"IF(ISERROR(VLOOKUP(6,[2]LISTAS!$A$15:$B$50,2,0)),\"\",VLOOKUP(6,[2]LISTAS!$A$15:$B$50,2,0))","v":""},null,{"$f":"_xlfn.IFS(T501=\"------\",AD501,T501=\"LA RELACIÓN DE ACTIVIDADES DEBE SER A PARTIR DE LA SIGUIENTE FILA\",\"LA RELACIÓN DE ACTIVIDADES DEBE SER A PARTIR DE LA SIGUIENTE FILA\",T501<>\"------\",T501)","v":""},null,"ok"]
[null,null,null,null,null,null,null,null,null,null,null,null,null,null,null,null,null,null,null,"",{"$f":"IF(ISERROR(VLOOKUP(E502,[2]LISTAS!$A$15:$B$50,2,0)),\"\",VLOOKUP(E502,[2]LISTAS!$A$15:$B$50,2,0))","v":""},{"$f":"IF(ISERROR(VLOOKUP(G502,[2]LISTAS!$A$15:$B$50,2,0)),\"\",VLOOKUP(G502,[2]LISTAS!$A$15:$B$50,2,0))","v":""},{"$f":"IF(ISERROR(VLOOKUP(I502,[2]LISTAS!$A$15:$B$50,2,0)),\"\",VLOOKUP(I502,[2]LISTAS!$A$15:$B$50,2,0))","v":""},{"$f":"IF(ISERROR(VLOOKUP(K502,[2]LISTAS!$A$15:$B$50,2,0)),\"\",VLOOKUP(K502,[2]LISTAS!$A$15:$B$50,2,0))","v":""},{"$f":"IF(ISERROR(VLOOKUP(M502,[2]LISTAS!$A$15:$B$50,2,0)),\"\",VLOOKUP(M502,[2]LISTAS!$A$15:$B$50,2,0))","v":""},{"$f":"IF(ISERROR(VLOOKUP(O502,[2]LISTAS!$A$15:$B$50,2,0)),\"\",VLOOKUP(O502,[2]LISTAS!$A$15:$B$50,2,0))","v":""},{"$f":"IF(ISERROR(VLOOKUP(6,[2]LISTAS!$A$15:$B$50,2,0)),\"\",VLOOKUP(6,[2]LISTAS!$A$15:$B$50,2,0))","v":""},null,{"$f":"_xlfn.IFS(T502=\"------\",AD502,T502=\"LA RELACIÓN DE ACTIVIDADES DEBE SER A PARTIR DE LA SIGUIENTE FILA\",\"LA RELACIÓN DE ACTIVIDADES DEBE SER A PARTIR DE LA SIGUIENTE FILA\",T502<>\"------\",T502)","v":""},null,"ok"]
[null,null,null,null,null,null,null,null,null,null,null,null,null,null,null,null,null,null,null,{"$f":"IF(AND(B503=\"\",C503=\"\"),\"\",IF(AND(D503<>\"\"),U503&\"-\"&V503&\"-\"&W503&\"-\"&X503&\"-\"&Y503&\"-\"&Z503&\"-\"&AA503,IF(AND(C503<>\"\"),\"LA RELACIÓN DE ACTIVIDADES DEBE SER A PARTIR DE LA SIGUIENTE FILA\",)))","v":""},{"$f":"IF(ISERROR(VLOOKUP(E503,[2]LISTAS!$A$15:$B$50,2,0)),\"\",VLOOKUP(E503,[2]LISTAS!$A$15:$B$50,2,0))","v":""},{"$f":"IF(ISERROR(VLOOKUP(G503,[2]LISTAS!$A$15:$B$50,2,0)),\"\",VLOOKUP(G503,[2]LISTAS!$A$15:$B$50,2,0))","v":""},{"$f":"IF(ISERROR(VLOOKUP(I503,[2]LISTAS!$A$15:$B$50,2,0)),\"\",VLOOKUP(I503,[2]LISTAS!$A$15:$B$50,2,0))","v":""},{"$f":"IF(ISERROR(VLOOKUP(K503,[2]LISTAS!$A$15:$B$50,2,0)),\"\",VLOOKUP(K503,[2]LISTAS!$A$15:$B$50,2,0))","v":""},{"$f":"IF(ISERROR(VLOOKUP(M503,[2]LISTAS!$A$15:$B$50,2,0)),\"\",VLOOKUP(M503,[2]LISTAS!$A$15:$B$50,2,0))","v":""},{"$f":"IF(ISERROR(VLOOKUP(O503,[2]LISTAS!$A$15:$B$50,2,0)),\"\",VLOOKUP(O503,[2]LISTAS!$A$15:$B$50,2,0))","v":""},{"$f":"IF(ISERROR(VLOOKUP(6,[2]LISTAS!$A$15:$B$50,2,0)),\"\",VLOOKUP(6,[2]LISTAS!$A$15:$B$50,2,0))","v":""},null,{"$f":"_xlfn.IFS(T503=\"------\",AD503,T503=\"LA RELACIÓN DE ACTIVIDADES DEBE SER A PARTIR DE LA SIGUIENTE FILA\",\"LA RELACIÓN DE ACTIVIDADES DEBE SER A PARTIR DE LA SIGUIENTE FILA\",T503<>\"------\",T503)","v":""},null,"ok"]
[null,null,null,null,null,null,null,null,null,null,null,null,null,null,null,null,null,null,null,"",{"$f":"IF(ISERROR(VLOOKUP(E504,[2]LISTAS!$A$15:$B$50,2,0)),\"\",VLOOKUP(E504,[2]LISTAS!$A$15:$B$50,2,0))","v":""},{"$f":"IF(ISERROR(VLOOKUP(G504,[2]LISTAS!$A$15:$B$50,2,0)),\"\",VLOOKUP(G504,[2]LISTAS!$A$15:$B$50,2,0))","v":""},{"$f":"IF(ISERROR(VLOOKUP(I504,[2]LISTAS!$A$15:$B$50,2,0)),\"\",VLOOKUP(I504,[2]LISTAS!$A$15:$B$50,2,0))","v":""},{"$f":"IF(ISERROR(VLOOKUP(K504,[2]LISTAS!$A$15:$B$50,2,0)),\"\",VLOOKUP(K504,[2]LISTAS!$A$15:$B$50,2,0))","v":""},{"$f":"IF(ISERROR(VLOOKUP(M504,[2]LISTAS!$A$15:$B$50,2,0)),\"\",VLOOKUP(M504,[2]LISTAS!$A$15:$B$50,2,0))","v":""},{"$f":"IF(ISERROR(VLOOKUP(O504,[2]LISTAS!$A$15:$B$50,2,0)),\"\",VLOOKUP(O504,[2]LISTAS!$A$15:$B$50,2,0))","v":""},{"$f":"IF(ISERROR(VLOOKUP(6,[2]LISTAS!$A$15:$B$50,2,0)),\"\",VLOOKUP(6,[2]LISTAS!$A$15:$B$50,2,0))","v":""},null,{"$f":"_xlfn.IFS(T504=\"------\",AD504,T504=\"LA RELACIÓN DE ACTIVIDADES DEBE SER A PARTIR DE LA SIGUIENTE FILA\",\"LA RELACIÓN DE ACTIVIDADES DEBE SER A PARTIR DE LA SIGUIENTE FILA\",T504<>\"------\",T504)","v":""},null,"ok"]
[null,null,null,null,null,null,null,null,null,null,null,null,null,null,null,null,null,null,null,"",{"$f":"IF(ISERROR(VLOOKUP(E505,[2]LISTAS!$A$15:$B$50,2,0)),\"\",VLOOKUP(E505,[2]LISTAS!$A$15:$B$50,2,0))","v":""},{"$f":"IF(ISERROR(VLOOKUP(G505,[2]LISTAS!$A$15:$B$50,2,0)),\"\",VLOOKUP(G505,[2]LISTAS!$A$15:$B$50,2,0))","v":""},{"$f":"IF(ISERROR(VLOOKUP(I505,[2]LISTAS!$A$15:$B$50,2,0)),\"\",VLOOKUP(I505,[2]LISTAS!$A$15:$B$50,2,0))","v":""},{"$f":"IF(ISERROR(VLOOKUP(K505,[2]LISTAS!$A$15:$B$50,2,0)),\"\",VLOOKUP(K505,[2]LISTAS!$A$15:$B$50,2,0))","v":""},{"$f":"IF(ISERROR(VLOOKUP(M505,[2]LISTAS!$A$15:$B$50,2,0)),\"\",VLOOKUP(M505,[2]LISTAS!$A$15:$B$50,2,0))","v":""},{"$f":"IF(ISERROR(VLOOKUP(O505,[2]LISTAS!$A$15:$B$50,2,0)),\"\",VLOOKUP(O505,[2]LISTAS!$A$15:$B$50,2,0))","v":""},{"$f":"IF(ISERROR(VLOOKUP(6,[2]LISTAS!$A$15:$B$50,2,0)),\"\",VLOOKUP(6,[2]LISTAS!$A$15:$B$50,2,0))","v":""},null,{"$f":"_xlfn.IFS(T505=\"------\",AD505,T505=\"LA RELACIÓN DE ACTIVIDADES DEBE SER A PARTIR DE LA SIGUIENTE FILA\",\"LA RELACIÓN DE ACTIVIDADES DEBE SER A PARTIR DE LA SIGUIENTE FILA\",T505<>\"------\",T505)","v":""},null,"ok"]
[null,null,null,null,null,null,null,null,null,null,null,null,null,null,null,null,null,null,null,"",{"$f":"IF(ISERROR(VLOOKUP(E506,[2]LISTAS!$A$15:$B$50,2,0)),\"\",VLOOKUP(E506,[2]LISTAS!$A$15:$B$50,2,0))","v":""},{"$f":"IF(ISERROR(VLOOKUP(G506,[2]LISTAS!$A$15:$B$50,2,0)),\"\",VLOOKUP(G506,[2]LISTAS!$A$15:$B$50,2,0))","v":""},{"$f":"IF(ISERROR(VLOOKUP(I506,[2]LISTAS!$A$15:$B$50,2,0)),\"\",VLOOKUP(I506,[2]LISTAS!$A$15:$B$50,2,0))","v":""},{"$f":"IF(ISERROR(VLOOKUP(K506,[2]LISTAS!$A$15:$B$50,2,0)),\"\",VLOOKUP(K506,[2]LISTAS!$A$15:$B$50,2,0))","v":""},{"$f":"IF(ISERROR(VLOOKUP(M506,[2]LISTAS!$A$15:$B$50,2,0)),\"\",VLOOKUP(M506,[2]LISTAS!$A$15:$B$50,2,0))","v":""},{"$f":"IF(ISERROR(VLOOKUP(O506,[2]LISTAS!$A$15:$B$50,2,0)),\"\",VLOOKUP(O506,[2]LISTAS!$A$15:$B$50,2,0))","v":""},{"$f":"IF(ISERROR(VLOOKUP(6,[2]LISTAS!$A$15:$B$50,2,0)),\"\",VLOOKUP(6,[2]LISTAS!$A$15:$B$50,2,0))","v":""},null,{"$f":"_xlfn.IFS(T506=\"------\",AD506,T506=\"LA RELACIÓN DE ACTIVIDADES DEBE SER A PARTIR DE LA SIGUIENTE FILA\",\"LA RELACIÓN DE ACTIVIDADES DEBE SER A PARTIR DE LA SIGUIENTE FILA\",T506<>\"------\",T506)","v":""},null,"ok"]
[null,null,null,null,null,null,null,null,null,null,null,null,null,null,null,null,null,null,null,"",{"$f":"IF(ISERROR(VLOOKUP(E507,[2]LISTAS!$A$15:$B$50,2,0)),\"\",VLOOKUP(E507,[2]LISTAS!$A$15:$B$50,2,0))","v":""},{"$f":"IF(ISERROR(VLOOKUP(G507,[2]LISTAS!$A$15:$B$50,2,0)),\"\",VLOOKUP(G507,[2]LISTAS!$A$15:$B$50,2,0))","v":""},{"$f":"IF(ISERROR(VLOOKUP(I507,[2]LISTAS!$A$15:$B$50,2,0)),\"\",VLOOKUP(I507,[2]LISTAS!$A$15:$B$50,2,0))","v":""},{"$f":"IF(ISERROR(VLOOKUP(K507,[2]LISTAS!$A$15:$B$50,2,0)),\"\",VLOOKUP(K507,[2]LISTAS!$A$15:$B$50,2,0))","v":""},{"$f":"IF(ISERROR(VLOOKUP(M507,[2]LISTAS!$A$15:$B$50,2,0)),\"\",VLOOKUP(M507,[2]LISTAS!$A$15:$B$50,2,0))","v":""},{"$f":"IF(ISERROR(VLOOKUP(O507,[2]LISTAS!$A$15:$B$50,2,0)),\"\",VLOOKUP(O507,[2]LISTAS!$A$15:$B$50,2,0))","v":""},{"$f":"IF(ISERROR(VLOOKUP(6,[2]LISTAS!$A$15:$B$50,2,0)),\"\",VLOOKUP(6,[2]LISTAS!$A$15:$B$50,2,0))","v":""},null,{"$f":"_xlfn.IFS(T507=\"------\",AD507,T507=\"LA RELACIÓN DE ACTIVIDADES DEBE SER A PARTIR DE LA SIGUIENTE FILA\",\"LA RELACIÓN DE ACTIVIDADES DEBE SER A PARTIR DE LA SIGUIENTE FILA\",T507<>\"------\",T507)","v":""},null,"ok"]
[null,null,null,null,null,null,null,null,null,null,null,null,null,null,null,null,null,null,null,"",{"$f":"IF(ISERROR(VLOOKUP(E508,[2]LISTAS!$A$15:$B$50,2,0)),\"\",VLOOKUP(E508,[2]LISTAS!$A$15:$B$50,2,0))","v":""},{"$f":"IF(ISERROR(VLOOKUP(G508,[2]LISTAS!$A$15:$B$50,2,0)),\"\",VLOOKUP(G508,[2]LISTAS!$A$15:$B$50,2,0))","v":""},{"$f":"IF(ISERROR(VLOOKUP(I508,[2]LISTAS!$A$15:$B$50,2,0)),\"\",VLOOKUP(I508,[2]LISTAS!$A$15:$B$50,2,0))","v":""},{"$f":"IF(ISERROR(VLOOKUP(K508,[2]LISTAS!$A$15:$B$50,2,0)),\"\",VLOOKUP(K508,[2]LISTAS!$A$15:$B$50,2,0))","v":""},{"$f":"IF(ISERROR(VLOOKUP(M508,[2]LISTAS!$A$15:$B$50,2,0)),\"\",VLOOKUP(M508,[2]LISTAS!$A$15:$B$50,2,0))","v":""},{"$f":"IF(ISERROR(VLOOKUP(O508,[2]LISTAS!$A$15:$B$50,2,0)),\"\",VLOOKUP(O508,[2]LISTAS!$A$15:$B$50,2,0))","v":""},{"$f":"IF(ISERROR(VLOOKUP(6,[2]LISTAS!$A$15:$B$50,2,0)),\"\",VLOOKUP(6,[2]LISTAS!$A$15:$B$50,2,0))","v":""},null,{"$f":"_xlfn.IFS(T508=\"------\",AD508,T508=\"LA RELACIÓN DE ACTIVIDADES DEBE SER A PARTIR DE LA SIGUIENTE FILA\",\"LA RELACIÓN DE ACTIVIDADES DEBE SER A PARTIR DE LA SIGUIENTE FILA\",T508<>\"------\",T508)","v":""},null,"ok"]
[null,null,null,null,null,null,null,null,null,null,null,null,null,null,null,null,null,null,null,"",{"$f":"IF(ISERROR(VLOOKUP(E509,[2]LISTAS!$A$15:$B$50,2,0)),\"\",VLOOKUP(E509,[2]LISTAS!$A$15:$B$50,2,0))","v":""},{"$f":"IF(ISERROR(VLOOKUP(G509,[2]LISTAS!$A$15:$B$50,2,0)),\"\",VLOOKUP(G509,[2]LISTAS!$A$15:$B$50,2,0))","v":""},{"$f":"IF(ISERROR(VLOOKUP(I509,[2]LISTAS!$A$15:$B$50,2,0)),\"\",VLOOKUP(I509,[2]LISTAS!$A$15:$B$50,2,0))","v":""},{"$f":"IF(ISERROR(VLOOKUP(K509,[2]LISTAS!$A$15:$B$50,2,0)),\"\",VLOOKUP(K509,[2]LISTAS!$A$15:$B$50,2,0))","v":""},{"$f":"IF(ISERROR(VLOOKUP(M509,[2]LISTAS!$A$15:$B$50,2,0)),\"\",VLOOKUP(M509,[2]LISTAS!$A$15:$B$50,2,0))","v":""},{"$f":"IF(ISERROR(VLOOKUP(O509,[2]LISTAS!$A$15:$B$50,2,0)),\"\",VLOOKUP(O509,[2]LISTAS!$A$15:$B$50,2,0))","v":""},{"$f":"IF(ISERROR(VLOOKUP(6,[2]LISTAS!$A$15:$B$50,2,0)),\"\",VLOOKUP(6,[2]LISTAS!$A$15:$B$50,2,0))","v":""},null,{"$f":"_xlfn.IFS(T509=\"------\",AD509,T509=\"LA RELACIÓN DE ACTIVIDADES DEBE SER A PARTIR DE LA SIGUIENTE FILA\",\"LA RELACIÓN DE ACTIVIDADES DEBE SER A PARTIR DE LA SIGUIENTE FILA\",T509<>\"------\",T509)","v":""},null,"ok"]
[null,null,null,null,null,null,null,null,null,null,null,null,null,null,null,null,null,null,null,"",{"$f":"IF(ISERROR(VLOOKUP(E510,[2]LISTAS!$A$15:$B$50,2,0)),\"\",VLOOKUP(E510,[2]LISTAS!$A$15:$B$50,2,0))","v":""},{"$f":"IF(ISERROR(VLOOKUP(G510,[2]LISTAS!$A$15:$B$50,2,0)),\"\",VLOOKUP(G510,[2]LISTAS!$A$15:$B$50,2,0))","v":""},{"$f":"IF(ISERROR(VLOOKUP(I510,[2]LISTAS!$A$15:$B$50,2,0)),\"\",VLOOKUP(I510,[2]LISTAS!$A$15:$B$50,2,0))","v":""},{"$f":"IF(ISERROR(VLOOKUP(K510,[2]LISTAS!$A$15:$B$50,2,0)),\"\",VLOOKUP(K510,[2]LISTAS!$A$15:$B$50,2,0))","v":""},{"$f":"IF(ISERROR(VLOOKUP(M510,[2]LISTAS!$A$15:$B$50,2,0)),\"\",VLOOKUP(M510,[2]LISTAS!$A$15:$B$50,2,0))","v":""},{"$f":"IF(ISERROR(VLOOKUP(O510,[2]LISTAS!$A$15:$B$50,2,0)),\"\",VLOOKUP(O510,[2]LISTAS!$A$15:$B$50,2,0))","v":""},{"$f":"IF(ISERROR(VLOOKUP(6,[2]LISTAS!$A$15:$B$50,2,0)),\"\",VLOOKUP(6,[2]LISTAS!$A$15:$B$50,2,0))","v":""},null,{"$f":"_xlfn.IFS(T510=\"------\",AD510,T510=\"LA RELACIÓN DE ACTIVIDADES DEBE SER A PARTIR DE LA SIGUIENTE FILA\",\"LA RELACIÓN DE ACTIVIDADES DEBE SER A PARTIR DE LA SIGUIENTE FILA\",T510<>\"------\",T510)","v":""},null,"ok"]
[null,null,null,null,null,null,null,null,null,null,null,null,null,null,null,null,null,null,null,"",{"$f":"IF(ISERROR(VLOOKUP(E511,[2]LISTAS!$A$15:$B$50,2,0)),\"\",VLOOKUP(E511,[2]LISTAS!$A$15:$B$50,2,0))","v":""},{"$f":"IF(ISERROR(VLOOKUP(G511,[2]LISTAS!$A$15:$B$50,2,0)),\"\",VLOOKUP(G511,[2]LISTAS!$A$15:$B$50,2,0))","v":""},{"$f":"IF(ISERROR(VLOOKUP(I511,[2]LISTAS!$A$15:$B$50,2,0)),\"\",VLOOKUP(I511,[2]LISTAS!$A$15:$B$50,2,0))","v":""},{"$f":"IF(ISERROR(VLOOKUP(K511,[2]LISTAS!$A$15:$B$50,2,0)),\"\",VLOOKUP(K511,[2]LISTAS!$A$15:$B$50,2,0))","v":""},{"$f":"IF(ISERROR(VLOOKUP(M511,[2]LISTAS!$A$15:$B$50,2,0)),\"\",VLOOKUP(M511,[2]LISTAS!$A$15:$B$50,2,0))","v":""},{"$f":"IF(ISERROR(VLOOKUP(O511,[2]LISTAS!$A$15:$B$50,2,0)),\"\",VLOOKUP(O511,[2]LISTAS!$A$15:$B$50,2,0))","v":""},{"$f":"IF(ISERROR(VLOOKUP(6,[2]LISTAS!$A$15:$B$50,2,0)),\"\",VLOOKUP(6,[2]LISTAS!$A$15:$B$50,2,0))","v":""},null,{"$f":"_xlfn.IFS(T511=\"------\",AD511,T511=\"LA RELACIÓN DE ACTIVIDADES DEBE SER A PARTIR DE LA SIGUIENTE FILA\",\"LA RELACIÓN DE ACTIVIDADES DEBE SER A PARTIR DE LA SIGUIENTE FILA\",T511<>\"------\",T511)","v":""},null,"ok"]
[null,null,null,null,null,null,null,null,null,null,null,null,null,null,null,null,null,null,null,"",{"$f":"IF(ISERROR(VLOOKUP(E512,[2]LISTAS!$A$15:$B$50,2,0)),\"\",VLOOKUP(E512,[2]LISTAS!$A$15:$B$50,2,0))","v":""},{"$f":"IF(ISERROR(VLOOKUP(G512,[2]LISTAS!$A$15:$B$50,2,0)),\"\",VLOOKUP(G512,[2]LISTAS!$A$15:$B$50,2,0))","v":""},{"$f":"IF(ISERROR(VLOOKUP(I512,[2]LISTAS!$A$15:$B$50,2,0)),\"\",VLOOKUP(I512,[2]LISTAS!$A$15:$B$50,2,0))","v":""},{"$f":"IF(ISERROR(VLOOKUP(K512,[2]LISTAS!$A$15:$B$50,2,0)),\"\",VLOOKUP(K512,[2]LISTAS!$A$15:$B$50,2,0))","v":""},{"$f":"IF(ISERROR(VLOOKUP(M512,[2]LISTAS!$A$15:$B$50,2,0)),\"\",VLOOKUP(M512,[2]LISTAS!$A$15:$B$50,2,0))","v":""},{"$f":"IF(ISERROR(VLOOKUP(O512,[2]LISTAS!$A$15:$B$50,2,0)),\"\",VLOOKUP(O512,[2]LISTAS!$A$15:$B$50,2,0))","v":""},{"$f":"IF(ISERROR(VLOOKUP(6,[2]LISTAS!$A$15:$B$50,2,0)),\"\",VLOOKUP(6,[2]LISTAS!$A$15:$B$50,2,0))","v":""},null,{"$f":"_xlfn.IFS(T512=\"------\",AD512,T512=\"LA RELACIÓN DE ACTIVIDADES DEBE SER A PARTIR DE LA SIGUIENTE FILA\",\"LA RELACIÓN DE ACTIVIDADES DEBE SER A PARTIR DE LA SIGUIENTE FILA\",T512<>\"------\",T512)","v":""},null,"ok"]
[null,null,null,null,null,null,null,null,null,null,null,null,null,null,null,null,null,null,null,"",{"$f":"IF(ISERROR(VLOOKUP(E513,[2]LISTAS!$A$15:$B$50,2,0)),\"\",VLOOKUP(E513,[2]LISTAS!$A$15:$B$50,2,0))","v":""},{"$f":"IF(ISERROR(VLOOKUP(G513,[2]LISTAS!$A$15:$B$50,2,0)),\"\",VLOOKUP(G513,[2]LISTAS!$A$15:$B$50,2,0))","v":""},{"$f":"IF(ISERROR(VLOOKUP(I513,[2]LISTAS!$A$15:$B$50,2,0)),\"\",VLOOKUP(I513,[2]LISTAS!$A$15:$B$50,2,0))","v":""},{"$f":"IF(ISERROR(VLOOKUP(K513,[2]LISTAS!$A$15:$B$50,2,0)),\"\",VLOOKUP(K513,[2]LISTAS!$A$15:$B$50,2,0))","v":""},{"$f":"IF(ISERROR(VLOOKUP(M513,[2]LISTAS!$A$15:$B$50,2,0)),\"\",VLOOKUP(M513,[2]LISTAS!$A$15:$B$50,2,0))","v":""},{"$f":"IF(ISERROR(VLOOKUP(O513,[2]LISTAS!$A$15:$B$50,2,0)),\"\",VLOOKUP(O513,[2]LISTAS!$A$15:$B$50,2,0))","v":""},{"$f":"IF(ISERROR(VLOOKUP(6,[2]LISTAS!$A$15:$B$50,2,0)),\"\",VLOOKUP(6,[2]LISTAS!$A$15:$B$50,2,0))","v":""},null,{"$f":"_xlfn.IFS(T513=\"------\",AD513,T513=\"LA RELACIÓN DE ACTIVIDADES DEBE SER A PARTIR DE LA SIGUIENTE FILA\",\"LA RELACIÓN DE ACTIVIDADES DEBE SER A PARTIR DE LA SIGUIENTE FILA\",T513<>\"------\",T513)","v":""},null,"ok"]
[null,null,null,null,null,null,null,null,null,null,null,null,null,null,null,null,null,null,null,"",{"$f":"IF(ISERROR(VLOOKUP(E514,[2]LISTAS!$A$15:$B$50,2,0)),\"\",VLOOKUP(E514,[2]LISTAS!$A$15:$B$50,2,0))","v":""},{"$f":"IF(ISERROR(VLOOKUP(G514,[2]LISTAS!$A$15:$B$50,2,0)),\"\",VLOOKUP(G514,[2]LISTAS!$A$15:$B$50,2,0))","v":""},{"$f":"IF(ISERROR(VLOOKUP(I514,[2]LISTAS!$A$15:$B$50,2,0)),\"\",VLOOKUP(I514,[2]LISTAS!$A$15:$B$50,2,0))","v":""},{"$f":"IF(ISERROR(VLOOKUP(K514,[2]LISTAS!$A$15:$B$50,2,0)),\"\",VLOOKUP(K514,[2]LISTAS!$A$15:$B$50,2,0))","v":""},{"$f":"IF(ISERROR(VLOOKUP(M514,[2]LISTAS!$A$15:$B$50,2,0)),\"\",VLOOKUP(M514,[2]LISTAS!$A$15:$B$50,2,0))","v":""},{"$f":"IF(ISERROR(VLOOKUP(O514,[2]LISTAS!$A$15:$B$50,2,0)),\"\",VLOOKUP(O514,[2]LISTAS!$A$15:$B$50,2,0))","v":""},{"$f":"IF(ISERROR(VLOOKUP(6,[2]LISTAS!$A$15:$B$50,2,0)),\"\",VLOOKUP(6,[2]LISTAS!$A$15:$B$50,2,0))","v":""},null,{"$f":"_xlfn.IFS(T514=\"------\",AD514,T514=\"LA RELACIÓN DE ACTIVIDADES DEBE SER A PARTIR DE LA SIGUIENTE FILA\",\"LA RELACIÓN DE ACTIVIDADES DEBE SER A PARTIR DE LA SIGUIENTE FILA\",T514<>\"------\",T514)","v":""},null,"ok"]
[null,null,null,null,null,null,null,null,null,null,null,null,null,null,null,null,null,null,null,"",{"$f":"IF(ISERROR(VLOOKUP(E515,[2]LISTAS!$A$15:$B$50,2,0)),\"\",VLOOKUP(E515,[2]LISTAS!$A$15:$B$50,2,0))","v":""},{"$f":"IF(ISERROR(VLOOKUP(G515,[2]LISTAS!$A$15:$B$50,2,0)),\"\",VLOOKUP(G515,[2]LISTAS!$A$15:$B$50,2,0))","v":""},{"$f":"IF(ISERROR(VLOOKUP(I515,[2]LISTAS!$A$15:$B$50,2,0)),\"\",VLOOKUP(I515,[2]LISTAS!$A$15:$B$50,2,0))","v":""},{"$f":"IF(ISERROR(VLOOKUP(K515,[2]LISTAS!$A$15:$B$50,2,0)),\"\",VLOOKUP(K515,[2]LISTAS!$A$15:$B$50,2,0))","v":""},{"$f":"IF(ISERROR(VLOOKUP(M515,[2]LISTAS!$A$15:$B$50,2,0)),\"\",VLOOKUP(M515,[2]LISTAS!$A$15:$B$50,2,0))","v":""},{"$f":"IF(ISERROR(VLOOKUP(O515,[2]LISTAS!$A$15:$B$50,2,0)),\"\",VLOOKUP(O515,[2]LISTAS!$A$15:$B$50,2,0))","v":""},{"$f":"IF(ISERROR(VLOOKUP(6,[2]LISTAS!$A$15:$B$50,2,0)),\"\",VLOOKUP(6,[2]LISTAS!$A$15:$B$50,2,0))","v":""},null,{"$f":"_xlfn.IFS(T515=\"------\",AD515,T515=\"LA RELACIÓN DE ACTIVIDADES DEBE SER A PARTIR DE LA SIGUIENTE FILA\",\"LA RELACIÓN DE ACTIVIDADES DEBE SER A PARTIR DE LA SIGUIENTE FILA\",T515<>\"------\",T515)","v":""},null,"ok"]
[null,null,null,null,null,null,null,null,null,null,null,null,null,null,null,null,null,null,null,"",{"$f":"IF(ISERROR(VLOOKUP(E516,[2]LISTAS!$A$15:$B$50,2,0)),\"\",VLOOKUP(E516,[2]LISTAS!$A$15:$B$50,2,0))","v":""},{"$f":"IF(ISERROR(VLOOKUP(G516,[2]LISTAS!$A$15:$B$50,2,0)),\"\",VLOOKUP(G516,[2]LISTAS!$A$15:$B$50,2,0))","v":""},{"$f":"IF(ISERROR(VLOOKUP(I516,[2]LISTAS!$A$15:$B$50,2,0)),\"\",VLOOKUP(I516,[2]LISTAS!$A$15:$B$50,2,0))","v":""},{"$f":"IF(ISERROR(VLOOKUP(K516,[2]LISTAS!$A$15:$B$50,2,0)),\"\",VLOOKUP(K516,[2]LISTAS!$A$15:$B$50,2,0))","v":""},{"$f":"IF(ISERROR(VLOOKUP(M516,[2]LISTAS!$A$15:$B$50,2,0)),\"\",VLOOKUP(M516,[2]LISTAS!$A$15:$B$50,2,0))","v":""},{"$f":"IF(ISERROR(VLOOKUP(O516,[2]LISTAS!$A$15:$B$50,2,0)),\"\",VLOOKUP(O516,[2]LISTAS!$A$15:$B$50,2,0))","v":""},{"$f":"IF(ISERROR(VLOOKUP(6,[2]LISTAS!$A$15:$B$50,2,0)),\"\",VLOOKUP(6,[2]LISTAS!$A$15:$B$50,2,0))","v":""},null,{"$f":"_xlfn.IFS(T516=\"------\",AD516,T516=\"LA RELACIÓN DE ACTIVIDADES DEBE SER A PARTIR DE LA SIGUIENTE FILA\",\"LA RELACIÓN DE ACTIVIDADES DEBE SER A PARTIR DE LA SIGUIENTE FILA\",T516<>\"------\",T516)","v":""},null,"ok"]
[null,null,null,null,null,null,null,null,null,null,null,null,null,null,null,null,null,null,null,"",{"$f":"IF(ISERROR(VLOOKUP(E517,[2]LISTAS!$A$15:$B$50,2,0)),\"\",VLOOKUP(E517,[2]LISTAS!$A$15:$B$50,2,0))","v":""},{"$f":"IF(ISERROR(VLOOKUP(G517,[2]LISTAS!$A$15:$B$50,2,0)),\"\",VLOOKUP(G517,[2]LISTAS!$A$15:$B$50,2,0))","v":""},{"$f":"IF(ISERROR(VLOOKUP(I517,[2]LISTAS!$A$15:$B$50,2,0)),\"\",VLOOKUP(I517,[2]LISTAS!$A$15:$B$50,2,0))","v":""},{"$f":"IF(ISERROR(VLOOKUP(K517,[2]LISTAS!$A$15:$B$50,2,0)),\"\",VLOOKUP(K517,[2]LISTAS!$A$15:$B$50,2,0))","v":""},{"$f":"IF(ISERROR(VLOOKUP(M517,[2]LISTAS!$A$15:$B$50,2,0)),\"\",VLOOKUP(M517,[2]LISTAS!$A$15:$B$50,2,0))","v":""},{"$f":"IF(ISERROR(VLOOKUP(O517,[2]LISTAS!$A$15:$B$50,2,0)),\"\",VLOOKUP(O517,[2]LISTAS!$A$15:$B$50,2,0))","v":""},{"$f":"IF(ISERROR(VLOOKUP(6,[2]LISTAS!$A$15:$B$50,2,0)),\"\",VLOOKUP(6,[2]LISTAS!$A$15:$B$50,2,0))","v":""},null,{"$f":"_xlfn.IFS(T517=\"------\",AD517,T517=\"LA RELACIÓN DE ACTIVIDADES DEBE SER A PARTIR DE LA SIGUIENTE FILA\",\"LA RELACIÓN DE ACTIVIDADES DEBE SER A PARTIR DE LA SIGUIENTE FILA\",T517<>\"------\",T517)","v":""},null,"ok"]
[null,null,null,null,null,null,null,null,null,null,null,null,null,null,null,null,null,null,null,"",{"$f":"IF(ISERROR(VLOOKUP(E518,[2]LISTAS!$A$15:$B$50,2,0)),\"\",VLOOKUP(E518,[2]LISTAS!$A$15:$B$50,2,0))","v":""},{"$f":"IF(ISERROR(VLOOKUP(G518,[2]LISTAS!$A$15:$B$50,2,0)),\"\",VLOOKUP(G518,[2]LISTAS!$A$15:$B$50,2,0))","v":""},{"$f":"IF(ISERROR(VLOOKUP(I518,[2]LISTAS!$A$15:$B$50,2,0)),\"\",VLOOKUP(I518,[2]LISTAS!$A$15:$B$50,2,0))","v":""},{"$f":"IF(ISERROR(VLOOKUP(K518,[2]LISTAS!$A$15:$B$50,2,0)),\"\",VLOOKUP(K518,[2]LISTAS!$A$15:$B$50,2,0))","v":""},{"$f":"IF(ISERROR(VLOOKUP(M518,[2]LISTAS!$A$15:$B$50,2,0)),\"\",VLOOKUP(M518,[2]LISTAS!$A$15:$B$50,2,0))","v":""},{"$f":"IF(ISERROR(VLOOKUP(O518,[2]LISTAS!$A$15:$B$50,2,0)),\"\",VLOOKUP(O518,[2]LISTAS!$A$15:$B$50,2,0))","v":""},{"$f":"IF(ISERROR(VLOOKUP(6,[2]LISTAS!$A$15:$B$50,2,0)),\"\",VLOOKUP(6,[2]LISTAS!$A$15:$B$50,2,0))","v":""},null,{"$f":"_xlfn.IFS(T518=\"------\",AD518,T518=\"LA RELACIÓN DE ACTIVIDADES DEBE SER A PARTIR DE LA SIGUIENTE FILA\",\"LA RELACIÓN DE ACTIVIDADES DEBE SER A PARTIR DE LA SIGUIENTE FILA\",T518<>\"------\",T518)","v":""},null,"ok"]
[null,null,null,null,null,null,null,null,null,null,null,null,null,null,null,null,null,null,null,"",{"$f":"IF(ISERROR(VLOOKUP(E519,[2]LISTAS!$A$15:$B$50,2,0)),\"\",VLOOKUP(E519,[2]LISTAS!$A$15:$B$50,2,0))","v":""},{"$f":"IF(ISERROR(VLOOKUP(G519,[2]LISTAS!$A$15:$B$50,2,0)),\"\",VLOOKUP(G519,[2]LISTAS!$A$15:$B$50,2,0))","v":""},{"$f":"IF(ISERROR(VLOOKUP(I519,[2]LISTAS!$A$15:$B$50,2,0)),\"\",VLOOKUP(I519,[2]LISTAS!$A$15:$B$50,2,0))","v":""},{"$f":"IF(ISERROR(VLOOKUP(K519,[2]LISTAS!$A$15:$B$50,2,0)),\"\",VLOOKUP(K519,[2]LISTAS!$A$15:$B$50,2,0))","v":""},{"$f":"IF(ISERROR(VLOOKUP(M519,[2]LISTAS!$A$15:$B$50,2,0)),\"\",VLOOKUP(M519,[2]LISTAS!$A$15:$B$50,2,0))","v":""},{"$f":"IF(ISERROR(VLOOKUP(O519,[2]LISTAS!$A$15:$B$50,2,0)),\"\",VLOOKUP(O519,[2]LISTAS!$A$15:$B$50,2,0))","v":""},{"$f":"IF(ISERROR(VLOOKUP(6,[2]LISTAS!$A$15:$B$50,2,0)),\"\",VLOOKUP(6,[2]LISTAS!$A$15:$B$50,2,0))","v":""},null,{"$f":"_xlfn.IFS(T519=\"------\",AD519,T519=\"LA RELACIÓN DE ACTIVIDADES DEBE SER A PARTIR DE LA SIGUIENTE FILA\",\"LA RELACIÓN DE ACTIVIDADES DEBE SER A PARTIR DE LA SIGUIENTE FILA\",T519<>\"------\",T519)","v":""},null,"ok"]
[null,null,null,null,null,null,null,null,null,null,null,null,null,null,null,null,null,null,null,"",{"$f":"IF(ISERROR(VLOOKUP(E520,[2]LISTAS!$A$15:$B$50,2,0)),\"\",VLOOKUP(E520,[2]LISTAS!$A$15:$B$50,2,0))","v":""},{"$f":"IF(ISERROR(VLOOKUP(G520,[2]LISTAS!$A$15:$B$50,2,0)),\"\",VLOOKUP(G520,[2]LISTAS!$A$15:$B$50,2,0))","v":""},{"$f":"IF(ISERROR(VLOOKUP(I520,[2]LISTAS!$A$15:$B$50,2,0)),\"\",VLOOKUP(I520,[2]LISTAS!$A$15:$B$50,2,0))","v":""},{"$f":"IF(ISERROR(VLOOKUP(K520,[2]LISTAS!$A$15:$B$50,2,0)),\"\",VLOOKUP(K520,[2]LISTAS!$A$15:$B$50,2,0))","v":""},{"$f":"IF(ISERROR(VLOOKUP(M520,[2]LISTAS!$A$15:$B$50,2,0)),\"\",VLOOKUP(M520,[2]LISTAS!$A$15:$B$50,2,0))","v":""},{"$f":"IF(ISERROR(VLOOKUP(O520,[2]LISTAS!$A$15:$B$50,2,0)),\"\",VLOOKUP(O520,[2]LISTAS!$A$15:$B$50,2,0))","v":""},{"$f":"IF(ISERROR(VLOOKUP(6,[2]LISTAS!$A$15:$B$50,2,0)),\"\",VLOOKUP(6,[2]LISTAS!$A$15:$B$50,2,0))","v":""},null,{"$f":"_xlfn.IFS(T520=\"------\",AD520,T520=\"LA RELACIÓN DE ACTIVIDADES DEBE SER A PARTIR DE LA SIGUIENTE FILA\",\"LA RELACIÓN DE ACTIVIDADES DEBE SER A PARTIR DE LA SIGUIENTE FILA\",T520<>\"------\",T520)","v":""},null,"ok"]
[null,null,null,null,null,null,null,null,null,null,null,null,null,null,null,null,null,null,null,"",{"$f":"IF(ISERROR(VLOOKUP(E521,[2]LISTAS!$A$15:$B$50,2,0)),\"\",VLOOKUP(E521,[2]LISTAS!$A$15:$B$50,2,0))","v":""},{"$f":"IF(ISERROR(VLOOKUP(G521,[2]LISTAS!$A$15:$B$50,2,0)),\"\",VLOOKUP(G521,[2]LISTAS!$A$15:$B$50,2,0))","v":""},{"$f":"IF(ISERROR(VLOOKUP(I521,[2]LISTAS!$A$15:$B$50,2,0)),\"\",VLOOKUP(I521,[2]LISTAS!$A$15:$B$50,2,0))","v":""},{"$f":"IF(ISERROR(VLOOKUP(K521,[2]LISTAS!$A$15:$B$50,2,0)),\"\",VLOOKUP(K521,[2]LISTAS!$A$15:$B$50,2,0))","v":""},{"$f":"IF(ISERROR(VLOOKUP(M521,[2]LISTAS!$A$15:$B$50,2,0)),\"\",VLOOKUP(M521,[2]LISTAS!$A$15:$B$50,2,0))","v":""},{"$f":"IF(ISERROR(VLOOKUP(O521,[2]LISTAS!$A$15:$B$50,2,0)),\"\",VLOOKUP(O521,[2]LISTAS!$A$15:$B$50,2,0))","v":""},{"$f":"IF(ISERROR(VLOOKUP(6,[2]LISTAS!$A$15:$B$50,2,0)),\"\",VLOOKUP(6,[2]LISTAS!$A$15:$B$50,2,0))","v":""},null,{"$f":"_xlfn.IFS(T521=\"------\",AD521,T521=\"LA RELACIÓN DE ACTIVIDADES DEBE SER A PARTIR DE LA SIGUIENTE FILA\",\"LA RELACIÓN DE ACTIVIDADES DEBE SER A PARTIR DE LA SIGUIENTE FILA\",T521<>\"------\",T521)","v":""},null,"ok"]
[null,null,null,null,null,null,null,null,null,null,null,null,null,null,null,null,null,null,null,"",{"$f":"IF(ISERROR(VLOOKUP(E522,[2]LISTAS!$A$15:$B$50,2,0)),\"\",VLOOKUP(E522,[2]LISTAS!$A$15:$B$50,2,0))","v":""},{"$f":"IF(ISERROR(VLOOKUP(G522,[2]LISTAS!$A$15:$B$50,2,0)),\"\",VLOOKUP(G522,[2]LISTAS!$A$15:$B$50,2,0))","v":""},{"$f":"IF(ISERROR(VLOOKUP(I522,[2]LISTAS!$A$15:$B$50,2,0)),\"\",VLOOKUP(I522,[2]LISTAS!$A$15:$B$50,2,0))","v":""},{"$f":"IF(ISERROR(VLOOKUP(K522,[2]LISTAS!$A$15:$B$50,2,0)),\"\",VLOOKUP(K522,[2]LISTAS!$A$15:$B$50,2,0))","v":""},{"$f":"IF(ISERROR(VLOOKUP(M522,[2]LISTAS!$A$15:$B$50,2,0)),\"\",VLOOKUP(M522,[2]LISTAS!$A$15:$B$50,2,0))","v":""},{"$f":"IF(ISERROR(VLOOKUP(O522,[2]LISTAS!$A$15:$B$50,2,0)),\"\",VLOOKUP(O522,[2]LISTAS!$A$15:$B$50,2,0))","v":""},{"$f":"IF(ISERROR(VLOOKUP(6,[2]LISTAS!$A$15:$B$50,2,0)),\"\",VLOOKUP(6,[2]LISTAS!$A$15:$B$50,2,0))","v":""},null,{"$f":"_xlfn.IFS(T522=\"------\",AD522,T522=\"LA RELACIÓN DE ACTIVIDADES DEBE SER A PARTIR DE LA SIGUIENTE FILA\",\"LA RELACIÓN DE ACTIVIDADES DEBE SER A PARTIR DE LA SIGUIENTE FILA\",T522<>\"------\",T522)","v":""},null,"ok"]
[null,null,null,null,null,null,null,null,null,null,null,null,null,null,null,null,null,null,null,"",{"$f":"IF(ISERROR(VLOOKUP(E523,[2]LISTAS!$A$15:$B$50,2,0)),\"\",VLOOKUP(E523,[2]LISTAS!$A$15:$B$50,2,0))","v":""},{"$f":"IF(ISERROR(VLOOKUP(G523,[2]LISTAS!$A$15:$B$50,2,0)),\"\",VLOOKUP(G523,[2]LISTAS!$A$15:$B$50,2,0))","v":""},{"$f":"IF(ISERROR(VLOOKUP(I523,[2]LISTAS!$A$15:$B$50,2,0)),\"\",VLOOKUP(I523,[2]LISTAS!$A$15:$B$50,2,0))","v":""},{"$f":"IF(ISERROR(VLOOKUP(K523,[2]LISTAS!$A$15:$B$50,2,0)),\"\",VLOOKUP(K523,[2]LISTAS!$A$15:$B$50,2,0))","v":""},{"$f":"IF(ISERROR(VLOOKUP(M523,[2]LISTAS!$A$15:$B$50,2,0)),\"\",VLOOKUP(M523,[2]LISTAS!$A$15:$B$50,2,0))","v":""},{"$f":"IF(ISERROR(VLOOKUP(O523,[2]LISTAS!$A$15:$B$50,2,0)),\"\",VLOOKUP(O523,[2]LISTAS!$A$15:$B$50,2,0))","v":""},{"$f":"IF(ISERROR(VLOOKUP(6,[2]LISTAS!$A$15:$B$50,2,0)),\"\",VLOOKUP(6,[2]LISTAS!$A$15:$B$50,2,0))","v":""},null,{"$f":"_xlfn.IFS(T523=\"------\",AD523,T523=\"LA RELACIÓN DE ACTIVIDADES DEBE SER A PARTIR DE LA SIGUIENTE FILA\",\"LA RELACIÓN DE ACTIVIDADES DEBE SER A PARTIR DE LA SIGUIENTE FILA\",T523<>\"------\",T523)","v":""},null,"ok"]
[null,null,null,null,null,null,null,null,null,null,null,null,null,null,null,null,null,null,null,"",{"$f":"IF(ISERROR(VLOOKUP(E524,[2]LISTAS!$A$15:$B$50,2,0)),\"\",VLOOKUP(E524,[2]LISTAS!$A$15:$B$50,2,0))","v":""},{"$f":"IF(ISERROR(VLOOKUP(G524,[2]LISTAS!$A$15:$B$50,2,0)),\"\",VLOOKUP(G524,[2]LISTAS!$A$15:$B$50,2,0))","v":""},{"$f":"IF(ISERROR(VLOOKUP(I524,[2]LISTAS!$A$15:$B$50,2,0)),\"\",VLOOKUP(I524,[2]LISTAS!$A$15:$B$50,2,0))","v":""},{"$f":"IF(ISERROR(VLOOKUP(K524,[2]LISTAS!$A$15:$B$50,2,0)),\"\",VLOOKUP(K524,[2]LISTAS!$A$15:$B$50,2,0))","v":""},{"$f":"IF(ISERROR(VLOOKUP(M524,[2]LISTAS!$A$15:$B$50,2,0)),\"\",VLOOKUP(M524,[2]LISTAS!$A$15:$B$50,2,0))","v":""},{"$f":"IF(ISERROR(VLOOKUP(O524,[2]LISTAS!$A$15:$B$50,2,0)),\"\",VLOOKUP(O524,[2]LISTAS!$A$15:$B$50,2,0))","v":""},{"$f":"IF(ISERROR(VLOOKUP(6,[2]LISTAS!$A$15:$B$50,2,0)),\"\",VLOOKUP(6,[2]LISTAS!$A$15:$B$50,2,0))","v":""},null,{"$f":"_xlfn.IFS(T524=\"------\",AD524,T524=\"LA RELACIÓN DE ACTIVIDADES DEBE SER A PARTIR DE LA SIGUIENTE FILA\",\"LA RELACIÓN DE ACTIVIDADES DEBE SER A PARTIR DE LA SIGUIENTE FILA\",T524<>\"------\",T524)","v":""},null,"ok"]
[null,null,null,null,null,null,null,null,null,null,null,null,null,null,null,null,null,null,null,"",{"$f":"IF(ISERROR(VLOOKUP(E525,[2]LISTAS!$A$15:$B$50,2,0)),\"\",VLOOKUP(E525,[2]LISTAS!$A$15:$B$50,2,0))","v":""},{"$f":"IF(ISERROR(VLOOKUP(G525,[2]LISTAS!$A$15:$B$50,2,0)),\"\",VLOOKUP(G525,[2]LISTAS!$A$15:$B$50,2,0))","v":""},{"$f":"IF(ISERROR(VLOOKUP(I525,[2]LISTAS!$A$15:$B$50,2,0)),\"\",VLOOKUP(I525,[2]LISTAS!$A$15:$B$50,2,0))","v":""},{"$f":"IF(ISERROR(VLOOKUP(K525,[2]LISTAS!$A$15:$B$50,2,0)),\"\",VLOOKUP(K525,[2]LISTAS!$A$15:$B$50,2,0))","v":""},{"$f":"IF(ISERROR(VLOOKUP(M525,[2]LISTAS!$A$15:$B$50,2,0)),\"\",VLOOKUP(M525,[2]LISTAS!$A$15:$B$50,2,0))","v":""},{"$f":"IF(ISERROR(VLOOKUP(O525,[2]LISTAS!$A$15:$B$50,2,0)),\"\",VLOOKUP(O525,[2]LISTAS!$A$15:$B$50,2,0))","v":""},{"$f":"IF(ISERROR(VLOOKUP(6,[2]LISTAS!$A$15:$B$50,2,0)),\"\",VLOOKUP(6,[2]LISTAS!$A$15:$B$50,2,0))","v":""},null,{"$f":"_xlfn.IFS(T525=\"------\",AD525,T525=\"LA RELACIÓN DE ACTIVIDADES DEBE SER A PARTIR DE LA SIGUIENTE FILA\",\"LA RELACIÓN DE ACTIVIDADES DEBE SER A PARTIR DE LA SIGUIENTE FILA\",T525<>\"------\",T525)","v":""},null,"ok"]
[null,null,null,null,null,null,null,null,null,null,null,null,null,null,null,null,null,null,null,"",{"$f":"IF(ISERROR(VLOOKUP(E526,[2]LISTAS!$A$15:$B$50,2,0)),\"\",VLOOKUP(E526,[2]LISTAS!$A$15:$B$50,2,0))","v":""},{"$f":"IF(ISERROR(VLOOKUP(G526,[2]LISTAS!$A$15:$B$50,2,0)),\"\",VLOOKUP(G526,[2]LISTAS!$A$15:$B$50,2,0))","v":""},{"$f":"IF(ISERROR(VLOOKUP(I526,[2]LISTAS!$A$15:$B$50,2,0)),\"\",VLOOKUP(I526,[2]LISTAS!$A$15:$B$50,2,0))","v":""},{"$f":"IF(ISERROR(VLOOKUP(K526,[2]LISTAS!$A$15:$B$50,2,0)),\"\",VLOOKUP(K526,[2]LISTAS!$A$15:$B$50,2,0))","v":""},{"$f":"IF(ISERROR(VLOOKUP(M526,[2]LISTAS!$A$15:$B$50,2,0)),\"\",VLOOKUP(M526,[2]LISTAS!$A$15:$B$50,2,0))","v":""},{"$f":"IF(ISERROR(VLOOKUP(O526,[2]LISTAS!$A$15:$B$50,2,0)),\"\",VLOOKUP(O526,[2]LISTAS!$A$15:$B$50,2,0))","v":""},{"$f":"IF(ISERROR(VLOOKUP(6,[2]LISTAS!$A$15:$B$50,2,0)),\"\",VLOOKUP(6,[2]LISTAS!$A$15:$B$50,2,0))","v":""},null,{"$f":"_xlfn.IFS(T526=\"------\",AD526,T526=\"LA RELACIÓN DE ACTIVIDADES DEBE SER A PARTIR DE LA SIGUIENTE FILA\",\"LA RELACIÓN DE ACTIVIDADES DEBE SER A PARTIR DE LA SIGUIENTE FILA\",T526<>\"------\",T526)","v":""},null,"ok"]
[null,null,null,null,null,null,null,null,null,null,null,null,null,null,null,null,null,null,null,"",{"$f":"IF(ISERROR(VLOOKUP(E527,[2]LISTAS!$A$15:$B$50,2,0)),\"\",VLOOKUP(E527,[2]LISTAS!$A$15:$B$50,2,0))","v":""},{"$f":"IF(ISERROR(VLOOKUP(G527,[2]LISTAS!$A$15:$B$50,2,0)),\"\",VLOOKUP(G527,[2]LISTAS!$A$15:$B$50,2,0))","v":""},{"$f":"IF(ISERROR(VLOOKUP(I527,[2]LISTAS!$A$15:$B$50,2,0)),\"\",VLOOKUP(I527,[2]LISTAS!$A$15:$B$50,2,0))","v":""},{"$f":"IF(ISERROR(VLOOKUP(K527,[2]LISTAS!$A$15:$B$50,2,0)),\"\",VLOOKUP(K527,[2]LISTAS!$A$15:$B$50,2,0))","v":""},{"$f":"IF(ISERROR(VLOOKUP(M527,[2]LISTAS!$A$15:$B$50,2,0)),\"\",VLOOKUP(M527,[2]LISTAS!$A$15:$B$50,2,0))","v":""},{"$f":"IF(ISERROR(VLOOKUP(O527,[2]LISTAS!$A$15:$B$50,2,0)),\"\",VLOOKUP(O527,[2]LISTAS!$A$15:$B$50,2,0))","v":""},{"$f":"IF(ISERROR(VLOOKUP(6,[2]LISTAS!$A$15:$B$50,2,0)),\"\",VLOOKUP(6,[2]LISTAS!$A$15:$B$50,2,0))","v":""},null,{"$f":"_xlfn.IFS(T527=\"------\",AD527,T527=\"LA RELACIÓN DE ACTIVIDADES DEBE SER A PARTIR DE LA SIGUIENTE FILA\",\"LA RELACIÓN DE ACTIVIDADES DEBE SER A PARTIR DE LA SIGUIENTE FILA\",T527<>\"------\",T527)","v":""},null,"ok"]
[null,null,null,null,null,null,null,null,null,null,null,null,null,null,null,null,null,null,null,"",{"$f":"IF(ISERROR(VLOOKUP(E528,[2]LISTAS!$A$15:$B$50,2,0)),\"\",VLOOKUP(E528,[2]LISTAS!$A$15:$B$50,2,0))","v":""},{"$f":"IF(ISERROR(VLOOKUP(G528,[2]LISTAS!$A$15:$B$50,2,0)),\"\",VLOOKUP(G528,[2]LISTAS!$A$15:$B$50,2,0))","v":""},{"$f":"IF(ISERROR(VLOOKUP(I528,[2]LISTAS!$A$15:$B$50,2,0)),\"\",VLOOKUP(I528,[2]LISTAS!$A$15:$B$50,2,0))","v":""},{"$f":"IF(ISERROR(VLOOKUP(K528,[2]LISTAS!$A$15:$B$50,2,0)),\"\",VLOOKUP(K528,[2]LISTAS!$A$15:$B$50,2,0))","v":""},{"$f":"IF(ISERROR(VLOOKUP(M528,[2]LISTAS!$A$15:$B$50,2,0)),\"\",VLOOKUP(M528,[2]LISTAS!$A$15:$B$50,2,0))","v":""},{"$f":"IF(ISERROR(VLOOKUP(O528,[2]LISTAS!$A$15:$B$50,2,0)),\"\",VLOOKUP(O528,[2]LISTAS!$A$15:$B$50,2,0))","v":""},{"$f":"IF(ISERROR(VLOOKUP(6,[2]LISTAS!$A$15:$B$50,2,0)),\"\",VLOOKUP(6,[2]LISTAS!$A$15:$B$50,2,0))","v":""},null,{"$f":"_xlfn.IFS(T528=\"------\",AD528,T528=\"LA RELACIÓN DE ACTIVIDADES DEBE SER A PARTIR DE LA SIGUIENTE FILA\",\"LA RELACIÓN DE ACTIVIDADES DEBE SER A PARTIR DE LA SIGUIENTE FILA\",T528<>\"------\",T528)","v":""},null,"ok"]
[null,null,null,null,null,null,null,null,null,null,null,null,null,null,null,null,null,null,null,"",{"$f":"IF(ISERROR(VLOOKUP(E529,[2]LISTAS!$A$15:$B$50,2,0)),\"\",VLOOKUP(E529,[2]LISTAS!$A$15:$B$50,2,0))","v":""},{"$f":"IF(ISERROR(VLOOKUP(G529,[2]LISTAS!$A$15:$B$50,2,0)),\"\",VLOOKUP(G529,[2]LISTAS!$A$15:$B$50,2,0))","v":""},{"$f":"IF(ISERROR(VLOOKUP(I529,[2]LISTAS!$A$15:$B$50,2,0)),\"\",VLOOKUP(I529,[2]LISTAS!$A$15:$B$50,2,0))","v":""},{"$f":"IF(ISERROR(VLOOKUP(K529,[2]LISTAS!$A$15:$B$50,2,0)),\"\",VLOOKUP(K529,[2]LISTAS!$A$15:$B$50,2,0))","v":""},{"$f":"IF(ISERROR(VLOOKUP(M529,[2]LISTAS!$A$15:$B$50,2,0)),\"\",VLOOKUP(M529,[2]LISTAS!$A$15:$B$50,2,0))","v":""},{"$f":"IF(ISERROR(VLOOKUP(O529,[2]LISTAS!$A$15:$B$50,2,0)),\"\",VLOOKUP(O529,[2]LISTAS!$A$15:$B$50,2,0))","v":""},{"$f":"IF(ISERROR(VLOOKUP(6,[2]LISTAS!$A$15:$B$50,2,0)),\"\",VLOOKUP(6,[2]LISTAS!$A$15:$B$50,2,0))","v":""},null,{"$f":"_xlfn.IFS(T529=\"------\",AD529,T529=\"LA RELACIÓN DE ACTIVIDADES DEBE SER A PARTIR DE LA SIGUIENTE FILA\",\"LA RELACIÓN DE ACTIVIDADES DEBE SER A PARTIR DE LA SIGUIENTE FILA\",T529<>\"------\",T529)","v":""},null,"ok"]
[null,null,null,null,null,null,null,null,null,null,null,null,null,null,null,null,null,null,null,"",{"$f":"IF(ISERROR(VLOOKUP(E530,[2]LISTAS!$A$15:$B$50,2,0)),\"\",VLOOKUP(E530,[2]LISTAS!$A$15:$B$50,2,0))","v":""},{"$f":"IF(ISERROR(VLOOKUP(G530,[2]LISTAS!$A$15:$B$50,2,0)),\"\",VLOOKUP(G530,[2]LISTAS!$A$15:$B$50,2,0))","v":""},{"$f":"IF(ISERROR(VLOOKUP(I530,[2]LISTAS!$A$15:$B$50,2,0)),\"\",VLOOKUP(I530,[2]LISTAS!$A$15:$B$50,2,0))","v":""},{"$f":"IF(ISERROR(VLOOKUP(K530,[2]LISTAS!$A$15:$B$50,2,0)),\"\",VLOOKUP(K530,[2]LISTAS!$A$15:$B$50,2,0))","v":""},{"$f":"IF(ISERROR(VLOOKUP(M530,[2]LISTAS!$A$15:$B$50,2,0)),\"\",VLOOKUP(M530,[2]LISTAS!$A$15:$B$50,2,0))","v":""},{"$f":"IF(ISERROR(VLOOKUP(O530,[2]LISTAS!$A$15:$B$50,2,0)),\"\",VLOOKUP(O530,[2]LISTAS!$A$15:$B$50,2,0))","v":""},{"$f":"IF(ISERROR(VLOOKUP(6,[2]LISTAS!$A$15:$B$50,2,0)),\"\",VLOOKUP(6,[2]LISTAS!$A$15:$B$50,2,0))","v":""},null,{"$f":"_xlfn.IFS(T530=\"------\",AD530,T530=\"LA RELACIÓN DE ACTIVIDADES DEBE SER A PARTIR DE LA SIGUIENTE FILA\",\"LA RELACIÓN DE ACTIVIDADES DEBE SER A PARTIR DE LA SIGUIENTE FILA\",T530<>\"------\",T530)","v":""},null,"ok"]
[null,null,null,null,null,null,null,null,null,null,null,null,null,null,null,null,null,null,null,"",{"$f":"IF(ISERROR(VLOOKUP(E531,[2]LISTAS!$A$15:$B$50,2,0)),\"\",VLOOKUP(E531,[2]LISTAS!$A$15:$B$50,2,0))","v":""},{"$f":"IF(ISERROR(VLOOKUP(G531,[2]LISTAS!$A$15:$B$50,2,0)),\"\",VLOOKUP(G531,[2]LISTAS!$A$15:$B$50,2,0))","v":""},{"$f":"IF(ISERROR(VLOOKUP(I531,[2]LISTAS!$A$15:$B$50,2,0)),\"\",VLOOKUP(I531,[2]LISTAS!$A$15:$B$50,2,0))","v":""},{"$f":"IF(ISERROR(VLOOKUP(K531,[2]LISTAS!$A$15:$B$50,2,0)),\"\",VLOOKUP(K531,[2]LISTAS!$A$15:$B$50,2,0))","v":""},{"$f":"IF(ISERROR(VLOOKUP(M531,[2]LISTAS!$A$15:$B$50,2,0)),\"\",VLOOKUP(M531,[2]LISTAS!$A$15:$B$50,2,0))","v":""},{"$f":"IF(ISERROR(VLOOKUP(O531,[2]LISTAS!$A$15:$B$50,2,0)),\"\",VLOOKUP(O531,[2]LISTAS!$A$15:$B$50,2,0))","v":""},{"$f":"IF(ISERROR(VLOOKUP(6,[2]LISTAS!$A$15:$B$50,2,0)),\"\",VLOOKUP(6,[2]LISTAS!$A$15:$B$50,2,0))","v":""},null,{"$f":"_xlfn.IFS(T531=\"------\",AD531,T531=\"LA RELACIÓN DE ACTIVIDADES DEBE SER A PARTIR DE LA SIGUIENTE FILA\",\"LA RELACIÓN DE ACTIVIDADES DEBE SER A PARTIR DE LA SIGUIENTE FILA\",T531<>\"------\",T531)","v":""},null,"ok"]
[null,null,null,null,null,null,null,null,null,null,null,null,null,null,null,null,null,null,null,"",{"$f":"IF(ISERROR(VLOOKUP(E532,[2]LISTAS!$A$15:$B$50,2,0)),\"\",VLOOKUP(E532,[2]LISTAS!$A$15:$B$50,2,0))","v":""},{"$f":"IF(ISERROR(VLOOKUP(G532,[2]LISTAS!$A$15:$B$50,2,0)),\"\",VLOOKUP(G532,[2]LISTAS!$A$15:$B$50,2,0))","v":""},{"$f":"IF(ISERROR(VLOOKUP(I532,[2]LISTAS!$A$15:$B$50,2,0)),\"\",VLOOKUP(I532,[2]LISTAS!$A$15:$B$50,2,0))","v":""},{"$f":"IF(ISERROR(VLOOKUP(K532,[2]LISTAS!$A$15:$B$50,2,0)),\"\",VLOOKUP(K532,[2]LISTAS!$A$15:$B$50,2,0))","v":""},{"$f":"IF(ISERROR(VLOOKUP(M532,[2]LISTAS!$A$15:$B$50,2,0)),\"\",VLOOKUP(M532,[2]LISTAS!$A$15:$B$50,2,0))","v":""},{"$f":"IF(ISERROR(VLOOKUP(O532,[2]LISTAS!$A$15:$B$50,2,0)),\"\",VLOOKUP(O532,[2]LISTAS!$A$15:$B$50,2,0))","v":""},{"$f":"IF(ISERROR(VLOOKUP(6,[2]LISTAS!$A$15:$B$50,2,0)),\"\",VLOOKUP(6,[2]LISTAS!$A$15:$B$50,2,0))","v":""},null,{"$f":"_xlfn.IFS(T532=\"------\",AD532,T532=\"LA RELACIÓN DE ACTIVIDADES DEBE SER A PARTIR DE LA SIGUIENTE FILA\",\"LA RELACIÓN DE ACTIVIDADES DEBE SER A PARTIR DE LA SIGUIENTE FILA\",T532<>\"------\",T532)","v":""},null,"ok"]
[null,null,null,null,null,null,null,null,null,null,null,null,null,null,null,null,null,null,null,"",{"$f":"IF(ISERROR(VLOOKUP(E533,[2]LISTAS!$A$15:$B$50,2,0)),\"\",VLOOKUP(E533,[2]LISTAS!$A$15:$B$50,2,0))","v":""},{"$f":"IF(ISERROR(VLOOKUP(G533,[2]LISTAS!$A$15:$B$50,2,0)),\"\",VLOOKUP(G533,[2]LISTAS!$A$15:$B$50,2,0))","v":""},{"$f":"IF(ISERROR(VLOOKUP(I533,[2]LISTAS!$A$15:$B$50,2,0)),\"\",VLOOKUP(I533,[2]LISTAS!$A$15:$B$50,2,0))","v":""},{"$f":"IF(ISERROR(VLOOKUP(K533,[2]LISTAS!$A$15:$B$50,2,0)),\"\",VLOOKUP(K533,[2]LISTAS!$A$15:$B$50,2,0))","v":""},{"$f":"IF(ISERROR(VLOOKUP(M533,[2]LISTAS!$A$15:$B$50,2,0)),\"\",VLOOKUP(M533,[2]LISTAS!$A$15:$B$50,2,0))","v":""},{"$f":"IF(ISERROR(VLOOKUP(O533,[2]LISTAS!$A$15:$B$50,2,0)),\"\",VLOOKUP(O533,[2]LISTAS!$A$15:$B$50,2,0))","v":""},{"$f":"IF(ISERROR(VLOOKUP(6,[2]LISTAS!$A$15:$B$50,2,0)),\"\",VLOOKUP(6,[2]LISTAS!$A$15:$B$50,2,0))","v":""},null,{"$f":"_xlfn.IFS(T533=\"------\",AD533,T533=\"LA RELACIÓN DE ACTIVIDADES DEBE SER A PARTIR DE LA SIGUIENTE FILA\",\"LA RELACIÓN DE ACTIVIDADES DEBE SER A PARTIR DE LA SIGUIENTE FILA\",T533<>\"------\",T533)","v":""},null,"ok"]
[null,null,null,null,null,null,null,null,null,null,null,null,null,null,null,null,null,null,null,"",{"$f":"IF(ISERROR(VLOOKUP(E534,[2]LISTAS!$A$15:$B$50,2,0)),\"\",VLOOKUP(E534,[2]LISTAS!$A$15:$B$50,2,0))","v":""},{"$f":"IF(ISERROR(VLOOKUP(G534,[2]LISTAS!$A$15:$B$50,2,0)),\"\",VLOOKUP(G534,[2]LISTAS!$A$15:$B$50,2,0))","v":""},{"$f":"IF(ISERROR(VLOOKUP(I534,[2]LISTAS!$A$15:$B$50,2,0)),\"\",VLOOKUP(I534,[2]LISTAS!$A$15:$B$50,2,0))","v":""},{"$f":"IF(ISERROR(VLOOKUP(K534,[2]LISTAS!$A$15:$B$50,2,0)),\"\",VLOOKUP(K534,[2]LISTAS!$A$15:$B$50,2,0))","v":""},{"$f":"IF(ISERROR(VLOOKUP(M534,[2]LISTAS!$A$15:$B$50,2,0)),\"\",VLOOKUP(M534,[2]LISTAS!$A$15:$B$50,2,0))","v":""},{"$f":"IF(ISERROR(VLOOKUP(O534,[2]LISTAS!$A$15:$B$50,2,0)),\"\",VLOOKUP(O534,[2]LISTAS!$A$15:$B$50,2,0))","v":""},{"$f":"IF(ISERROR(VLOOKUP(6,[2]LISTAS!$A$15:$B$50,2,0)),\"\",VLOOKUP(6,[2]LISTAS!$A$15:$B$50,2,0))","v":""},null,{"$f":"_xlfn.IFS(T534=\"------\",AD534,T534=\"LA RELACIÓN DE ACTIVIDADES DEBE SER A PARTIR DE LA SIGUIENTE FILA\",\"LA RELACIÓN DE ACTIVIDADES DEBE SER A PARTIR DE LA SIGUIENTE FILA\",T534<>\"------\",T534)","v":""},null,"ok"]
[null,null,null,null,null,null,null,null,null,null,null,null,null,null,null,null,null,null,null,"",{"$f":"IF(ISERROR(VLOOKUP(E535,[2]LISTAS!$A$15:$B$50,2,0)),\"\",VLOOKUP(E535,[2]LISTAS!$A$15:$B$50,2,0))","v":""},{"$f":"IF(ISERROR(VLOOKUP(G535,[2]LISTAS!$A$15:$B$50,2,0)),\"\",VLOOKUP(G535,[2]LISTAS!$A$15:$B$50,2,0))","v":""},{"$f":"IF(ISERROR(VLOOKUP(I535,[2]LISTAS!$A$15:$B$50,2,0)),\"\",VLOOKUP(I535,[2]LISTAS!$A$15:$B$50,2,0))","v":""},{"$f":"IF(ISERROR(VLOOKUP(K535,[2]LISTAS!$A$15:$B$50,2,0)),\"\",VLOOKUP(K535,[2]LISTAS!$A$15:$B$50,2,0))","v":""},{"$f":"IF(ISERROR(VLOOKUP(M535,[2]LISTAS!$A$15:$B$50,2,0)),\"\",VLOOKUP(M535,[2]LISTAS!$A$15:$B$50,2,0))","v":""},{"$f":"IF(ISERROR(VLOOKUP(O535,[2]LISTAS!$A$15:$B$50,2,0)),\"\",VLOOKUP(O535,[2]LISTAS!$A$15:$B$50,2,0))","v":""},{"$f":"IF(ISERROR(VLOOKUP(6,[2]LISTAS!$A$15:$B$50,2,0)),\"\",VLOOKUP(6,[2]LISTAS!$A$15:$B$50,2,0))","v":""},null,{"$f":"_xlfn.IFS(T535=\"------\",AD535,T535=\"LA RELACIÓN DE ACTIVIDADES DEBE SER A PARTIR DE LA SIGUIENTE FILA\",\"LA RELACIÓN DE ACTIVIDADES DEBE SER A PARTIR DE LA SIGUIENTE FILA\",T535<>\"------\",T535)","v":""},null,"ok"]
[null,null,null,null,null,null,null,null,null,null,null,null,null,null,null,null,null,null,null,"",{"$f":"IF(ISERROR(VLOOKUP(E536,[2]LISTAS!$A$15:$B$50,2,0)),\"\",VLOOKUP(E536,[2]LISTAS!$A$15:$B$50,2,0))","v":""},{"$f":"IF(ISERROR(VLOOKUP(G536,[2]LISTAS!$A$15:$B$50,2,0)),\"\",VLOOKUP(G536,[2]LISTAS!$A$15:$B$50,2,0))","v":""},{"$f":"IF(ISERROR(VLOOKUP(I536,[2]LISTAS!$A$15:$B$50,2,0)),\"\",VLOOKUP(I536,[2]LISTAS!$A$15:$B$50,2,0))","v":""},{"$f":"IF(ISERROR(VLOOKUP(K536,[2]LISTAS!$A$15:$B$50,2,0)),\"\",VLOOKUP(K536,[2]LISTAS!$A$15:$B$50,2,0))","v":""},{"$f":"IF(ISERROR(VLOOKUP(M536,[2]LISTAS!$A$15:$B$50,2,0)),\"\",VLOOKUP(M536,[2]LISTAS!$A$15:$B$50,2,0))","v":""},{"$f":"IF(ISERROR(VLOOKUP(O536,[2]LISTAS!$A$15:$B$50,2,0)),\"\",VLOOKUP(O536,[2]LISTAS!$A$15:$B$50,2,0))","v":""},{"$f":"IF(ISERROR(VLOOKUP(6,[2]LISTAS!$A$15:$B$50,2,0)),\"\",VLOOKUP(6,[2]LISTAS!$A$15:$B$50,2,0))","v":""},null,{"$f":"_xlfn.IFS(T536=\"------\",AD536,T536=\"LA RELACIÓN DE ACTIVIDADES DEBE SER A PARTIR DE LA SIGUIENTE FILA\",\"LA RELACIÓN DE ACTIVIDADES DEBE SER A PARTIR DE LA SIGUIENTE FILA\",T536<>\"------\",T536)","v":""},null,"ok"]
[null,null,null,null,null,null,null,null,null,null,null,null,null,null,null,null,null,null,null,"",{"$f":"IF(ISERROR(VLOOKUP(E537,[2]LISTAS!$A$15:$B$50,2,0)),\"\",VLOOKUP(E537,[2]LISTAS!$A$15:$B$50,2,0))","v":""},{"$f":"IF(ISERROR(VLOOKUP(G537,[2]LISTAS!$A$15:$B$50,2,0)),\"\",VLOOKUP(G537,[2]LISTAS!$A$15:$B$50,2,0))","v":""},{"$f":"IF(ISERROR(VLOOKUP(I537,[2]LISTAS!$A$15:$B$50,2,0)),\"\",VLOOKUP(I537,[2]LISTAS!$A$15:$B$50,2,0))","v":""},{"$f":"IF(ISERROR(VLOOKUP(K537,[2]LISTAS!$A$15:$B$50,2,0)),\"\",VLOOKUP(K537,[2]LISTAS!$A$15:$B$50,2,0))","v":""},{"$f":"IF(ISERROR(VLOOKUP(M537,[2]LISTAS!$A$15:$B$50,2,0)),\"\",VLOOKUP(M537,[2]LISTAS!$A$15:$B$50,2,0))","v":""},{"$f":"IF(ISERROR(VLOOKUP(O537,[2]LISTAS!$A$15:$B$50,2,0)),\"\",VLOOKUP(O537,[2]LISTAS!$A$15:$B$50,2,0))","v":""},{"$f":"IF(ISERROR(VLOOKUP(6,[2]LISTAS!$A$15:$B$50,2,0)),\"\",VLOOKUP(6,[2]LISTAS!$A$15:$B$50,2,0))","v":""},null,{"$f":"_xlfn.IFS(T537=\"------\",AD537,T537=\"LA RELACIÓN DE ACTIVIDADES DEBE SER A PARTIR DE LA SIGUIENTE FILA\",\"LA RELACIÓN DE ACTIVIDADES DEBE SER A PARTIR DE LA SIGUIENTE FILA\",T537<>\"------\",T537)","v":""},null,"ok"]
[null,null,null,null,null,null,null,null,null,null,null,null,null,null,null,null,null,null,null,"",{"$f":"IF(ISERROR(VLOOKUP(E538,[2]LISTAS!$A$15:$B$50,2,0)),\"\",VLOOKUP(E538,[2]LISTAS!$A$15:$B$50,2,0))","v":""},{"$f":"IF(ISERROR(VLOOKUP(G538,[2]LISTAS!$A$15:$B$50,2,0)),\"\",VLOOKUP(G538,[2]LISTAS!$A$15:$B$50,2,0))","v":""},{"$f":"IF(ISERROR(VLOOKUP(I538,[2]LISTAS!$A$15:$B$50,2,0)),\"\",VLOOKUP(I538,[2]LISTAS!$A$15:$B$50,2,0))","v":""},{"$f":"IF(ISERROR(VLOOKUP(K538,[2]LISTAS!$A$15:$B$50,2,0)),\"\",VLOOKUP(K538,[2]LISTAS!$A$15:$B$50,2,0))","v":""},{"$f":"IF(ISERROR(VLOOKUP(M538,[2]LISTAS!$A$15:$B$50,2,0)),\"\",VLOOKUP(M538,[2]LISTAS!$A$15:$B$50,2,0))","v":""},{"$f":"IF(ISERROR(VLOOKUP(O538,[2]LISTAS!$A$15:$B$50,2,0)),\"\",VLOOKUP(O538,[2]LISTAS!$A$15:$B$50,2,0))","v":""},{"$f":"IF(ISERROR(VLOOKUP(6,[2]LISTAS!$A$15:$B$50,2,0)),\"\",VLOOKUP(6,[2]LISTAS!$A$15:$B$50,2,0))","v":""},null,{"$f":"_xlfn.IFS(T538=\"------\",AD538,T538=\"LA RELACIÓN DE ACTIVIDADES DEBE SER A PARTIR DE LA SIGUIENTE FILA\",\"LA RELACIÓN DE ACTIVIDADES DEBE SER A PARTIR DE LA SIGUIENTE FILA\",T538<>\"------\",T538)","v":""},null,"ok"]
[null,null,null,null,null,null,null,null,null,null,null,null,null,null,null,null,null,null,null,"",{"$f":"IF(ISERROR(VLOOKUP(E539,[2]LISTAS!$A$15:$B$50,2,0)),\"\",VLOOKUP(E539,[2]LISTAS!$A$15:$B$50,2,0))","v":""},{"$f":"IF(ISERROR(VLOOKUP(G539,[2]LISTAS!$A$15:$B$50,2,0)),\"\",VLOOKUP(G539,[2]LISTAS!$A$15:$B$50,2,0))","v":""},{"$f":"IF(ISERROR(VLOOKUP(I539,[2]LISTAS!$A$15:$B$50,2,0)),\"\",VLOOKUP(I539,[2]LISTAS!$A$15:$B$50,2,0))","v":""},{"$f":"IF(ISERROR(VLOOKUP(K539,[2]LISTAS!$A$15:$B$50,2,0)),\"\",VLOOKUP(K539,[2]LISTAS!$A$15:$B$50,2,0))","v":""},{"$f":"IF(ISERROR(VLOOKUP(M539,[2]LISTAS!$A$15:$B$50,2,0)),\"\",VLOOKUP(M539,[2]LISTAS!$A$15:$B$50,2,0))","v":""},{"$f":"IF(ISERROR(VLOOKUP(O539,[2]LISTAS!$A$15:$B$50,2,0)),\"\",VLOOKUP(O539,[2]LISTAS!$A$15:$B$50,2,0))","v":""},{"$f":"IF(ISERROR(VLOOKUP(6,[2]LISTAS!$A$15:$B$50,2,0)),\"\",VLOOKUP(6,[2]LISTAS!$A$15:$B$50,2,0))","v":""},null,{"$f":"_xlfn.IFS(T539=\"------\",AD539,T539=\"LA RELACIÓN DE ACTIVIDADES DEBE SER A PARTIR DE LA SIGUIENTE FILA\",\"LA RELACIÓN DE ACTIVIDADES DEBE SER A PARTIR DE LA SIGUIENTE FILA\",T539<>\"------\",T539)","v":""},null,"ok"]
[null,null,null,null,null,null,null,null,null,null,null,null,null,null,null,null,null,null,null,"",{"$f":"IF(ISERROR(VLOOKUP(E540,[2]LISTAS!$A$15:$B$50,2,0)),\"\",VLOOKUP(E540,[2]LISTAS!$A$15:$B$50,2,0))","v":""},{"$f":"IF(ISERROR(VLOOKUP(G540,[2]LISTAS!$A$15:$B$50,2,0)),\"\",VLOOKUP(G540,[2]LISTAS!$A$15:$B$50,2,0))","v":""},{"$f":"IF(ISERROR(VLOOKUP(I540,[2]LISTAS!$A$15:$B$50,2,0)),\"\",VLOOKUP(I540,[2]LISTAS!$A$15:$B$50,2,0))","v":""},{"$f":"IF(ISERROR(VLOOKUP(K540,[2]LISTAS!$A$15:$B$50,2,0)),\"\",VLOOKUP(K540,[2]LISTAS!$A$15:$B$50,2,0))","v":""},{"$f":"IF(ISERROR(VLOOKUP(M540,[2]LISTAS!$A$15:$B$50,2,0)),\"\",VLOOKUP(M540,[2]LISTAS!$A$15:$B$50,2,0))","v":""},{"$f":"IF(ISERROR(VLOOKUP(O540,[2]LISTAS!$A$15:$B$50,2,0)),\"\",VLOOKUP(O540,[2]LISTAS!$A$15:$B$50,2,0))","v":""},{"$f":"IF(ISERROR(VLOOKUP(6,[2]LISTAS!$A$15:$B$50,2,0)),\"\",VLOOKUP(6,[2]LISTAS!$A$15:$B$50,2,0))","v":""},null,{"$f":"_xlfn.IFS(T540=\"------\",AD540,T540=\"LA RELACIÓN DE ACTIVIDADES DEBE SER A PARTIR DE LA SIGUIENTE FILA\",\"LA RELACIÓN DE ACTIVIDADES DEBE SER A PARTIR DE LA SIGUIENTE FILA\",T540<>\"------\",T540)","v":""},null,"ok"]
[null,null,null,null,null,null,null,null,null,null,null,null,null,null,null,null,null,null,null,"",{"$f":"IF(ISERROR(VLOOKUP(E541,[2]LISTAS!$A$15:$B$50,2,0)),\"\",VLOOKUP(E541,[2]LISTAS!$A$15:$B$50,2,0))","v":""},{"$f":"IF(ISERROR(VLOOKUP(G541,[2]LISTAS!$A$15:$B$50,2,0)),\"\",VLOOKUP(G541,[2]LISTAS!$A$15:$B$50,2,0))","v":""},{"$f":"IF(ISERROR(VLOOKUP(I541,[2]LISTAS!$A$15:$B$50,2,0)),\"\",VLOOKUP(I541,[2]LISTAS!$A$15:$B$50,2,0))","v":""},{"$f":"IF(ISERROR(VLOOKUP(K541,[2]LISTAS!$A$15:$B$50,2,0)),\"\",VLOOKUP(K541,[2]LISTAS!$A$15:$B$50,2,0))","v":""},{"$f":"IF(ISERROR(VLOOKUP(M541,[2]LISTAS!$A$15:$B$50,2,0)),\"\",VLOOKUP(M541,[2]LISTAS!$A$15:$B$50,2,0))","v":""},{"$f":"IF(ISERROR(VLOOKUP(O541,[2]LISTAS!$A$15:$B$50,2,0)),\"\",VLOOKUP(O541,[2]LISTAS!$A$15:$B$50,2,0))","v":""},{"$f":"IF(ISERROR(VLOOKUP(6,[2]LISTAS!$A$15:$B$50,2,0)),\"\",VLOOKUP(6,[2]LISTAS!$A$15:$B$50,2,0))","v":""},null,{"$f":"_xlfn.IFS(T541=\"------\",AD541,T541=\"LA RELACIÓN DE ACTIVIDADES DEBE SER A PARTIR DE LA SIGUIENTE FILA\",\"LA RELACIÓN DE ACTIVIDADES DEBE SER A PARTIR DE LA SIGUIENTE FILA\",T541<>\"------\",T541)","v":""},null,"ok"]
[null,null,null,null,null,null,null,null,null,null,null,null,null,null,null,null,null,null,null,"",{"$f":"IF(ISERROR(VLOOKUP(E542,[2]LISTAS!$A$15:$B$50,2,0)),\"\",VLOOKUP(E542,[2]LISTAS!$A$15:$B$50,2,0))","v":""},{"$f":"IF(ISERROR(VLOOKUP(G542,[2]LISTAS!$A$15:$B$50,2,0)),\"\",VLOOKUP(G542,[2]LISTAS!$A$15:$B$50,2,0))","v":""},{"$f":"IF(ISERROR(VLOOKUP(I542,[2]LISTAS!$A$15:$B$50,2,0)),\"\",VLOOKUP(I542,[2]LISTAS!$A$15:$B$50,2,0))","v":""},{"$f":"IF(ISERROR(VLOOKUP(K542,[2]LISTAS!$A$15:$B$50,2,0)),\"\",VLOOKUP(K542,[2]LISTAS!$A$15:$B$50,2,0))","v":""},{"$f":"IF(ISERROR(VLOOKUP(M542,[2]LISTAS!$A$15:$B$50,2,0)),\"\",VLOOKUP(M542,[2]LISTAS!$A$15:$B$50,2,0))","v":""},{"$f":"IF(ISERROR(VLOOKUP(O542,[2]LISTAS!$A$15:$B$50,2,0)),\"\",VLOOKUP(O542,[2]LISTAS!$A$15:$B$50,2,0))","v":""},{"$f":"IF(ISERROR(VLOOKUP(6,[2]LISTAS!$A$15:$B$50,2,0)),\"\",VLOOKUP(6,[2]LISTAS!$A$15:$B$50,2,0))","v":""},null,{"$f":"_xlfn.IFS(T542=\"------\",AD542,T542=\"LA RELACIÓN DE ACTIVIDADES DEBE SER A PARTIR DE LA SIGUIENTE FILA\",\"LA RELACIÓN DE ACTIVIDADES DEBE SER A PARTIR DE LA SIGUIENTE FILA\",T542<>\"------\",T542)","v":""},null,"ok"]
[null,null,null,null,null,null,null,null,null,null,null,null,null,null,null,null,null,null,null,"",{"$f":"IF(ISERROR(VLOOKUP(E543,[2]LISTAS!$A$15:$B$50,2,0)),\"\",VLOOKUP(E543,[2]LISTAS!$A$15:$B$50,2,0))","v":""},{"$f":"IF(ISERROR(VLOOKUP(G543,[2]LISTAS!$A$15:$B$50,2,0)),\"\",VLOOKUP(G543,[2]LISTAS!$A$15:$B$50,2,0))","v":""},{"$f":"IF(ISERROR(VLOOKUP(I543,[2]LISTAS!$A$15:$B$50,2,0)),\"\",VLOOKUP(I543,[2]LISTAS!$A$15:$B$50,2,0))","v":""},{"$f":"IF(ISERROR(VLOOKUP(K543,[2]LISTAS!$A$15:$B$50,2,0)),\"\",VLOOKUP(K543,[2]LISTAS!$A$15:$B$50,2,0))","v":""},{"$f":"IF(ISERROR(VLOOKUP(M543,[2]LISTAS!$A$15:$B$50,2,0)),\"\",VLOOKUP(M543,[2]LISTAS!$A$15:$B$50,2,0))","v":""},{"$f":"IF(ISERROR(VLOOKUP(O543,[2]LISTAS!$A$15:$B$50,2,0)),\"\",VLOOKUP(O543,[2]LISTAS!$A$15:$B$50,2,0))","v":""},{"$f":"IF(ISERROR(VLOOKUP(6,[2]LISTAS!$A$15:$B$50,2,0)),\"\",VLOOKUP(6,[2]LISTAS!$A$15:$B$50,2,0))","v":""},null,{"$f":"_xlfn.IFS(T543=\"------\",AD543,T543=\"LA RELACIÓN DE ACTIVIDADES DEBE SER A PARTIR DE LA SIGUIENTE FILA\",\"LA RELACIÓN DE ACTIVIDADES DEBE SER A PARTIR DE LA SIGUIENTE FILA\",T543<>\"------\",T543)","v":""},null,"ok"]
[null,null,null,null,null,null,null,null,null,null,null,null,null,null,null,null,null,null,null,"",{"$f":"IF(ISERROR(VLOOKUP(E544,[2]LISTAS!$A$15:$B$50,2,0)),\"\",VLOOKUP(E544,[2]LISTAS!$A$15:$B$50,2,0))","v":""},{"$f":"IF(ISERROR(VLOOKUP(G544,[2]LISTAS!$A$15:$B$50,2,0)),\"\",VLOOKUP(G544,[2]LISTAS!$A$15:$B$50,2,0))","v":""},{"$f":"IF(ISERROR(VLOOKUP(I544,[2]LISTAS!$A$15:$B$50,2,0)),\"\",VLOOKUP(I544,[2]LISTAS!$A$15:$B$50,2,0))","v":""},{"$f":"IF(ISERROR(VLOOKUP(K544,[2]LISTAS!$A$15:$B$50,2,0)),\"\",VLOOKUP(K544,[2]LISTAS!$A$15:$B$50,2,0))","v":""},{"$f":"IF(ISERROR(VLOOKUP(M544,[2]LISTAS!$A$15:$B$50,2,0)),\"\",VLOOKUP(M544,[2]LISTAS!$A$15:$B$50,2,0))","v":""},{"$f":"IF(ISERROR(VLOOKUP(O544,[2]LISTAS!$A$15:$B$50,2,0)),\"\",VLOOKUP(O544,[2]LISTAS!$A$15:$B$50,2,0))","v":""},{"$f":"IF(ISERROR(VLOOKUP(6,[2]LISTAS!$A$15:$B$50,2,0)),\"\",VLOOKUP(6,[2]LISTAS!$A$15:$B$50,2,0))","v":""},null,{"$f":"_xlfn.IFS(T544=\"------\",AD544,T544=\"LA RELACIÓN DE ACTIVIDADES DEBE SER A PARTIR DE LA SIGUIENTE FILA\",\"LA RELACIÓN DE ACTIVIDADES DEBE SER A PARTIR DE LA SIGUIENTE FILA\",T544<>\"------\",T544)","v":""},null,"ok"]
[null,null,null,null,null,null,null,null,null,null,null,null,null,null,null,null,null,null,null,"",{"$f":"IF(ISERROR(VLOOKUP(E545,[2]LISTAS!$A$15:$B$50,2,0)),\"\",VLOOKUP(E545,[2]LISTAS!$A$15:$B$50,2,0))","v":""},{"$f":"IF(ISERROR(VLOOKUP(G545,[2]LISTAS!$A$15:$B$50,2,0)),\"\",VLOOKUP(G545,[2]LISTAS!$A$15:$B$50,2,0))","v":""},{"$f":"IF(ISERROR(VLOOKUP(I545,[2]LISTAS!$A$15:$B$50,2,0)),\"\",VLOOKUP(I545,[2]LISTAS!$A$15:$B$50,2,0))","v":""},{"$f":"IF(ISERROR(VLOOKUP(K545,[2]LISTAS!$A$15:$B$50,2,0)),\"\",VLOOKUP(K545,[2]LISTAS!$A$15:$B$50,2,0))","v":""},{"$f":"IF(ISERROR(VLOOKUP(M545,[2]LISTAS!$A$15:$B$50,2,0)),\"\",VLOOKUP(M545,[2]LISTAS!$A$15:$B$50,2,0))","v":""},{"$f":"IF(ISERROR(VLOOKUP(O545,[2]LISTAS!$A$15:$B$50,2,0)),\"\",VLOOKUP(O545,[2]LISTAS!$A$15:$B$50,2,0))","v":""},{"$f":"IF(ISERROR(VLOOKUP(6,[2]LISTAS!$A$15:$B$50,2,0)),\"\",VLOOKUP(6,[2]LISTAS!$A$15:$B$50,2,0))","v":""},null,{"$f":"_xlfn.IFS(T545=\"------\",AD545,T545=\"LA RELACIÓN DE ACTIVIDADES DEBE SER A PARTIR DE LA SIGUIENTE FILA\",\"LA RELACIÓN DE ACTIVIDADES DEBE SER A PARTIR DE LA SIGUIENTE FILA\",T545<>\"------\",T545)","v":""},null,"ok"]
[null,null,null,null,null,null,null,null,null,null,null,null,null,null,null,null,null,null,null,"",{"$f":"IF(ISERROR(VLOOKUP(E546,[2]LISTAS!$A$15:$B$50,2,0)),\"\",VLOOKUP(E546,[2]LISTAS!$A$15:$B$50,2,0))","v":""},{"$f":"IF(ISERROR(VLOOKUP(G546,[2]LISTAS!$A$15:$B$50,2,0)),\"\",VLOOKUP(G546,[2]LISTAS!$A$15:$B$50,2,0))","v":""},{"$f":"IF(ISERROR(VLOOKUP(I546,[2]LISTAS!$A$15:$B$50,2,0)),\"\",VLOOKUP(I546,[2]LISTAS!$A$15:$B$50,2,0))","v":""},{"$f":"IF(ISERROR(VLOOKUP(K546,[2]LISTAS!$A$15:$B$50,2,0)),\"\",VLOOKUP(K546,[2]LISTAS!$A$15:$B$50,2,0))","v":""},{"$f":"IF(ISERROR(VLOOKUP(M546,[2]LISTAS!$A$15:$B$50,2,0)),\"\",VLOOKUP(M546,[2]LISTAS!$A$15:$B$50,2,0))","v":""},{"$f":"IF(ISERROR(VLOOKUP(O546,[2]LISTAS!$A$15:$B$50,2,0)),\"\",VLOOKUP(O546,[2]LISTAS!$A$15:$B$50,2,0))","v":""},{"$f":"IF(ISERROR(VLOOKUP(6,[2]LISTAS!$A$15:$B$50,2,0)),\"\",VLOOKUP(6,[2]LISTAS!$A$15:$B$50,2,0))","v":""},null,{"$f":"_xlfn.IFS(T546=\"------\",AD546,T546=\"LA RELACIÓN DE ACTIVIDADES DEBE SER A PARTIR DE LA SIGUIENTE FILA\",\"LA RELACIÓN DE ACTIVIDADES DEBE SER A PARTIR DE LA SIGUIENTE FILA\",T546<>\"------\",T546)","v":""},null,"ok"]
[null,null,null,null,null,null,null,null,null,null,null,null,null,null,null,null,null,null,null,"",{"$f":"IF(ISERROR(VLOOKUP(E547,[2]LISTAS!$A$15:$B$50,2,0)),\"\",VLOOKUP(E547,[2]LISTAS!$A$15:$B$50,2,0))","v":""},{"$f":"IF(ISERROR(VLOOKUP(G547,[2]LISTAS!$A$15:$B$50,2,0)),\"\",VLOOKUP(G547,[2]LISTAS!$A$15:$B$50,2,0))","v":""},{"$f":"IF(ISERROR(VLOOKUP(I547,[2]LISTAS!$A$15:$B$50,2,0)),\"\",VLOOKUP(I547,[2]LISTAS!$A$15:$B$50,2,0))","v":""},{"$f":"IF(ISERROR(VLOOKUP(K547,[2]LISTAS!$A$15:$B$50,2,0)),\"\",VLOOKUP(K547,[2]LISTAS!$A$15:$B$50,2,0))","v":""},{"$f":"IF(ISERROR(VLOOKUP(M547,[2]LISTAS!$A$15:$B$50,2,0)),\"\",VLOOKUP(M547,[2]LISTAS!$A$15:$B$50,2,0))","v":""},{"$f":"IF(ISERROR(VLOOKUP(O547,[2]LISTAS!$A$15:$B$50,2,0)),\"\",VLOOKUP(O547,[2]LISTAS!$A$15:$B$50,2,0))","v":""},{"$f":"IF(ISERROR(VLOOKUP(6,[2]LISTAS!$A$15:$B$50,2,0)),\"\",VLOOKUP(6,[2]LISTAS!$A$15:$B$50,2,0))","v":""},null,{"$f":"_xlfn.IFS(T547=\"------\",AD547,T547=\"LA RELACIÓN DE ACTIVIDADES DEBE SER A PARTIR DE LA SIGUIENTE FILA\",\"LA RELACIÓN DE ACTIVIDADES DEBE SER A PARTIR DE LA SIGUIENTE FILA\",T547<>\"------\",T547)","v":""},null,"ok"]
[null,null,null,null,null,null,null,null,null,null,null,null,null,null,null,null,null,null,null,"",{"$f":"IF(ISERROR(VLOOKUP(E548,[2]LISTAS!$A$15:$B$50,2,0)),\"\",VLOOKUP(E548,[2]LISTAS!$A$15:$B$50,2,0))","v":""},{"$f":"IF(ISERROR(VLOOKUP(G548,[2]LISTAS!$A$15:$B$50,2,0)),\"\",VLOOKUP(G548,[2]LISTAS!$A$15:$B$50,2,0))","v":""},{"$f":"IF(ISERROR(VLOOKUP(I548,[2]LISTAS!$A$15:$B$50,2,0)),\"\",VLOOKUP(I548,[2]LISTAS!$A$15:$B$50,2,0))","v":""},{"$f":"IF(ISERROR(VLOOKUP(K548,[2]LISTAS!$A$15:$B$50,2,0)),\"\",VLOOKUP(K548,[2]LISTAS!$A$15:$B$50,2,0))","v":""},{"$f":"IF(ISERROR(VLOOKUP(M548,[2]LISTAS!$A$15:$B$50,2,0)),\"\",VLOOKUP(M548,[2]LISTAS!$A$15:$B$50,2,0))","v":""},{"$f":"IF(ISERROR(VLOOKUP(O548,[2]LISTAS!$A$15:$B$50,2,0)),\"\",VLOOKUP(O548,[2]LISTAS!$A$15:$B$50,2,0))","v":""},{"$f":"IF(ISERROR(VLOOKUP(6,[2]LISTAS!$A$15:$B$50,2,0)),\"\",VLOOKUP(6,[2]LISTAS!$A$15:$B$50,2,0))","v":""},null,{"$f":"_xlfn.IFS(T548=\"------\",AD548,T548=\"LA RELACIÓN DE ACTIVIDADES DEBE SER A PARTIR DE LA SIGUIENTE FILA\",\"LA RELACIÓN DE ACTIVIDADES DEBE SER A PARTIR DE LA SIGUIENTE FILA\",T548<>\"------\",T548)","v":""},null,"ok"]
[null,null,null,null,null,null,null,null,null,null,null,null,null,null,null,null,null,null,null,"",{"$f":"IF(ISERROR(VLOOKUP(E549,[2]LISTAS!$A$15:$B$50,2,0)),\"\",VLOOKUP(E549,[2]LISTAS!$A$15:$B$50,2,0))","v":""},{"$f":"IF(ISERROR(VLOOKUP(G549,[2]LISTAS!$A$15:$B$50,2,0)),\"\",VLOOKUP(G549,[2]LISTAS!$A$15:$B$50,2,0))","v":""},{"$f":"IF(ISERROR(VLOOKUP(I549,[2]LISTAS!$A$15:$B$50,2,0)),\"\",VLOOKUP(I549,[2]LISTAS!$A$15:$B$50,2,0))","v":""},{"$f":"IF(ISERROR(VLOOKUP(K549,[2]LISTAS!$A$15:$B$50,2,0)),\"\",VLOOKUP(K549,[2]LISTAS!$A$15:$B$50,2,0))","v":""},{"$f":"IF(ISERROR(VLOOKUP(M549,[2]LISTAS!$A$15:$B$50,2,0)),\"\",VLOOKUP(M549,[2]LISTAS!$A$15:$B$50,2,0))","v":""},{"$f":"IF(ISERROR(VLOOKUP(O549,[2]LISTAS!$A$15:$B$50,2,0)),\"\",VLOOKUP(O549,[2]LISTAS!$A$15:$B$50,2,0))","v":""},{"$f":"IF(ISERROR(VLOOKUP(6,[2]LISTAS!$A$15:$B$50,2,0)),\"\",VLOOKUP(6,[2]LISTAS!$A$15:$B$50,2,0))","v":""},null,{"$f":"_xlfn.IFS(T549=\"------\",AD549,T549=\"LA RELACIÓN DE ACTIVIDADES DEBE SER A PARTIR DE LA SIGUIENTE FILA\",\"LA RELACIÓN DE ACTIVIDADES DEBE SER A PARTIR DE LA SIGUIENTE FILA\",T549<>\"------\",T549)","v":""},null,"ok"]
[null,null,null,null,null,null,null,null,null,null,null,null,null,null,null,null,null,null,null,"",{"$f":"IF(ISERROR(VLOOKUP(E550,[2]LISTAS!$A$15:$B$50,2,0)),\"\",VLOOKUP(E550,[2]LISTAS!$A$15:$B$50,2,0))","v":""},{"$f":"IF(ISERROR(VLOOKUP(G550,[2]LISTAS!$A$15:$B$50,2,0)),\"\",VLOOKUP(G550,[2]LISTAS!$A$15:$B$50,2,0))","v":""},{"$f":"IF(ISERROR(VLOOKUP(I550,[2]LISTAS!$A$15:$B$50,2,0)),\"\",VLOOKUP(I550,[2]LISTAS!$A$15:$B$50,2,0))","v":""},{"$f":"IF(ISERROR(VLOOKUP(K550,[2]LISTAS!$A$15:$B$50,2,0)),\"\",VLOOKUP(K550,[2]LISTAS!$A$15:$B$50,2,0))","v":""},{"$f":"IF(ISERROR(VLOOKUP(M550,[2]LISTAS!$A$15:$B$50,2,0)),\"\",VLOOKUP(M550,[2]LISTAS!$A$15:$B$50,2,0))","v":""},{"$f":"IF(ISERROR(VLOOKUP(O550,[2]LISTAS!$A$15:$B$50,2,0)),\"\",VLOOKUP(O550,[2]LISTAS!$A$15:$B$50,2,0))","v":""},{"$f":"IF(ISERROR(VLOOKUP(6,[2]LISTAS!$A$15:$B$50,2,0)),\"\",VLOOKUP(6,[2]LISTAS!$A$15:$B$50,2,0))","v":""},null,{"$f":"_xlfn.IFS(T550=\"------\",AD550,T550=\"LA RELACIÓN DE ACTIVIDADES DEBE SER A PARTIR DE LA SIGUIENTE FILA\",\"LA RELACIÓN DE ACTIVIDADES DEBE SER A PARTIR DE LA SIGUIENTE FILA\",T550<>\"------\",T550)","v":""},null,"ok"]
[null,null,null,null,null,null,null,null,null,null,null,null,null,null,null,null,null,null,null,"",{"$f":"IF(ISERROR(VLOOKUP(E551,[2]LISTAS!$A$15:$B$50,2,0)),\"\",VLOOKUP(E551,[2]LISTAS!$A$15:$B$50,2,0))","v":""},{"$f":"IF(ISERROR(VLOOKUP(G551,[2]LISTAS!$A$15:$B$50,2,0)),\"\",VLOOKUP(G551,[2]LISTAS!$A$15:$B$50,2,0))","v":""},{"$f":"IF(ISERROR(VLOOKUP(I551,[2]LISTAS!$A$15:$B$50,2,0)),\"\",VLOOKUP(I551,[2]LISTAS!$A$15:$B$50,2,0))","v":""},{"$f":"IF(ISERROR(VLOOKUP(K551,[2]LISTAS!$A$15:$B$50,2,0)),\"\",VLOOKUP(K551,[2]LISTAS!$A$15:$B$50,2,0))","v":""},{"$f":"IF(ISERROR(VLOOKUP(M551,[2]LISTAS!$A$15:$B$50,2,0)),\"\",VLOOKUP(M551,[2]LISTAS!$A$15:$B$50,2,0))","v":""},{"$f":"IF(ISERROR(VLOOKUP(O551,[2]LISTAS!$A$15:$B$50,2,0)),\"\",VLOOKUP(O551,[2]LISTAS!$A$15:$B$50,2,0))","v":""},{"$f":"IF(ISERROR(VLOOKUP(6,[2]LISTAS!$A$15:$B$50,2,0)),\"\",VLOOKUP(6,[2]LISTAS!$A$15:$B$50,2,0))","v":""},null,{"$f":"_xlfn.IFS(T551=\"------\",AD551,T551=\"LA RELACIÓN DE ACTIVIDADES DEBE SER A PARTIR DE LA SIGUIENTE FILA\",\"LA RELACIÓN DE ACTIVIDADES DEBE SER A PARTIR DE LA SIGUIENTE FILA\",T551<>\"------\",T551)","v":""},null,"ok"]
[null,null,null,null,null,null,null,null,null,null,null,null,null,null,null,null,null,null,null,"",{"$f":"IF(ISERROR(VLOOKUP(E552,[2]LISTAS!$A$15:$B$50,2,0)),\"\",VLOOKUP(E552,[2]LISTAS!$A$15:$B$50,2,0))","v":""},{"$f":"IF(ISERROR(VLOOKUP(G552,[2]LISTAS!$A$15:$B$50,2,0)),\"\",VLOOKUP(G552,[2]LISTAS!$A$15:$B$50,2,0))","v":""},{"$f":"IF(ISERROR(VLOOKUP(I552,[2]LISTAS!$A$15:$B$50,2,0)),\"\",VLOOKUP(I552,[2]LISTAS!$A$15:$B$50,2,0))","v":""},{"$f":"IF(ISERROR(VLOOKUP(K552,[2]LISTAS!$A$15:$B$50,2,0)),\"\",VLOOKUP(K552,[2]LISTAS!$A$15:$B$50,2,0))","v":""},{"$f":"IF(ISERROR(VLOOKUP(M552,[2]LISTAS!$A$15:$B$50,2,0)),\"\",VLOOKUP(M552,[2]LISTAS!$A$15:$B$50,2,0))","v":""},{"$f":"IF(ISERROR(VLOOKUP(O552,[2]LISTAS!$A$15:$B$50,2,0)),\"\",VLOOKUP(O552,[2]LISTAS!$A$15:$B$50,2,0))","v":""},{"$f":"IF(ISERROR(VLOOKUP(6,[2]LISTAS!$A$15:$B$50,2,0)),\"\",VLOOKUP(6,[2]LISTAS!$A$15:$B$50,2,0))","v":""},null,{"$f":"_xlfn.IFS(T552=\"------\",AD552,T552=\"LA RELACIÓN DE ACTIVIDADES DEBE SER A PARTIR DE LA SIGUIENTE FILA\",\"LA RELACIÓN DE ACTIVIDADES DEBE SER A PARTIR DE LA SIGUIENTE FILA\",T552<>\"------\",T552)","v":""},null,"ok"]
[null,null,null,null,null,null,null,null,null,null,null,null,null,null,null,null,null,null,null,"",{"$f":"IF(ISERROR(VLOOKUP(E553,[2]LISTAS!$A$15:$B$50,2,0)),\"\",VLOOKUP(E553,[2]LISTAS!$A$15:$B$50,2,0))","v":""},{"$f":"IF(ISERROR(VLOOKUP(G553,[2]LISTAS!$A$15:$B$50,2,0)),\"\",VLOOKUP(G553,[2]LISTAS!$A$15:$B$50,2,0))","v":""},{"$f":"IF(ISERROR(VLOOKUP(I553,[2]LISTAS!$A$15:$B$50,2,0)),\"\",VLOOKUP(I553,[2]LISTAS!$A$15:$B$50,2,0))","v":""},{"$f":"IF(ISERROR(VLOOKUP(K553,[2]LISTAS!$A$15:$B$50,2,0)),\"\",VLOOKUP(K553,[2]LISTAS!$A$15:$B$50,2,0))","v":""},{"$f":"IF(ISERROR(VLOOKUP(M553,[2]LISTAS!$A$15:$B$50,2,0)),\"\",VLOOKUP(M553,[2]LISTAS!$A$15:$B$50,2,0))","v":""},{"$f":"IF(ISERROR(VLOOKUP(O553,[2]LISTAS!$A$15:$B$50,2,0)),\"\",VLOOKUP(O553,[2]LISTAS!$A$15:$B$50,2,0))","v":""},{"$f":"IF(ISERROR(VLOOKUP(6,[2]LISTAS!$A$15:$B$50,2,0)),\"\",VLOOKUP(6,[2]LISTAS!$A$15:$B$50,2,0))","v":""},null,{"$f":"_xlfn.IFS(T553=\"------\",AD553,T553=\"LA RELACIÓN DE ACTIVIDADES DEBE SER A PARTIR DE LA SIGUIENTE FILA\",\"LA RELACIÓN DE ACTIVIDADES DEBE SER A PARTIR DE LA SIGUIENTE FILA\",T553<>\"------\",T553)","v":""},null,"ok"]
[null,null,null,null,null,null,null,null,null,null,null,null,null,null,null,null,null,null,null,"",{"$f":"IF(ISERROR(VLOOKUP(E554,[2]LISTAS!$A$15:$B$50,2,0)),\"\",VLOOKUP(E554,[2]LISTAS!$A$15:$B$50,2,0))","v":""},{"$f":"IF(ISERROR(VLOOKUP(G554,[2]LISTAS!$A$15:$B$50,2,0)),\"\",VLOOKUP(G554,[2]LISTAS!$A$15:$B$50,2,0))","v":""},{"$f":"IF(ISERROR(VLOOKUP(I554,[2]LISTAS!$A$15:$B$50,2,0)),\"\",VLOOKUP(I554,[2]LISTAS!$A$15:$B$50,2,0))","v":""},{"$f":"IF(ISERROR(VLOOKUP(K554,[2]LISTAS!$A$15:$B$50,2,0)),\"\",VLOOKUP(K554,[2]LISTAS!$A$15:$B$50,2,0))","v":""},{"$f":"IF(ISERROR(VLOOKUP(M554,[2]LISTAS!$A$15:$B$50,2,0)),\"\",VLOOKUP(M554,[2]LISTAS!$A$15:$B$50,2,0))","v":""},{"$f":"IF(ISERROR(VLOOKUP(O554,[2]LISTAS!$A$15:$B$50,2,0)),\"\",VLOOKUP(O554,[2]LISTAS!$A$15:$B$50,2,0))","v":""},{"$f":"IF(ISERROR(VLOOKUP(6,[2]LISTAS!$A$15:$B$50,2,0)),\"\",VLOOKUP(6,[2]LISTAS!$A$15:$B$50,2,0))","v":""},null,{"$f":"_xlfn.IFS(T554=\"------\",AD554,T554=\"LA RELACIÓN DE ACTIVIDADES DEBE SER A PARTIR DE LA SIGUIENTE FILA\",\"LA RELACIÓN DE ACTIVIDADES DEBE SER A PARTIR DE LA SIGUIENTE FILA\",T554<>\"------\",T554)","v":""},null,"ok"]
[null,null,null,null,null,null,null,null,null,null,null,null,null,null,null,null,null,null,null,"",{"$f":"IF(ISERROR(VLOOKUP(E555,[2]LISTAS!$A$15:$B$50,2,0)),\"\",VLOOKUP(E555,[2]LISTAS!$A$15:$B$50,2,0))","v":""},{"$f":"IF(ISERROR(VLOOKUP(G555,[2]LISTAS!$A$15:$B$50,2,0)),\"\",VLOOKUP(G555,[2]LISTAS!$A$15:$B$50,2,0))","v":""},{"$f":"IF(ISERROR(VLOOKUP(I555,[2]LISTAS!$A$15:$B$50,2,0)),\"\",VLOOKUP(I555,[2]LISTAS!$A$15:$B$50,2,0))","v":""},{"$f":"IF(ISERROR(VLOOKUP(K555,[2]LISTAS!$A$15:$B$50,2,0)),\"\",VLOOKUP(K555,[2]LISTAS!$A$15:$B$50,2,0))","v":""},{"$f":"IF(ISERROR(VLOOKUP(M555,[2]LISTAS!$A$15:$B$50,2,0)),\"\",VLOOKUP(M555,[2]LISTAS!$A$15:$B$50,2,0))","v":""},{"$f":"IF(ISERROR(VLOOKUP(O555,[2]LISTAS!$A$15:$B$50,2,0)),\"\",VLOOKUP(O555,[2]LISTAS!$A$15:$B$50,2,0))","v":""},{"$f":"IF(ISERROR(VLOOKUP(6,[2]LISTAS!$A$15:$B$50,2,0)),\"\",VLOOKUP(6,[2]LISTAS!$A$15:$B$50,2,0))","v":""},null,{"$f":"_xlfn.IFS(T555=\"------\",AD555,T555=\"LA RELACIÓN DE ACTIVIDADES DEBE SER A PARTIR DE LA SIGUIENTE FILA\",\"LA RELACIÓN DE ACTIVIDADES DEBE SER A PARTIR DE LA SIGUIENTE FILA\",T555<>\"------\",T555)","v":""},null,"ok"]
[null,null,null,null,null,null,null,null,null,null,null,null,null,null,null,null,null,null,null,"",{"$f":"IF(ISERROR(VLOOKUP(E556,[2]LISTAS!$A$15:$B$50,2,0)),\"\",VLOOKUP(E556,[2]LISTAS!$A$15:$B$50,2,0))","v":""},{"$f":"IF(ISERROR(VLOOKUP(G556,[2]LISTAS!$A$15:$B$50,2,0)),\"\",VLOOKUP(G556,[2]LISTAS!$A$15:$B$50,2,0))","v":""},{"$f":"IF(ISERROR(VLOOKUP(I556,[2]LISTAS!$A$15:$B$50,2,0)),\"\",VLOOKUP(I556,[2]LISTAS!$A$15:$B$50,2,0))","v":""},{"$f":"IF(ISERROR(VLOOKUP(K556,[2]LISTAS!$A$15:$B$50,2,0)),\"\",VLOOKUP(K556,[2]LISTAS!$A$15:$B$50,2,0))","v":""},{"$f":"IF(ISERROR(VLOOKUP(M556,[2]LISTAS!$A$15:$B$50,2,0)),\"\",VLOOKUP(M556,[2]LISTAS!$A$15:$B$50,2,0))","v":""},{"$f":"IF(ISERROR(VLOOKUP(O556,[2]LISTAS!$A$15:$B$50,2,0)),\"\",VLOOKUP(O556,[2]LISTAS!$A$15:$B$50,2,0))","v":""},{"$f":"IF(ISERROR(VLOOKUP(6,[2]LISTAS!$A$15:$B$50,2,0)),\"\",VLOOKUP(6,[2]LISTAS!$A$15:$B$50,2,0))","v":""},null,{"$f":"_xlfn.IFS(T556=\"------\",AD556,T556=\"LA RELACIÓN DE ACTIVIDADES DEBE SER A PARTIR DE LA SIGUIENTE FILA\",\"LA RELACIÓN DE ACTIVIDADES DEBE SER A PARTIR DE LA SIGUIENTE FILA\",T556<>\"------\",T556)","v":""},null,"ok"]
[null,null,null,null,null,null,null,null,null,null,null,null,null,null,null,null,null,null,null,"",{"$f":"IF(ISERROR(VLOOKUP(E557,[2]LISTAS!$A$15:$B$50,2,0)),\"\",VLOOKUP(E557,[2]LISTAS!$A$15:$B$50,2,0))","v":""},{"$f":"IF(ISERROR(VLOOKUP(G557,[2]LISTAS!$A$15:$B$50,2,0)),\"\",VLOOKUP(G557,[2]LISTAS!$A$15:$B$50,2,0))","v":""},{"$f":"IF(ISERROR(VLOOKUP(I557,[2]LISTAS!$A$15:$B$50,2,0)),\"\",VLOOKUP(I557,[2]LISTAS!$A$15:$B$50,2,0))","v":""},{"$f":"IF(ISERROR(VLOOKUP(K557,[2]LISTAS!$A$15:$B$50,2,0)),\"\",VLOOKUP(K557,[2]LISTAS!$A$15:$B$50,2,0))","v":""},{"$f":"IF(ISERROR(VLOOKUP(M557,[2]LISTAS!$A$15:$B$50,2,0)),\"\",VLOOKUP(M557,[2]LISTAS!$A$15:$B$50,2,0))","v":""},{"$f":"IF(ISERROR(VLOOKUP(O557,[2]LISTAS!$A$15:$B$50,2,0)),\"\",VLOOKUP(O557,[2]LISTAS!$A$15:$B$50,2,0))","v":""},{"$f":"IF(ISERROR(VLOOKUP(6,[2]LISTAS!$A$15:$B$50,2,0)),\"\",VLOOKUP(6,[2]LISTAS!$A$15:$B$50,2,0))","v":""},null,{"$f":"_xlfn.IFS(T557=\"------\",AD557,T557=\"LA RELACIÓN DE ACTIVIDADES DEBE SER A PARTIR DE LA SIGUIENTE FILA\",\"LA RELACIÓN DE ACTIVIDADES DEBE SER A PARTIR DE LA SIGUIENTE FILA\",T557<>\"------\",T557)","v":""},null,"ok"]
[null,null,null,null,null,null,null,null,null,null,null,null,null,null,null,null,null,null,null,"",{"$f":"IF(ISERROR(VLOOKUP(E558,[2]LISTAS!$A$15:$B$50,2,0)),\"\",VLOOKUP(E558,[2]LISTAS!$A$15:$B$50,2,0))","v":""},{"$f":"IF(ISERROR(VLOOKUP(G558,[2]LISTAS!$A$15:$B$50,2,0)),\"\",VLOOKUP(G558,[2]LISTAS!$A$15:$B$50,2,0))","v":""},{"$f":"IF(ISERROR(VLOOKUP(I558,[2]LISTAS!$A$15:$B$50,2,0)),\"\",VLOOKUP(I558,[2]LISTAS!$A$15:$B$50,2,0))","v":""},{"$f":"IF(ISERROR(VLOOKUP(K558,[2]LISTAS!$A$15:$B$50,2,0)),\"\",VLOOKUP(K558,[2]LISTAS!$A$15:$B$50,2,0))","v":""},{"$f":"IF(ISERROR(VLOOKUP(M558,[2]LISTAS!$A$15:$B$50,2,0)),\"\",VLOOKUP(M558,[2]LISTAS!$A$15:$B$50,2,0))","v":""},{"$f":"IF(ISERROR(VLOOKUP(O558,[2]LISTAS!$A$15:$B$50,2,0)),\"\",VLOOKUP(O558,[2]LISTAS!$A$15:$B$50,2,0))","v":""},{"$f":"IF(ISERROR(VLOOKUP(6,[2]LISTAS!$A$15:$B$50,2,0)),\"\",VLOOKUP(6,[2]LISTAS!$A$15:$B$50,2,0))","v":""},null,{"$f":"_xlfn.IFS(T558=\"------\",AD558,T558=\"LA RELACIÓN DE ACTIVIDADES DEBE SER A PARTIR DE LA SIGUIENTE FILA\",\"LA RELACIÓN DE ACTIVIDADES DEBE SER A PARTIR DE LA SIGUIENTE FILA\",T558<>\"------\",T558)","v":""},null,"ok"]
[null,null,null,null,null,null,null,null,null,null,null,null,null,null,null,null,null,null,null,"",{"$f":"IF(ISERROR(VLOOKUP(E559,[2]LISTAS!$A$15:$B$50,2,0)),\"\",VLOOKUP(E559,[2]LISTAS!$A$15:$B$50,2,0))","v":""},{"$f":"IF(ISERROR(VLOOKUP(G559,[2]LISTAS!$A$15:$B$50,2,0)),\"\",VLOOKUP(G559,[2]LISTAS!$A$15:$B$50,2,0))","v":""},{"$f":"IF(ISERROR(VLOOKUP(I559,[2]LISTAS!$A$15:$B$50,2,0)),\"\",VLOOKUP(I559,[2]LISTAS!$A$15:$B$50,2,0))","v":""},{"$f":"IF(ISERROR(VLOOKUP(K559,[2]LISTAS!$A$15:$B$50,2,0)),\"\",VLOOKUP(K559,[2]LISTAS!$A$15:$B$50,2,0))","v":""},{"$f":"IF(ISERROR(VLOOKUP(M559,[2]LISTAS!$A$15:$B$50,2,0)),\"\",VLOOKUP(M559,[2]LISTAS!$A$15:$B$50,2,0))","v":""},{"$f":"IF(ISERROR(VLOOKUP(O559,[2]LISTAS!$A$15:$B$50,2,0)),\"\",VLOOKUP(O559,[2]LISTAS!$A$15:$B$50,2,0))","v":""},{"$f":"IF(ISERROR(VLOOKUP(6,[2]LISTAS!$A$15:$B$50,2,0)),\"\",VLOOKUP(6,[2]LISTAS!$A$15:$B$50,2,0))","v":""},null,{"$f":"_xlfn.IFS(T559=\"------\",AD559,T559=\"LA RELACIÓN DE ACTIVIDADES DEBE SER A PARTIR DE LA SIGUIENTE FILA\",\"LA RELACIÓN DE ACTIVIDADES DEBE SER A PARTIR DE LA SIGUIENTE FILA\",T559<>\"------\",T559)","v":""},null,"ok"]
[null,null,null,null,null,null,null,null,null,null,null,null,null,null,null,null,null,null,null,"",{"$f":"IF(ISERROR(VLOOKUP(E560,[2]LISTAS!$A$15:$B$50,2,0)),\"\",VLOOKUP(E560,[2]LISTAS!$A$15:$B$50,2,0))","v":""},{"$f":"IF(ISERROR(VLOOKUP(G560,[2]LISTAS!$A$15:$B$50,2,0)),\"\",VLOOKUP(G560,[2]LISTAS!$A$15:$B$50,2,0))","v":""},{"$f":"IF(ISERROR(VLOOKUP(I560,[2]LISTAS!$A$15:$B$50,2,0)),\"\",VLOOKUP(I560,[2]LISTAS!$A$15:$B$50,2,0))","v":""},{"$f":"IF(ISERROR(VLOOKUP(K560,[2]LISTAS!$A$15:$B$50,2,0)),\"\",VLOOKUP(K560,[2]LISTAS!$A$15:$B$50,2,0))","v":""},{"$f":"IF(ISERROR(VLOOKUP(M560,[2]LISTAS!$A$15:$B$50,2,0)),\"\",VLOOKUP(M560,[2]LISTAS!$A$15:$B$50,2,0))","v":""},{"$f":"IF(ISERROR(VLOOKUP(O560,[2]LISTAS!$A$15:$B$50,2,0)),\"\",VLOOKUP(O560,[2]LISTAS!$A$15:$B$50,2,0))","v":""},{"$f":"IF(ISERROR(VLOOKUP(6,[2]LISTAS!$A$15:$B$50,2,0)),\"\",VLOOKUP(6,[2]LISTAS!$A$15:$B$50,2,0))","v":""},null,{"$f":"_xlfn.IFS(T560=\"------\",AD560,T560=\"LA RELACIÓN DE ACTIVIDADES DEBE SER A PARTIR DE LA SIGUIENTE FILA\",\"LA RELACIÓN DE ACTIVIDADES DEBE SER A PARTIR DE LA SIGUIENTE FILA\",T560<>\"------\",T560)","v":""},null,"ok"]
[null,null,null,null,null,null,null,null,null,null,null,null,null,null,null,null,null,null,null,"",{"$f":"IF(ISERROR(VLOOKUP(E561,[2]LISTAS!$A$15:$B$50,2,0)),\"\",VLOOKUP(E561,[2]LISTAS!$A$15:$B$50,2,0))","v":""},{"$f":"IF(ISERROR(VLOOKUP(G561,[2]LISTAS!$A$15:$B$50,2,0)),\"\",VLOOKUP(G561,[2]LISTAS!$A$15:$B$50,2,0))","v":""},{"$f":"IF(ISERROR(VLOOKUP(I561,[2]LISTAS!$A$15:$B$50,2,0)),\"\",VLOOKUP(I561,[2]LISTAS!$A$15:$B$50,2,0))","v":""},{"$f":"IF(ISERROR(VLOOKUP(K561,[2]LISTAS!$A$15:$B$50,2,0)),\"\",VLOOKUP(K561,[2]LISTAS!$A$15:$B$50,2,0))","v":""},{"$f":"IF(ISERROR(VLOOKUP(M561,[2]LISTAS!$A$15:$B$50,2,0)),\"\",VLOOKUP(M561,[2]LISTAS!$A$15:$B$50,2,0))","v":""},{"$f":"IF(ISERROR(VLOOKUP(O561,[2]LISTAS!$A$15:$B$50,2,0)),\"\",VLOOKUP(O561,[2]LISTAS!$A$15:$B$50,2,0))","v":""},{"$f":"IF(ISERROR(VLOOKUP(6,[2]LISTAS!$A$15:$B$50,2,0)),\"\",VLOOKUP(6,[2]LISTAS!$A$15:$B$50,2,0))","v":""},null,{"$f":"_xlfn.IFS(T561=\"------\",AD561,T561=\"LA RELACIÓN DE ACTIVIDADES DEBE SER A PARTIR DE LA SIGUIENTE FILA\",\"LA RELACIÓN DE ACTIVIDADES DEBE SER A PARTIR DE LA SIGUIENTE FILA\",T561<>\"------\",T561)","v":""},null,"ok"]
[null,null,null,null,null,null,null,null,null,null,null,null,null,null,null,null,null,null,null,"",{"$f":"IF(ISERROR(VLOOKUP(E562,[2]LISTAS!$A$15:$B$50,2,0)),\"\",VLOOKUP(E562,[2]LISTAS!$A$15:$B$50,2,0))","v":""},{"$f":"IF(ISERROR(VLOOKUP(G562,[2]LISTAS!$A$15:$B$50,2,0)),\"\",VLOOKUP(G562,[2]LISTAS!$A$15:$B$50,2,0))","v":""},{"$f":"IF(ISERROR(VLOOKUP(I562,[2]LISTAS!$A$15:$B$50,2,0)),\"\",VLOOKUP(I562,[2]LISTAS!$A$15:$B$50,2,0))","v":""},{"$f":"IF(ISERROR(VLOOKUP(K562,[2]LISTAS!$A$15:$B$50,2,0)),\"\",VLOOKUP(K562,[2]LISTAS!$A$15:$B$50,2,0))","v":""},{"$f":"IF(ISERROR(VLOOKUP(M562,[2]LISTAS!$A$15:$B$50,2,0)),\"\",VLOOKUP(M562,[2]LISTAS!$A$15:$B$50,2,0))","v":""},{"$f":"IF(ISERROR(VLOOKUP(O562,[2]LISTAS!$A$15:$B$50,2,0)),\"\",VLOOKUP(O562,[2]LISTAS!$A$15:$B$50,2,0))","v":""},{"$f":"IF(ISERROR(VLOOKUP(6,[2]LISTAS!$A$15:$B$50,2,0)),\"\",VLOOKUP(6,[2]LISTAS!$A$15:$B$50,2,0))","v":""},null,{"$f":"_xlfn.IFS(T562=\"------\",AD562,T562=\"LA RELACIÓN DE ACTIVIDADES DEBE SER A PARTIR DE LA SIGUIENTE FILA\",\"LA RELACIÓN DE ACTIVIDADES DEBE SER A PARTIR DE LA SIGUIENTE FILA\",T562<>\"------\",T562)","v":""},null,"ok"]
[null,null,null,null,null,null,null,null,null,null,null,null,null,null,null,null,null,null,null,"",{"$f":"IF(ISERROR(VLOOKUP(E563,[2]LISTAS!$A$15:$B$50,2,0)),\"\",VLOOKUP(E563,[2]LISTAS!$A$15:$B$50,2,0))","v":""},{"$f":"IF(ISERROR(VLOOKUP(G563,[2]LISTAS!$A$15:$B$50,2,0)),\"\",VLOOKUP(G563,[2]LISTAS!$A$15:$B$50,2,0))","v":""},{"$f":"IF(ISERROR(VLOOKUP(I563,[2]LISTAS!$A$15:$B$50,2,0)),\"\",VLOOKUP(I563,[2]LISTAS!$A$15:$B$50,2,0))","v":""},{"$f":"IF(ISERROR(VLOOKUP(K563,[2]LISTAS!$A$15:$B$50,2,0)),\"\",VLOOKUP(K563,[2]LISTAS!$A$15:$B$50,2,0))","v":""},{"$f":"IF(ISERROR(VLOOKUP(M563,[2]LISTAS!$A$15:$B$50,2,0)),\"\",VLOOKUP(M563,[2]LISTAS!$A$15:$B$50,2,0))","v":""},{"$f":"IF(ISERROR(VLOOKUP(O563,[2]LISTAS!$A$15:$B$50,2,0)),\"\",VLOOKUP(O563,[2]LISTAS!$A$15:$B$50,2,0))","v":""},{"$f":"IF(ISERROR(VLOOKUP(6,[2]LISTAS!$A$15:$B$50,2,0)),\"\",VLOOKUP(6,[2]LISTAS!$A$15:$B$50,2,0))","v":""},null,{"$f":"_xlfn.IFS(T563=\"------\",AD563,T563=\"LA RELACIÓN DE ACTIVIDADES DEBE SER A PARTIR DE LA SIGUIENTE FILA\",\"LA RELACIÓN DE ACTIVIDADES DEBE SER A PARTIR DE LA SIGUIENTE FILA\",T563<>\"------\",T563)","v":""},null,"ok"]
[null,null,null,null,null,null,null,null,null,null,null,null,null,null,null,null,null,null,null,"",{"$f":"IF(ISERROR(VLOOKUP(E564,[2]LISTAS!$A$15:$B$50,2,0)),\"\",VLOOKUP(E564,[2]LISTAS!$A$15:$B$50,2,0))","v":""},{"$f":"IF(ISERROR(VLOOKUP(G564,[2]LISTAS!$A$15:$B$50,2,0)),\"\",VLOOKUP(G564,[2]LISTAS!$A$15:$B$50,2,0))","v":""},{"$f":"IF(ISERROR(VLOOKUP(I564,[2]LISTAS!$A$15:$B$50,2,0)),\"\",VLOOKUP(I564,[2]LISTAS!$A$15:$B$50,2,0))","v":""},{"$f":"IF(ISERROR(VLOOKUP(K564,[2]LISTAS!$A$15:$B$50,2,0)),\"\",VLOOKUP(K564,[2]LISTAS!$A$15:$B$50,2,0))","v":""},{"$f":"IF(ISERROR(VLOOKUP(M564,[2]LISTAS!$A$15:$B$50,2,0)),\"\",VLOOKUP(M564,[2]LISTAS!$A$15:$B$50,2,0))","v":""},{"$f":"IF(ISERROR(VLOOKUP(O564,[2]LISTAS!$A$15:$B$50,2,0)),\"\",VLOOKUP(O564,[2]LISTAS!$A$15:$B$50,2,0))","v":""},{"$f":"IF(ISERROR(VLOOKUP(6,[2]LISTAS!$A$15:$B$50,2,0)),\"\",VLOOKUP(6,[2]LISTAS!$A$15:$B$50,2,0))","v":""},null,{"$f":"_xlfn.IFS(T564=\"------\",AD564,T564=\"LA RELACIÓN DE ACTIVIDADES DEBE SER A PARTIR DE LA SIGUIENTE FILA\",\"LA RELACIÓN DE ACTIVIDADES DEBE SER A PARTIR DE LA SIGUIENTE FILA\",T564<>\"------\",T564)","v":""},null,"ok"]
[null,null,null,null,null,null,null,null,null,null,null,null,null,null,null,null,null,null,null,"",{"$f":"IF(ISERROR(VLOOKUP(E565,[2]LISTAS!$A$15:$B$50,2,0)),\"\",VLOOKUP(E565,[2]LISTAS!$A$15:$B$50,2,0))","v":""},{"$f":"IF(ISERROR(VLOOKUP(G565,[2]LISTAS!$A$15:$B$50,2,0)),\"\",VLOOKUP(G565,[2]LISTAS!$A$15:$B$50,2,0))","v":""},{"$f":"IF(ISERROR(VLOOKUP(I565,[2]LISTAS!$A$15:$B$50,2,0)),\"\",VLOOKUP(I565,[2]LISTAS!$A$15:$B$50,2,0))","v":""},{"$f":"IF(ISERROR(VLOOKUP(K565,[2]LISTAS!$A$15:$B$50,2,0)),\"\",VLOOKUP(K565,[2]LISTAS!$A$15:$B$50,2,0))","v":""},{"$f":"IF(ISERROR(VLOOKUP(M565,[2]LISTAS!$A$15:$B$50,2,0)),\"\",VLOOKUP(M565,[2]LISTAS!$A$15:$B$50,2,0))","v":""},{"$f":"IF(ISERROR(VLOOKUP(O565,[2]LISTAS!$A$15:$B$50,2,0)),\"\",VLOOKUP(O565,[2]LISTAS!$A$15:$B$50,2,0))","v":""},{"$f":"IF(ISERROR(VLOOKUP(6,[2]LISTAS!$A$15:$B$50,2,0)),\"\",VLOOKUP(6,[2]LISTAS!$A$15:$B$50,2,0))","v":""},null,{"$f":"_xlfn.IFS(T565=\"------\",AD565,T565=\"LA RELACIÓN DE ACTIVIDADES DEBE SER A PARTIR DE LA SIGUIENTE FILA\",\"LA RELACIÓN DE ACTIVIDADES DEBE SER A PARTIR DE LA SIGUIENTE FILA\",T565<>\"------\",T565)","v":""},null,"ok"]
[null,null,null,null,null,null,null,null,null,null,null,null,null,null,null,null,null,null,null,"",{"$f":"IF(ISERROR(VLOOKUP(E566,[2]LISTAS!$A$15:$B$50,2,0)),\"\",VLOOKUP(E566,[2]LISTAS!$A$15:$B$50,2,0))","v":""},{"$f":"IF(ISERROR(VLOOKUP(G566,[2]LISTAS!$A$15:$B$50,2,0)),\"\",VLOOKUP(G566,[2]LISTAS!$A$15:$B$50,2,0))","v":""},{"$f":"IF(ISERROR(VLOOKUP(I566,[2]LISTAS!$A$15:$B$50,2,0)),\"\",VLOOKUP(I566,[2]LISTAS!$A$15:$B$50,2,0))","v":""},{"$f":"IF(ISERROR(VLOOKUP(K566,[2]LISTAS!$A$15:$B$50,2,0)),\"\",VLOOKUP(K566,[2]LISTAS!$A$15:$B$50,2,0))","v":""},{"$f":"IF(ISERROR(VLOOKUP(M566,[2]LISTAS!$A$15:$B$50,2,0)),\"\",VLOOKUP(M566,[2]LISTAS!$A$15:$B$50,2,0))","v":""},{"$f":"IF(ISERROR(VLOOKUP(O566,[2]LISTAS!$A$15:$B$50,2,0)),\"\",VLOOKUP(O566,[2]LISTAS!$A$15:$B$50,2,0))","v":""},{"$f":"IF(ISERROR(VLOOKUP(6,[2]LISTAS!$A$15:$B$50,2,0)),\"\",VLOOKUP(6,[2]LISTAS!$A$15:$B$50,2,0))","v":""},null,{"$f":"_xlfn.IFS(T566=\"------\",AD566,T566=\"LA RELACIÓN DE ACTIVIDADES DEBE SER A PARTIR DE LA SIGUIENTE FILA\",\"LA RELACIÓN DE ACTIVIDADES DEBE SER A PARTIR DE LA SIGUIENTE FILA\",T566<>\"------\",T566)","v":""},null,"ok"]
[null,null,null,null,null,null,null,null,null,null,null,null,null,null,null,null,null,null,null,{"$f":"IF(AND(B567=\"\",C567=\"\"),\"\",IF(AND(D567<>\"\"),U567&\"-\"&V567&\"-\"&W567&\"-\"&X567&\"-\"&Y567&\"-\"&Z567&\"-\"&AA567,IF(AND(C567<>\"\"),\"LA RELACIÓN DE ACTIVIDADES DEBE SER A PARTIR DE LA SIGUIENTE FILA\",)))","v":""},{"$f":"IF(ISERROR(VLOOKUP(E567,[2]LISTAS!$A$15:$B$50,2,0)),\"\",VLOOKUP(E567,[2]LISTAS!$A$15:$B$50,2,0))","v":""},{"$f":"IF(ISERROR(VLOOKUP(G567,[2]LISTAS!$A$15:$B$50,2,0)),\"\",VLOOKUP(G567,[2]LISTAS!$A$15:$B$50,2,0))","v":""},{"$f":"IF(ISERROR(VLOOKUP(I567,[2]LISTAS!$A$15:$B$50,2,0)),\"\",VLOOKUP(I567,[2]LISTAS!$A$15:$B$50,2,0))","v":""},{"$f":"IF(ISERROR(VLOOKUP(K567,[2]LISTAS!$A$15:$B$50,2,0)),\"\",VLOOKUP(K567,[2]LISTAS!$A$15:$B$50,2,0))","v":""},{"$f":"IF(ISERROR(VLOOKUP(M567,[2]LISTAS!$A$15:$B$50,2,0)),\"\",VLOOKUP(M567,[2]LISTAS!$A$15:$B$50,2,0))","v":""},{"$f":"IF(ISERROR(VLOOKUP(O567,[2]LISTAS!$A$15:$B$50,2,0)),\"\",VLOOKUP(O567,[2]LISTAS!$A$15:$B$50,2,0))","v":""},{"$f":"IF(ISERROR(VLOOKUP(6,[2]LISTAS!$A$15:$B$50,2,0)),\"\",VLOOKUP(6,[2]LISTAS!$A$15:$B$50,2,0))","v":""},null,{"$f":"_xlfn.IFS(T567=\"------\",AD567,T567=\"LA RELACIÓN DE ACTIVIDADES DEBE SER A PARTIR DE LA SIGUIENTE FILA\",\"LA RELACIÓN DE ACTIVIDADES DEBE SER A PARTIR DE LA SIGUIENTE FILA\",T567<>\"------\",T567)","v":""},null,"ok"]
[null,null,null,null,null,null,null,null,null,null,null,null,null,null,null,null,null,null,null,"",{"$f":"IF(ISERROR(VLOOKUP(E568,[2]LISTAS!$A$15:$B$50,2,0)),\"\",VLOOKUP(E568,[2]LISTAS!$A$15:$B$50,2,0))","v":""},{"$f":"IF(ISERROR(VLOOKUP(G568,[2]LISTAS!$A$15:$B$50,2,0)),\"\",VLOOKUP(G568,[2]LISTAS!$A$15:$B$50,2,0))","v":""},{"$f":"IF(ISERROR(VLOOKUP(I568,[2]LISTAS!$A$15:$B$50,2,0)),\"\",VLOOKUP(I568,[2]LISTAS!$A$15:$B$50,2,0))","v":""},{"$f":"IF(ISERROR(VLOOKUP(K568,[2]LISTAS!$A$15:$B$50,2,0)),\"\",VLOOKUP(K568,[2]LISTAS!$A$15:$B$50,2,0))","v":""},{"$f":"IF(ISERROR(VLOOKUP(M568,[2]LISTAS!$A$15:$B$50,2,0)),\"\",VLOOKUP(M568,[2]LISTAS!$A$15:$B$50,2,0))","v":""},{"$f":"IF(ISERROR(VLOOKUP(O568,[2]LISTAS!$A$15:$B$50,2,0)),\"\",VLOOKUP(O568,[2]LISTAS!$A$15:$B$50,2,0))","v":""},{"$f":"IF(ISERROR(VLOOKUP(6,[2]LISTAS!$A$15:$B$50,2,0)),\"\",VLOOKUP(6,[2]LISTAS!$A$15:$B$50,2,0))","v":""},null,{"$f":"_xlfn.IFS(T568=\"------\",AD568,T568=\"LA RELACIÓN DE ACTIVIDADES DEBE SER A PARTIR DE LA SIGUIENTE FILA\",\"LA RELACIÓN DE ACTIVIDADES DEBE SER A PARTIR DE LA SIGUIENTE FILA\",T568<>\"------\",T568)","v":""},null,"ok"]
[null,null,null,null,null,null,null,null,null,null,null,null,null,null,null,null,null,null,null,"",{"$f":"IF(ISERROR(VLOOKUP(E569,[2]LISTAS!$A$15:$B$50,2,0)),\"\",VLOOKUP(E569,[2]LISTAS!$A$15:$B$50,2,0))","v":""},{"$f":"IF(ISERROR(VLOOKUP(G569,[2]LISTAS!$A$15:$B$50,2,0)),\"\",VLOOKUP(G569,[2]LISTAS!$A$15:$B$50,2,0))","v":""},{"$f":"IF(ISERROR(VLOOKUP(I569,[2]LISTAS!$A$15:$B$50,2,0)),\"\",VLOOKUP(I569,[2]LISTAS!$A$15:$B$50,2,0))","v":""},{"$f":"IF(ISERROR(VLOOKUP(K569,[2]LISTAS!$A$15:$B$50,2,0)),\"\",VLOOKUP(K569,[2]LISTAS!$A$15:$B$50,2,0))","v":""},{"$f":"IF(ISERROR(VLOOKUP(M569,[2]LISTAS!$A$15:$B$50,2,0)),\"\",VLOOKUP(M569,[2]LISTAS!$A$15:$B$50,2,0))","v":""},{"$f":"IF(ISERROR(VLOOKUP(O569,[2]LISTAS!$A$15:$B$50,2,0)),\"\",VLOOKUP(O569,[2]LISTAS!$A$15:$B$50,2,0))","v":""},{"$f":"IF(ISERROR(VLOOKUP(6,[2]LISTAS!$A$15:$B$50,2,0)),\"\",VLOOKUP(6,[2]LISTAS!$A$15:$B$50,2,0))","v":""},null,{"$f":"_xlfn.IFS(T569=\"------\",AD569,T569=\"LA RELACIÓN DE ACTIVIDADES DEBE SER A PARTIR DE LA SIGUIENTE FILA\",\"LA RELACIÓN DE ACTIVIDADES DEBE SER A PARTIR DE LA SIGUIENTE FILA\",T569<>\"------\",T569)","v":""},null,"ok"]
[null,null,null,null,null,null,null,null,null,null,null,null,null,null,null,null,null,null,null,"",{"$f":"IF(ISERROR(VLOOKUP(E570,[2]LISTAS!$A$15:$B$50,2,0)),\"\",VLOOKUP(E570,[2]LISTAS!$A$15:$B$50,2,0))","v":""},{"$f":"IF(ISERROR(VLOOKUP(G570,[2]LISTAS!$A$15:$B$50,2,0)),\"\",VLOOKUP(G570,[2]LISTAS!$A$15:$B$50,2,0))","v":""},{"$f":"IF(ISERROR(VLOOKUP(I570,[2]LISTAS!$A$15:$B$50,2,0)),\"\",VLOOKUP(I570,[2]LISTAS!$A$15:$B$50,2,0))","v":""},{"$f":"IF(ISERROR(VLOOKUP(K570,[2]LISTAS!$A$15:$B$50,2,0)),\"\",VLOOKUP(K570,[2]LISTAS!$A$15:$B$50,2,0))","v":""},{"$f":"IF(ISERROR(VLOOKUP(M570,[2]LISTAS!$A$15:$B$50,2,0)),\"\",VLOOKUP(M570,[2]LISTAS!$A$15:$B$50,2,0))","v":""},{"$f":"IF(ISERROR(VLOOKUP(O570,[2]LISTAS!$A$15:$B$50,2,0)),\"\",VLOOKUP(O570,[2]LISTAS!$A$15:$B$50,2,0))","v":""},{"$f":"IF(ISERROR(VLOOKUP(6,[2]LISTAS!$A$15:$B$50,2,0)),\"\",VLOOKUP(6,[2]LISTAS!$A$15:$B$50,2,0))","v":""},null,{"$f":"_xlfn.IFS(T570=\"------\",AD570,T570=\"LA RELACIÓN DE ACTIVIDADES DEBE SER A PARTIR DE LA SIGUIENTE FILA\",\"LA RELACIÓN DE ACTIVIDADES DEBE SER A PARTIR DE LA SIGUIENTE FILA\",T570<>\"------\",T570)","v":""},null,"ok"]
[null,null,null,null,null,null,null,null,null,null,null,null,null,null,null,null,null,null,null,"",{"$f":"IF(ISERROR(VLOOKUP(E571,[2]LISTAS!$A$15:$B$50,2,0)),\"\",VLOOKUP(E571,[2]LISTAS!$A$15:$B$50,2,0))","v":""},{"$f":"IF(ISERROR(VLOOKUP(G571,[2]LISTAS!$A$15:$B$50,2,0)),\"\",VLOOKUP(G571,[2]LISTAS!$A$15:$B$50,2,0))","v":""},{"$f":"IF(ISERROR(VLOOKUP(I571,[2]LISTAS!$A$15:$B$50,2,0)),\"\",VLOOKUP(I571,[2]LISTAS!$A$15:$B$50,2,0))","v":""},{"$f":"IF(ISERROR(VLOOKUP(K571,[2]LISTAS!$A$15:$B$50,2,0)),\"\",VLOOKUP(K571,[2]LISTAS!$A$15:$B$50,2,0))","v":""},{"$f":"IF(ISERROR(VLOOKUP(M571,[2]LISTAS!$A$15:$B$50,2,0)),\"\",VLOOKUP(M571,[2]LISTAS!$A$15:$B$50,2,0))","v":""},{"$f":"IF(ISERROR(VLOOKUP(O571,[2]LISTAS!$A$15:$B$50,2,0)),\"\",VLOOKUP(O571,[2]LISTAS!$A$15:$B$50,2,0))","v":""},{"$f":"IF(ISERROR(VLOOKUP(6,[2]LISTAS!$A$15:$B$50,2,0)),\"\",VLOOKUP(6,[2]LISTAS!$A$15:$B$50,2,0))","v":""},null,{"$f":"_xlfn.IFS(T571=\"------\",AD571,T571=\"LA RELACIÓN DE ACTIVIDADES DEBE SER A PARTIR DE LA SIGUIENTE FILA\",\"LA RELACIÓN DE ACTIVIDADES DEBE SER A PARTIR DE LA SIGUIENTE FILA\",T571<>\"------\",T571)","v":""},null,"ok"]
[null,null,null,null,null,null,null,null,null,null,null,null,null,null,null,null,null,null,null,"",{"$f":"IF(ISERROR(VLOOKUP(E572,[2]LISTAS!$A$15:$B$50,2,0)),\"\",VLOOKUP(E572,[2]LISTAS!$A$15:$B$50,2,0))","v":""},{"$f":"IF(ISERROR(VLOOKUP(G572,[2]LISTAS!$A$15:$B$50,2,0)),\"\",VLOOKUP(G572,[2]LISTAS!$A$15:$B$50,2,0))","v":""},{"$f":"IF(ISERROR(VLOOKUP(I572,[2]LISTAS!$A$15:$B$50,2,0)),\"\",VLOOKUP(I572,[2]LISTAS!$A$15:$B$50,2,0))","v":""},{"$f":"IF(ISERROR(VLOOKUP(K572,[2]LISTAS!$A$15:$B$50,2,0)),\"\",VLOOKUP(K572,[2]LISTAS!$A$15:$B$50,2,0))","v":""},{"$f":"IF(ISERROR(VLOOKUP(M572,[2]LISTAS!$A$15:$B$50,2,0)),\"\",VLOOKUP(M572,[2]LISTAS!$A$15:$B$50,2,0))","v":""},{"$f":"IF(ISERROR(VLOOKUP(O572,[2]LISTAS!$A$15:$B$50,2,0)),\"\",VLOOKUP(O572,[2]LISTAS!$A$15:$B$50,2,0))","v":""},{"$f":"IF(ISERROR(VLOOKUP(6,[2]LISTAS!$A$15:$B$50,2,0)),\"\",VLOOKUP(6,[2]LISTAS!$A$15:$B$50,2,0))","v":""},null,{"$f":"_xlfn.IFS(T572=\"------\",AD572,T572=\"LA RELACIÓN DE ACTIVIDADES DEBE SER A PARTIR DE LA SIGUIENTE FILA\",\"LA RELACIÓN DE ACTIVIDADES DEBE SER A PARTIR DE LA SIGUIENTE FILA\",T572<>\"------\",T572)","v":""},null,"ok"]
[null,null,null,null,null,null,null,null,null,null,null,null,null,null,null,null,null,null,null,"",{"$f":"IF(ISERROR(VLOOKUP(E573,[2]LISTAS!$A$15:$B$50,2,0)),\"\",VLOOKUP(E573,[2]LISTAS!$A$15:$B$50,2,0))","v":""},{"$f":"IF(ISERROR(VLOOKUP(G573,[2]LISTAS!$A$15:$B$50,2,0)),\"\",VLOOKUP(G573,[2]LISTAS!$A$15:$B$50,2,0))","v":""},{"$f":"IF(ISERROR(VLOOKUP(I573,[2]LISTAS!$A$15:$B$50,2,0)),\"\",VLOOKUP(I573,[2]LISTAS!$A$15:$B$50,2,0))","v":""},{"$f":"IF(ISERROR(VLOOKUP(K573,[2]LISTAS!$A$15:$B$50,2,0)),\"\",VLOOKUP(K573,[2]LISTAS!$A$15:$B$50,2,0))","v":""},{"$f":"IF(ISERROR(VLOOKUP(M573,[2]LISTAS!$A$15:$B$50,2,0)),\"\",VLOOKUP(M573,[2]LISTAS!$A$15:$B$50,2,0))","v":""},{"$f":"IF(ISERROR(VLOOKUP(O573,[2]LISTAS!$A$15:$B$50,2,0)),\"\",VLOOKUP(O573,[2]LISTAS!$A$15:$B$50,2,0))","v":""},{"$f":"IF(ISERROR(VLOOKUP(6,[2]LISTAS!$A$15:$B$50,2,0)),\"\",VLOOKUP(6,[2]LISTAS!$A$15:$B$50,2,0))","v":""},null,{"$f":"_xlfn.IFS(T573=\"------\",AD573,T573=\"LA RELACIÓN DE ACTIVIDADES DEBE SER A PARTIR DE LA SIGUIENTE FILA\",\"LA RELACIÓN DE ACTIVIDADES DEBE SER A PARTIR DE LA SIGUIENTE FILA\",T573<>\"------\",T573)","v":""},null,"ok"]
[null,null,null,null,null,null,null,null,null,null,null,null,null,null,null,null,null,null,null,"",{"$f":"IF(ISERROR(VLOOKUP(E574,[2]LISTAS!$A$15:$B$50,2,0)),\"\",VLOOKUP(E574,[2]LISTAS!$A$15:$B$50,2,0))","v":""},{"$f":"IF(ISERROR(VLOOKUP(G574,[2]LISTAS!$A$15:$B$50,2,0)),\"\",VLOOKUP(G574,[2]LISTAS!$A$15:$B$50,2,0))","v":""},{"$f":"IF(ISERROR(VLOOKUP(I574,[2]LISTAS!$A$15:$B$50,2,0)),\"\",VLOOKUP(I574,[2]LISTAS!$A$15:$B$50,2,0))","v":""},{"$f":"IF(ISERROR(VLOOKUP(K574,[2]LISTAS!$A$15:$B$50,2,0)),\"\",VLOOKUP(K574,[2]LISTAS!$A$15:$B$50,2,0))","v":""},{"$f":"IF(ISERROR(VLOOKUP(M574,[2]LISTAS!$A$15:$B$50,2,0)),\"\",VLOOKUP(M574,[2]LISTAS!$A$15:$B$50,2,0))","v":""},{"$f":"IF(ISERROR(VLOOKUP(O574,[2]LISTAS!$A$15:$B$50,2,0)),\"\",VLOOKUP(O574,[2]LISTAS!$A$15:$B$50,2,0))","v":""},{"$f":"IF(ISERROR(VLOOKUP(6,[2]LISTAS!$A$15:$B$50,2,0)),\"\",VLOOKUP(6,[2]LISTAS!$A$15:$B$50,2,0))","v":""},null,{"$f":"_xlfn.IFS(T574=\"------\",AD574,T574=\"LA RELACIÓN DE ACTIVIDADES DEBE SER A PARTIR DE LA SIGUIENTE FILA\",\"LA RELACIÓN DE ACTIVIDADES DEBE SER A PARTIR DE LA SIGUIENTE FILA\",T574<>\"------\",T574)","v":""},null,"ok"]
[null,null,null,null,null,null,null,null,null,null,null,null,null,null,null,null,null,null,null,"",{"$f":"IF(ISERROR(VLOOKUP(E575,[2]LISTAS!$A$15:$B$50,2,0)),\"\",VLOOKUP(E575,[2]LISTAS!$A$15:$B$50,2,0))","v":""},{"$f":"IF(ISERROR(VLOOKUP(G575,[2]LISTAS!$A$15:$B$50,2,0)),\"\",VLOOKUP(G575,[2]LISTAS!$A$15:$B$50,2,0))","v":""},{"$f":"IF(ISERROR(VLOOKUP(I575,[2]LISTAS!$A$15:$B$50,2,0)),\"\",VLOOKUP(I575,[2]LISTAS!$A$15:$B$50,2,0))","v":""},{"$f":"IF(ISERROR(VLOOKUP(K575,[2]LISTAS!$A$15:$B$50,2,0)),\"\",VLOOKUP(K575,[2]LISTAS!$A$15:$B$50,2,0))","v":""},{"$f":"IF(ISERROR(VLOOKUP(M575,[2]LISTAS!$A$15:$B$50,2,0)),\"\",VLOOKUP(M575,[2]LISTAS!$A$15:$B$50,2,0))","v":""},{"$f":"IF(ISERROR(VLOOKUP(O575,[2]LISTAS!$A$15:$B$50,2,0)),\"\",VLOOKUP(O575,[2]LISTAS!$A$15:$B$50,2,0))","v":""},{"$f":"IF(ISERROR(VLOOKUP(6,[2]LISTAS!$A$15:$B$50,2,0)),\"\",VLOOKUP(6,[2]LISTAS!$A$15:$B$50,2,0))","v":""},null,{"$f":"_xlfn.IFS(T575=\"------\",AD575,T575=\"LA RELACIÓN DE ACTIVIDADES DEBE SER A PARTIR DE LA SIGUIENTE FILA\",\"LA RELACIÓN DE ACTIVIDADES DEBE SER A PARTIR DE LA SIGUIENTE FILA\",T575<>\"------\",T575)","v":""},null,"ok"]
[null,null,null,null,null,null,null,null,null,null,null,null,null,null,null,null,null,null,null,"",{"$f":"IF(ISERROR(VLOOKUP(E576,[2]LISTAS!$A$15:$B$50,2,0)),\"\",VLOOKUP(E576,[2]LISTAS!$A$15:$B$50,2,0))","v":""},{"$f":"IF(ISERROR(VLOOKUP(G576,[2]LISTAS!$A$15:$B$50,2,0)),\"\",VLOOKUP(G576,[2]LISTAS!$A$15:$B$50,2,0))","v":""},{"$f":"IF(ISERROR(VLOOKUP(I576,[2]LISTAS!$A$15:$B$50,2,0)),\"\",VLOOKUP(I576,[2]LISTAS!$A$15:$B$50,2,0))","v":""},{"$f":"IF(ISERROR(VLOOKUP(K576,[2]LISTAS!$A$15:$B$50,2,0)),\"\",VLOOKUP(K576,[2]LISTAS!$A$15:$B$50,2,0))","v":""},{"$f":"IF(ISERROR(VLOOKUP(M576,[2]LISTAS!$A$15:$B$50,2,0)),\"\",VLOOKUP(M576,[2]LISTAS!$A$15:$B$50,2,0))","v":""},{"$f":"IF(ISERROR(VLOOKUP(O576,[2]LISTAS!$A$15:$B$50,2,0)),\"\",VLOOKUP(O576,[2]LISTAS!$A$15:$B$50,2,0))","v":""},{"$f":"IF(ISERROR(VLOOKUP(6,[2]LISTAS!$A$15:$B$50,2,0)),\"\",VLOOKUP(6,[2]LISTAS!$A$15:$B$50,2,0))","v":""},null,{"$f":"_xlfn.IFS(T576=\"------\",AD576,T576=\"LA RELACIÓN DE ACTIVIDADES DEBE SER A PARTIR DE LA SIGUIENTE FILA\",\"LA RELACIÓN DE ACTIVIDADES DEBE SER A PARTIR DE LA SIGUIENTE FILA\",T576<>\"------\",T576)","v":""},null,"ok"]
[null,null,null,null,null,null,null,null,null,null,null,null,null,null,null,null,null,null,null,"",{"$f":"IF(ISERROR(VLOOKUP(E577,[2]LISTAS!$A$15:$B$50,2,0)),\"\",VLOOKUP(E577,[2]LISTAS!$A$15:$B$50,2,0))","v":""},{"$f":"IF(ISERROR(VLOOKUP(G577,[2]LISTAS!$A$15:$B$50,2,0)),\"\",VLOOKUP(G577,[2]LISTAS!$A$15:$B$50,2,0))","v":""},{"$f":"IF(ISERROR(VLOOKUP(I577,[2]LISTAS!$A$15:$B$50,2,0)),\"\",VLOOKUP(I577,[2]LISTAS!$A$15:$B$50,2,0))","v":""},{"$f":"IF(ISERROR(VLOOKUP(K577,[2]LISTAS!$A$15:$B$50,2,0)),\"\",VLOOKUP(K577,[2]LISTAS!$A$15:$B$50,2,0))","v":""},{"$f":"IF(ISERROR(VLOOKUP(M577,[2]LISTAS!$A$15:$B$50,2,0)),\"\",VLOOKUP(M577,[2]LISTAS!$A$15:$B$50,2,0))","v":""},{"$f":"IF(ISERROR(VLOOKUP(O577,[2]LISTAS!$A$15:$B$50,2,0)),\"\",VLOOKUP(O577,[2]LISTAS!$A$15:$B$50,2,0))","v":""},{"$f":"IF(ISERROR(VLOOKUP(6,[2]LISTAS!$A$15:$B$50,2,0)),\"\",VLOOKUP(6,[2]LISTAS!$A$15:$B$50,2,0))","v":""},null,{"$f":"_xlfn.IFS(T577=\"------\",AD577,T577=\"LA RELACIÓN DE ACTIVIDADES DEBE SER A PARTIR DE LA SIGUIENTE FILA\",\"LA RELACIÓN DE ACTIVIDADES DEBE SER A PARTIR DE LA SIGUIENTE FILA\",T577<>\"------\",T577)","v":""},null,"ok"]
[null,null,null,null,null,null,null,null,null,null,null,null,null,null,null,null,null,null,null,"",{"$f":"IF(ISERROR(VLOOKUP(E578,[2]LISTAS!$A$15:$B$50,2,0)),\"\",VLOOKUP(E578,[2]LISTAS!$A$15:$B$50,2,0))","v":""},{"$f":"IF(ISERROR(VLOOKUP(G578,[2]LISTAS!$A$15:$B$50,2,0)),\"\",VLOOKUP(G578,[2]LISTAS!$A$15:$B$50,2,0))","v":""},{"$f":"IF(ISERROR(VLOOKUP(I578,[2]LISTAS!$A$15:$B$50,2,0)),\"\",VLOOKUP(I578,[2]LISTAS!$A$15:$B$50,2,0))","v":""},{"$f":"IF(ISERROR(VLOOKUP(K578,[2]LISTAS!$A$15:$B$50,2,0)),\"\",VLOOKUP(K578,[2]LISTAS!$A$15:$B$50,2,0))","v":""},{"$f":"IF(ISERROR(VLOOKUP(M578,[2]LISTAS!$A$15:$B$50,2,0)),\"\",VLOOKUP(M578,[2]LISTAS!$A$15:$B$50,2,0))","v":""},{"$f":"IF(ISERROR(VLOOKUP(O578,[2]LISTAS!$A$15:$B$50,2,0)),\"\",VLOOKUP(O578,[2]LISTAS!$A$15:$B$50,2,0))","v":""},{"$f":"IF(ISERROR(VLOOKUP(6,[2]LISTAS!$A$15:$B$50,2,0)),\"\",VLOOKUP(6,[2]LISTAS!$A$15:$B$50,2,0))","v":""},null,{"$f":"_xlfn.IFS(T578=\"------\",AD578,T578=\"LA RELACIÓN DE ACTIVIDADES DEBE SER A PARTIR DE LA SIGUIENTE FILA\",\"LA RELACIÓN DE ACTIVIDADES DEBE SER A PARTIR DE LA SIGUIENTE FILA\",T578<>\"------\",T578)","v":""},null,"ok"]
[null,null,null,null,null,null,null,null,null,null,null,null,null,null,null,null,null,null,null,"",{"$f":"IF(ISERROR(VLOOKUP(E579,[2]LISTAS!$A$15:$B$50,2,0)),\"\",VLOOKUP(E579,[2]LISTAS!$A$15:$B$50,2,0))","v":""},{"$f":"IF(ISERROR(VLOOKUP(G579,[2]LISTAS!$A$15:$B$50,2,0)),\"\",VLOOKUP(G579,[2]LISTAS!$A$15:$B$50,2,0))","v":""},{"$f":"IF(ISERROR(VLOOKUP(I579,[2]LISTAS!$A$15:$B$50,2,0)),\"\",VLOOKUP(I579,[2]LISTAS!$A$15:$B$50,2,0))","v":""},{"$f":"IF(ISERROR(VLOOKUP(K579,[2]LISTAS!$A$15:$B$50,2,0)),\"\",VLOOKUP(K579,[2]LISTAS!$A$15:$B$50,2,0))","v":""},{"$f":"IF(ISERROR(VLOOKUP(M579,[2]LISTAS!$A$15:$B$50,2,0)),\"\",VLOOKUP(M579,[2]LISTAS!$A$15:$B$50,2,0))","v":""},{"$f":"IF(ISERROR(VLOOKUP(O579,[2]LISTAS!$A$15:$B$50,2,0)),\"\",VLOOKUP(O579,[2]LISTAS!$A$15:$B$50,2,0))","v":""},{"$f":"IF(ISERROR(VLOOKUP(6,[2]LISTAS!$A$15:$B$50,2,0)),\"\",VLOOKUP(6,[2]LISTAS!$A$15:$B$50,2,0))","v":""},null,{"$f":"_xlfn.IFS(T579=\"------\",AD579,T579=\"LA RELACIÓN DE ACTIVIDADES DEBE SER A PARTIR DE LA SIGUIENTE FILA\",\"LA RELACIÓN DE ACTIVIDADES DEBE SER A PARTIR DE LA SIGUIENTE FILA\",T579<>\"------\",T579)","v":""},null,"ok"]
[null,null,null,null,null,null,null,null,null,null,null,null,null,null,null,null,null,null,null,"",{"$f":"IF(ISERROR(VLOOKUP(E580,[2]LISTAS!$A$15:$B$50,2,0)),\"\",VLOOKUP(E580,[2]LISTAS!$A$15:$B$50,2,0))","v":""},{"$f":"IF(ISERROR(VLOOKUP(G580,[2]LISTAS!$A$15:$B$50,2,0)),\"\",VLOOKUP(G580,[2]LISTAS!$A$15:$B$50,2,0))","v":""},{"$f":"IF(ISERROR(VLOOKUP(I580,[2]LISTAS!$A$15:$B$50,2,0)),\"\",VLOOKUP(I580,[2]LISTAS!$A$15:$B$50,2,0))","v":""},{"$f":"IF(ISERROR(VLOOKUP(K580,[2]LISTAS!$A$15:$B$50,2,0)),\"\",VLOOKUP(K580,[2]LISTAS!$A$15:$B$50,2,0))","v":""},{"$f":"IF(ISERROR(VLOOKUP(M580,[2]LISTAS!$A$15:$B$50,2,0)),\"\",VLOOKUP(M580,[2]LISTAS!$A$15:$B$50,2,0))","v":""},{"$f":"IF(ISERROR(VLOOKUP(O580,[2]LISTAS!$A$15:$B$50,2,0)),\"\",VLOOKUP(O580,[2]LISTAS!$A$15:$B$50,2,0))","v":""},{"$f":"IF(ISERROR(VLOOKUP(6,[2]LISTAS!$A$15:$B$50,2,0)),\"\",VLOOKUP(6,[2]LISTAS!$A$15:$B$50,2,0))","v":""},null,{"$f":"_xlfn.IFS(T580=\"------\",AD580,T580=\"LA RELACIÓN DE ACTIVIDADES DEBE SER A PARTIR DE LA SIGUIENTE FILA\",\"LA RELACIÓN DE ACTIVIDADES DEBE SER A PARTIR DE LA SIGUIENTE FILA\",T580<>\"------\",T580)","v":""},null,"ok"]
[null,null,null,null,null,null,null,null,null,null,null,null,null,null,null,null,null,null,null,"",{"$f":"IF(ISERROR(VLOOKUP(E581,[2]LISTAS!$A$15:$B$50,2,0)),\"\",VLOOKUP(E581,[2]LISTAS!$A$15:$B$50,2,0))","v":""},{"$f":"IF(ISERROR(VLOOKUP(G581,[2]LISTAS!$A$15:$B$50,2,0)),\"\",VLOOKUP(G581,[2]LISTAS!$A$15:$B$50,2,0))","v":""},{"$f":"IF(ISERROR(VLOOKUP(I581,[2]LISTAS!$A$15:$B$50,2,0)),\"\",VLOOKUP(I581,[2]LISTAS!$A$15:$B$50,2,0))","v":""},{"$f":"IF(ISERROR(VLOOKUP(K581,[2]LISTAS!$A$15:$B$50,2,0)),\"\",VLOOKUP(K581,[2]LISTAS!$A$15:$B$50,2,0))","v":""},{"$f":"IF(ISERROR(VLOOKUP(M581,[2]LISTAS!$A$15:$B$50,2,0)),\"\",VLOOKUP(M581,[2]LISTAS!$A$15:$B$50,2,0))","v":""},{"$f":"IF(ISERROR(VLOOKUP(O581,[2]LISTAS!$A$15:$B$50,2,0)),\"\",VLOOKUP(O581,[2]LISTAS!$A$15:$B$50,2,0))","v":""},{"$f":"IF(ISERROR(VLOOKUP(6,[2]LISTAS!$A$15:$B$50,2,0)),\"\",VLOOKUP(6,[2]LISTAS!$A$15:$B$50,2,0))","v":""},null,{"$f":"_xlfn.IFS(T581=\"------\",AD581,T581=\"LA RELACIÓN DE ACTIVIDADES DEBE SER A PARTIR DE LA SIGUIENTE FILA\",\"LA RELACIÓN DE ACTIVIDADES DEBE SER A PARTIR DE LA SIGUIENTE FILA\",T581<>\"------\",T581)","v":""},null,"ok"]
[null,null,null,null,null,null,null,null,null,null,null,null,null,null,null,null,null,null,null,"",{"$f":"IF(ISERROR(VLOOKUP(E582,[2]LISTAS!$A$15:$B$50,2,0)),\"\",VLOOKUP(E582,[2]LISTAS!$A$15:$B$50,2,0))","v":""},{"$f":"IF(ISERROR(VLOOKUP(G582,[2]LISTAS!$A$15:$B$50,2,0)),\"\",VLOOKUP(G582,[2]LISTAS!$A$15:$B$50,2,0))","v":""},{"$f":"IF(ISERROR(VLOOKUP(I582,[2]LISTAS!$A$15:$B$50,2,0)),\"\",VLOOKUP(I582,[2]LISTAS!$A$15:$B$50,2,0))","v":""},{"$f":"IF(ISERROR(VLOOKUP(K582,[2]LISTAS!$A$15:$B$50,2,0)),\"\",VLOOKUP(K582,[2]LISTAS!$A$15:$B$50,2,0))","v":""},{"$f":"IF(ISERROR(VLOOKUP(M582,[2]LISTAS!$A$15:$B$50,2,0)),\"\",VLOOKUP(M582,[2]LISTAS!$A$15:$B$50,2,0))","v":""},{"$f":"IF(ISERROR(VLOOKUP(O582,[2]LISTAS!$A$15:$B$50,2,0)),\"\",VLOOKUP(O582,[2]LISTAS!$A$15:$B$50,2,0))","v":""},{"$f":"IF(ISERROR(VLOOKUP(6,[2]LISTAS!$A$15:$B$50,2,0)),\"\",VLOOKUP(6,[2]LISTAS!$A$15:$B$50,2,0))","v":""},null,{"$f":"_xlfn.IFS(T582=\"------\",AD582,T582=\"LA RELACIÓN DE ACTIVIDADES DEBE SER A PARTIR DE LA SIGUIENTE FILA\",\"LA RELACIÓN DE ACTIVIDADES DEBE SER A PARTIR DE LA SIGUIENTE FILA\",T582<>\"------\",T582)","v":""},null,"ok"]
[null,null,null,null,null,null,null,null,null,null,null,null,null,null,null,null,null,null,null,"",{"$f":"IF(ISERROR(VLOOKUP(E583,[2]LISTAS!$A$15:$B$50,2,0)),\"\",VLOOKUP(E583,[2]LISTAS!$A$15:$B$50,2,0))","v":""},{"$f":"IF(ISERROR(VLOOKUP(G583,[2]LISTAS!$A$15:$B$50,2,0)),\"\",VLOOKUP(G583,[2]LISTAS!$A$15:$B$50,2,0))","v":""},{"$f":"IF(ISERROR(VLOOKUP(I583,[2]LISTAS!$A$15:$B$50,2,0)),\"\",VLOOKUP(I583,[2]LISTAS!$A$15:$B$50,2,0))","v":""},{"$f":"IF(ISERROR(VLOOKUP(K583,[2]LISTAS!$A$15:$B$50,2,0)),\"\",VLOOKUP(K583,[2]LISTAS!$A$15:$B$50,2,0))","v":""},{"$f":"IF(ISERROR(VLOOKUP(M583,[2]LISTAS!$A$15:$B$50,2,0)),\"\",VLOOKUP(M583,[2]LISTAS!$A$15:$B$50,2,0))","v":""},{"$f":"IF(ISERROR(VLOOKUP(O583,[2]LISTAS!$A$15:$B$50,2,0)),\"\",VLOOKUP(O583,[2]LISTAS!$A$15:$B$50,2,0))","v":""},{"$f":"IF(ISERROR(VLOOKUP(6,[2]LISTAS!$A$15:$B$50,2,0)),\"\",VLOOKUP(6,[2]LISTAS!$A$15:$B$50,2,0))","v":""},null,{"$f":"_xlfn.IFS(T583=\"------\",AD583,T583=\"LA RELACIÓN DE ACTIVIDADES DEBE SER A PARTIR DE LA SIGUIENTE FILA\",\"LA RELACIÓN DE ACTIVIDADES DEBE SER A PARTIR DE LA SIGUIENTE FILA\",T583<>\"------\",T583)","v":""},null,"ok"]
[null,null,null,null,null,null,null,null,null,null,null,null,null,null,null,null,null,null,null,"",{"$f":"IF(ISERROR(VLOOKUP(E584,[2]LISTAS!$A$15:$B$50,2,0)),\"\",VLOOKUP(E584,[2]LISTAS!$A$15:$B$50,2,0))","v":""},{"$f":"IF(ISERROR(VLOOKUP(G584,[2]LISTAS!$A$15:$B$50,2,0)),\"\",VLOOKUP(G584,[2]LISTAS!$A$15:$B$50,2,0))","v":""},{"$f":"IF(ISERROR(VLOOKUP(I584,[2]LISTAS!$A$15:$B$50,2,0)),\"\",VLOOKUP(I584,[2]LISTAS!$A$15:$B$50,2,0))","v":""},{"$f":"IF(ISERROR(VLOOKUP(K584,[2]LISTAS!$A$15:$B$50,2,0)),\"\",VLOOKUP(K584,[2]LISTAS!$A$15:$B$50,2,0))","v":""},{"$f":"IF(ISERROR(VLOOKUP(M584,[2]LISTAS!$A$15:$B$50,2,0)),\"\",VLOOKUP(M584,[2]LISTAS!$A$15:$B$50,2,0))","v":""},{"$f":"IF(ISERROR(VLOOKUP(O584,[2]LISTAS!$A$15:$B$50,2,0)),\"\",VLOOKUP(O584,[2]LISTAS!$A$15:$B$50,2,0))","v":""},{"$f":"IF(ISERROR(VLOOKUP(6,[2]LISTAS!$A$15:$B$50,2,0)),\"\",VLOOKUP(6,[2]LISTAS!$A$15:$B$50,2,0))","v":""},null,{"$f":"_xlfn.IFS(T584=\"------\",AD584,T584=\"LA RELACIÓN DE ACTIVIDADES DEBE SER A PARTIR DE LA SIGUIENTE FILA\",\"LA RELACIÓN DE ACTIVIDADES DEBE SER A PARTIR DE LA SIGUIENTE FILA\",T584<>\"------\",T584)","v":""},null,"ok"]
[null,null,null,null,null,null,null,null,null,null,null,null,null,null,null,null,null,null,null,"",{"$f":"IF(ISERROR(VLOOKUP(E585,[2]LISTAS!$A$15:$B$50,2,0)),\"\",VLOOKUP(E585,[2]LISTAS!$A$15:$B$50,2,0))","v":""},{"$f":"IF(ISERROR(VLOOKUP(G585,[2]LISTAS!$A$15:$B$50,2,0)),\"\",VLOOKUP(G585,[2]LISTAS!$A$15:$B$50,2,0))","v":""},{"$f":"IF(ISERROR(VLOOKUP(I585,[2]LISTAS!$A$15:$B$50,2,0)),\"\",VLOOKUP(I585,[2]LISTAS!$A$15:$B$50,2,0))","v":""},{"$f":"IF(ISERROR(VLOOKUP(K585,[2]LISTAS!$A$15:$B$50,2,0)),\"\",VLOOKUP(K585,[2]LISTAS!$A$15:$B$50,2,0))","v":""},{"$f":"IF(ISERROR(VLOOKUP(M585,[2]LISTAS!$A$15:$B$50,2,0)),\"\",VLOOKUP(M585,[2]LISTAS!$A$15:$B$50,2,0))","v":""},{"$f":"IF(ISERROR(VLOOKUP(O585,[2]LISTAS!$A$15:$B$50,2,0)),\"\",VLOOKUP(O585,[2]LISTAS!$A$15:$B$50,2,0))","v":""},{"$f":"IF(ISERROR(VLOOKUP(6,[2]LISTAS!$A$15:$B$50,2,0)),\"\",VLOOKUP(6,[2]LISTAS!$A$15:$B$50,2,0))","v":""},null,{"$f":"_xlfn.IFS(T585=\"------\",AD585,T585=\"LA RELACIÓN DE ACTIVIDADES DEBE SER A PARTIR DE LA SIGUIENTE FILA\",\"LA RELACIÓN DE ACTIVIDADES DEBE SER A PARTIR DE LA SIGUIENTE FILA\",T585<>\"------\",T585)","v":""},null,"ok"]
[null,null,null,null,null,null,null,null,null,null,null,null,null,null,null,null,null,null,null,"",{"$f":"IF(ISERROR(VLOOKUP(E586,[2]LISTAS!$A$15:$B$50,2,0)),\"\",VLOOKUP(E586,[2]LISTAS!$A$15:$B$50,2,0))","v":""},{"$f":"IF(ISERROR(VLOOKUP(G586,[2]LISTAS!$A$15:$B$50,2,0)),\"\",VLOOKUP(G586,[2]LISTAS!$A$15:$B$50,2,0))","v":""},{"$f":"IF(ISERROR(VLOOKUP(I586,[2]LISTAS!$A$15:$B$50,2,0)),\"\",VLOOKUP(I586,[2]LISTAS!$A$15:$B$50,2,0))","v":""},{"$f":"IF(ISERROR(VLOOKUP(K586,[2]LISTAS!$A$15:$B$50,2,0)),\"\",VLOOKUP(K586,[2]LISTAS!$A$15:$B$50,2,0))","v":""},{"$f":"IF(ISERROR(VLOOKUP(M586,[2]LISTAS!$A$15:$B$50,2,0)),\"\",VLOOKUP(M586,[2]LISTAS!$A$15:$B$50,2,0))","v":""},{"$f":"IF(ISERROR(VLOOKUP(O586,[2]LISTAS!$A$15:$B$50,2,0)),\"\",VLOOKUP(O586,[2]LISTAS!$A$15:$B$50,2,0))","v":""},{"$f":"IF(ISERROR(VLOOKUP(6,[2]LISTAS!$A$15:$B$50,2,0)),\"\",VLOOKUP(6,[2]LISTAS!$A$15:$B$50,2,0))","v":""},null,{"$f":"_xlfn.IFS(T586=\"------\",AD586,T586=\"LA RELACIÓN DE ACTIVIDADES DEBE SER A PARTIR DE LA SIGUIENTE FILA\",\"LA RELACIÓN DE ACTIVIDADES DEBE SER A PARTIR DE LA SIGUIENTE FILA\",T586<>\"------\",T586)","v":""},null,"ok"]
[null,null,null,null,null,null,null,null,null,null,null,null,null,null,null,null,null,null,null,"",{"$f":"IF(ISERROR(VLOOKUP(E587,[2]LISTAS!$A$15:$B$50,2,0)),\"\",VLOOKUP(E587,[2]LISTAS!$A$15:$B$50,2,0))","v":""},{"$f":"IF(ISERROR(VLOOKUP(G587,[2]LISTAS!$A$15:$B$50,2,0)),\"\",VLOOKUP(G587,[2]LISTAS!$A$15:$B$50,2,0))","v":""},{"$f":"IF(ISERROR(VLOOKUP(I587,[2]LISTAS!$A$15:$B$50,2,0)),\"\",VLOOKUP(I587,[2]LISTAS!$A$15:$B$50,2,0))","v":""},{"$f":"IF(ISERROR(VLOOKUP(K587,[2]LISTAS!$A$15:$B$50,2,0)),\"\",VLOOKUP(K587,[2]LISTAS!$A$15:$B$50,2,0))","v":""},{"$f":"IF(ISERROR(VLOOKUP(M587,[2]LISTAS!$A$15:$B$50,2,0)),\"\",VLOOKUP(M587,[2]LISTAS!$A$15:$B$50,2,0))","v":""},{"$f":"IF(ISERROR(VLOOKUP(O587,[2]LISTAS!$A$15:$B$50,2,0)),\"\",VLOOKUP(O587,[2]LISTAS!$A$15:$B$50,2,0))","v":""},{"$f":"IF(ISERROR(VLOOKUP(6,[2]LISTAS!$A$15:$B$50,2,0)),\"\",VLOOKUP(6,[2]LISTAS!$A$15:$B$50,2,0))","v":""},null,{"$f":"_xlfn.IFS(T587=\"------\",AD587,T587=\"LA RELACIÓN DE ACTIVIDADES DEBE SER A PARTIR DE LA SIGUIENTE FILA\",\"LA RELACIÓN DE ACTIVIDADES DEBE SER A PARTIR DE LA SIGUIENTE FILA\",T587<>\"------\",T587)","v":""},null,"ok"]
[null,null,null,null,null,null,null,null,null,null,null,null,null,null,null,null,null,null,null,"",{"$f":"IF(ISERROR(VLOOKUP(E588,[2]LISTAS!$A$15:$B$50,2,0)),\"\",VLOOKUP(E588,[2]LISTAS!$A$15:$B$50,2,0))","v":""},{"$f":"IF(ISERROR(VLOOKUP(G588,[2]LISTAS!$A$15:$B$50,2,0)),\"\",VLOOKUP(G588,[2]LISTAS!$A$15:$B$50,2,0))","v":""},{"$f":"IF(ISERROR(VLOOKUP(I588,[2]LISTAS!$A$15:$B$50,2,0)),\"\",VLOOKUP(I588,[2]LISTAS!$A$15:$B$50,2,0))","v":""},{"$f":"IF(ISERROR(VLOOKUP(K588,[2]LISTAS!$A$15:$B$50,2,0)),\"\",VLOOKUP(K588,[2]LISTAS!$A$15:$B$50,2,0))","v":""},{"$f":"IF(ISERROR(VLOOKUP(M588,[2]LISTAS!$A$15:$B$50,2,0)),\"\",VLOOKUP(M588,[2]LISTAS!$A$15:$B$50,2,0))","v":""},{"$f":"IF(ISERROR(VLOOKUP(O588,[2]LISTAS!$A$15:$B$50,2,0)),\"\",VLOOKUP(O588,[2]LISTAS!$A$15:$B$50,2,0))","v":""},{"$f":"IF(ISERROR(VLOOKUP(6,[2]LISTAS!$A$15:$B$50,2,0)),\"\",VLOOKUP(6,[2]LISTAS!$A$15:$B$50,2,0))","v":""},null,{"$f":"_xlfn.IFS(T588=\"------\",AD588,T588=\"LA RELACIÓN DE ACTIVIDADES DEBE SER A PARTIR DE LA SIGUIENTE FILA\",\"LA RELACIÓN DE ACTIVIDADES DEBE SER A PARTIR DE LA SIGUIENTE FILA\",T588<>\"------\",T588)","v":""},null,"ok"]
[null,null,null,null,null,null,null,null,null,null,null,null,null,null,null,null,null,null,null,"",{"$f":"IF(ISERROR(VLOOKUP(E589,[2]LISTAS!$A$15:$B$50,2,0)),\"\",VLOOKUP(E589,[2]LISTAS!$A$15:$B$50,2,0))","v":""},{"$f":"IF(ISERROR(VLOOKUP(G589,[2]LISTAS!$A$15:$B$50,2,0)),\"\",VLOOKUP(G589,[2]LISTAS!$A$15:$B$50,2,0))","v":""},{"$f":"IF(ISERROR(VLOOKUP(I589,[2]LISTAS!$A$15:$B$50,2,0)),\"\",VLOOKUP(I589,[2]LISTAS!$A$15:$B$50,2,0))","v":""},{"$f":"IF(ISERROR(VLOOKUP(K589,[2]LISTAS!$A$15:$B$50,2,0)),\"\",VLOOKUP(K589,[2]LISTAS!$A$15:$B$50,2,0))","v":""},{"$f":"IF(ISERROR(VLOOKUP(M589,[2]LISTAS!$A$15:$B$50,2,0)),\"\",VLOOKUP(M589,[2]LISTAS!$A$15:$B$50,2,0))","v":""},{"$f":"IF(ISERROR(VLOOKUP(O589,[2]LISTAS!$A$15:$B$50,2,0)),\"\",VLOOKUP(O589,[2]LISTAS!$A$15:$B$50,2,0))","v":""},{"$f":"IF(ISERROR(VLOOKUP(6,[2]LISTAS!$A$15:$B$50,2,0)),\"\",VLOOKUP(6,[2]LISTAS!$A$15:$B$50,2,0))","v":""},null,{"$f":"_xlfn.IFS(T589=\"------\",AD589,T589=\"LA RELACIÓN DE ACTIVIDADES DEBE SER A PARTIR DE LA SIGUIENTE FILA\",\"LA RELACIÓN DE ACTIVIDADES DEBE SER A PARTIR DE LA SIGUIENTE FILA\",T589<>\"------\",T589)","v":""},null,"ok"]
[null,null,null,null,null,null,null,null,null,null,null,null,null,null,null,null,null,null,null,"",{"$f":"IF(ISERROR(VLOOKUP(E590,[2]LISTAS!$A$15:$B$50,2,0)),\"\",VLOOKUP(E590,[2]LISTAS!$A$15:$B$50,2,0))","v":""},{"$f":"IF(ISERROR(VLOOKUP(G590,[2]LISTAS!$A$15:$B$50,2,0)),\"\",VLOOKUP(G590,[2]LISTAS!$A$15:$B$50,2,0))","v":""},{"$f":"IF(ISERROR(VLOOKUP(I590,[2]LISTAS!$A$15:$B$50,2,0)),\"\",VLOOKUP(I590,[2]LISTAS!$A$15:$B$50,2,0))","v":""},{"$f":"IF(ISERROR(VLOOKUP(K590,[2]LISTAS!$A$15:$B$50,2,0)),\"\",VLOOKUP(K590,[2]LISTAS!$A$15:$B$50,2,0))","v":""},{"$f":"IF(ISERROR(VLOOKUP(M590,[2]LISTAS!$A$15:$B$50,2,0)),\"\",VLOOKUP(M590,[2]LISTAS!$A$15:$B$50,2,0))","v":""},{"$f":"IF(ISERROR(VLOOKUP(O590,[2]LISTAS!$A$15:$B$50,2,0)),\"\",VLOOKUP(O590,[2]LISTAS!$A$15:$B$50,2,0))","v":""},{"$f":"IF(ISERROR(VLOOKUP(6,[2]LISTAS!$A$15:$B$50,2,0)),\"\",VLOOKUP(6,[2]LISTAS!$A$15:$B$50,2,0))","v":""},null,{"$f":"_xlfn.IFS(T590=\"------\",AD590,T590=\"LA RELACIÓN DE ACTIVIDADES DEBE SER A PARTIR DE LA SIGUIENTE FILA\",\"LA RELACIÓN DE ACTIVIDADES DEBE SER A PARTIR DE LA SIGUIENTE FILA\",T590<>\"------\",T590)","v":""},null,"ok"]
[null,null,null,null,null,null,null,null,null,null,null,null,null,null,null,null,null,null,null,"",{"$f":"IF(ISERROR(VLOOKUP(E591,[2]LISTAS!$A$15:$B$50,2,0)),\"\",VLOOKUP(E591,[2]LISTAS!$A$15:$B$50,2,0))","v":""},{"$f":"IF(ISERROR(VLOOKUP(G591,[2]LISTAS!$A$15:$B$50,2,0)),\"\",VLOOKUP(G591,[2]LISTAS!$A$15:$B$50,2,0))","v":""},{"$f":"IF(ISERROR(VLOOKUP(I591,[2]LISTAS!$A$15:$B$50,2,0)),\"\",VLOOKUP(I591,[2]LISTAS!$A$15:$B$50,2,0))","v":""},{"$f":"IF(ISERROR(VLOOKUP(K591,[2]LISTAS!$A$15:$B$50,2,0)),\"\",VLOOKUP(K591,[2]LISTAS!$A$15:$B$50,2,0))","v":""},{"$f":"IF(ISERROR(VLOOKUP(M591,[2]LISTAS!$A$15:$B$50,2,0)),\"\",VLOOKUP(M591,[2]LISTAS!$A$15:$B$50,2,0))","v":""},{"$f":"IF(ISERROR(VLOOKUP(O591,[2]LISTAS!$A$15:$B$50,2,0)),\"\",VLOOKUP(O591,[2]LISTAS!$A$15:$B$50,2,0))","v":""},{"$f":"IF(ISERROR(VLOOKUP(6,[2]LISTAS!$A$15:$B$50,2,0)),\"\",VLOOKUP(6,[2]LISTAS!$A$15:$B$50,2,0))","v":""},null,{"$f":"_xlfn.IFS(T591=\"------\",AD591,T591=\"LA RELACIÓN DE ACTIVIDADES DEBE SER A PARTIR DE LA SIGUIENTE FILA\",\"LA RELACIÓN DE ACTIVIDADES DEBE SER A PARTIR DE LA SIGUIENTE FILA\",T591<>\"------\",T591)","v":""},null,"ok"]
[null,null,null,null,null,null,null,null,null,null,null,null,null,null,null,null,null,null,null,"",{"$f":"IF(ISERROR(VLOOKUP(E592,[2]LISTAS!$A$15:$B$50,2,0)),\"\",VLOOKUP(E592,[2]LISTAS!$A$15:$B$50,2,0))","v":""},{"$f":"IF(ISERROR(VLOOKUP(G592,[2]LISTAS!$A$15:$B$50,2,0)),\"\",VLOOKUP(G592,[2]LISTAS!$A$15:$B$50,2,0))","v":""},{"$f":"IF(ISERROR(VLOOKUP(I592,[2]LISTAS!$A$15:$B$50,2,0)),\"\",VLOOKUP(I592,[2]LISTAS!$A$15:$B$50,2,0))","v":""},{"$f":"IF(ISERROR(VLOOKUP(K592,[2]LISTAS!$A$15:$B$50,2,0)),\"\",VLOOKUP(K592,[2]LISTAS!$A$15:$B$50,2,0))","v":""},{"$f":"IF(ISERROR(VLOOKUP(M592,[2]LISTAS!$A$15:$B$50,2,0)),\"\",VLOOKUP(M592,[2]LISTAS!$A$15:$B$50,2,0))","v":""},{"$f":"IF(ISERROR(VLOOKUP(O592,[2]LISTAS!$A$15:$B$50,2,0)),\"\",VLOOKUP(O592,[2]LISTAS!$A$15:$B$50,2,0))","v":""},{"$f":"IF(ISERROR(VLOOKUP(6,[2]LISTAS!$A$15:$B$50,2,0)),\"\",VLOOKUP(6,[2]LISTAS!$A$15:$B$50,2,0))","v":""},null,{"$f":"_xlfn.IFS(T592=\"------\",AD592,T592=\"LA RELACIÓN DE ACTIVIDADES DEBE SER A PARTIR DE LA SIGUIENTE FILA\",\"LA RELACIÓN DE ACTIVIDADES DEBE SER A PARTIR DE LA SIGUIENTE FILA\",T592<>\"------\",T592)","v":""},null,"ok"]
[null,null,null,null,null,null,null,null,null,null,null,null,null,null,null,null,null,null,null,"",{"$f":"IF(ISERROR(VLOOKUP(E593,[2]LISTAS!$A$15:$B$50,2,0)),\"\",VLOOKUP(E593,[2]LISTAS!$A$15:$B$50,2,0))","v":""},{"$f":"IF(ISERROR(VLOOKUP(G593,[2]LISTAS!$A$15:$B$50,2,0)),\"\",VLOOKUP(G593,[2]LISTAS!$A$15:$B$50,2,0))","v":""},{"$f":"IF(ISERROR(VLOOKUP(I593,[2]LISTAS!$A$15:$B$50,2,0)),\"\",VLOOKUP(I593,[2]LISTAS!$A$15:$B$50,2,0))","v":""},{"$f":"IF(ISERROR(VLOOKUP(K593,[2]LISTAS!$A$15:$B$50,2,0)),\"\",VLOOKUP(K593,[2]LISTAS!$A$15:$B$50,2,0))","v":""},{"$f":"IF(ISERROR(VLOOKUP(M593,[2]LISTAS!$A$15:$B$50,2,0)),\"\",VLOOKUP(M593,[2]LISTAS!$A$15:$B$50,2,0))","v":""},{"$f":"IF(ISERROR(VLOOKUP(O593,[2]LISTAS!$A$15:$B$50,2,0)),\"\",VLOOKUP(O593,[2]LISTAS!$A$15:$B$50,2,0))","v":""},{"$f":"IF(ISERROR(VLOOKUP(6,[2]LISTAS!$A$15:$B$50,2,0)),\"\",VLOOKUP(6,[2]LISTAS!$A$15:$B$50,2,0))","v":""},null,{"$f":"_xlfn.IFS(T593=\"------\",AD593,T593=\"LA RELACIÓN DE ACTIVIDADES DEBE SER A PARTIR DE LA SIGUIENTE FILA\",\"LA RELACIÓN DE ACTIVIDADES DEBE SER A PARTIR DE LA SIGUIENTE FILA\",T593<>\"------\",T593)","v":""},null,"ok"]
[null,null,null,null,null,null,null,null,null,null,null,null,null,null,null,null,null,null,null,"",{"$f":"IF(ISERROR(VLOOKUP(E594,[2]LISTAS!$A$15:$B$50,2,0)),\"\",VLOOKUP(E594,[2]LISTAS!$A$15:$B$50,2,0))","v":""},{"$f":"IF(ISERROR(VLOOKUP(G594,[2]LISTAS!$A$15:$B$50,2,0)),\"\",VLOOKUP(G594,[2]LISTAS!$A$15:$B$50,2,0))","v":""},{"$f":"IF(ISERROR(VLOOKUP(I594,[2]LISTAS!$A$15:$B$50,2,0)),\"\",VLOOKUP(I594,[2]LISTAS!$A$15:$B$50,2,0))","v":""},{"$f":"IF(ISERROR(VLOOKUP(K594,[2]LISTAS!$A$15:$B$50,2,0)),\"\",VLOOKUP(K594,[2]LISTAS!$A$15:$B$50,2,0))","v":""},{"$f":"IF(ISERROR(VLOOKUP(M594,[2]LISTAS!$A$15:$B$50,2,0)),\"\",VLOOKUP(M594,[2]LISTAS!$A$15:$B$50,2,0))","v":""},{"$f":"IF(ISERROR(VLOOKUP(O594,[2]LISTAS!$A$15:$B$50,2,0)),\"\",VLOOKUP(O594,[2]LISTAS!$A$15:$B$50,2,0))","v":""},{"$f":"IF(ISERROR(VLOOKUP(6,[2]LISTAS!$A$15:$B$50,2,0)),\"\",VLOOKUP(6,[2]LISTAS!$A$15:$B$50,2,0))","v":""},null,{"$f":"_xlfn.IFS(T594=\"------\",AD594,T594=\"LA RELACIÓN DE ACTIVIDADES DEBE SER A PARTIR DE LA SIGUIENTE FILA\",\"LA RELACIÓN DE ACTIVIDADES DEBE SER A PARTIR DE LA SIGUIENTE FILA\",T594<>\"------\",T594)","v":""},null,"ok"]
[null,null,null,null,null,null,null,null,null,null,null,null,null,null,null,null,null,null,null,"",{"$f":"IF(ISERROR(VLOOKUP(E595,[2]LISTAS!$A$15:$B$50,2,0)),\"\",VLOOKUP(E595,[2]LISTAS!$A$15:$B$50,2,0))","v":""},{"$f":"IF(ISERROR(VLOOKUP(G595,[2]LISTAS!$A$15:$B$50,2,0)),\"\",VLOOKUP(G595,[2]LISTAS!$A$15:$B$50,2,0))","v":""},{"$f":"IF(ISERROR(VLOOKUP(I595,[2]LISTAS!$A$15:$B$50,2,0)),\"\",VLOOKUP(I595,[2]LISTAS!$A$15:$B$50,2,0))","v":""},{"$f":"IF(ISERROR(VLOOKUP(K595,[2]LISTAS!$A$15:$B$50,2,0)),\"\",VLOOKUP(K595,[2]LISTAS!$A$15:$B$50,2,0))","v":""},{"$f":"IF(ISERROR(VLOOKUP(M595,[2]LISTAS!$A$15:$B$50,2,0)),\"\",VLOOKUP(M595,[2]LISTAS!$A$15:$B$50,2,0))","v":""},{"$f":"IF(ISERROR(VLOOKUP(O595,[2]LISTAS!$A$15:$B$50,2,0)),\"\",VLOOKUP(O595,[2]LISTAS!$A$15:$B$50,2,0))","v":""},{"$f":"IF(ISERROR(VLOOKUP(6,[2]LISTAS!$A$15:$B$50,2,0)),\"\",VLOOKUP(6,[2]LISTAS!$A$15:$B$50,2,0))","v":""},null,{"$f":"_xlfn.IFS(T595=\"------\",AD595,T595=\"LA RELACIÓN DE ACTIVIDADES DEBE SER A PARTIR DE LA SIGUIENTE FILA\",\"LA RELACIÓN DE ACTIVIDADES DEBE SER A PARTIR DE LA SIGUIENTE FILA\",T595<>\"------\",T595)","v":""},null,"ok"]
[null,null,null,null,null,null,null,null,null,null,null,null,null,null,null,null,null,null,null,"",{"$f":"IF(ISERROR(VLOOKUP(E596,[2]LISTAS!$A$15:$B$50,2,0)),\"\",VLOOKUP(E596,[2]LISTAS!$A$15:$B$50,2,0))","v":""},{"$f":"IF(ISERROR(VLOOKUP(G596,[2]LISTAS!$A$15:$B$50,2,0)),\"\",VLOOKUP(G596,[2]LISTAS!$A$15:$B$50,2,0))","v":""},{"$f":"IF(ISERROR(VLOOKUP(I596,[2]LISTAS!$A$15:$B$50,2,0)),\"\",VLOOKUP(I596,[2]LISTAS!$A$15:$B$50,2,0))","v":""},{"$f":"IF(ISERROR(VLOOKUP(K596,[2]LISTAS!$A$15:$B$50,2,0)),\"\",VLOOKUP(K596,[2]LISTAS!$A$15:$B$50,2,0))","v":""},{"$f":"IF(ISERROR(VLOOKUP(M596,[2]LISTAS!$A$15:$B$50,2,0)),\"\",VLOOKUP(M596,[2]LISTAS!$A$15:$B$50,2,0))","v":""},{"$f":"IF(ISERROR(VLOOKUP(O596,[2]LISTAS!$A$15:$B$50,2,0)),\"\",VLOOKUP(O596,[2]LISTAS!$A$15:$B$50,2,0))","v":""},{"$f":"IF(ISERROR(VLOOKUP(6,[2]LISTAS!$A$15:$B$50,2,0)),\"\",VLOOKUP(6,[2]LISTAS!$A$15:$B$50,2,0))","v":""},null,{"$f":"_xlfn.IFS(T596=\"------\",AD596,T596=\"LA RELACIÓN DE ACTIVIDADES DEBE SER A PARTIR DE LA SIGUIENTE FILA\",\"LA RELACIÓN DE ACTIVIDADES DEBE SER A PARTIR DE LA SIGUIENTE FILA\",T596<>\"------\",T596)","v":""},null,"ok"]
[null,null,null,null,null,null,null,null,null,null,null,null,null,null,null,null,null,null,null,"",{"$f":"IF(ISERROR(VLOOKUP(E597,[2]LISTAS!$A$15:$B$50,2,0)),\"\",VLOOKUP(E597,[2]LISTAS!$A$15:$B$50,2,0))","v":""},{"$f":"IF(ISERROR(VLOOKUP(G597,[2]LISTAS!$A$15:$B$50,2,0)),\"\",VLOOKUP(G597,[2]LISTAS!$A$15:$B$50,2,0))","v":""},{"$f":"IF(ISERROR(VLOOKUP(I597,[2]LISTAS!$A$15:$B$50,2,0)),\"\",VLOOKUP(I597,[2]LISTAS!$A$15:$B$50,2,0))","v":""},{"$f":"IF(ISERROR(VLOOKUP(K597,[2]LISTAS!$A$15:$B$50,2,0)),\"\",VLOOKUP(K597,[2]LISTAS!$A$15:$B$50,2,0))","v":""},{"$f":"IF(ISERROR(VLOOKUP(M597,[2]LISTAS!$A$15:$B$50,2,0)),\"\",VLOOKUP(M597,[2]LISTAS!$A$15:$B$50,2,0))","v":""},{"$f":"IF(ISERROR(VLOOKUP(O597,[2]LISTAS!$A$15:$B$50,2,0)),\"\",VLOOKUP(O597,[2]LISTAS!$A$15:$B$50,2,0))","v":""},{"$f":"IF(ISERROR(VLOOKUP(6,[2]LISTAS!$A$15:$B$50,2,0)),\"\",VLOOKUP(6,[2]LISTAS!$A$15:$B$50,2,0))","v":""},null,{"$f":"_xlfn.IFS(T597=\"------\",AD597,T597=\"LA RELACIÓN DE ACTIVIDADES DEBE SER A PARTIR DE LA SIGUIENTE FILA\",\"LA RELACIÓN DE ACTIVIDADES DEBE SER A PARTIR DE LA SIGUIENTE FILA\",T597<>\"------\",T597)","v":""},null,"ok"]
[null,null,null,null,null,null,null,null,null,null,null,null,null,null,null,null,null,null,null,"",{"$f":"IF(ISERROR(VLOOKUP(E598,[2]LISTAS!$A$15:$B$50,2,0)),\"\",VLOOKUP(E598,[2]LISTAS!$A$15:$B$50,2,0))","v":""},{"$f":"IF(ISERROR(VLOOKUP(G598,[2]LISTAS!$A$15:$B$50,2,0)),\"\",VLOOKUP(G598,[2]LISTAS!$A$15:$B$50,2,0))","v":""},{"$f":"IF(ISERROR(VLOOKUP(I598,[2]LISTAS!$A$15:$B$50,2,0)),\"\",VLOOKUP(I598,[2]LISTAS!$A$15:$B$50,2,0))","v":""},{"$f":"IF(ISERROR(VLOOKUP(K598,[2]LISTAS!$A$15:$B$50,2,0)),\"\",VLOOKUP(K598,[2]LISTAS!$A$15:$B$50,2,0))","v":""},{"$f":"IF(ISERROR(VLOOKUP(M598,[2]LISTAS!$A$15:$B$50,2,0)),\"\",VLOOKUP(M598,[2]LISTAS!$A$15:$B$50,2,0))","v":""},{"$f":"IF(ISERROR(VLOOKUP(O598,[2]LISTAS!$A$15:$B$50,2,0)),\"\",VLOOKUP(O598,[2]LISTAS!$A$15:$B$50,2,0))","v":""},{"$f":"IF(ISERROR(VLOOKUP(6,[2]LISTAS!$A$15:$B$50,2,0)),\"\",VLOOKUP(6,[2]LISTAS!$A$15:$B$50,2,0))","v":""},null,{"$f":"_xlfn.IFS(T598=\"------\",AD598,T598=\"LA RELACIÓN DE ACTIVIDADES DEBE SER A PARTIR DE LA SIGUIENTE FILA\",\"LA RELACIÓN DE ACTIVIDADES DEBE SER A PARTIR DE LA SIGUIENTE FILA\",T598<>\"------\",T598)","v":""},null,"ok"]
[null,null,null,null,null,null,null,null,null,null,null,null,null,null,null,null,null,null,null,"",{"$f":"IF(ISERROR(VLOOKUP(E599,[2]LISTAS!$A$15:$B$50,2,0)),\"\",VLOOKUP(E599,[2]LISTAS!$A$15:$B$50,2,0))","v":""},{"$f":"IF(ISERROR(VLOOKUP(G599,[2]LISTAS!$A$15:$B$50,2,0)),\"\",VLOOKUP(G599,[2]LISTAS!$A$15:$B$50,2,0))","v":""},{"$f":"IF(ISERROR(VLOOKUP(I599,[2]LISTAS!$A$15:$B$50,2,0)),\"\",VLOOKUP(I599,[2]LISTAS!$A$15:$B$50,2,0))","v":""},{"$f":"IF(ISERROR(VLOOKUP(K599,[2]LISTAS!$A$15:$B$50,2,0)),\"\",VLOOKUP(K599,[2]LISTAS!$A$15:$B$50,2,0))","v":""},{"$f":"IF(ISERROR(VLOOKUP(M599,[2]LISTAS!$A$15:$B$50,2,0)),\"\",VLOOKUP(M599,[2]LISTAS!$A$15:$B$50,2,0))","v":""},{"$f":"IF(ISERROR(VLOOKUP(O599,[2]LISTAS!$A$15:$B$50,2,0)),\"\",VLOOKUP(O599,[2]LISTAS!$A$15:$B$50,2,0))","v":""},{"$f":"IF(ISERROR(VLOOKUP(6,[2]LISTAS!$A$15:$B$50,2,0)),\"\",VLOOKUP(6,[2]LISTAS!$A$15:$B$50,2,0))","v":""},null,{"$f":"_xlfn.IFS(T599=\"------\",AD599,T599=\"LA RELACIÓN DE ACTIVIDADES DEBE SER A PARTIR DE LA SIGUIENTE FILA\",\"LA RELACIÓN DE ACTIVIDADES DEBE SER A PARTIR DE LA SIGUIENTE FILA\",T599<>\"------\",T599)","v":""},null,"ok"]
[null,null,null,null,null,null,null,null,null,null,null,null,null,null,null,null,null,null,null,"",{"$f":"IF(ISERROR(VLOOKUP(E600,[2]LISTAS!$A$15:$B$50,2,0)),\"\",VLOOKUP(E600,[2]LISTAS!$A$15:$B$50,2,0))","v":""},{"$f":"IF(ISERROR(VLOOKUP(G600,[2]LISTAS!$A$15:$B$50,2,0)),\"\",VLOOKUP(G600,[2]LISTAS!$A$15:$B$50,2,0))","v":""},{"$f":"IF(ISERROR(VLOOKUP(I600,[2]LISTAS!$A$15:$B$50,2,0)),\"\",VLOOKUP(I600,[2]LISTAS!$A$15:$B$50,2,0))","v":""},{"$f":"IF(ISERROR(VLOOKUP(K600,[2]LISTAS!$A$15:$B$50,2,0)),\"\",VLOOKUP(K600,[2]LISTAS!$A$15:$B$50,2,0))","v":""},{"$f":"IF(ISERROR(VLOOKUP(M600,[2]LISTAS!$A$15:$B$50,2,0)),\"\",VLOOKUP(M600,[2]LISTAS!$A$15:$B$50,2,0))","v":""},{"$f":"IF(ISERROR(VLOOKUP(O600,[2]LISTAS!$A$15:$B$50,2,0)),\"\",VLOOKUP(O600,[2]LISTAS!$A$15:$B$50,2,0))","v":""},{"$f":"IF(ISERROR(VLOOKUP(6,[2]LISTAS!$A$15:$B$50,2,0)),\"\",VLOOKUP(6,[2]LISTAS!$A$15:$B$50,2,0))","v":""},null,{"$f":"_xlfn.IFS(T600=\"------\",AD600,T600=\"LA RELACIÓN DE ACTIVIDADES DEBE SER A PARTIR DE LA SIGUIENTE FILA\",\"LA RELACIÓN DE ACTIVIDADES DEBE SER A PARTIR DE LA SIGUIENTE FILA\",T600<>\"------\",T600)","v":""},null,"ok"]
[null,null,null,null,null,null,null,null,null,null,null,null,null,null,null,null,null,null,null,"",{"$f":"IF(ISERROR(VLOOKUP(E601,[2]LISTAS!$A$15:$B$50,2,0)),\"\",VLOOKUP(E601,[2]LISTAS!$A$15:$B$50,2,0))","v":""},{"$f":"IF(ISERROR(VLOOKUP(G601,[2]LISTAS!$A$15:$B$50,2,0)),\"\",VLOOKUP(G601,[2]LISTAS!$A$15:$B$50,2,0))","v":""},{"$f":"IF(ISERROR(VLOOKUP(I601,[2]LISTAS!$A$15:$B$50,2,0)),\"\",VLOOKUP(I601,[2]LISTAS!$A$15:$B$50,2,0))","v":""},{"$f":"IF(ISERROR(VLOOKUP(K601,[2]LISTAS!$A$15:$B$50,2,0)),\"\",VLOOKUP(K601,[2]LISTAS!$A$15:$B$50,2,0))","v":""},{"$f":"IF(ISERROR(VLOOKUP(M601,[2]LISTAS!$A$15:$B$50,2,0)),\"\",VLOOKUP(M601,[2]LISTAS!$A$15:$B$50,2,0))","v":""},{"$f":"IF(ISERROR(VLOOKUP(O601,[2]LISTAS!$A$15:$B$50,2,0)),\"\",VLOOKUP(O601,[2]LISTAS!$A$15:$B$50,2,0))","v":""},{"$f":"IF(ISERROR(VLOOKUP(6,[2]LISTAS!$A$15:$B$50,2,0)),\"\",VLOOKUP(6,[2]LISTAS!$A$15:$B$50,2,0))","v":""},null,{"$f":"_xlfn.IFS(T601=\"------\",AD601,T601=\"LA RELACIÓN DE ACTIVIDADES DEBE SER A PARTIR DE LA SIGUIENTE FILA\",\"LA RELACIÓN DE ACTIVIDADES DEBE SER A PARTIR DE LA SIGUIENTE FILA\",T601<>\"------\",T601)","v":""},null,"ok"]
[null,null,null,null,null,null,null,null,null,null,null,null,null,null,null,null,null,null,null,"",{"$f":"IF(ISERROR(VLOOKUP(E602,[2]LISTAS!$A$15:$B$50,2,0)),\"\",VLOOKUP(E602,[2]LISTAS!$A$15:$B$50,2,0))","v":""},{"$f":"IF(ISERROR(VLOOKUP(G602,[2]LISTAS!$A$15:$B$50,2,0)),\"\",VLOOKUP(G602,[2]LISTAS!$A$15:$B$50,2,0))","v":""},{"$f":"IF(ISERROR(VLOOKUP(I602,[2]LISTAS!$A$15:$B$50,2,0)),\"\",VLOOKUP(I602,[2]LISTAS!$A$15:$B$50,2,0))","v":""},{"$f":"IF(ISERROR(VLOOKUP(K602,[2]LISTAS!$A$15:$B$50,2,0)),\"\",VLOOKUP(K602,[2]LISTAS!$A$15:$B$50,2,0))","v":""},{"$f":"IF(ISERROR(VLOOKUP(M602,[2]LISTAS!$A$15:$B$50,2,0)),\"\",VLOOKUP(M602,[2]LISTAS!$A$15:$B$50,2,0))","v":""},{"$f":"IF(ISERROR(VLOOKUP(O602,[2]LISTAS!$A$15:$B$50,2,0)),\"\",VLOOKUP(O602,[2]LISTAS!$A$15:$B$50,2,0))","v":""},{"$f":"IF(ISERROR(VLOOKUP(6,[2]LISTAS!$A$15:$B$50,2,0)),\"\",VLOOKUP(6,[2]LISTAS!$A$15:$B$50,2,0))","v":""},null,{"$f":"_xlfn.IFS(T602=\"------\",AD602,T602=\"LA RELACIÓN DE ACTIVIDADES DEBE SER A PARTIR DE LA SIGUIENTE FILA\",\"LA RELACIÓN DE ACTIVIDADES DEBE SER A PARTIR DE LA SIGUIENTE FILA\",T602<>\"------\",T602)","v":""},null,"ok"]
[null,null,null,null,null,null,null,null,null,null,null,null,null,null,null,null,null,null,null,"",{"$f":"IF(ISERROR(VLOOKUP(E603,[2]LISTAS!$A$15:$B$50,2,0)),\"\",VLOOKUP(E603,[2]LISTAS!$A$15:$B$50,2,0))","v":""},{"$f":"IF(ISERROR(VLOOKUP(G603,[2]LISTAS!$A$15:$B$50,2,0)),\"\",VLOOKUP(G603,[2]LISTAS!$A$15:$B$50,2,0))","v":""},{"$f":"IF(ISERROR(VLOOKUP(I603,[2]LISTAS!$A$15:$B$50,2,0)),\"\",VLOOKUP(I603,[2]LISTAS!$A$15:$B$50,2,0))","v":""},{"$f":"IF(ISERROR(VLOOKUP(K603,[2]LISTAS!$A$15:$B$50,2,0)),\"\",VLOOKUP(K603,[2]LISTAS!$A$15:$B$50,2,0))","v":""},{"$f":"IF(ISERROR(VLOOKUP(M603,[2]LISTAS!$A$15:$B$50,2,0)),\"\",VLOOKUP(M603,[2]LISTAS!$A$15:$B$50,2,0))","v":""},{"$f":"IF(ISERROR(VLOOKUP(O603,[2]LISTAS!$A$15:$B$50,2,0)),\"\",VLOOKUP(O603,[2]LISTAS!$A$15:$B$50,2,0))","v":""},{"$f":"IF(ISERROR(VLOOKUP(6,[2]LISTAS!$A$15:$B$50,2,0)),\"\",VLOOKUP(6,[2]LISTAS!$A$15:$B$50,2,0))","v":""},null,{"$f":"_xlfn.IFS(T603=\"------\",AD603,T603=\"LA RELACIÓN DE ACTIVIDADES DEBE SER A PARTIR DE LA SIGUIENTE FILA\",\"LA RELACIÓN DE ACTIVIDADES DEBE SER A PARTIR DE LA SIGUIENTE FILA\",T603<>\"------\",T603)","v":""},null,"ok"]
[null,null,null,null,null,null,null,null,null,null,null,null,null,null,null,null,null,null,null,"",{"$f":"IF(ISERROR(VLOOKUP(E604,[2]LISTAS!$A$15:$B$50,2,0)),\"\",VLOOKUP(E604,[2]LISTAS!$A$15:$B$50,2,0))","v":""},{"$f":"IF(ISERROR(VLOOKUP(G604,[2]LISTAS!$A$15:$B$50,2,0)),\"\",VLOOKUP(G604,[2]LISTAS!$A$15:$B$50,2,0))","v":""},{"$f":"IF(ISERROR(VLOOKUP(I604,[2]LISTAS!$A$15:$B$50,2,0)),\"\",VLOOKUP(I604,[2]LISTAS!$A$15:$B$50,2,0))","v":""},{"$f":"IF(ISERROR(VLOOKUP(K604,[2]LISTAS!$A$15:$B$50,2,0)),\"\",VLOOKUP(K604,[2]LISTAS!$A$15:$B$50,2,0))","v":""},{"$f":"IF(ISERROR(VLOOKUP(M604,[2]LISTAS!$A$15:$B$50,2,0)),\"\",VLOOKUP(M604,[2]LISTAS!$A$15:$B$50,2,0))","v":""},{"$f":"IF(ISERROR(VLOOKUP(O604,[2]LISTAS!$A$15:$B$50,2,0)),\"\",VLOOKUP(O604,[2]LISTAS!$A$15:$B$50,2,0))","v":""},{"$f":"IF(ISERROR(VLOOKUP(6,[2]LISTAS!$A$15:$B$50,2,0)),\"\",VLOOKUP(6,[2]LISTAS!$A$15:$B$50,2,0))","v":""},null,{"$f":"_xlfn.IFS(T604=\"------\",AD604,T604=\"LA RELACIÓN DE ACTIVIDADES DEBE SER A PARTIR DE LA SIGUIENTE FILA\",\"LA RELACIÓN DE ACTIVIDADES DEBE SER A PARTIR DE LA SIGUIENTE FILA\",T604<>\"------\",T604)","v":""},null,"ok"]
[null,null,null,null,null,null,null,null,null,null,null,null,null,null,null,null,null,null,null,"",{"$f":"IF(ISERROR(VLOOKUP(E605,[2]LISTAS!$A$15:$B$50,2,0)),\"\",VLOOKUP(E605,[2]LISTAS!$A$15:$B$50,2,0))","v":""},{"$f":"IF(ISERROR(VLOOKUP(G605,[2]LISTAS!$A$15:$B$50,2,0)),\"\",VLOOKUP(G605,[2]LISTAS!$A$15:$B$50,2,0))","v":""},{"$f":"IF(ISERROR(VLOOKUP(I605,[2]LISTAS!$A$15:$B$50,2,0)),\"\",VLOOKUP(I605,[2]LISTAS!$A$15:$B$50,2,0))","v":""},{"$f":"IF(ISERROR(VLOOKUP(K605,[2]LISTAS!$A$15:$B$50,2,0)),\"\",VLOOKUP(K605,[2]LISTAS!$A$15:$B$50,2,0))","v":""},{"$f":"IF(ISERROR(VLOOKUP(M605,[2]LISTAS!$A$15:$B$50,2,0)),\"\",VLOOKUP(M605,[2]LISTAS!$A$15:$B$50,2,0))","v":""},{"$f":"IF(ISERROR(VLOOKUP(O605,[2]LISTAS!$A$15:$B$50,2,0)),\"\",VLOOKUP(O605,[2]LISTAS!$A$15:$B$50,2,0))","v":""},{"$f":"IF(ISERROR(VLOOKUP(6,[2]LISTAS!$A$15:$B$50,2,0)),\"\",VLOOKUP(6,[2]LISTAS!$A$15:$B$50,2,0))","v":""},null,{"$f":"_xlfn.IFS(T605=\"------\",AD605,T605=\"LA RELACIÓN DE ACTIVIDADES DEBE SER A PARTIR DE LA SIGUIENTE FILA\",\"LA RELACIÓN DE ACTIVIDADES DEBE SER A PARTIR DE LA SIGUIENTE FILA\",T605<>\"------\",T605)","v":""},null,"ok"]
[null,null,null,null,null,null,null,null,null,null,null,null,null,null,null,null,null,null,null,"",{"$f":"IF(ISERROR(VLOOKUP(E606,[2]LISTAS!$A$15:$B$50,2,0)),\"\",VLOOKUP(E606,[2]LISTAS!$A$15:$B$50,2,0))","v":""},{"$f":"IF(ISERROR(VLOOKUP(G606,[2]LISTAS!$A$15:$B$50,2,0)),\"\",VLOOKUP(G606,[2]LISTAS!$A$15:$B$50,2,0))","v":""},{"$f":"IF(ISERROR(VLOOKUP(I606,[2]LISTAS!$A$15:$B$50,2,0)),\"\",VLOOKUP(I606,[2]LISTAS!$A$15:$B$50,2,0))","v":""},{"$f":"IF(ISERROR(VLOOKUP(K606,[2]LISTAS!$A$15:$B$50,2,0)),\"\",VLOOKUP(K606,[2]LISTAS!$A$15:$B$50,2,0))","v":""},{"$f":"IF(ISERROR(VLOOKUP(M606,[2]LISTAS!$A$15:$B$50,2,0)),\"\",VLOOKUP(M606,[2]LISTAS!$A$15:$B$50,2,0))","v":""},{"$f":"IF(ISERROR(VLOOKUP(O606,[2]LISTAS!$A$15:$B$50,2,0)),\"\",VLOOKUP(O606,[2]LISTAS!$A$15:$B$50,2,0))","v":""},{"$f":"IF(ISERROR(VLOOKUP(6,[2]LISTAS!$A$15:$B$50,2,0)),\"\",VLOOKUP(6,[2]LISTAS!$A$15:$B$50,2,0))","v":""},null,{"$f":"_xlfn.IFS(T606=\"------\",AD606,T606=\"LA RELACIÓN DE ACTIVIDADES DEBE SER A PARTIR DE LA SIGUIENTE FILA\",\"LA RELACIÓN DE ACTIVIDADES DEBE SER A PARTIR DE LA SIGUIENTE FILA\",T606<>\"------\",T606)","v":""},null,"ok"]
[null,null,null,null,null,null,null,null,null,null,null,null,null,null,null,null,null,null,null,"",{"$f":"IF(ISERROR(VLOOKUP(E607,[2]LISTAS!$A$15:$B$50,2,0)),\"\",VLOOKUP(E607,[2]LISTAS!$A$15:$B$50,2,0))","v":""},{"$f":"IF(ISERROR(VLOOKUP(G607,[2]LISTAS!$A$15:$B$50,2,0)),\"\",VLOOKUP(G607,[2]LISTAS!$A$15:$B$50,2,0))","v":""},{"$f":"IF(ISERROR(VLOOKUP(I607,[2]LISTAS!$A$15:$B$50,2,0)),\"\",VLOOKUP(I607,[2]LISTAS!$A$15:$B$50,2,0))","v":""},{"$f":"IF(ISERROR(VLOOKUP(K607,[2]LISTAS!$A$15:$B$50,2,0)),\"\",VLOOKUP(K607,[2]LISTAS!$A$15:$B$50,2,0))","v":""},{"$f":"IF(ISERROR(VLOOKUP(M607,[2]LISTAS!$A$15:$B$50,2,0)),\"\",VLOOKUP(M607,[2]LISTAS!$A$15:$B$50,2,0))","v":""},{"$f":"IF(ISERROR(VLOOKUP(O607,[2]LISTAS!$A$15:$B$50,2,0)),\"\",VLOOKUP(O607,[2]LISTAS!$A$15:$B$50,2,0))","v":""},{"$f":"IF(ISERROR(VLOOKUP(6,[2]LISTAS!$A$15:$B$50,2,0)),\"\",VLOOKUP(6,[2]LISTAS!$A$15:$B$50,2,0))","v":""},null,{"$f":"_xlfn.IFS(T607=\"------\",AD607,T607=\"LA RELACIÓN DE ACTIVIDADES DEBE SER A PARTIR DE LA SIGUIENTE FILA\",\"LA RELACIÓN DE ACTIVIDADES DEBE SER A PARTIR DE LA SIGUIENTE FILA\",T607<>\"------\",T607)","v":""},null,"ok"]
[null,null,null,null,null,null,null,null,null,null,null,null,null,null,null,null,null,null,null,"",{"$f":"IF(ISERROR(VLOOKUP(E608,[2]LISTAS!$A$15:$B$50,2,0)),\"\",VLOOKUP(E608,[2]LISTAS!$A$15:$B$50,2,0))","v":""},{"$f":"IF(ISERROR(VLOOKUP(G608,[2]LISTAS!$A$15:$B$50,2,0)),\"\",VLOOKUP(G608,[2]LISTAS!$A$15:$B$50,2,0))","v":""},{"$f":"IF(ISERROR(VLOOKUP(I608,[2]LISTAS!$A$15:$B$50,2,0)),\"\",VLOOKUP(I608,[2]LISTAS!$A$15:$B$50,2,0))","v":""},{"$f":"IF(ISERROR(VLOOKUP(K608,[2]LISTAS!$A$15:$B$50,2,0)),\"\",VLOOKUP(K608,[2]LISTAS!$A$15:$B$50,2,0))","v":""},{"$f":"IF(ISERROR(VLOOKUP(M608,[2]LISTAS!$A$15:$B$50,2,0)),\"\",VLOOKUP(M608,[2]LISTAS!$A$15:$B$50,2,0))","v":""},{"$f":"IF(ISERROR(VLOOKUP(O608,[2]LISTAS!$A$15:$B$50,2,0)),\"\",VLOOKUP(O608,[2]LISTAS!$A$15:$B$50,2,0))","v":""},{"$f":"IF(ISERROR(VLOOKUP(6,[2]LISTAS!$A$15:$B$50,2,0)),\"\",VLOOKUP(6,[2]LISTAS!$A$15:$B$50,2,0))","v":""},null,{"$f":"_xlfn.IFS(T608=\"------\",AD608,T608=\"LA RELACIÓN DE ACTIVIDADES DEBE SER A PARTIR DE LA SIGUIENTE FILA\",\"LA RELACIÓN DE ACTIVIDADES DEBE SER A PARTIR DE LA SIGUIENTE FILA\",T608<>\"------\",T608)","v":""},null,"ok"]
[null,null,null,null,null,null,null,null,null,null,null,null,null,null,null,null,null,null,null,"",{"$f":"IF(ISERROR(VLOOKUP(E609,[2]LISTAS!$A$15:$B$50,2,0)),\"\",VLOOKUP(E609,[2]LISTAS!$A$15:$B$50,2,0))","v":""},{"$f":"IF(ISERROR(VLOOKUP(G609,[2]LISTAS!$A$15:$B$50,2,0)),\"\",VLOOKUP(G609,[2]LISTAS!$A$15:$B$50,2,0))","v":""},{"$f":"IF(ISERROR(VLOOKUP(I609,[2]LISTAS!$A$15:$B$50,2,0)),\"\",VLOOKUP(I609,[2]LISTAS!$A$15:$B$50,2,0))","v":""},{"$f":"IF(ISERROR(VLOOKUP(K609,[2]LISTAS!$A$15:$B$50,2,0)),\"\",VLOOKUP(K609,[2]LISTAS!$A$15:$B$50,2,0))","v":""},{"$f":"IF(ISERROR(VLOOKUP(M609,[2]LISTAS!$A$15:$B$50,2,0)),\"\",VLOOKUP(M609,[2]LISTAS!$A$15:$B$50,2,0))","v":""},{"$f":"IF(ISERROR(VLOOKUP(O609,[2]LISTAS!$A$15:$B$50,2,0)),\"\",VLOOKUP(O609,[2]LISTAS!$A$15:$B$50,2,0))","v":""},{"$f":"IF(ISERROR(VLOOKUP(6,[2]LISTAS!$A$15:$B$50,2,0)),\"\",VLOOKUP(6,[2]LISTAS!$A$15:$B$50,2,0))","v":""},null,{"$f":"_xlfn.IFS(T609=\"------\",AD609,T609=\"LA RELACIÓN DE ACTIVIDADES DEBE SER A PARTIR DE LA SIGUIENTE FILA\",\"LA RELACIÓN DE ACTIVIDADES DEBE SER A PARTIR DE LA SIGUIENTE FILA\",T609<>\"------\",T609)","v":""},null,"ok"]
[null,null,null,null,null,null,null,null,null,null,null,null,null,null,null,null,null,null,null,"",{"$f":"IF(ISERROR(VLOOKUP(E610,[2]LISTAS!$A$15:$B$50,2,0)),\"\",VLOOKUP(E610,[2]LISTAS!$A$15:$B$50,2,0))","v":""},{"$f":"IF(ISERROR(VLOOKUP(G610,[2]LISTAS!$A$15:$B$50,2,0)),\"\",VLOOKUP(G610,[2]LISTAS!$A$15:$B$50,2,0))","v":""},{"$f":"IF(ISERROR(VLOOKUP(I610,[2]LISTAS!$A$15:$B$50,2,0)),\"\",VLOOKUP(I610,[2]LISTAS!$A$15:$B$50,2,0))","v":""},{"$f":"IF(ISERROR(VLOOKUP(K610,[2]LISTAS!$A$15:$B$50,2,0)),\"\",VLOOKUP(K610,[2]LISTAS!$A$15:$B$50,2,0))","v":""},{"$f":"IF(ISERROR(VLOOKUP(M610,[2]LISTAS!$A$15:$B$50,2,0)),\"\",VLOOKUP(M610,[2]LISTAS!$A$15:$B$50,2,0))","v":""},{"$f":"IF(ISERROR(VLOOKUP(O610,[2]LISTAS!$A$15:$B$50,2,0)),\"\",VLOOKUP(O610,[2]LISTAS!$A$15:$B$50,2,0))","v":""},{"$f":"IF(ISERROR(VLOOKUP(6,[2]LISTAS!$A$15:$B$50,2,0)),\"\",VLOOKUP(6,[2]LISTAS!$A$15:$B$50,2,0))","v":""},null,{"$f":"_xlfn.IFS(T610=\"------\",AD610,T610=\"LA RELACIÓN DE ACTIVIDADES DEBE SER A PARTIR DE LA SIGUIENTE FILA\",\"LA RELACIÓN DE ACTIVIDADES DEBE SER A PARTIR DE LA SIGUIENTE FILA\",T610<>\"------\",T610)","v":""},null,"ok"]
[null,null,null,null,null,null,null,null,null,null,null,null,null,null,null,null,null,null,null,"",{"$f":"IF(ISERROR(VLOOKUP(E611,[2]LISTAS!$A$15:$B$50,2,0)),\"\",VLOOKUP(E611,[2]LISTAS!$A$15:$B$50,2,0))","v":""},{"$f":"IF(ISERROR(VLOOKUP(G611,[2]LISTAS!$A$15:$B$50,2,0)),\"\",VLOOKUP(G611,[2]LISTAS!$A$15:$B$50,2,0))","v":""},{"$f":"IF(ISERROR(VLOOKUP(I611,[2]LISTAS!$A$15:$B$50,2,0)),\"\",VLOOKUP(I611,[2]LISTAS!$A$15:$B$50,2,0))","v":""},{"$f":"IF(ISERROR(VLOOKUP(K611,[2]LISTAS!$A$15:$B$50,2,0)),\"\",VLOOKUP(K611,[2]LISTAS!$A$15:$B$50,2,0))","v":""},{"$f":"IF(ISERROR(VLOOKUP(M611,[2]LISTAS!$A$15:$B$50,2,0)),\"\",VLOOKUP(M611,[2]LISTAS!$A$15:$B$50,2,0))","v":""},{"$f":"IF(ISERROR(VLOOKUP(O611,[2]LISTAS!$A$15:$B$50,2,0)),\"\",VLOOKUP(O611,[2]LISTAS!$A$15:$B$50,2,0))","v":""},{"$f":"IF(ISERROR(VLOOKUP(6,[2]LISTAS!$A$15:$B$50,2,0)),\"\",VLOOKUP(6,[2]LISTAS!$A$15:$B$50,2,0))","v":""},null,{"$f":"_xlfn.IFS(T611=\"------\",AD611,T611=\"LA RELACIÓN DE ACTIVIDADES DEBE SER A PARTIR DE LA SIGUIENTE FILA\",\"LA RELACIÓN DE ACTIVIDADES DEBE SER A PARTIR DE LA SIGUIENTE FILA\",T611<>\"------\",T611)","v":""},null,"ok"]
[null,null,null,null,null,null,null,null,null,null,null,null,null,null,null,null,null,null,null,"",{"$f":"IF(ISERROR(VLOOKUP(E612,[2]LISTAS!$A$15:$B$50,2,0)),\"\",VLOOKUP(E612,[2]LISTAS!$A$15:$B$50,2,0))","v":""},{"$f":"IF(ISERROR(VLOOKUP(G612,[2]LISTAS!$A$15:$B$50,2,0)),\"\",VLOOKUP(G612,[2]LISTAS!$A$15:$B$50,2,0))","v":""},{"$f":"IF(ISERROR(VLOOKUP(I612,[2]LISTAS!$A$15:$B$50,2,0)),\"\",VLOOKUP(I612,[2]LISTAS!$A$15:$B$50,2,0))","v":""},{"$f":"IF(ISERROR(VLOOKUP(K612,[2]LISTAS!$A$15:$B$50,2,0)),\"\",VLOOKUP(K612,[2]LISTAS!$A$15:$B$50,2,0))","v":""},{"$f":"IF(ISERROR(VLOOKUP(M612,[2]LISTAS!$A$15:$B$50,2,0)),\"\",VLOOKUP(M612,[2]LISTAS!$A$15:$B$50,2,0))","v":""},{"$f":"IF(ISERROR(VLOOKUP(O612,[2]LISTAS!$A$15:$B$50,2,0)),\"\",VLOOKUP(O612,[2]LISTAS!$A$15:$B$50,2,0))","v":""},{"$f":"IF(ISERROR(VLOOKUP(6,[2]LISTAS!$A$15:$B$50,2,0)),\"\",VLOOKUP(6,[2]LISTAS!$A$15:$B$50,2,0))","v":""},null,{"$f":"_xlfn.IFS(T612=\"------\",AD612,T612=\"LA RELACIÓN DE ACTIVIDADES DEBE SER A PARTIR DE LA SIGUIENTE FILA\",\"LA RELACIÓN DE ACTIVIDADES DEBE SER A PARTIR DE LA SIGUIENTE FILA\",T612<>\"------\",T612)","v":""},null,"ok"]
[null,null,null,null,null,null,null,null,null,null,null,null,null,null,null,null,null,null,null,"",{"$f":"IF(ISERROR(VLOOKUP(E613,[2]LISTAS!$A$15:$B$50,2,0)),\"\",VLOOKUP(E613,[2]LISTAS!$A$15:$B$50,2,0))","v":""},{"$f":"IF(ISERROR(VLOOKUP(G613,[2]LISTAS!$A$15:$B$50,2,0)),\"\",VLOOKUP(G613,[2]LISTAS!$A$15:$B$50,2,0))","v":""},{"$f":"IF(ISERROR(VLOOKUP(I613,[2]LISTAS!$A$15:$B$50,2,0)),\"\",VLOOKUP(I613,[2]LISTAS!$A$15:$B$50,2,0))","v":""},{"$f":"IF(ISERROR(VLOOKUP(K613,[2]LISTAS!$A$15:$B$50,2,0)),\"\",VLOOKUP(K613,[2]LISTAS!$A$15:$B$50,2,0))","v":""},{"$f":"IF(ISERROR(VLOOKUP(M613,[2]LISTAS!$A$15:$B$50,2,0)),\"\",VLOOKUP(M613,[2]LISTAS!$A$15:$B$50,2,0))","v":""},{"$f":"IF(ISERROR(VLOOKUP(O613,[2]LISTAS!$A$15:$B$50,2,0)),\"\",VLOOKUP(O613,[2]LISTAS!$A$15:$B$50,2,0))","v":""},{"$f":"IF(ISERROR(VLOOKUP(6,[2]LISTAS!$A$15:$B$50,2,0)),\"\",VLOOKUP(6,[2]LISTAS!$A$15:$B$50,2,0))","v":""},null,{"$f":"_xlfn.IFS(T613=\"------\",AD613,T613=\"LA RELACIÓN DE ACTIVIDADES DEBE SER A PARTIR DE LA SIGUIENTE FILA\",\"LA RELACIÓN DE ACTIVIDADES DEBE SER A PARTIR DE LA SIGUIENTE FILA\",T613<>\"------\",T613)","v":""},null,"ok"]
[null,null,null,null,null,null,null,null,null,null,null,null,null,null,null,null,null,null,null,"",{"$f":"IF(ISERROR(VLOOKUP(E614,[2]LISTAS!$A$15:$B$50,2,0)),\"\",VLOOKUP(E614,[2]LISTAS!$A$15:$B$50,2,0))","v":""},{"$f":"IF(ISERROR(VLOOKUP(G614,[2]LISTAS!$A$15:$B$50,2,0)),\"\",VLOOKUP(G614,[2]LISTAS!$A$15:$B$50,2,0))","v":""},{"$f":"IF(ISERROR(VLOOKUP(I614,[2]LISTAS!$A$15:$B$50,2,0)),\"\",VLOOKUP(I614,[2]LISTAS!$A$15:$B$50,2,0))","v":""},{"$f":"IF(ISERROR(VLOOKUP(K614,[2]LISTAS!$A$15:$B$50,2,0)),\"\",VLOOKUP(K614,[2]LISTAS!$A$15:$B$50,2,0))","v":""},{"$f":"IF(ISERROR(VLOOKUP(M614,[2]LISTAS!$A$15:$B$50,2,0)),\"\",VLOOKUP(M614,[2]LISTAS!$A$15:$B$50,2,0))","v":""},{"$f":"IF(ISERROR(VLOOKUP(O614,[2]LISTAS!$A$15:$B$50,2,0)),\"\",VLOOKUP(O614,[2]LISTAS!$A$15:$B$50,2,0))","v":""},{"$f":"IF(ISERROR(VLOOKUP(6,[2]LISTAS!$A$15:$B$50,2,0)),\"\",VLOOKUP(6,[2]LISTAS!$A$15:$B$50,2,0))","v":""},null,{"$f":"_xlfn.IFS(T614=\"------\",AD614,T614=\"LA RELACIÓN DE ACTIVIDADES DEBE SER A PARTIR DE LA SIGUIENTE FILA\",\"LA RELACIÓN DE ACTIVIDADES DEBE SER A PARTIR DE LA SIGUIENTE FILA\",T614<>\"------\",T614)","v":""},null,"ok"]
[null,null,null,null,null,null,null,null,null,null,null,null,null,null,null,null,null,null,null,"",{"$f":"IF(ISERROR(VLOOKUP(E615,[2]LISTAS!$A$15:$B$50,2,0)),\"\",VLOOKUP(E615,[2]LISTAS!$A$15:$B$50,2,0))","v":""},{"$f":"IF(ISERROR(VLOOKUP(G615,[2]LISTAS!$A$15:$B$50,2,0)),\"\",VLOOKUP(G615,[2]LISTAS!$A$15:$B$50,2,0))","v":""},{"$f":"IF(ISERROR(VLOOKUP(I615,[2]LISTAS!$A$15:$B$50,2,0)),\"\",VLOOKUP(I615,[2]LISTAS!$A$15:$B$50,2,0))","v":""},{"$f":"IF(ISERROR(VLOOKUP(K615,[2]LISTAS!$A$15:$B$50,2,0)),\"\",VLOOKUP(K615,[2]LISTAS!$A$15:$B$50,2,0))","v":""},{"$f":"IF(ISERROR(VLOOKUP(M615,[2]LISTAS!$A$15:$B$50,2,0)),\"\",VLOOKUP(M615,[2]LISTAS!$A$15:$B$50,2,0))","v":""},{"$f":"IF(ISERROR(VLOOKUP(O615,[2]LISTAS!$A$15:$B$50,2,0)),\"\",VLOOKUP(O615,[2]LISTAS!$A$15:$B$50,2,0))","v":""},{"$f":"IF(ISERROR(VLOOKUP(6,[2]LISTAS!$A$15:$B$50,2,0)),\"\",VLOOKUP(6,[2]LISTAS!$A$15:$B$50,2,0))","v":""},null,{"$f":"_xlfn.IFS(T615=\"------\",AD615,T615=\"LA RELACIÓN DE ACTIVIDADES DEBE SER A PARTIR DE LA SIGUIENTE FILA\",\"LA RELACIÓN DE ACTIVIDADES DEBE SER A PARTIR DE LA SIGUIENTE FILA\",T615<>\"------\",T615)","v":""},null,"ok"]
[null,null,null,null,null,null,null,null,null,null,null,null,null,null,null,null,null,null,null,"",{"$f":"IF(ISERROR(VLOOKUP(E616,[2]LISTAS!$A$15:$B$50,2,0)),\"\",VLOOKUP(E616,[2]LISTAS!$A$15:$B$50,2,0))","v":""},{"$f":"IF(ISERROR(VLOOKUP(G616,[2]LISTAS!$A$15:$B$50,2,0)),\"\",VLOOKUP(G616,[2]LISTAS!$A$15:$B$50,2,0))","v":""},{"$f":"IF(ISERROR(VLOOKUP(I616,[2]LISTAS!$A$15:$B$50,2,0)),\"\",VLOOKUP(I616,[2]LISTAS!$A$15:$B$50,2,0))","v":""},{"$f":"IF(ISERROR(VLOOKUP(K616,[2]LISTAS!$A$15:$B$50,2,0)),\"\",VLOOKUP(K616,[2]LISTAS!$A$15:$B$50,2,0))","v":""},{"$f":"IF(ISERROR(VLOOKUP(M616,[2]LISTAS!$A$15:$B$50,2,0)),\"\",VLOOKUP(M616,[2]LISTAS!$A$15:$B$50,2,0))","v":""},{"$f":"IF(ISERROR(VLOOKUP(O616,[2]LISTAS!$A$15:$B$50,2,0)),\"\",VLOOKUP(O616,[2]LISTAS!$A$15:$B$50,2,0))","v":""},{"$f":"IF(ISERROR(VLOOKUP(6,[2]LISTAS!$A$15:$B$50,2,0)),\"\",VLOOKUP(6,[2]LISTAS!$A$15:$B$50,2,0))","v":""},null,{"$f":"_xlfn.IFS(T616=\"------\",AD616,T616=\"LA RELACIÓN DE ACTIVIDADES DEBE SER A PARTIR DE LA SIGUIENTE FILA\",\"LA RELACIÓN DE ACTIVIDADES DEBE SER A PARTIR DE LA SIGUIENTE FILA\",T616<>\"------\",T616)","v":""},null,"ok"]
[null,null,null,null,null,null,null,null,null,null,null,null,null,null,null,null,null,null,null,"",{"$f":"IF(ISERROR(VLOOKUP(E617,[2]LISTAS!$A$15:$B$50,2,0)),\"\",VLOOKUP(E617,[2]LISTAS!$A$15:$B$50,2,0))","v":""},{"$f":"IF(ISERROR(VLOOKUP(G617,[2]LISTAS!$A$15:$B$50,2,0)),\"\",VLOOKUP(G617,[2]LISTAS!$A$15:$B$50,2,0))","v":""},{"$f":"IF(ISERROR(VLOOKUP(I617,[2]LISTAS!$A$15:$B$50,2,0)),\"\",VLOOKUP(I617,[2]LISTAS!$A$15:$B$50,2,0))","v":""},{"$f":"IF(ISERROR(VLOOKUP(K617,[2]LISTAS!$A$15:$B$50,2,0)),\"\",VLOOKUP(K617,[2]LISTAS!$A$15:$B$50,2,0))","v":""},{"$f":"IF(ISERROR(VLOOKUP(M617,[2]LISTAS!$A$15:$B$50,2,0)),\"\",VLOOKUP(M617,[2]LISTAS!$A$15:$B$50,2,0))","v":""},{"$f":"IF(ISERROR(VLOOKUP(O617,[2]LISTAS!$A$15:$B$50,2,0)),\"\",VLOOKUP(O617,[2]LISTAS!$A$15:$B$50,2,0))","v":""},{"$f":"IF(ISERROR(VLOOKUP(6,[2]LISTAS!$A$15:$B$50,2,0)),\"\",VLOOKUP(6,[2]LISTAS!$A$15:$B$50,2,0))","v":""},null,{"$f":"_xlfn.IFS(T617=\"------\",AD617,T617=\"LA RELACIÓN DE ACTIVIDADES DEBE SER A PARTIR DE LA SIGUIENTE FILA\",\"LA RELACIÓN DE ACTIVIDADES DEBE SER A PARTIR DE LA SIGUIENTE FILA\",T617<>\"------\",T617)","v":""},null,"ok"]
[null,null,null,null,null,null,null,null,null,null,null,null,null,null,null,null,null,null,null,"",{"$f":"IF(ISERROR(VLOOKUP(E618,[2]LISTAS!$A$15:$B$50,2,0)),\"\",VLOOKUP(E618,[2]LISTAS!$A$15:$B$50,2,0))","v":""},{"$f":"IF(ISERROR(VLOOKUP(G618,[2]LISTAS!$A$15:$B$50,2,0)),\"\",VLOOKUP(G618,[2]LISTAS!$A$15:$B$50,2,0))","v":""},{"$f":"IF(ISERROR(VLOOKUP(I618,[2]LISTAS!$A$15:$B$50,2,0)),\"\",VLOOKUP(I618,[2]LISTAS!$A$15:$B$50,2,0))","v":""},{"$f":"IF(ISERROR(VLOOKUP(K618,[2]LISTAS!$A$15:$B$50,2,0)),\"\",VLOOKUP(K618,[2]LISTAS!$A$15:$B$50,2,0))","v":""},{"$f":"IF(ISERROR(VLOOKUP(M618,[2]LISTAS!$A$15:$B$50,2,0)),\"\",VLOOKUP(M618,[2]LISTAS!$A$15:$B$50,2,0))","v":""},{"$f":"IF(ISERROR(VLOOKUP(O618,[2]LISTAS!$A$15:$B$50,2,0)),\"\",VLOOKUP(O618,[2]LISTAS!$A$15:$B$50,2,0))","v":""},{"$f":"IF(ISERROR(VLOOKUP(6,[2]LISTAS!$A$15:$B$50,2,0)),\"\",VLOOKUP(6,[2]LISTAS!$A$15:$B$50,2,0))","v":""},null,{"$f":"_xlfn.IFS(T618=\"------\",AD618,T618=\"LA RELACIÓN DE ACTIVIDADES DEBE SER A PARTIR DE LA SIGUIENTE FILA\",\"LA RELACIÓN DE ACTIVIDADES DEBE SER A PARTIR DE LA SIGUIENTE FILA\",T618<>\"------\",T618)","v":""},null,"ok"]
[null,null,null,null,null,null,null,null,null,null,null,null,null,null,null,null,null,null,null,"",{"$f":"IF(ISERROR(VLOOKUP(E619,[2]LISTAS!$A$15:$B$50,2,0)),\"\",VLOOKUP(E619,[2]LISTAS!$A$15:$B$50,2,0))","v":""},{"$f":"IF(ISERROR(VLOOKUP(G619,[2]LISTAS!$A$15:$B$50,2,0)),\"\",VLOOKUP(G619,[2]LISTAS!$A$15:$B$50,2,0))","v":""},{"$f":"IF(ISERROR(VLOOKUP(I619,[2]LISTAS!$A$15:$B$50,2,0)),\"\",VLOOKUP(I619,[2]LISTAS!$A$15:$B$50,2,0))","v":""},{"$f":"IF(ISERROR(VLOOKUP(K619,[2]LISTAS!$A$15:$B$50,2,0)),\"\",VLOOKUP(K619,[2]LISTAS!$A$15:$B$50,2,0))","v":""},{"$f":"IF(ISERROR(VLOOKUP(M619,[2]LISTAS!$A$15:$B$50,2,0)),\"\",VLOOKUP(M619,[2]LISTAS!$A$15:$B$50,2,0))","v":""},{"$f":"IF(ISERROR(VLOOKUP(O619,[2]LISTAS!$A$15:$B$50,2,0)),\"\",VLOOKUP(O619,[2]LISTAS!$A$15:$B$50,2,0))","v":""},{"$f":"IF(ISERROR(VLOOKUP(6,[2]LISTAS!$A$15:$B$50,2,0)),\"\",VLOOKUP(6,[2]LISTAS!$A$15:$B$50,2,0))","v":""},null,{"$f":"_xlfn.IFS(T619=\"------\",AD619,T619=\"LA RELACIÓN DE ACTIVIDADES DEBE SER A PARTIR DE LA SIGUIENTE FILA\",\"LA RELACIÓN DE ACTIVIDADES DEBE SER A PARTIR DE LA SIGUIENTE FILA\",T619<>\"------\",T619)","v":""},null,"ok"]
[null,null,null,null,null,null,null,null,null,null,null,null,null,null,null,null,null,null,null,"",{"$f":"IF(ISERROR(VLOOKUP(E620,[2]LISTAS!$A$15:$B$50,2,0)),\"\",VLOOKUP(E620,[2]LISTAS!$A$15:$B$50,2,0))","v":""},{"$f":"IF(ISERROR(VLOOKUP(G620,[2]LISTAS!$A$15:$B$50,2,0)),\"\",VLOOKUP(G620,[2]LISTAS!$A$15:$B$50,2,0))","v":""},{"$f":"IF(ISERROR(VLOOKUP(I620,[2]LISTAS!$A$15:$B$50,2,0)),\"\",VLOOKUP(I620,[2]LISTAS!$A$15:$B$50,2,0))","v":""},{"$f":"IF(ISERROR(VLOOKUP(K620,[2]LISTAS!$A$15:$B$50,2,0)),\"\",VLOOKUP(K620,[2]LISTAS!$A$15:$B$50,2,0))","v":""},{"$f":"IF(ISERROR(VLOOKUP(M620,[2]LISTAS!$A$15:$B$50,2,0)),\"\",VLOOKUP(M620,[2]LISTAS!$A$15:$B$50,2,0))","v":""},{"$f":"IF(ISERROR(VLOOKUP(O620,[2]LISTAS!$A$15:$B$50,2,0)),\"\",VLOOKUP(O620,[2]LISTAS!$A$15:$B$50,2,0))","v":""},{"$f":"IF(ISERROR(VLOOKUP(6,[2]LISTAS!$A$15:$B$50,2,0)),\"\",VLOOKUP(6,[2]LISTAS!$A$15:$B$50,2,0))","v":""},null,{"$f":"_xlfn.IFS(T620=\"------\",AD620,T620=\"LA RELACIÓN DE ACTIVIDADES DEBE SER A PARTIR DE LA SIGUIENTE FILA\",\"LA RELACIÓN DE ACTIVIDADES DEBE SER A PARTIR DE LA SIGUIENTE FILA\",T620<>\"------\",T620)","v":""},null,"ok"]
[null,null,null,null,null,null,null,null,null,null,null,null,null,null,null,null,null,null,null,"",{"$f":"IF(ISERROR(VLOOKUP(E621,[2]LISTAS!$A$15:$B$50,2,0)),\"\",VLOOKUP(E621,[2]LISTAS!$A$15:$B$50,2,0))","v":""},{"$f":"IF(ISERROR(VLOOKUP(G621,[2]LISTAS!$A$15:$B$50,2,0)),\"\",VLOOKUP(G621,[2]LISTAS!$A$15:$B$50,2,0))","v":""},{"$f":"IF(ISERROR(VLOOKUP(I621,[2]LISTAS!$A$15:$B$50,2,0)),\"\",VLOOKUP(I621,[2]LISTAS!$A$15:$B$50,2,0))","v":""},{"$f":"IF(ISERROR(VLOOKUP(K621,[2]LISTAS!$A$15:$B$50,2,0)),\"\",VLOOKUP(K621,[2]LISTAS!$A$15:$B$50,2,0))","v":""},{"$f":"IF(ISERROR(VLOOKUP(M621,[2]LISTAS!$A$15:$B$50,2,0)),\"\",VLOOKUP(M621,[2]LISTAS!$A$15:$B$50,2,0))","v":""},{"$f":"IF(ISERROR(VLOOKUP(O621,[2]LISTAS!$A$15:$B$50,2,0)),\"\",VLOOKUP(O621,[2]LISTAS!$A$15:$B$50,2,0))","v":""},{"$f":"IF(ISERROR(VLOOKUP(6,[2]LISTAS!$A$15:$B$50,2,0)),\"\",VLOOKUP(6,[2]LISTAS!$A$15:$B$50,2,0))","v":""},null,{"$f":"_xlfn.IFS(T621=\"------\",AD621,T621=\"LA RELACIÓN DE ACTIVIDADES DEBE SER A PARTIR DE LA SIGUIENTE FILA\",\"LA RELACIÓN DE ACTIVIDADES DEBE SER A PARTIR DE LA SIGUIENTE FILA\",T621<>\"------\",T621)","v":""},null,"ok"]
[null,null,null,null,null,null,null,null,null,null,null,null,null,null,null,null,null,null,null,"",{"$f":"IF(ISERROR(VLOOKUP(E622,[2]LISTAS!$A$15:$B$50,2,0)),\"\",VLOOKUP(E622,[2]LISTAS!$A$15:$B$50,2,0))","v":""},{"$f":"IF(ISERROR(VLOOKUP(G622,[2]LISTAS!$A$15:$B$50,2,0)),\"\",VLOOKUP(G622,[2]LISTAS!$A$15:$B$50,2,0))","v":""},{"$f":"IF(ISERROR(VLOOKUP(I622,[2]LISTAS!$A$15:$B$50,2,0)),\"\",VLOOKUP(I622,[2]LISTAS!$A$15:$B$50,2,0))","v":""},{"$f":"IF(ISERROR(VLOOKUP(K622,[2]LISTAS!$A$15:$B$50,2,0)),\"\",VLOOKUP(K622,[2]LISTAS!$A$15:$B$50,2,0))","v":""},{"$f":"IF(ISERROR(VLOOKUP(M622,[2]LISTAS!$A$15:$B$50,2,0)),\"\",VLOOKUP(M622,[2]LISTAS!$A$15:$B$50,2,0))","v":""},{"$f":"IF(ISERROR(VLOOKUP(O622,[2]LISTAS!$A$15:$B$50,2,0)),\"\",VLOOKUP(O622,[2]LISTAS!$A$15:$B$50,2,0))","v":""},{"$f":"IF(ISERROR(VLOOKUP(6,[2]LISTAS!$A$15:$B$50,2,0)),\"\",VLOOKUP(6,[2]LISTAS!$A$15:$B$50,2,0))","v":""},null,{"$f":"_xlfn.IFS(T622=\"------\",AD622,T622=\"LA RELACIÓN DE ACTIVIDADES DEBE SER A PARTIR DE LA SIGUIENTE FILA\",\"LA RELACIÓN DE ACTIVIDADES DEBE SER A PARTIR DE LA SIGUIENTE FILA\",T622<>\"------\",T622)","v":""},null,"ok"]
[null,null,null,null,null,null,null,null,null,null,null,null,null,null,null,null,null,null,null,"",{"$f":"IF(ISERROR(VLOOKUP(E623,[2]LISTAS!$A$15:$B$50,2,0)),\"\",VLOOKUP(E623,[2]LISTAS!$A$15:$B$50,2,0))","v":""},{"$f":"IF(ISERROR(VLOOKUP(G623,[2]LISTAS!$A$15:$B$50,2,0)),\"\",VLOOKUP(G623,[2]LISTAS!$A$15:$B$50,2,0))","v":""},{"$f":"IF(ISERROR(VLOOKUP(I623,[2]LISTAS!$A$15:$B$50,2,0)),\"\",VLOOKUP(I623,[2]LISTAS!$A$15:$B$50,2,0))","v":""},{"$f":"IF(ISERROR(VLOOKUP(K623,[2]LISTAS!$A$15:$B$50,2,0)),\"\",VLOOKUP(K623,[2]LISTAS!$A$15:$B$50,2,0))","v":""},{"$f":"IF(ISERROR(VLOOKUP(M623,[2]LISTAS!$A$15:$B$50,2,0)),\"\",VLOOKUP(M623,[2]LISTAS!$A$15:$B$50,2,0))","v":""},{"$f":"IF(ISERROR(VLOOKUP(O623,[2]LISTAS!$A$15:$B$50,2,0)),\"\",VLOOKUP(O623,[2]LISTAS!$A$15:$B$50,2,0))","v":""},{"$f":"IF(ISERROR(VLOOKUP(6,[2]LISTAS!$A$15:$B$50,2,0)),\"\",VLOOKUP(6,[2]LISTAS!$A$15:$B$50,2,0))","v":""},null,{"$f":"_xlfn.IFS(T623=\"------\",AD623,T623=\"LA RELACIÓN DE ACTIVIDADES DEBE SER A PARTIR DE LA SIGUIENTE FILA\",\"LA RELACIÓN DE ACTIVIDADES DEBE SER A PARTIR DE LA SIGUIENTE FILA\",T623<>\"------\",T623)","v":""},null,"ok"]
[null,null,null,null,null,null,null,null,null,null,null,null,null,null,null,null,null,null,null,"",{"$f":"IF(ISERROR(VLOOKUP(E624,[2]LISTAS!$A$15:$B$50,2,0)),\"\",VLOOKUP(E624,[2]LISTAS!$A$15:$B$50,2,0))","v":""},{"$f":"IF(ISERROR(VLOOKUP(G624,[2]LISTAS!$A$15:$B$50,2,0)),\"\",VLOOKUP(G624,[2]LISTAS!$A$15:$B$50,2,0))","v":""},{"$f":"IF(ISERROR(VLOOKUP(I624,[2]LISTAS!$A$15:$B$50,2,0)),\"\",VLOOKUP(I624,[2]LISTAS!$A$15:$B$50,2,0))","v":""},{"$f":"IF(ISERROR(VLOOKUP(K624,[2]LISTAS!$A$15:$B$50,2,0)),\"\",VLOOKUP(K624,[2]LISTAS!$A$15:$B$50,2,0))","v":""},{"$f":"IF(ISERROR(VLOOKUP(M624,[2]LISTAS!$A$15:$B$50,2,0)),\"\",VLOOKUP(M624,[2]LISTAS!$A$15:$B$50,2,0))","v":""},{"$f":"IF(ISERROR(VLOOKUP(O624,[2]LISTAS!$A$15:$B$50,2,0)),\"\",VLOOKUP(O624,[2]LISTAS!$A$15:$B$50,2,0))","v":""},{"$f":"IF(ISERROR(VLOOKUP(6,[2]LISTAS!$A$15:$B$50,2,0)),\"\",VLOOKUP(6,[2]LISTAS!$A$15:$B$50,2,0))","v":""},null,{"$f":"_xlfn.IFS(T624=\"------\",AD624,T624=\"LA RELACIÓN DE ACTIVIDADES DEBE SER A PARTIR DE LA SIGUIENTE FILA\",\"LA RELACIÓN DE ACTIVIDADES DEBE SER A PARTIR DE LA SIGUIENTE FILA\",T624<>\"------\",T624)","v":""},null,"ok"]
[null,null,null,null,null,null,null,null,null,null,null,null,null,null,null,null,null,null,null,"",{"$f":"IF(ISERROR(VLOOKUP(E625,[2]LISTAS!$A$15:$B$50,2,0)),\"\",VLOOKUP(E625,[2]LISTAS!$A$15:$B$50,2,0))","v":""},{"$f":"IF(ISERROR(VLOOKUP(G625,[2]LISTAS!$A$15:$B$50,2,0)),\"\",VLOOKUP(G625,[2]LISTAS!$A$15:$B$50,2,0))","v":""},{"$f":"IF(ISERROR(VLOOKUP(I625,[2]LISTAS!$A$15:$B$50,2,0)),\"\",VLOOKUP(I625,[2]LISTAS!$A$15:$B$50,2,0))","v":""},{"$f":"IF(ISERROR(VLOOKUP(K625,[2]LISTAS!$A$15:$B$50,2,0)),\"\",VLOOKUP(K625,[2]LISTAS!$A$15:$B$50,2,0))","v":""},{"$f":"IF(ISERROR(VLOOKUP(M625,[2]LISTAS!$A$15:$B$50,2,0)),\"\",VLOOKUP(M625,[2]LISTAS!$A$15:$B$50,2,0))","v":""},{"$f":"IF(ISERROR(VLOOKUP(O625,[2]LISTAS!$A$15:$B$50,2,0)),\"\",VLOOKUP(O625,[2]LISTAS!$A$15:$B$50,2,0))","v":""},{"$f":"IF(ISERROR(VLOOKUP(6,[2]LISTAS!$A$15:$B$50,2,0)),\"\",VLOOKUP(6,[2]LISTAS!$A$15:$B$50,2,0))","v":""},null,{"$f":"_xlfn.IFS(T625=\"------\",AD625,T625=\"LA RELACIÓN DE ACTIVIDADES DEBE SER A PARTIR DE LA SIGUIENTE FILA\",\"LA RELACIÓN DE ACTIVIDADES DEBE SER A PARTIR DE LA SIGUIENTE FILA\",T625<>\"------\",T625)","v":""},null,"ok"]
[null,null,null,null,null,null,null,null,null,null,null,null,null,null,null,null,null,null,null,"",{"$f":"IF(ISERROR(VLOOKUP(E626,[2]LISTAS!$A$15:$B$50,2,0)),\"\",VLOOKUP(E626,[2]LISTAS!$A$15:$B$50,2,0))","v":""},{"$f":"IF(ISERROR(VLOOKUP(G626,[2]LISTAS!$A$15:$B$50,2,0)),\"\",VLOOKUP(G626,[2]LISTAS!$A$15:$B$50,2,0))","v":""},{"$f":"IF(ISERROR(VLOOKUP(I626,[2]LISTAS!$A$15:$B$50,2,0)),\"\",VLOOKUP(I626,[2]LISTAS!$A$15:$B$50,2,0))","v":""},{"$f":"IF(ISERROR(VLOOKUP(K626,[2]LISTAS!$A$15:$B$50,2,0)),\"\",VLOOKUP(K626,[2]LISTAS!$A$15:$B$50,2,0))","v":""},{"$f":"IF(ISERROR(VLOOKUP(M626,[2]LISTAS!$A$15:$B$50,2,0)),\"\",VLOOKUP(M626,[2]LISTAS!$A$15:$B$50,2,0))","v":""},{"$f":"IF(ISERROR(VLOOKUP(O626,[2]LISTAS!$A$15:$B$50,2,0)),\"\",VLOOKUP(O626,[2]LISTAS!$A$15:$B$50,2,0))","v":""},{"$f":"IF(ISERROR(VLOOKUP(6,[2]LISTAS!$A$15:$B$50,2,0)),\"\",VLOOKUP(6,[2]LISTAS!$A$15:$B$50,2,0))","v":""},null,{"$f":"_xlfn.IFS(T626=\"------\",AD626,T626=\"LA RELACIÓN DE ACTIVIDADES DEBE SER A PARTIR DE LA SIGUIENTE FILA\",\"LA RELACIÓN DE ACTIVIDADES DEBE SER A PARTIR DE LA SIGUIENTE FILA\",T626<>\"------\",T626)","v":""},null,"ok"]
[null,null,null,null,null,null,null,null,null,null,null,null,null,null,null,null,null,null,null,"",{"$f":"IF(ISERROR(VLOOKUP(E627,[2]LISTAS!$A$15:$B$50,2,0)),\"\",VLOOKUP(E627,[2]LISTAS!$A$15:$B$50,2,0))","v":""},{"$f":"IF(ISERROR(VLOOKUP(G627,[2]LISTAS!$A$15:$B$50,2,0)),\"\",VLOOKUP(G627,[2]LISTAS!$A$15:$B$50,2,0))","v":""},{"$f":"IF(ISERROR(VLOOKUP(I627,[2]LISTAS!$A$15:$B$50,2,0)),\"\",VLOOKUP(I627,[2]LISTAS!$A$15:$B$50,2,0))","v":""},{"$f":"IF(ISERROR(VLOOKUP(K627,[2]LISTAS!$A$15:$B$50,2,0)),\"\",VLOOKUP(K627,[2]LISTAS!$A$15:$B$50,2,0))","v":""},{"$f":"IF(ISERROR(VLOOKUP(M627,[2]LISTAS!$A$15:$B$50,2,0)),\"\",VLOOKUP(M627,[2]LISTAS!$A$15:$B$50,2,0))","v":""},{"$f":"IF(ISERROR(VLOOKUP(O627,[2]LISTAS!$A$15:$B$50,2,0)),\"\",VLOOKUP(O627,[2]LISTAS!$A$15:$B$50,2,0))","v":""},{"$f":"IF(ISERROR(VLOOKUP(6,[2]LISTAS!$A$15:$B$50,2,0)),\"\",VLOOKUP(6,[2]LISTAS!$A$15:$B$50,2,0))","v":""},null,{"$f":"_xlfn.IFS(T627=\"------\",AD627,T627=\"LA RELACIÓN DE ACTIVIDADES DEBE SER A PARTIR DE LA SIGUIENTE FILA\",\"LA RELACIÓN DE ACTIVIDADES DEBE SER A PARTIR DE LA SIGUIENTE FILA\",T627<>\"------\",T627)","v":""},null,"ok"]
[null,null,null,null,null,null,null,null,null,null,null,null,null,null,null,null,null,null,null,"",{"$f":"IF(ISERROR(VLOOKUP(E628,[2]LISTAS!$A$15:$B$50,2,0)),\"\",VLOOKUP(E628,[2]LISTAS!$A$15:$B$50,2,0))","v":""},{"$f":"IF(ISERROR(VLOOKUP(G628,[2]LISTAS!$A$15:$B$50,2,0)),\"\",VLOOKUP(G628,[2]LISTAS!$A$15:$B$50,2,0))","v":""},{"$f":"IF(ISERROR(VLOOKUP(I628,[2]LISTAS!$A$15:$B$50,2,0)),\"\",VLOOKUP(I628,[2]LISTAS!$A$15:$B$50,2,0))","v":""},{"$f":"IF(ISERROR(VLOOKUP(K628,[2]LISTAS!$A$15:$B$50,2,0)),\"\",VLOOKUP(K628,[2]LISTAS!$A$15:$B$50,2,0))","v":""},{"$f":"IF(ISERROR(VLOOKUP(M628,[2]LISTAS!$A$15:$B$50,2,0)),\"\",VLOOKUP(M628,[2]LISTAS!$A$15:$B$50,2,0))","v":""},{"$f":"IF(ISERROR(VLOOKUP(O628,[2]LISTAS!$A$15:$B$50,2,0)),\"\",VLOOKUP(O628,[2]LISTAS!$A$15:$B$50,2,0))","v":""},{"$f":"IF(ISERROR(VLOOKUP(6,[2]LISTAS!$A$15:$B$50,2,0)),\"\",VLOOKUP(6,[2]LISTAS!$A$15:$B$50,2,0))","v":""},null,{"$f":"_xlfn.IFS(T628=\"------\",AD628,T628=\"LA RELACIÓN DE ACTIVIDADES DEBE SER A PARTIR DE LA SIGUIENTE FILA\",\"LA RELACIÓN DE ACTIVIDADES DEBE SER A PARTIR DE LA SIGUIENTE FILA\",T628<>\"------\",T628)","v":""},null,"ok"]
[null,null,null,null,null,null,null,null,null,null,null,null,null,null,null,null,null,null,null,"",{"$f":"IF(ISERROR(VLOOKUP(E629,[2]LISTAS!$A$15:$B$50,2,0)),\"\",VLOOKUP(E629,[2]LISTAS!$A$15:$B$50,2,0))","v":""},{"$f":"IF(ISERROR(VLOOKUP(G629,[2]LISTAS!$A$15:$B$50,2,0)),\"\",VLOOKUP(G629,[2]LISTAS!$A$15:$B$50,2,0))","v":""},{"$f":"IF(ISERROR(VLOOKUP(I629,[2]LISTAS!$A$15:$B$50,2,0)),\"\",VLOOKUP(I629,[2]LISTAS!$A$15:$B$50,2,0))","v":""},{"$f":"IF(ISERROR(VLOOKUP(K629,[2]LISTAS!$A$15:$B$50,2,0)),\"\",VLOOKUP(K629,[2]LISTAS!$A$15:$B$50,2,0))","v":""},{"$f":"IF(ISERROR(VLOOKUP(M629,[2]LISTAS!$A$15:$B$50,2,0)),\"\",VLOOKUP(M629,[2]LISTAS!$A$15:$B$50,2,0))","v":""},{"$f":"IF(ISERROR(VLOOKUP(O629,[2]LISTAS!$A$15:$B$50,2,0)),\"\",VLOOKUP(O629,[2]LISTAS!$A$15:$B$50,2,0))","v":""},{"$f":"IF(ISERROR(VLOOKUP(6,[2]LISTAS!$A$15:$B$50,2,0)),\"\",VLOOKUP(6,[2]LISTAS!$A$15:$B$50,2,0))","v":""},null,{"$f":"_xlfn.IFS(T629=\"------\",AD629,T629=\"LA RELACIÓN DE ACTIVIDADES DEBE SER A PARTIR DE LA SIGUIENTE FILA\",\"LA RELACIÓN DE ACTIVIDADES DEBE SER A PARTIR DE LA SIGUIENTE FILA\",T629<>\"------\",T629)","v":""},null,"ok"]
[null,null,null,null,null,null,null,null,null,null,null,null,null,null,null,null,null,null,null,"",{"$f":"IF(ISERROR(VLOOKUP(E630,[2]LISTAS!$A$15:$B$50,2,0)),\"\",VLOOKUP(E630,[2]LISTAS!$A$15:$B$50,2,0))","v":""},{"$f":"IF(ISERROR(VLOOKUP(G630,[2]LISTAS!$A$15:$B$50,2,0)),\"\",VLOOKUP(G630,[2]LISTAS!$A$15:$B$50,2,0))","v":""},{"$f":"IF(ISERROR(VLOOKUP(I630,[2]LISTAS!$A$15:$B$50,2,0)),\"\",VLOOKUP(I630,[2]LISTAS!$A$15:$B$50,2,0))","v":""},{"$f":"IF(ISERROR(VLOOKUP(K630,[2]LISTAS!$A$15:$B$50,2,0)),\"\",VLOOKUP(K630,[2]LISTAS!$A$15:$B$50,2,0))","v":""},{"$f":"IF(ISERROR(VLOOKUP(M630,[2]LISTAS!$A$15:$B$50,2,0)),\"\",VLOOKUP(M630,[2]LISTAS!$A$15:$B$50,2,0))","v":""},{"$f":"IF(ISERROR(VLOOKUP(O630,[2]LISTAS!$A$15:$B$50,2,0)),\"\",VLOOKUP(O630,[2]LISTAS!$A$15:$B$50,2,0))","v":""},{"$f":"IF(ISERROR(VLOOKUP(6,[2]LISTAS!$A$15:$B$50,2,0)),\"\",VLOOKUP(6,[2]LISTAS!$A$15:$B$50,2,0))","v":""},null,{"$f":"_xlfn.IFS(T630=\"------\",AD630,T630=\"LA RELACIÓN DE ACTIVIDADES DEBE SER A PARTIR DE LA SIGUIENTE FILA\",\"LA RELACIÓN DE ACTIVIDADES DEBE SER A PARTIR DE LA SIGUIENTE FILA\",T630<>\"------\",T630)","v":""},null,"ok"]
[null,null,null,null,null,null,null,null,null,null,null,null,null,null,null,null,null,null,null,{"$f":"IF(AND(B631=\"\",C631=\"\"),\"\",IF(AND(D631<>\"\"),U631&\"-\"&V631&\"-\"&W631&\"-\"&X631&\"-\"&Y631&\"-\"&Z631&\"-\"&AA631,IF(AND(C631<>\"\"),\"LA RELACIÓN DE ACTIVIDADES DEBE SER A PARTIR DE LA SIGUIENTE FILA\",)))","v":""},{"$f":"IF(ISERROR(VLOOKUP(E631,[2]LISTAS!$A$15:$B$50,2,0)),\"\",VLOOKUP(E631,[2]LISTAS!$A$15:$B$50,2,0))","v":""},{"$f":"IF(ISERROR(VLOOKUP(G631,[2]LISTAS!$A$15:$B$50,2,0)),\"\",VLOOKUP(G631,[2]LISTAS!$A$15:$B$50,2,0))","v":""},{"$f":"IF(ISERROR(VLOOKUP(I631,[2]LISTAS!$A$15:$B$50,2,0)),\"\",VLOOKUP(I631,[2]LISTAS!$A$15:$B$50,2,0))","v":""},{"$f":"IF(ISERROR(VLOOKUP(K631,[2]LISTAS!$A$15:$B$50,2,0)),\"\",VLOOKUP(K631,[2]LISTAS!$A$15:$B$50,2,0))","v":""},{"$f":"IF(ISERROR(VLOOKUP(M631,[2]LISTAS!$A$15:$B$50,2,0)),\"\",VLOOKUP(M631,[2]LISTAS!$A$15:$B$50,2,0))","v":""},{"$f":"IF(ISERROR(VLOOKUP(O631,[2]LISTAS!$A$15:$B$50,2,0)),\"\",VLOOKUP(O631,[2]LISTAS!$A$15:$B$50,2,0))","v":""},{"$f":"IF(ISERROR(VLOOKUP(6,[2]LISTAS!$A$15:$B$50,2,0)),\"\",VLOOKUP(6,[2]LISTAS!$A$15:$B$50,2,0))","v":""},null,{"$f":"_xlfn.IFS(T631=\"------\",AD631,T631=\"LA RELACIÓN DE ACTIVIDADES DEBE SER A PARTIR DE LA SIGUIENTE FILA\",\"LA RELACIÓN DE ACTIVIDADES DEBE SER A PARTIR DE LA SIGUIENTE FILA\",T631<>\"------\",T631)","v":""},null,"ok"]
[null,null,null,null,null,null,null,null,null,null,null,null,null,null,null,null,null,null,null,"",{"$f":"IF(ISERROR(VLOOKUP(E632,[2]LISTAS!$A$15:$B$50,2,0)),\"\",VLOOKUP(E632,[2]LISTAS!$A$15:$B$50,2,0))","v":""},{"$f":"IF(ISERROR(VLOOKUP(G632,[2]LISTAS!$A$15:$B$50,2,0)),\"\",VLOOKUP(G632,[2]LISTAS!$A$15:$B$50,2,0))","v":""},{"$f":"IF(ISERROR(VLOOKUP(I632,[2]LISTAS!$A$15:$B$50,2,0)),\"\",VLOOKUP(I632,[2]LISTAS!$A$15:$B$50,2,0))","v":""},{"$f":"IF(ISERROR(VLOOKUP(K632,[2]LISTAS!$A$15:$B$50,2,0)),\"\",VLOOKUP(K632,[2]LISTAS!$A$15:$B$50,2,0))","v":""},{"$f":"IF(ISERROR(VLOOKUP(M632,[2]LISTAS!$A$15:$B$50,2,0)),\"\",VLOOKUP(M632,[2]LISTAS!$A$15:$B$50,2,0))","v":""},{"$f":"IF(ISERROR(VLOOKUP(O632,[2]LISTAS!$A$15:$B$50,2,0)),\"\",VLOOKUP(O632,[2]LISTAS!$A$15:$B$50,2,0))","v":""},{"$f":"IF(ISERROR(VLOOKUP(6,[2]LISTAS!$A$15:$B$50,2,0)),\"\",VLOOKUP(6,[2]LISTAS!$A$15:$B$50,2,0))","v":""},null,{"$f":"_xlfn.IFS(T632=\"------\",AD632,T632=\"LA RELACIÓN DE ACTIVIDADES DEBE SER A PARTIR DE LA SIGUIENTE FILA\",\"LA RELACIÓN DE ACTIVIDADES DEBE SER A PARTIR DE LA SIGUIENTE FILA\",T632<>\"------\",T632)","v":""},null,"ok"]
[null,null,null,null,null,null,null,null,null,null,null,null,null,null,null,null,null,null,null,"",{"$f":"IF(ISERROR(VLOOKUP(E633,[2]LISTAS!$A$15:$B$50,2,0)),\"\",VLOOKUP(E633,[2]LISTAS!$A$15:$B$50,2,0))","v":""},{"$f":"IF(ISERROR(VLOOKUP(G633,[2]LISTAS!$A$15:$B$50,2,0)),\"\",VLOOKUP(G633,[2]LISTAS!$A$15:$B$50,2,0))","v":""},{"$f":"IF(ISERROR(VLOOKUP(I633,[2]LISTAS!$A$15:$B$50,2,0)),\"\",VLOOKUP(I633,[2]LISTAS!$A$15:$B$50,2,0))","v":""},{"$f":"IF(ISERROR(VLOOKUP(K633,[2]LISTAS!$A$15:$B$50,2,0)),\"\",VLOOKUP(K633,[2]LISTAS!$A$15:$B$50,2,0))","v":""},{"$f":"IF(ISERROR(VLOOKUP(M633,[2]LISTAS!$A$15:$B$50,2,0)),\"\",VLOOKUP(M633,[2]LISTAS!$A$15:$B$50,2,0))","v":""},{"$f":"IF(ISERROR(VLOOKUP(O633,[2]LISTAS!$A$15:$B$50,2,0)),\"\",VLOOKUP(O633,[2]LISTAS!$A$15:$B$50,2,0))","v":""},{"$f":"IF(ISERROR(VLOOKUP(6,[2]LISTAS!$A$15:$B$50,2,0)),\"\",VLOOKUP(6,[2]LISTAS!$A$15:$B$50,2,0))","v":""},null,{"$f":"_xlfn.IFS(T633=\"------\",AD633,T633=\"LA RELACIÓN DE ACTIVIDADES DEBE SER A PARTIR DE LA SIGUIENTE FILA\",\"LA RELACIÓN DE ACTIVIDADES DEBE SER A PARTIR DE LA SIGUIENTE FILA\",T633<>\"------\",T633)","v":""},null,"ok"]
[null,null,null,null,null,null,null,null,null,null,null,null,null,null,null,null,null,null,null,"",{"$f":"IF(ISERROR(VLOOKUP(E634,[2]LISTAS!$A$15:$B$50,2,0)),\"\",VLOOKUP(E634,[2]LISTAS!$A$15:$B$50,2,0))","v":""},{"$f":"IF(ISERROR(VLOOKUP(G634,[2]LISTAS!$A$15:$B$50,2,0)),\"\",VLOOKUP(G634,[2]LISTAS!$A$15:$B$50,2,0))","v":""},{"$f":"IF(ISERROR(VLOOKUP(I634,[2]LISTAS!$A$15:$B$50,2,0)),\"\",VLOOKUP(I634,[2]LISTAS!$A$15:$B$50,2,0))","v":""},{"$f":"IF(ISERROR(VLOOKUP(K634,[2]LISTAS!$A$15:$B$50,2,0)),\"\",VLOOKUP(K634,[2]LISTAS!$A$15:$B$50,2,0))","v":""},{"$f":"IF(ISERROR(VLOOKUP(M634,[2]LISTAS!$A$15:$B$50,2,0)),\"\",VLOOKUP(M634,[2]LISTAS!$A$15:$B$50,2,0))","v":""},{"$f":"IF(ISERROR(VLOOKUP(O634,[2]LISTAS!$A$15:$B$50,2,0)),\"\",VLOOKUP(O634,[2]LISTAS!$A$15:$B$50,2,0))","v":""},{"$f":"IF(ISERROR(VLOOKUP(6,[2]LISTAS!$A$15:$B$50,2,0)),\"\",VLOOKUP(6,[2]LISTAS!$A$15:$B$50,2,0))","v":""},null,{"$f":"_xlfn.IFS(T634=\"------\",AD634,T634=\"LA RELACIÓN DE ACTIVIDADES DEBE SER A PARTIR DE LA SIGUIENTE FILA\",\"LA RELACIÓN DE ACTIVIDADES DEBE SER A PARTIR DE LA SIGUIENTE FILA\",T634<>\"------\",T634)","v":""},null,"ok"]
[null,null,null,null,null,null,null,null,null,null,null,null,null,null,null,null,null,null,null,"",{"$f":"IF(ISERROR(VLOOKUP(E635,[2]LISTAS!$A$15:$B$50,2,0)),\"\",VLOOKUP(E635,[2]LISTAS!$A$15:$B$50,2,0))","v":""},{"$f":"IF(ISERROR(VLOOKUP(G635,[2]LISTAS!$A$15:$B$50,2,0)),\"\",VLOOKUP(G635,[2]LISTAS!$A$15:$B$50,2,0))","v":""},{"$f":"IF(ISERROR(VLOOKUP(I635,[2]LISTAS!$A$15:$B$50,2,0)),\"\",VLOOKUP(I635,[2]LISTAS!$A$15:$B$50,2,0))","v":""},{"$f":"IF(ISERROR(VLOOKUP(K635,[2]LISTAS!$A$15:$B$50,2,0)),\"\",VLOOKUP(K635,[2]LISTAS!$A$15:$B$50,2,0))","v":""},{"$f":"IF(ISERROR(VLOOKUP(M635,[2]LISTAS!$A$15:$B$50,2,0)),\"\",VLOOKUP(M635,[2]LISTAS!$A$15:$B$50,2,0))","v":""},{"$f":"IF(ISERROR(VLOOKUP(O635,[2]LISTAS!$A$15:$B$50,2,0)),\"\",VLOOKUP(O635,[2]LISTAS!$A$15:$B$50,2,0))","v":""},{"$f":"IF(ISERROR(VLOOKUP(6,[2]LISTAS!$A$15:$B$50,2,0)),\"\",VLOOKUP(6,[2]LISTAS!$A$15:$B$50,2,0))","v":""},null,{"$f":"_xlfn.IFS(T635=\"------\",AD635,T635=\"LA RELACIÓN DE ACTIVIDADES DEBE SER A PARTIR DE LA SIGUIENTE FILA\",\"LA RELACIÓN DE ACTIVIDADES DEBE SER A PARTIR DE LA SIGUIENTE FILA\",T635<>\"------\",T635)","v":""},null,"ok"]
[null,null,null,null,null,null,null,null,null,null,null,null,null,null,null,null,null,null,null,"",{"$f":"IF(ISERROR(VLOOKUP(E636,[2]LISTAS!$A$15:$B$50,2,0)),\"\",VLOOKUP(E636,[2]LISTAS!$A$15:$B$50,2,0))","v":""},{"$f":"IF(ISERROR(VLOOKUP(G636,[2]LISTAS!$A$15:$B$50,2,0)),\"\",VLOOKUP(G636,[2]LISTAS!$A$15:$B$50,2,0))","v":""},{"$f":"IF(ISERROR(VLOOKUP(I636,[2]LISTAS!$A$15:$B$50,2,0)),\"\",VLOOKUP(I636,[2]LISTAS!$A$15:$B$50,2,0))","v":""},{"$f":"IF(ISERROR(VLOOKUP(K636,[2]LISTAS!$A$15:$B$50,2,0)),\"\",VLOOKUP(K636,[2]LISTAS!$A$15:$B$50,2,0))","v":""},{"$f":"IF(ISERROR(VLOOKUP(M636,[2]LISTAS!$A$15:$B$50,2,0)),\"\",VLOOKUP(M636,[2]LISTAS!$A$15:$B$50,2,0))","v":""},{"$f":"IF(ISERROR(VLOOKUP(O636,[2]LISTAS!$A$15:$B$50,2,0)),\"\",VLOOKUP(O636,[2]LISTAS!$A$15:$B$50,2,0))","v":""},{"$f":"IF(ISERROR(VLOOKUP(6,[2]LISTAS!$A$15:$B$50,2,0)),\"\",VLOOKUP(6,[2]LISTAS!$A$15:$B$50,2,0))","v":""},null,{"$f":"_xlfn.IFS(T636=\"------\",AD636,T636=\"LA RELACIÓN DE ACTIVIDADES DEBE SER A PARTIR DE LA SIGUIENTE FILA\",\"LA RELACIÓN DE ACTIVIDADES DEBE SER A PARTIR DE LA SIGUIENTE FILA\",T636<>\"------\",T636)","v":""},null,"ok"]
[null,null,null,null,null,null,null,null,null,null,null,null,null,null,null,null,null,null,null,"",{"$f":"IF(ISERROR(VLOOKUP(E637,[2]LISTAS!$A$15:$B$50,2,0)),\"\",VLOOKUP(E637,[2]LISTAS!$A$15:$B$50,2,0))","v":""},{"$f":"IF(ISERROR(VLOOKUP(G637,[2]LISTAS!$A$15:$B$50,2,0)),\"\",VLOOKUP(G637,[2]LISTAS!$A$15:$B$50,2,0))","v":""},{"$f":"IF(ISERROR(VLOOKUP(I637,[2]LISTAS!$A$15:$B$50,2,0)),\"\",VLOOKUP(I637,[2]LISTAS!$A$15:$B$50,2,0))","v":""},{"$f":"IF(ISERROR(VLOOKUP(K637,[2]LISTAS!$A$15:$B$50,2,0)),\"\",VLOOKUP(K637,[2]LISTAS!$A$15:$B$50,2,0))","v":""},{"$f":"IF(ISERROR(VLOOKUP(M637,[2]LISTAS!$A$15:$B$50,2,0)),\"\",VLOOKUP(M637,[2]LISTAS!$A$15:$B$50,2,0))","v":""},{"$f":"IF(ISERROR(VLOOKUP(O637,[2]LISTAS!$A$15:$B$50,2,0)),\"\",VLOOKUP(O637,[2]LISTAS!$A$15:$B$50,2,0))","v":""},{"$f":"IF(ISERROR(VLOOKUP(6,[2]LISTAS!$A$15:$B$50,2,0)),\"\",VLOOKUP(6,[2]LISTAS!$A$15:$B$50,2,0))","v":""},null,{"$f":"_xlfn.IFS(T637=\"------\",AD637,T637=\"LA RELACIÓN DE ACTIVIDADES DEBE SER A PARTIR DE LA SIGUIENTE FILA\",\"LA RELACIÓN DE ACTIVIDADES DEBE SER A PARTIR DE LA SIGUIENTE FILA\",T637<>\"------\",T637)","v":""},null,"ok"]
[null,null,null,null,null,null,null,null,null,null,null,null,null,null,null,null,null,null,null,"",{"$f":"IF(ISERROR(VLOOKUP(E638,[2]LISTAS!$A$15:$B$50,2,0)),\"\",VLOOKUP(E638,[2]LISTAS!$A$15:$B$50,2,0))","v":""},{"$f":"IF(ISERROR(VLOOKUP(G638,[2]LISTAS!$A$15:$B$50,2,0)),\"\",VLOOKUP(G638,[2]LISTAS!$A$15:$B$50,2,0))","v":""},{"$f":"IF(ISERROR(VLOOKUP(I638,[2]LISTAS!$A$15:$B$50,2,0)),\"\",VLOOKUP(I638,[2]LISTAS!$A$15:$B$50,2,0))","v":""},{"$f":"IF(ISERROR(VLOOKUP(K638,[2]LISTAS!$A$15:$B$50,2,0)),\"\",VLOOKUP(K638,[2]LISTAS!$A$15:$B$50,2,0))","v":""},{"$f":"IF(ISERROR(VLOOKUP(M638,[2]LISTAS!$A$15:$B$50,2,0)),\"\",VLOOKUP(M638,[2]LISTAS!$A$15:$B$50,2,0))","v":""},{"$f":"IF(ISERROR(VLOOKUP(O638,[2]LISTAS!$A$15:$B$50,2,0)),\"\",VLOOKUP(O638,[2]LISTAS!$A$15:$B$50,2,0))","v":""},{"$f":"IF(ISERROR(VLOOKUP(6,[2]LISTAS!$A$15:$B$50,2,0)),\"\",VLOOKUP(6,[2]LISTAS!$A$15:$B$50,2,0))","v":""},null,{"$f":"_xlfn.IFS(T638=\"------\",AD638,T638=\"LA RELACIÓN DE ACTIVIDADES DEBE SER A PARTIR DE LA SIGUIENTE FILA\",\"LA RELACIÓN DE ACTIVIDADES DEBE SER A PARTIR DE LA SIGUIENTE FILA\",T638<>\"------\",T638)","v":""},null,"ok"]
[null,null,null,null,null,null,null,null,null,null,null,null,null,null,null,null,null,null,null,"",{"$f":"IF(ISERROR(VLOOKUP(E639,[2]LISTAS!$A$15:$B$50,2,0)),\"\",VLOOKUP(E639,[2]LISTAS!$A$15:$B$50,2,0))","v":""},{"$f":"IF(ISERROR(VLOOKUP(G639,[2]LISTAS!$A$15:$B$50,2,0)),\"\",VLOOKUP(G639,[2]LISTAS!$A$15:$B$50,2,0))","v":""},{"$f":"IF(ISERROR(VLOOKUP(I639,[2]LISTAS!$A$15:$B$50,2,0)),\"\",VLOOKUP(I639,[2]LISTAS!$A$15:$B$50,2,0))","v":""},{"$f":"IF(ISERROR(VLOOKUP(K639,[2]LISTAS!$A$15:$B$50,2,0)),\"\",VLOOKUP(K639,[2]LISTAS!$A$15:$B$50,2,0))","v":""},{"$f":"IF(ISERROR(VLOOKUP(M639,[2]LISTAS!$A$15:$B$50,2,0)),\"\",VLOOKUP(M639,[2]LISTAS!$A$15:$B$50,2,0))","v":""},{"$f":"IF(ISERROR(VLOOKUP(O639,[2]LISTAS!$A$15:$B$50,2,0)),\"\",VLOOKUP(O639,[2]LISTAS!$A$15:$B$50,2,0))","v":""},{"$f":"IF(ISERROR(VLOOKUP(6,[2]LISTAS!$A$15:$B$50,2,0)),\"\",VLOOKUP(6,[2]LISTAS!$A$15:$B$50,2,0))","v":""},null,{"$f":"_xlfn.IFS(T639=\"------\",AD639,T639=\"LA RELACIÓN DE ACTIVIDADES DEBE SER A PARTIR DE LA SIGUIENTE FILA\",\"LA RELACIÓN DE ACTIVIDADES DEBE SER A PARTIR DE LA SIGUIENTE FILA\",T639<>\"------\",T639)","v":""},null,"ok"]
[null,null,null,null,null,null,null,null,null,null,null,null,null,null,null,null,null,null,null,"",{"$f":"IF(ISERROR(VLOOKUP(E640,[2]LISTAS!$A$15:$B$50,2,0)),\"\",VLOOKUP(E640,[2]LISTAS!$A$15:$B$50,2,0))","v":""},{"$f":"IF(ISERROR(VLOOKUP(G640,[2]LISTAS!$A$15:$B$50,2,0)),\"\",VLOOKUP(G640,[2]LISTAS!$A$15:$B$50,2,0))","v":""},{"$f":"IF(ISERROR(VLOOKUP(I640,[2]LISTAS!$A$15:$B$50,2,0)),\"\",VLOOKUP(I640,[2]LISTAS!$A$15:$B$50,2,0))","v":""},{"$f":"IF(ISERROR(VLOOKUP(K640,[2]LISTAS!$A$15:$B$50,2,0)),\"\",VLOOKUP(K640,[2]LISTAS!$A$15:$B$50,2,0))","v":""},{"$f":"IF(ISERROR(VLOOKUP(M640,[2]LISTAS!$A$15:$B$50,2,0)),\"\",VLOOKUP(M640,[2]LISTAS!$A$15:$B$50,2,0))","v":""},{"$f":"IF(ISERROR(VLOOKUP(O640,[2]LISTAS!$A$15:$B$50,2,0)),\"\",VLOOKUP(O640,[2]LISTAS!$A$15:$B$50,2,0))","v":""},{"$f":"IF(ISERROR(VLOOKUP(6,[2]LISTAS!$A$15:$B$50,2,0)),\"\",VLOOKUP(6,[2]LISTAS!$A$15:$B$50,2,0))","v":""},null,{"$f":"_xlfn.IFS(T640=\"------\",AD640,T640=\"LA RELACIÓN DE ACTIVIDADES DEBE SER A PARTIR DE LA SIGUIENTE FILA\",\"LA RELACIÓN DE ACTIVIDADES DEBE SER A PARTIR DE LA SIGUIENTE FILA\",T640<>\"------\",T640)","v":""},null,"ok"]
[null,null,null,null,null,null,null,null,null,null,null,null,null,null,null,null,null,null,null,"",{"$f":"IF(ISERROR(VLOOKUP(E641,[2]LISTAS!$A$15:$B$50,2,0)),\"\",VLOOKUP(E641,[2]LISTAS!$A$15:$B$50,2,0))","v":""},{"$f":"IF(ISERROR(VLOOKUP(G641,[2]LISTAS!$A$15:$B$50,2,0)),\"\",VLOOKUP(G641,[2]LISTAS!$A$15:$B$50,2,0))","v":""},{"$f":"IF(ISERROR(VLOOKUP(I641,[2]LISTAS!$A$15:$B$50,2,0)),\"\",VLOOKUP(I641,[2]LISTAS!$A$15:$B$50,2,0))","v":""},{"$f":"IF(ISERROR(VLOOKUP(K641,[2]LISTAS!$A$15:$B$50,2,0)),\"\",VLOOKUP(K641,[2]LISTAS!$A$15:$B$50,2,0))","v":""},{"$f":"IF(ISERROR(VLOOKUP(M641,[2]LISTAS!$A$15:$B$50,2,0)),\"\",VLOOKUP(M641,[2]LISTAS!$A$15:$B$50,2,0))","v":""},{"$f":"IF(ISERROR(VLOOKUP(O641,[2]LISTAS!$A$15:$B$50,2,0)),\"\",VLOOKUP(O641,[2]LISTAS!$A$15:$B$50,2,0))","v":""},{"$f":"IF(ISERROR(VLOOKUP(6,[2]LISTAS!$A$15:$B$50,2,0)),\"\",VLOOKUP(6,[2]LISTAS!$A$15:$B$50,2,0))","v":""},null,{"$f":"_xlfn.IFS(T641=\"------\",AD641,T641=\"LA RELACIÓN DE ACTIVIDADES DEBE SER A PARTIR DE LA SIGUIENTE FILA\",\"LA RELACIÓN DE ACTIVIDADES DEBE SER A PARTIR DE LA SIGUIENTE FILA\",T641<>\"------\",T641)","v":""},null,"ok"]
[null,null,null,null,null,null,null,null,null,null,null,null,null,null,null,null,null,null,null,"",{"$f":"IF(ISERROR(VLOOKUP(E642,[2]LISTAS!$A$15:$B$50,2,0)),\"\",VLOOKUP(E642,[2]LISTAS!$A$15:$B$50,2,0))","v":""},{"$f":"IF(ISERROR(VLOOKUP(G642,[2]LISTAS!$A$15:$B$50,2,0)),\"\",VLOOKUP(G642,[2]LISTAS!$A$15:$B$50,2,0))","v":""},{"$f":"IF(ISERROR(VLOOKUP(I642,[2]LISTAS!$A$15:$B$50,2,0)),\"\",VLOOKUP(I642,[2]LISTAS!$A$15:$B$50,2,0))","v":""},{"$f":"IF(ISERROR(VLOOKUP(K642,[2]LISTAS!$A$15:$B$50,2,0)),\"\",VLOOKUP(K642,[2]LISTAS!$A$15:$B$50,2,0))","v":""},{"$f":"IF(ISERROR(VLOOKUP(M642,[2]LISTAS!$A$15:$B$50,2,0)),\"\",VLOOKUP(M642,[2]LISTAS!$A$15:$B$50,2,0))","v":""},{"$f":"IF(ISERROR(VLOOKUP(O642,[2]LISTAS!$A$15:$B$50,2,0)),\"\",VLOOKUP(O642,[2]LISTAS!$A$15:$B$50,2,0))","v":""},{"$f":"IF(ISERROR(VLOOKUP(6,[2]LISTAS!$A$15:$B$50,2,0)),\"\",VLOOKUP(6,[2]LISTAS!$A$15:$B$50,2,0))","v":""},null,{"$f":"_xlfn.IFS(T642=\"------\",AD642,T642=\"LA RELACIÓN DE ACTIVIDADES DEBE SER A PARTIR DE LA SIGUIENTE FILA\",\"LA RELACIÓN DE ACTIVIDADES DEBE SER A PARTIR DE LA SIGUIENTE FILA\",T642<>\"------\",T642)","v":""},null,"ok"]
[null,null,null,null,null,null,null,null,null,null,null,null,null,null,null,null,null,null,null,"",{"$f":"IF(ISERROR(VLOOKUP(E643,[2]LISTAS!$A$15:$B$50,2,0)),\"\",VLOOKUP(E643,[2]LISTAS!$A$15:$B$50,2,0))","v":""},{"$f":"IF(ISERROR(VLOOKUP(G643,[2]LISTAS!$A$15:$B$50,2,0)),\"\",VLOOKUP(G643,[2]LISTAS!$A$15:$B$50,2,0))","v":""},{"$f":"IF(ISERROR(VLOOKUP(I643,[2]LISTAS!$A$15:$B$50,2,0)),\"\",VLOOKUP(I643,[2]LISTAS!$A$15:$B$50,2,0))","v":""},{"$f":"IF(ISERROR(VLOOKUP(K643,[2]LISTAS!$A$15:$B$50,2,0)),\"\",VLOOKUP(K643,[2]LISTAS!$A$15:$B$50,2,0))","v":""},{"$f":"IF(ISERROR(VLOOKUP(M643,[2]LISTAS!$A$15:$B$50,2,0)),\"\",VLOOKUP(M643,[2]LISTAS!$A$15:$B$50,2,0))","v":""},{"$f":"IF(ISERROR(VLOOKUP(O643,[2]LISTAS!$A$15:$B$50,2,0)),\"\",VLOOKUP(O643,[2]LISTAS!$A$15:$B$50,2,0))","v":""},{"$f":"IF(ISERROR(VLOOKUP(6,[2]LISTAS!$A$15:$B$50,2,0)),\"\",VLOOKUP(6,[2]LISTAS!$A$15:$B$50,2,0))","v":""},null,{"$f":"_xlfn.IFS(T643=\"------\",AD643,T643=\"LA RELACIÓN DE ACTIVIDADES DEBE SER A PARTIR DE LA SIGUIENTE FILA\",\"LA RELACIÓN DE ACTIVIDADES DEBE SER A PARTIR DE LA SIGUIENTE FILA\",T643<>\"------\",T643)","v":""},null,"ok"]
[null,null,null,null,null,null,null,null,null,null,null,null,null,null,null,null,null,null,null,"",{"$f":"IF(ISERROR(VLOOKUP(E644,[2]LISTAS!$A$15:$B$50,2,0)),\"\",VLOOKUP(E644,[2]LISTAS!$A$15:$B$50,2,0))","v":""},{"$f":"IF(ISERROR(VLOOKUP(G644,[2]LISTAS!$A$15:$B$50,2,0)),\"\",VLOOKUP(G644,[2]LISTAS!$A$15:$B$50,2,0))","v":""},{"$f":"IF(ISERROR(VLOOKUP(I644,[2]LISTAS!$A$15:$B$50,2,0)),\"\",VLOOKUP(I644,[2]LISTAS!$A$15:$B$50,2,0))","v":""},{"$f":"IF(ISERROR(VLOOKUP(K644,[2]LISTAS!$A$15:$B$50,2,0)),\"\",VLOOKUP(K644,[2]LISTAS!$A$15:$B$50,2,0))","v":""},{"$f":"IF(ISERROR(VLOOKUP(M644,[2]LISTAS!$A$15:$B$50,2,0)),\"\",VLOOKUP(M644,[2]LISTAS!$A$15:$B$50,2,0))","v":""},{"$f":"IF(ISERROR(VLOOKUP(O644,[2]LISTAS!$A$15:$B$50,2,0)),\"\",VLOOKUP(O644,[2]LISTAS!$A$15:$B$50,2,0))","v":""},{"$f":"IF(ISERROR(VLOOKUP(6,[2]LISTAS!$A$15:$B$50,2,0)),\"\",VLOOKUP(6,[2]LISTAS!$A$15:$B$50,2,0))","v":""},null,{"$f":"_xlfn.IFS(T644=\"------\",AD644,T644=\"LA RELACIÓN DE ACTIVIDADES DEBE SER A PARTIR DE LA SIGUIENTE FILA\",\"LA RELACIÓN DE ACTIVIDADES DEBE SER A PARTIR DE LA SIGUIENTE FILA\",T644<>\"------\",T644)","v":""},null,"ok"]
[null,null,null,null,null,null,null,null,null,null,null,null,null,null,null,null,null,null,null,"",{"$f":"IF(ISERROR(VLOOKUP(E645,[2]LISTAS!$A$15:$B$50,2,0)),\"\",VLOOKUP(E645,[2]LISTAS!$A$15:$B$50,2,0))","v":""},{"$f":"IF(ISERROR(VLOOKUP(G645,[2]LISTAS!$A$15:$B$50,2,0)),\"\",VLOOKUP(G645,[2]LISTAS!$A$15:$B$50,2,0))","v":""},{"$f":"IF(ISERROR(VLOOKUP(I645,[2]LISTAS!$A$15:$B$50,2,0)),\"\",VLOOKUP(I645,[2]LISTAS!$A$15:$B$50,2,0))","v":""},{"$f":"IF(ISERROR(VLOOKUP(K645,[2]LISTAS!$A$15:$B$50,2,0)),\"\",VLOOKUP(K645,[2]LISTAS!$A$15:$B$50,2,0))","v":""},{"$f":"IF(ISERROR(VLOOKUP(M645,[2]LISTAS!$A$15:$B$50,2,0)),\"\",VLOOKUP(M645,[2]LISTAS!$A$15:$B$50,2,0))","v":""},{"$f":"IF(ISERROR(VLOOKUP(O645,[2]LISTAS!$A$15:$B$50,2,0)),\"\",VLOOKUP(O645,[2]LISTAS!$A$15:$B$50,2,0))","v":""},{"$f":"IF(ISERROR(VLOOKUP(6,[2]LISTAS!$A$15:$B$50,2,0)),\"\",VLOOKUP(6,[2]LISTAS!$A$15:$B$50,2,0))","v":""},null,{"$f":"_xlfn.IFS(T645=\"------\",AD645,T645=\"LA RELACIÓN DE ACTIVIDADES DEBE SER A PARTIR DE LA SIGUIENTE FILA\",\"LA RELACIÓN DE ACTIVIDADES DEBE SER A PARTIR DE LA SIGUIENTE FILA\",T645<>\"------\",T645)","v":""},null,"ok"]
[null,null,null,null,null,null,null,null,null,null,null,null,null,null,null,null,null,null,null,"",{"$f":"IF(ISERROR(VLOOKUP(E646,[2]LISTAS!$A$15:$B$50,2,0)),\"\",VLOOKUP(E646,[2]LISTAS!$A$15:$B$50,2,0))","v":""},{"$f":"IF(ISERROR(VLOOKUP(G646,[2]LISTAS!$A$15:$B$50,2,0)),\"\",VLOOKUP(G646,[2]LISTAS!$A$15:$B$50,2,0))","v":""},{"$f":"IF(ISERROR(VLOOKUP(I646,[2]LISTAS!$A$15:$B$50,2,0)),\"\",VLOOKUP(I646,[2]LISTAS!$A$15:$B$50,2,0))","v":""},{"$f":"IF(ISERROR(VLOOKUP(K646,[2]LISTAS!$A$15:$B$50,2,0)),\"\",VLOOKUP(K646,[2]LISTAS!$A$15:$B$50,2,0))","v":""},{"$f":"IF(ISERROR(VLOOKUP(M646,[2]LISTAS!$A$15:$B$50,2,0)),\"\",VLOOKUP(M646,[2]LISTAS!$A$15:$B$50,2,0))","v":""},{"$f":"IF(ISERROR(VLOOKUP(O646,[2]LISTAS!$A$15:$B$50,2,0)),\"\",VLOOKUP(O646,[2]LISTAS!$A$15:$B$50,2,0))","v":""},{"$f":"IF(ISERROR(VLOOKUP(6,[2]LISTAS!$A$15:$B$50,2,0)),\"\",VLOOKUP(6,[2]LISTAS!$A$15:$B$50,2,0))","v":""},null,{"$f":"_xlfn.IFS(T646=\"------\",AD646,T646=\"LA RELACIÓN DE ACTIVIDADES DEBE SER A PARTIR DE LA SIGUIENTE FILA\",\"LA RELACIÓN DE ACTIVIDADES DEBE SER A PARTIR DE LA SIGUIENTE FILA\",T646<>\"------\",T646)","v":""},null,"ok"]
[null,null,null,null,null,null,null,null,null,null,null,null,null,null,null,null,null,null,null,"",{"$f":"IF(ISERROR(VLOOKUP(E647,[2]LISTAS!$A$15:$B$50,2,0)),\"\",VLOOKUP(E647,[2]LISTAS!$A$15:$B$50,2,0))","v":""},{"$f":"IF(ISERROR(VLOOKUP(G647,[2]LISTAS!$A$15:$B$50,2,0)),\"\",VLOOKUP(G647,[2]LISTAS!$A$15:$B$50,2,0))","v":""},{"$f":"IF(ISERROR(VLOOKUP(I647,[2]LISTAS!$A$15:$B$50,2,0)),\"\",VLOOKUP(I647,[2]LISTAS!$A$15:$B$50,2,0))","v":""},{"$f":"IF(ISERROR(VLOOKUP(K647,[2]LISTAS!$A$15:$B$50,2,0)),\"\",VLOOKUP(K647,[2]LISTAS!$A$15:$B$50,2,0))","v":""},{"$f":"IF(ISERROR(VLOOKUP(M647,[2]LISTAS!$A$15:$B$50,2,0)),\"\",VLOOKUP(M647,[2]LISTAS!$A$15:$B$50,2,0))","v":""},{"$f":"IF(ISERROR(VLOOKUP(O647,[2]LISTAS!$A$15:$B$50,2,0)),\"\",VLOOKUP(O647,[2]LISTAS!$A$15:$B$50,2,0))","v":""},{"$f":"IF(ISERROR(VLOOKUP(6,[2]LISTAS!$A$15:$B$50,2,0)),\"\",VLOOKUP(6,[2]LISTAS!$A$15:$B$50,2,0))","v":""},null,{"$f":"_xlfn.IFS(T647=\"------\",AD647,T647=\"LA RELACIÓN DE ACTIVIDADES DEBE SER A PARTIR DE LA SIGUIENTE FILA\",\"LA RELACIÓN DE ACTIVIDADES DEBE SER A PARTIR DE LA SIGUIENTE FILA\",T647<>\"------\",T647)","v":""},null,"ok"]
[null,null,null,null,null,null,null,null,null,null,null,null,null,null,null,null,null,null,null,"",{"$f":"IF(ISERROR(VLOOKUP(E648,[2]LISTAS!$A$15:$B$50,2,0)),\"\",VLOOKUP(E648,[2]LISTAS!$A$15:$B$50,2,0))","v":""},{"$f":"IF(ISERROR(VLOOKUP(G648,[2]LISTAS!$A$15:$B$50,2,0)),\"\",VLOOKUP(G648,[2]LISTAS!$A$15:$B$50,2,0))","v":""},{"$f":"IF(ISERROR(VLOOKUP(I648,[2]LISTAS!$A$15:$B$50,2,0)),\"\",VLOOKUP(I648,[2]LISTAS!$A$15:$B$50,2,0))","v":""},{"$f":"IF(ISERROR(VLOOKUP(K648,[2]LISTAS!$A$15:$B$50,2,0)),\"\",VLOOKUP(K648,[2]LISTAS!$A$15:$B$50,2,0))","v":""},{"$f":"IF(ISERROR(VLOOKUP(M648,[2]LISTAS!$A$15:$B$50,2,0)),\"\",VLOOKUP(M648,[2]LISTAS!$A$15:$B$50,2,0))","v":""},{"$f":"IF(ISERROR(VLOOKUP(O648,[2]LISTAS!$A$15:$B$50,2,0)),\"\",VLOOKUP(O648,[2]LISTAS!$A$15:$B$50,2,0))","v":""},{"$f":"IF(ISERROR(VLOOKUP(6,[2]LISTAS!$A$15:$B$50,2,0)),\"\",VLOOKUP(6,[2]LISTAS!$A$15:$B$50,2,0))","v":""},null,{"$f":"_xlfn.IFS(T648=\"------\",AD648,T648=\"LA RELACIÓN DE ACTIVIDADES DEBE SER A PARTIR DE LA SIGUIENTE FILA\",\"LA RELACIÓN DE ACTIVIDADES DEBE SER A PARTIR DE LA SIGUIENTE FILA\",T648<>\"------\",T648)","v":""},null,"ok"]
[null,null,null,null,null,null,null,null,null,null,null,null,null,null,null,null,null,null,null,"",{"$f":"IF(ISERROR(VLOOKUP(E649,[2]LISTAS!$A$15:$B$50,2,0)),\"\",VLOOKUP(E649,[2]LISTAS!$A$15:$B$50,2,0))","v":""},{"$f":"IF(ISERROR(VLOOKUP(G649,[2]LISTAS!$A$15:$B$50,2,0)),\"\",VLOOKUP(G649,[2]LISTAS!$A$15:$B$50,2,0))","v":""},{"$f":"IF(ISERROR(VLOOKUP(I649,[2]LISTAS!$A$15:$B$50,2,0)),\"\",VLOOKUP(I649,[2]LISTAS!$A$15:$B$50,2,0))","v":""},{"$f":"IF(ISERROR(VLOOKUP(K649,[2]LISTAS!$A$15:$B$50,2,0)),\"\",VLOOKUP(K649,[2]LISTAS!$A$15:$B$50,2,0))","v":""},{"$f":"IF(ISERROR(VLOOKUP(M649,[2]LISTAS!$A$15:$B$50,2,0)),\"\",VLOOKUP(M649,[2]LISTAS!$A$15:$B$50,2,0))","v":""},{"$f":"IF(ISERROR(VLOOKUP(O649,[2]LISTAS!$A$15:$B$50,2,0)),\"\",VLOOKUP(O649,[2]LISTAS!$A$15:$B$50,2,0))","v":""},{"$f":"IF(ISERROR(VLOOKUP(6,[2]LISTAS!$A$15:$B$50,2,0)),\"\",VLOOKUP(6,[2]LISTAS!$A$15:$B$50,2,0))","v":""},null,{"$f":"_xlfn.IFS(T649=\"------\",AD649,T649=\"LA RELACIÓN DE ACTIVIDADES DEBE SER A PARTIR DE LA SIGUIENTE FILA\",\"LA RELACIÓN DE ACTIVIDADES DEBE SER A PARTIR DE LA SIGUIENTE FILA\",T649<>\"------\",T649)","v":""},null,"ok"]
[null,null,null,null,null,null,null,null,null,null,null,null,null,null,null,null,null,null,null,"",{"$f":"IF(ISERROR(VLOOKUP(E650,[2]LISTAS!$A$15:$B$50,2,0)),\"\",VLOOKUP(E650,[2]LISTAS!$A$15:$B$50,2,0))","v":""},{"$f":"IF(ISERROR(VLOOKUP(G650,[2]LISTAS!$A$15:$B$50,2,0)),\"\",VLOOKUP(G650,[2]LISTAS!$A$15:$B$50,2,0))","v":""},{"$f":"IF(ISERROR(VLOOKUP(I650,[2]LISTAS!$A$15:$B$50,2,0)),\"\",VLOOKUP(I650,[2]LISTAS!$A$15:$B$50,2,0))","v":""},{"$f":"IF(ISERROR(VLOOKUP(K650,[2]LISTAS!$A$15:$B$50,2,0)),\"\",VLOOKUP(K650,[2]LISTAS!$A$15:$B$50,2,0))","v":""},{"$f":"IF(ISERROR(VLOOKUP(M650,[2]LISTAS!$A$15:$B$50,2,0)),\"\",VLOOKUP(M650,[2]LISTAS!$A$15:$B$50,2,0))","v":""},{"$f":"IF(ISERROR(VLOOKUP(O650,[2]LISTAS!$A$15:$B$50,2,0)),\"\",VLOOKUP(O650,[2]LISTAS!$A$15:$B$50,2,0))","v":""},{"$f":"IF(ISERROR(VLOOKUP(6,[2]LISTAS!$A$15:$B$50,2,0)),\"\",VLOOKUP(6,[2]LISTAS!$A$15:$B$50,2,0))","v":""},null,{"$f":"_xlfn.IFS(T650=\"------\",AD650,T650=\"LA RELACIÓN DE ACTIVIDADES DEBE SER A PARTIR DE LA SIGUIENTE FILA\",\"LA RELACIÓN DE ACTIVIDADES DEBE SER A PARTIR DE LA SIGUIENTE FILA\",T650<>\"------\",T650)","v":""},null,"ok"]
[null,null,null,null,null,null,null,null,null,null,null,null,null,null,null,null,null,null,null,"",{"$f":"IF(ISERROR(VLOOKUP(E651,[2]LISTAS!$A$15:$B$50,2,0)),\"\",VLOOKUP(E651,[2]LISTAS!$A$15:$B$50,2,0))","v":""},{"$f":"IF(ISERROR(VLOOKUP(G651,[2]LISTAS!$A$15:$B$50,2,0)),\"\",VLOOKUP(G651,[2]LISTAS!$A$15:$B$50,2,0))","v":""},{"$f":"IF(ISERROR(VLOOKUP(I651,[2]LISTAS!$A$15:$B$50,2,0)),\"\",VLOOKUP(I651,[2]LISTAS!$A$15:$B$50,2,0))","v":""},{"$f":"IF(ISERROR(VLOOKUP(K651,[2]LISTAS!$A$15:$B$50,2,0)),\"\",VLOOKUP(K651,[2]LISTAS!$A$15:$B$50,2,0))","v":""},{"$f":"IF(ISERROR(VLOOKUP(M651,[2]LISTAS!$A$15:$B$50,2,0)),\"\",VLOOKUP(M651,[2]LISTAS!$A$15:$B$50,2,0))","v":""},{"$f":"IF(ISERROR(VLOOKUP(O651,[2]LISTAS!$A$15:$B$50,2,0)),\"\",VLOOKUP(O651,[2]LISTAS!$A$15:$B$50,2,0))","v":""},{"$f":"IF(ISERROR(VLOOKUP(6,[2]LISTAS!$A$15:$B$50,2,0)),\"\",VLOOKUP(6,[2]LISTAS!$A$15:$B$50,2,0))","v":""},null,{"$f":"_xlfn.IFS(T651=\"------\",AD651,T651=\"LA RELACIÓN DE ACTIVIDADES DEBE SER A PARTIR DE LA SIGUIENTE FILA\",\"LA RELACIÓN DE ACTIVIDADES DEBE SER A PARTIR DE LA SIGUIENTE FILA\",T651<>\"------\",T651)","v":""},null,"ok"]
[null,null,null,null,null,null,null,null,null,null,null,null,null,null,null,null,null,null,null,"",{"$f":"IF(ISERROR(VLOOKUP(E652,[2]LISTAS!$A$15:$B$50,2,0)),\"\",VLOOKUP(E652,[2]LISTAS!$A$15:$B$50,2,0))","v":""},{"$f":"IF(ISERROR(VLOOKUP(G652,[2]LISTAS!$A$15:$B$50,2,0)),\"\",VLOOKUP(G652,[2]LISTAS!$A$15:$B$50,2,0))","v":""},{"$f":"IF(ISERROR(VLOOKUP(I652,[2]LISTAS!$A$15:$B$50,2,0)),\"\",VLOOKUP(I652,[2]LISTAS!$A$15:$B$50,2,0))","v":""},{"$f":"IF(ISERROR(VLOOKUP(K652,[2]LISTAS!$A$15:$B$50,2,0)),\"\",VLOOKUP(K652,[2]LISTAS!$A$15:$B$50,2,0))","v":""},{"$f":"IF(ISERROR(VLOOKUP(M652,[2]LISTAS!$A$15:$B$50,2,0)),\"\",VLOOKUP(M652,[2]LISTAS!$A$15:$B$50,2,0))","v":""},{"$f":"IF(ISERROR(VLOOKUP(O652,[2]LISTAS!$A$15:$B$50,2,0)),\"\",VLOOKUP(O652,[2]LISTAS!$A$15:$B$50,2,0))","v":""},{"$f":"IF(ISERROR(VLOOKUP(6,[2]LISTAS!$A$15:$B$50,2,0)),\"\",VLOOKUP(6,[2]LISTAS!$A$15:$B$50,2,0))","v":""},null,{"$f":"_xlfn.IFS(T652=\"------\",AD652,T652=\"LA RELACIÓN DE ACTIVIDADES DEBE SER A PARTIR DE LA SIGUIENTE FILA\",\"LA RELACIÓN DE ACTIVIDADES DEBE SER A PARTIR DE LA SIGUIENTE FILA\",T652<>\"------\",T652)","v":""},null,"ok"]
[null,null,null,null,null,null,null,null,null,null,null,null,null,null,null,null,null,null,null,"",{"$f":"IF(ISERROR(VLOOKUP(E653,[2]LISTAS!$A$15:$B$50,2,0)),\"\",VLOOKUP(E653,[2]LISTAS!$A$15:$B$50,2,0))","v":""},{"$f":"IF(ISERROR(VLOOKUP(G653,[2]LISTAS!$A$15:$B$50,2,0)),\"\",VLOOKUP(G653,[2]LISTAS!$A$15:$B$50,2,0))","v":""},{"$f":"IF(ISERROR(VLOOKUP(I653,[2]LISTAS!$A$15:$B$50,2,0)),\"\",VLOOKUP(I653,[2]LISTAS!$A$15:$B$50,2,0))","v":""},{"$f":"IF(ISERROR(VLOOKUP(K653,[2]LISTAS!$A$15:$B$50,2,0)),\"\",VLOOKUP(K653,[2]LISTAS!$A$15:$B$50,2,0))","v":""},{"$f":"IF(ISERROR(VLOOKUP(M653,[2]LISTAS!$A$15:$B$50,2,0)),\"\",VLOOKUP(M653,[2]LISTAS!$A$15:$B$50,2,0))","v":""},{"$f":"IF(ISERROR(VLOOKUP(O653,[2]LISTAS!$A$15:$B$50,2,0)),\"\",VLOOKUP(O653,[2]LISTAS!$A$15:$B$50,2,0))","v":""},{"$f":"IF(ISERROR(VLOOKUP(6,[2]LISTAS!$A$15:$B$50,2,0)),\"\",VLOOKUP(6,[2]LISTAS!$A$15:$B$50,2,0))","v":""},null,{"$f":"_xlfn.IFS(T653=\"------\",AD653,T653=\"LA RELACIÓN DE ACTIVIDADES DEBE SER A PARTIR DE LA SIGUIENTE FILA\",\"LA RELACIÓN DE ACTIVIDADES DEBE SER A PARTIR DE LA SIGUIENTE FILA\",T653<>\"------\",T653)","v":""},null,"ok"]
[null,null,null,null,null,null,null,null,null,null,null,null,null,null,null,null,null,null,null,"",{"$f":"IF(ISERROR(VLOOKUP(E654,[2]LISTAS!$A$15:$B$50,2,0)),\"\",VLOOKUP(E654,[2]LISTAS!$A$15:$B$50,2,0))","v":""},{"$f":"IF(ISERROR(VLOOKUP(G654,[2]LISTAS!$A$15:$B$50,2,0)),\"\",VLOOKUP(G654,[2]LISTAS!$A$15:$B$50,2,0))","v":""},{"$f":"IF(ISERROR(VLOOKUP(I654,[2]LISTAS!$A$15:$B$50,2,0)),\"\",VLOOKUP(I654,[2]LISTAS!$A$15:$B$50,2,0))","v":""},{"$f":"IF(ISERROR(VLOOKUP(K654,[2]LISTAS!$A$15:$B$50,2,0)),\"\",VLOOKUP(K654,[2]LISTAS!$A$15:$B$50,2,0))","v":""},{"$f":"IF(ISERROR(VLOOKUP(M654,[2]LISTAS!$A$15:$B$50,2,0)),\"\",VLOOKUP(M654,[2]LISTAS!$A$15:$B$50,2,0))","v":""},{"$f":"IF(ISERROR(VLOOKUP(O654,[2]LISTAS!$A$15:$B$50,2,0)),\"\",VLOOKUP(O654,[2]LISTAS!$A$15:$B$50,2,0))","v":""},{"$f":"IF(ISERROR(VLOOKUP(6,[2]LISTAS!$A$15:$B$50,2,0)),\"\",VLOOKUP(6,[2]LISTAS!$A$15:$B$50,2,0))","v":""},null,{"$f":"_xlfn.IFS(T654=\"------\",AD654,T654=\"LA RELACIÓN DE ACTIVIDADES DEBE SER A PARTIR DE LA SIGUIENTE FILA\",\"LA RELACIÓN DE ACTIVIDADES DEBE SER A PARTIR DE LA SIGUIENTE FILA\",T654<>\"------\",T654)","v":""},null,"ok"]
[null,null,null,null,null,null,null,null,null,null,null,null,null,null,null,null,null,null,null,"",{"$f":"IF(ISERROR(VLOOKUP(E655,[2]LISTAS!$A$15:$B$50,2,0)),\"\",VLOOKUP(E655,[2]LISTAS!$A$15:$B$50,2,0))","v":""},{"$f":"IF(ISERROR(VLOOKUP(G655,[2]LISTAS!$A$15:$B$50,2,0)),\"\",VLOOKUP(G655,[2]LISTAS!$A$15:$B$50,2,0))","v":""},{"$f":"IF(ISERROR(VLOOKUP(I655,[2]LISTAS!$A$15:$B$50,2,0)),\"\",VLOOKUP(I655,[2]LISTAS!$A$15:$B$50,2,0))","v":""},{"$f":"IF(ISERROR(VLOOKUP(K655,[2]LISTAS!$A$15:$B$50,2,0)),\"\",VLOOKUP(K655,[2]LISTAS!$A$15:$B$50,2,0))","v":""},{"$f":"IF(ISERROR(VLOOKUP(M655,[2]LISTAS!$A$15:$B$50,2,0)),\"\",VLOOKUP(M655,[2]LISTAS!$A$15:$B$50,2,0))","v":""},{"$f":"IF(ISERROR(VLOOKUP(O655,[2]LISTAS!$A$15:$B$50,2,0)),\"\",VLOOKUP(O655,[2]LISTAS!$A$15:$B$50,2,0))","v":""},{"$f":"IF(ISERROR(VLOOKUP(6,[2]LISTAS!$A$15:$B$50,2,0)),\"\",VLOOKUP(6,[2]LISTAS!$A$15:$B$50,2,0))","v":""},null,{"$f":"_xlfn.IFS(T655=\"------\",AD655,T655=\"LA RELACIÓN DE ACTIVIDADES DEBE SER A PARTIR DE LA SIGUIENTE FILA\",\"LA RELACIÓN DE ACTIVIDADES DEBE SER A PARTIR DE LA SIGUIENTE FILA\",T655<>\"------\",T655)","v":""},null,"ok"]
[null,null,null,null,null,null,null,null,null,null,null,null,null,null,null,null,null,null,null,"",{"$f":"IF(ISERROR(VLOOKUP(E656,[2]LISTAS!$A$15:$B$50,2,0)),\"\",VLOOKUP(E656,[2]LISTAS!$A$15:$B$50,2,0))","v":""},{"$f":"IF(ISERROR(VLOOKUP(G656,[2]LISTAS!$A$15:$B$50,2,0)),\"\",VLOOKUP(G656,[2]LISTAS!$A$15:$B$50,2,0))","v":""},{"$f":"IF(ISERROR(VLOOKUP(I656,[2]LISTAS!$A$15:$B$50,2,0)),\"\",VLOOKUP(I656,[2]LISTAS!$A$15:$B$50,2,0))","v":""},{"$f":"IF(ISERROR(VLOOKUP(K656,[2]LISTAS!$A$15:$B$50,2,0)),\"\",VLOOKUP(K656,[2]LISTAS!$A$15:$B$50,2,0))","v":""},{"$f":"IF(ISERROR(VLOOKUP(M656,[2]LISTAS!$A$15:$B$50,2,0)),\"\",VLOOKUP(M656,[2]LISTAS!$A$15:$B$50,2,0))","v":""},{"$f":"IF(ISERROR(VLOOKUP(O656,[2]LISTAS!$A$15:$B$50,2,0)),\"\",VLOOKUP(O656,[2]LISTAS!$A$15:$B$50,2,0))","v":""},{"$f":"IF(ISERROR(VLOOKUP(6,[2]LISTAS!$A$15:$B$50,2,0)),\"\",VLOOKUP(6,[2]LISTAS!$A$15:$B$50,2,0))","v":""},null,{"$f":"_xlfn.IFS(T656=\"------\",AD656,T656=\"LA RELACIÓN DE ACTIVIDADES DEBE SER A PARTIR DE LA SIGUIENTE FILA\",\"LA RELACIÓN DE ACTIVIDADES DEBE SER A PARTIR DE LA SIGUIENTE FILA\",T656<>\"------\",T656)","v":""},null,"ok"]
[null,null,null,null,null,null,null,null,null,null,null,null,null,null,null,null,null,null,null,"",{"$f":"IF(ISERROR(VLOOKUP(E657,[2]LISTAS!$A$15:$B$50,2,0)),\"\",VLOOKUP(E657,[2]LISTAS!$A$15:$B$50,2,0))","v":""},{"$f":"IF(ISERROR(VLOOKUP(G657,[2]LISTAS!$A$15:$B$50,2,0)),\"\",VLOOKUP(G657,[2]LISTAS!$A$15:$B$50,2,0))","v":""},{"$f":"IF(ISERROR(VLOOKUP(I657,[2]LISTAS!$A$15:$B$50,2,0)),\"\",VLOOKUP(I657,[2]LISTAS!$A$15:$B$50,2,0))","v":""},{"$f":"IF(ISERROR(VLOOKUP(K657,[2]LISTAS!$A$15:$B$50,2,0)),\"\",VLOOKUP(K657,[2]LISTAS!$A$15:$B$50,2,0))","v":""},{"$f":"IF(ISERROR(VLOOKUP(M657,[2]LISTAS!$A$15:$B$50,2,0)),\"\",VLOOKUP(M657,[2]LISTAS!$A$15:$B$50,2,0))","v":""},{"$f":"IF(ISERROR(VLOOKUP(O657,[2]LISTAS!$A$15:$B$50,2,0)),\"\",VLOOKUP(O657,[2]LISTAS!$A$15:$B$50,2,0))","v":""},{"$f":"IF(ISERROR(VLOOKUP(6,[2]LISTAS!$A$15:$B$50,2,0)),\"\",VLOOKUP(6,[2]LISTAS!$A$15:$B$50,2,0))","v":""},null,{"$f":"_xlfn.IFS(T657=\"------\",AD657,T657=\"LA RELACIÓN DE ACTIVIDADES DEBE SER A PARTIR DE LA SIGUIENTE FILA\",\"LA RELACIÓN DE ACTIVIDADES DEBE SER A PARTIR DE LA SIGUIENTE FILA\",T657<>\"------\",T657)","v":""},null,"ok"]
[null,null,null,null,null,null,null,null,null,null,null,null,null,null,null,null,null,null,null,"",{"$f":"IF(ISERROR(VLOOKUP(E658,[2]LISTAS!$A$15:$B$50,2,0)),\"\",VLOOKUP(E658,[2]LISTAS!$A$15:$B$50,2,0))","v":""},{"$f":"IF(ISERROR(VLOOKUP(G658,[2]LISTAS!$A$15:$B$50,2,0)),\"\",VLOOKUP(G658,[2]LISTAS!$A$15:$B$50,2,0))","v":""},{"$f":"IF(ISERROR(VLOOKUP(I658,[2]LISTAS!$A$15:$B$50,2,0)),\"\",VLOOKUP(I658,[2]LISTAS!$A$15:$B$50,2,0))","v":""},{"$f":"IF(ISERROR(VLOOKUP(K658,[2]LISTAS!$A$15:$B$50,2,0)),\"\",VLOOKUP(K658,[2]LISTAS!$A$15:$B$50,2,0))","v":""},{"$f":"IF(ISERROR(VLOOKUP(M658,[2]LISTAS!$A$15:$B$50,2,0)),\"\",VLOOKUP(M658,[2]LISTAS!$A$15:$B$50,2,0))","v":""},{"$f":"IF(ISERROR(VLOOKUP(O658,[2]LISTAS!$A$15:$B$50,2,0)),\"\",VLOOKUP(O658,[2]LISTAS!$A$15:$B$50,2,0))","v":""},{"$f":"IF(ISERROR(VLOOKUP(6,[2]LISTAS!$A$15:$B$50,2,0)),\"\",VLOOKUP(6,[2]LISTAS!$A$15:$B$50,2,0))","v":""},null,{"$f":"_xlfn.IFS(T658=\"------\",AD658,T658=\"LA RELACIÓN DE ACTIVIDADES DEBE SER A PARTIR DE LA SIGUIENTE FILA\",\"LA RELACIÓN DE ACTIVIDADES DEBE SER A PARTIR DE LA SIGUIENTE FILA\",T658<>\"------\",T658)","v":""},null,"ok"]
[null,null,null,null,null,null,null,null,null,null,null,null,null,null,null,null,null,null,null,"",{"$f":"IF(ISERROR(VLOOKUP(E659,[2]LISTAS!$A$15:$B$50,2,0)),\"\",VLOOKUP(E659,[2]LISTAS!$A$15:$B$50,2,0))","v":""},{"$f":"IF(ISERROR(VLOOKUP(G659,[2]LISTAS!$A$15:$B$50,2,0)),\"\",VLOOKUP(G659,[2]LISTAS!$A$15:$B$50,2,0))","v":""},{"$f":"IF(ISERROR(VLOOKUP(I659,[2]LISTAS!$A$15:$B$50,2,0)),\"\",VLOOKUP(I659,[2]LISTAS!$A$15:$B$50,2,0))","v":""},{"$f":"IF(ISERROR(VLOOKUP(K659,[2]LISTAS!$A$15:$B$50,2,0)),\"\",VLOOKUP(K659,[2]LISTAS!$A$15:$B$50,2,0))","v":""},{"$f":"IF(ISERROR(VLOOKUP(M659,[2]LISTAS!$A$15:$B$50,2,0)),\"\",VLOOKUP(M659,[2]LISTAS!$A$15:$B$50,2,0))","v":""},{"$f":"IF(ISERROR(VLOOKUP(O659,[2]LISTAS!$A$15:$B$50,2,0)),\"\",VLOOKUP(O659,[2]LISTAS!$A$15:$B$50,2,0))","v":""},{"$f":"IF(ISERROR(VLOOKUP(6,[2]LISTAS!$A$15:$B$50,2,0)),\"\",VLOOKUP(6,[2]LISTAS!$A$15:$B$50,2,0))","v":""},null,{"$f":"_xlfn.IFS(T659=\"------\",AD659,T659=\"LA RELACIÓN DE ACTIVIDADES DEBE SER A PARTIR DE LA SIGUIENTE FILA\",\"LA RELACIÓN DE ACTIVIDADES DEBE SER A PARTIR DE LA SIGUIENTE FILA\",T659<>\"------\",T659)","v":""},null,"ok"]
[null,null,null,null,null,null,null,null,null,null,null,null,null,null,null,null,null,null,null,"",{"$f":"IF(ISERROR(VLOOKUP(E660,[2]LISTAS!$A$15:$B$50,2,0)),\"\",VLOOKUP(E660,[2]LISTAS!$A$15:$B$50,2,0))","v":""},{"$f":"IF(ISERROR(VLOOKUP(G660,[2]LISTAS!$A$15:$B$50,2,0)),\"\",VLOOKUP(G660,[2]LISTAS!$A$15:$B$50,2,0))","v":""},{"$f":"IF(ISERROR(VLOOKUP(I660,[2]LISTAS!$A$15:$B$50,2,0)),\"\",VLOOKUP(I660,[2]LISTAS!$A$15:$B$50,2,0))","v":""},{"$f":"IF(ISERROR(VLOOKUP(K660,[2]LISTAS!$A$15:$B$50,2,0)),\"\",VLOOKUP(K660,[2]LISTAS!$A$15:$B$50,2,0))","v":""},{"$f":"IF(ISERROR(VLOOKUP(M660,[2]LISTAS!$A$15:$B$50,2,0)),\"\",VLOOKUP(M660,[2]LISTAS!$A$15:$B$50,2,0))","v":""},{"$f":"IF(ISERROR(VLOOKUP(O660,[2]LISTAS!$A$15:$B$50,2,0)),\"\",VLOOKUP(O660,[2]LISTAS!$A$15:$B$50,2,0))","v":""},{"$f":"IF(ISERROR(VLOOKUP(6,[2]LISTAS!$A$15:$B$50,2,0)),\"\",VLOOKUP(6,[2]LISTAS!$A$15:$B$50,2,0))","v":""},null,{"$f":"_xlfn.IFS(T660=\"------\",AD660,T660=\"LA RELACIÓN DE ACTIVIDADES DEBE SER A PARTIR DE LA SIGUIENTE FILA\",\"LA RELACIÓN DE ACTIVIDADES DEBE SER A PARTIR DE LA SIGUIENTE FILA\",T660<>\"------\",T660)","v":""},null,"ok"]
[null,null,null,null,null,null,null,null,null,null,null,null,null,null,null,null,null,null,null,"",{"$f":"IF(ISERROR(VLOOKUP(E661,[2]LISTAS!$A$15:$B$50,2,0)),\"\",VLOOKUP(E661,[2]LISTAS!$A$15:$B$50,2,0))","v":""},{"$f":"IF(ISERROR(VLOOKUP(G661,[2]LISTAS!$A$15:$B$50,2,0)),\"\",VLOOKUP(G661,[2]LISTAS!$A$15:$B$50,2,0))","v":""},{"$f":"IF(ISERROR(VLOOKUP(I661,[2]LISTAS!$A$15:$B$50,2,0)),\"\",VLOOKUP(I661,[2]LISTAS!$A$15:$B$50,2,0))","v":""},{"$f":"IF(ISERROR(VLOOKUP(K661,[2]LISTAS!$A$15:$B$50,2,0)),\"\",VLOOKUP(K661,[2]LISTAS!$A$15:$B$50,2,0))","v":""},{"$f":"IF(ISERROR(VLOOKUP(M661,[2]LISTAS!$A$15:$B$50,2,0)),\"\",VLOOKUP(M661,[2]LISTAS!$A$15:$B$50,2,0))","v":""},{"$f":"IF(ISERROR(VLOOKUP(O661,[2]LISTAS!$A$15:$B$50,2,0)),\"\",VLOOKUP(O661,[2]LISTAS!$A$15:$B$50,2,0))","v":""},{"$f":"IF(ISERROR(VLOOKUP(6,[2]LISTAS!$A$15:$B$50,2,0)),\"\",VLOOKUP(6,[2]LISTAS!$A$15:$B$50,2,0))","v":""},null,{"$f":"_xlfn.IFS(T661=\"------\",AD661,T661=\"LA RELACIÓN DE ACTIVIDADES DEBE SER A PARTIR DE LA SIGUIENTE FILA\",\"LA RELACIÓN DE ACTIVIDADES DEBE SER A PARTIR DE LA SIGUIENTE FILA\",T661<>\"------\",T661)","v":""},null,"ok"]
[null,null,null,null,null,null,null,null,null,null,null,null,null,null,null,null,null,null,null,"",{"$f":"IF(ISERROR(VLOOKUP(E662,[2]LISTAS!$A$15:$B$50,2,0)),\"\",VLOOKUP(E662,[2]LISTAS!$A$15:$B$50,2,0))","v":""},{"$f":"IF(ISERROR(VLOOKUP(G662,[2]LISTAS!$A$15:$B$50,2,0)),\"\",VLOOKUP(G662,[2]LISTAS!$A$15:$B$50,2,0))","v":""},{"$f":"IF(ISERROR(VLOOKUP(I662,[2]LISTAS!$A$15:$B$50,2,0)),\"\",VLOOKUP(I662,[2]LISTAS!$A$15:$B$50,2,0))","v":""},{"$f":"IF(ISERROR(VLOOKUP(K662,[2]LISTAS!$A$15:$B$50,2,0)),\"\",VLOOKUP(K662,[2]LISTAS!$A$15:$B$50,2,0))","v":""},{"$f":"IF(ISERROR(VLOOKUP(M662,[2]LISTAS!$A$15:$B$50,2,0)),\"\",VLOOKUP(M662,[2]LISTAS!$A$15:$B$50,2,0))","v":""},{"$f":"IF(ISERROR(VLOOKUP(O662,[2]LISTAS!$A$15:$B$50,2,0)),\"\",VLOOKUP(O662,[2]LISTAS!$A$15:$B$50,2,0))","v":""},{"$f":"IF(ISERROR(VLOOKUP(6,[2]LISTAS!$A$15:$B$50,2,0)),\"\",VLOOKUP(6,[2]LISTAS!$A$15:$B$50,2,0))","v":""},null,{"$f":"_xlfn.IFS(T662=\"------\",AD662,T662=\"LA RELACIÓN DE ACTIVIDADES DEBE SER A PARTIR DE LA SIGUIENTE FILA\",\"LA RELACIÓN DE ACTIVIDADES DEBE SER A PARTIR DE LA SIGUIENTE FILA\",T662<>\"------\",T662)","v":""},null,"ok"]
[null,null,null,null,null,null,null,null,null,null,null,null,null,null,null,null,null,null,null,"",{"$f":"IF(ISERROR(VLOOKUP(E663,[2]LISTAS!$A$15:$B$50,2,0)),\"\",VLOOKUP(E663,[2]LISTAS!$A$15:$B$50,2,0))","v":""},{"$f":"IF(ISERROR(VLOOKUP(G663,[2]LISTAS!$A$15:$B$50,2,0)),\"\",VLOOKUP(G663,[2]LISTAS!$A$15:$B$50,2,0))","v":""},{"$f":"IF(ISERROR(VLOOKUP(I663,[2]LISTAS!$A$15:$B$50,2,0)),\"\",VLOOKUP(I663,[2]LISTAS!$A$15:$B$50,2,0))","v":""},{"$f":"IF(ISERROR(VLOOKUP(K663,[2]LISTAS!$A$15:$B$50,2,0)),\"\",VLOOKUP(K663,[2]LISTAS!$A$15:$B$50,2,0))","v":""},{"$f":"IF(ISERROR(VLOOKUP(M663,[2]LISTAS!$A$15:$B$50,2,0)),\"\",VLOOKUP(M663,[2]LISTAS!$A$15:$B$50,2,0))","v":""},{"$f":"IF(ISERROR(VLOOKUP(O663,[2]LISTAS!$A$15:$B$50,2,0)),\"\",VLOOKUP(O663,[2]LISTAS!$A$15:$B$50,2,0))","v":""},{"$f":"IF(ISERROR(VLOOKUP(6,[2]LISTAS!$A$15:$B$50,2,0)),\"\",VLOOKUP(6,[2]LISTAS!$A$15:$B$50,2,0))","v":""},null,{"$f":"_xlfn.IFS(T663=\"------\",AD663,T663=\"LA RELACIÓN DE ACTIVIDADES DEBE SER A PARTIR DE LA SIGUIENTE FILA\",\"LA RELACIÓN DE ACTIVIDADES DEBE SER A PARTIR DE LA SIGUIENTE FILA\",T663<>\"------\",T663)","v":""},null,"ok"]
[null,null,null,null,null,null,null,null,null,null,null,null,null,null,null,null,null,null,null,"",{"$f":"IF(ISERROR(VLOOKUP(E664,[2]LISTAS!$A$15:$B$50,2,0)),\"\",VLOOKUP(E664,[2]LISTAS!$A$15:$B$50,2,0))","v":""},{"$f":"IF(ISERROR(VLOOKUP(G664,[2]LISTAS!$A$15:$B$50,2,0)),\"\",VLOOKUP(G664,[2]LISTAS!$A$15:$B$50,2,0))","v":""},{"$f":"IF(ISERROR(VLOOKUP(I664,[2]LISTAS!$A$15:$B$50,2,0)),\"\",VLOOKUP(I664,[2]LISTAS!$A$15:$B$50,2,0))","v":""},{"$f":"IF(ISERROR(VLOOKUP(K664,[2]LISTAS!$A$15:$B$50,2,0)),\"\",VLOOKUP(K664,[2]LISTAS!$A$15:$B$50,2,0))","v":""},{"$f":"IF(ISERROR(VLOOKUP(M664,[2]LISTAS!$A$15:$B$50,2,0)),\"\",VLOOKUP(M664,[2]LISTAS!$A$15:$B$50,2,0))","v":""},{"$f":"IF(ISERROR(VLOOKUP(O664,[2]LISTAS!$A$15:$B$50,2,0)),\"\",VLOOKUP(O664,[2]LISTAS!$A$15:$B$50,2,0))","v":""},{"$f":"IF(ISERROR(VLOOKUP(6,[2]LISTAS!$A$15:$B$50,2,0)),\"\",VLOOKUP(6,[2]LISTAS!$A$15:$B$50,2,0))","v":""},null,{"$f":"_xlfn.IFS(T664=\"------\",AD664,T664=\"LA RELACIÓN DE ACTIVIDADES DEBE SER A PARTIR DE LA SIGUIENTE FILA\",\"LA RELACIÓN DE ACTIVIDADES DEBE SER A PARTIR DE LA SIGUIENTE FILA\",T664<>\"------\",T664)","v":""},null,"ok"]
[null,null,null,null,null,null,null,null,null,null,null,null,null,null,null,null,null,null,null,"",{"$f":"IF(ISERROR(VLOOKUP(E665,[2]LISTAS!$A$15:$B$50,2,0)),\"\",VLOOKUP(E665,[2]LISTAS!$A$15:$B$50,2,0))","v":""},{"$f":"IF(ISERROR(VLOOKUP(G665,[2]LISTAS!$A$15:$B$50,2,0)),\"\",VLOOKUP(G665,[2]LISTAS!$A$15:$B$50,2,0))","v":""},{"$f":"IF(ISERROR(VLOOKUP(I665,[2]LISTAS!$A$15:$B$50,2,0)),\"\",VLOOKUP(I665,[2]LISTAS!$A$15:$B$50,2,0))","v":""},{"$f":"IF(ISERROR(VLOOKUP(K665,[2]LISTAS!$A$15:$B$50,2,0)),\"\",VLOOKUP(K665,[2]LISTAS!$A$15:$B$50,2,0))","v":""},{"$f":"IF(ISERROR(VLOOKUP(M665,[2]LISTAS!$A$15:$B$50,2,0)),\"\",VLOOKUP(M665,[2]LISTAS!$A$15:$B$50,2,0))","v":""},{"$f":"IF(ISERROR(VLOOKUP(O665,[2]LISTAS!$A$15:$B$50,2,0)),\"\",VLOOKUP(O665,[2]LISTAS!$A$15:$B$50,2,0))","v":""},{"$f":"IF(ISERROR(VLOOKUP(6,[2]LISTAS!$A$15:$B$50,2,0)),\"\",VLOOKUP(6,[2]LISTAS!$A$15:$B$50,2,0))","v":""},null,{"$f":"_xlfn.IFS(T665=\"------\",AD665,T665=\"LA RELACIÓN DE ACTIVIDADES DEBE SER A PARTIR DE LA SIGUIENTE FILA\",\"LA RELACIÓN DE ACTIVIDADES DEBE SER A PARTIR DE LA SIGUIENTE FILA\",T665<>\"------\",T665)","v":""},null,"ok"]
[null,null,null,null,null,null,null,null,null,null,null,null,null,null,null,null,null,null,null,"",{"$f":"IF(ISERROR(VLOOKUP(E666,[2]LISTAS!$A$15:$B$50,2,0)),\"\",VLOOKUP(E666,[2]LISTAS!$A$15:$B$50,2,0))","v":""},{"$f":"IF(ISERROR(VLOOKUP(G666,[2]LISTAS!$A$15:$B$50,2,0)),\"\",VLOOKUP(G666,[2]LISTAS!$A$15:$B$50,2,0))","v":""},{"$f":"IF(ISERROR(VLOOKUP(I666,[2]LISTAS!$A$15:$B$50,2,0)),\"\",VLOOKUP(I666,[2]LISTAS!$A$15:$B$50,2,0))","v":""},{"$f":"IF(ISERROR(VLOOKUP(K666,[2]LISTAS!$A$15:$B$50,2,0)),\"\",VLOOKUP(K666,[2]LISTAS!$A$15:$B$50,2,0))","v":""},{"$f":"IF(ISERROR(VLOOKUP(M666,[2]LISTAS!$A$15:$B$50,2,0)),\"\",VLOOKUP(M666,[2]LISTAS!$A$15:$B$50,2,0))","v":""},{"$f":"IF(ISERROR(VLOOKUP(O666,[2]LISTAS!$A$15:$B$50,2,0)),\"\",VLOOKUP(O666,[2]LISTAS!$A$15:$B$50,2,0))","v":""},{"$f":"IF(ISERROR(VLOOKUP(6,[2]LISTAS!$A$15:$B$50,2,0)),\"\",VLOOKUP(6,[2]LISTAS!$A$15:$B$50,2,0))","v":""},null,{"$f":"_xlfn.IFS(T666=\"------\",AD666,T666=\"LA RELACIÓN DE ACTIVIDADES DEBE SER A PARTIR DE LA SIGUIENTE FILA\",\"LA RELACIÓN DE ACTIVIDADES DEBE SER A PARTIR DE LA SIGUIENTE FILA\",T666<>\"------\",T666)","v":""},null,"ok"]
[null,null,null,null,null,null,null,null,null,null,null,null,null,null,null,null,null,null,null,"",{"$f":"IF(ISERROR(VLOOKUP(E667,[2]LISTAS!$A$15:$B$50,2,0)),\"\",VLOOKUP(E667,[2]LISTAS!$A$15:$B$50,2,0))","v":""},{"$f":"IF(ISERROR(VLOOKUP(G667,[2]LISTAS!$A$15:$B$50,2,0)),\"\",VLOOKUP(G667,[2]LISTAS!$A$15:$B$50,2,0))","v":""},{"$f":"IF(ISERROR(VLOOKUP(I667,[2]LISTAS!$A$15:$B$50,2,0)),\"\",VLOOKUP(I667,[2]LISTAS!$A$15:$B$50,2,0))","v":""},{"$f":"IF(ISERROR(VLOOKUP(K667,[2]LISTAS!$A$15:$B$50,2,0)),\"\",VLOOKUP(K667,[2]LISTAS!$A$15:$B$50,2,0))","v":""},{"$f":"IF(ISERROR(VLOOKUP(M667,[2]LISTAS!$A$15:$B$50,2,0)),\"\",VLOOKUP(M667,[2]LISTAS!$A$15:$B$50,2,0))","v":""},{"$f":"IF(ISERROR(VLOOKUP(O667,[2]LISTAS!$A$15:$B$50,2,0)),\"\",VLOOKUP(O667,[2]LISTAS!$A$15:$B$50,2,0))","v":""},{"$f":"IF(ISERROR(VLOOKUP(6,[2]LISTAS!$A$15:$B$50,2,0)),\"\",VLOOKUP(6,[2]LISTAS!$A$15:$B$50,2,0))","v":""},null,{"$f":"_xlfn.IFS(T667=\"------\",AD667,T667=\"LA RELACIÓN DE ACTIVIDADES DEBE SER A PARTIR DE LA SIGUIENTE FILA\",\"LA RELACIÓN DE ACTIVIDADES DEBE SER A PARTIR DE LA SIGUIENTE FILA\",T667<>\"------\",T667)","v":""},null,"ok"]
[null,null,null,null,null,null,null,null,null,null,null,null,null,null,null,null,null,null,null,"",{"$f":"IF(ISERROR(VLOOKUP(E668,[2]LISTAS!$A$15:$B$50,2,0)),\"\",VLOOKUP(E668,[2]LISTAS!$A$15:$B$50,2,0))","v":""},{"$f":"IF(ISERROR(VLOOKUP(G668,[2]LISTAS!$A$15:$B$50,2,0)),\"\",VLOOKUP(G668,[2]LISTAS!$A$15:$B$50,2,0))","v":""},{"$f":"IF(ISERROR(VLOOKUP(I668,[2]LISTAS!$A$15:$B$50,2,0)),\"\",VLOOKUP(I668,[2]LISTAS!$A$15:$B$50,2,0))","v":""},{"$f":"IF(ISERROR(VLOOKUP(K668,[2]LISTAS!$A$15:$B$50,2,0)),\"\",VLOOKUP(K668,[2]LISTAS!$A$15:$B$50,2,0))","v":""},{"$f":"IF(ISERROR(VLOOKUP(M668,[2]LISTAS!$A$15:$B$50,2,0)),\"\",VLOOKUP(M668,[2]LISTAS!$A$15:$B$50,2,0))","v":""},{"$f":"IF(ISERROR(VLOOKUP(O668,[2]LISTAS!$A$15:$B$50,2,0)),\"\",VLOOKUP(O668,[2]LISTAS!$A$15:$B$50,2,0))","v":""},{"$f":"IF(ISERROR(VLOOKUP(6,[2]LISTAS!$A$15:$B$50,2,0)),\"\",VLOOKUP(6,[2]LISTAS!$A$15:$B$50,2,0))","v":""},null,{"$f":"_xlfn.IFS(T668=\"------\",AD668,T668=\"LA RELACIÓN DE ACTIVIDADES DEBE SER A PARTIR DE LA SIGUIENTE FILA\",\"LA RELACIÓN DE ACTIVIDADES DEBE SER A PARTIR DE LA SIGUIENTE FILA\",T668<>\"------\",T668)","v":""},null,"ok"]
[null,null,null,null,null,null,null,null,null,null,null,null,null,null,null,null,null,null,null,"",{"$f":"IF(ISERROR(VLOOKUP(E669,[2]LISTAS!$A$15:$B$50,2,0)),\"\",VLOOKUP(E669,[2]LISTAS!$A$15:$B$50,2,0))","v":""},{"$f":"IF(ISERROR(VLOOKUP(G669,[2]LISTAS!$A$15:$B$50,2,0)),\"\",VLOOKUP(G669,[2]LISTAS!$A$15:$B$50,2,0))","v":""},{"$f":"IF(ISERROR(VLOOKUP(I669,[2]LISTAS!$A$15:$B$50,2,0)),\"\",VLOOKUP(I669,[2]LISTAS!$A$15:$B$50,2,0))","v":""},{"$f":"IF(ISERROR(VLOOKUP(K669,[2]LISTAS!$A$15:$B$50,2,0)),\"\",VLOOKUP(K669,[2]LISTAS!$A$15:$B$50,2,0))","v":""},{"$f":"IF(ISERROR(VLOOKUP(M669,[2]LISTAS!$A$15:$B$50,2,0)),\"\",VLOOKUP(M669,[2]LISTAS!$A$15:$B$50,2,0))","v":""},{"$f":"IF(ISERROR(VLOOKUP(O669,[2]LISTAS!$A$15:$B$50,2,0)),\"\",VLOOKUP(O669,[2]LISTAS!$A$15:$B$50,2,0))","v":""},{"$f":"IF(ISERROR(VLOOKUP(6,[2]LISTAS!$A$15:$B$50,2,0)),\"\",VLOOKUP(6,[2]LISTAS!$A$15:$B$50,2,0))","v":""},null,{"$f":"_xlfn.IFS(T669=\"------\",AD669,T669=\"LA RELACIÓN DE ACTIVIDADES DEBE SER A PARTIR DE LA SIGUIENTE FILA\",\"LA RELACIÓN DE ACTIVIDADES DEBE SER A PARTIR DE LA SIGUIENTE FILA\",T669<>\"------\",T669)","v":""},null,"ok"]
[null,null,null,null,null,null,null,null,null,null,null,null,null,null,null,null,null,null,null,"",{"$f":"IF(ISERROR(VLOOKUP(E670,[2]LISTAS!$A$15:$B$50,2,0)),\"\",VLOOKUP(E670,[2]LISTAS!$A$15:$B$50,2,0))","v":""},{"$f":"IF(ISERROR(VLOOKUP(G670,[2]LISTAS!$A$15:$B$50,2,0)),\"\",VLOOKUP(G670,[2]LISTAS!$A$15:$B$50,2,0))","v":""},{"$f":"IF(ISERROR(VLOOKUP(I670,[2]LISTAS!$A$15:$B$50,2,0)),\"\",VLOOKUP(I670,[2]LISTAS!$A$15:$B$50,2,0))","v":""},{"$f":"IF(ISERROR(VLOOKUP(K670,[2]LISTAS!$A$15:$B$50,2,0)),\"\",VLOOKUP(K670,[2]LISTAS!$A$15:$B$50,2,0))","v":""},{"$f":"IF(ISERROR(VLOOKUP(M670,[2]LISTAS!$A$15:$B$50,2,0)),\"\",VLOOKUP(M670,[2]LISTAS!$A$15:$B$50,2,0))","v":""},{"$f":"IF(ISERROR(VLOOKUP(O670,[2]LISTAS!$A$15:$B$50,2,0)),\"\",VLOOKUP(O670,[2]LISTAS!$A$15:$B$50,2,0))","v":""},{"$f":"IF(ISERROR(VLOOKUP(6,[2]LISTAS!$A$15:$B$50,2,0)),\"\",VLOOKUP(6,[2]LISTAS!$A$15:$B$50,2,0))","v":""},null,{"$f":"_xlfn.IFS(T670=\"------\",AD670,T670=\"LA RELACIÓN DE ACTIVIDADES DEBE SER A PARTIR DE LA SIGUIENTE FILA\",\"LA RELACIÓN DE ACTIVIDADES DEBE SER A PARTIR DE LA SIGUIENTE FILA\",T670<>\"------\",T670)","v":""},null,"ok"]
[null,null,null,null,null,null,null,null,null,null,null,null,null,null,null,null,null,null,null,"",{"$f":"IF(ISERROR(VLOOKUP(E671,[2]LISTAS!$A$15:$B$50,2,0)),\"\",VLOOKUP(E671,[2]LISTAS!$A$15:$B$50,2,0))","v":""},{"$f":"IF(ISERROR(VLOOKUP(G671,[2]LISTAS!$A$15:$B$50,2,0)),\"\",VLOOKUP(G671,[2]LISTAS!$A$15:$B$50,2,0))","v":""},{"$f":"IF(ISERROR(VLOOKUP(I671,[2]LISTAS!$A$15:$B$50,2,0)),\"\",VLOOKUP(I671,[2]LISTAS!$A$15:$B$50,2,0))","v":""},{"$f":"IF(ISERROR(VLOOKUP(K671,[2]LISTAS!$A$15:$B$50,2,0)),\"\",VLOOKUP(K671,[2]LISTAS!$A$15:$B$50,2,0))","v":""},{"$f":"IF(ISERROR(VLOOKUP(M671,[2]LISTAS!$A$15:$B$50,2,0)),\"\",VLOOKUP(M671,[2]LISTAS!$A$15:$B$50,2,0))","v":""},{"$f":"IF(ISERROR(VLOOKUP(O671,[2]LISTAS!$A$15:$B$50,2,0)),\"\",VLOOKUP(O671,[2]LISTAS!$A$15:$B$50,2,0))","v":""},{"$f":"IF(ISERROR(VLOOKUP(6,[2]LISTAS!$A$15:$B$50,2,0)),\"\",VLOOKUP(6,[2]LISTAS!$A$15:$B$50,2,0))","v":""},null,{"$f":"_xlfn.IFS(T671=\"------\",AD671,T671=\"LA RELACIÓN DE ACTIVIDADES DEBE SER A PARTIR DE LA SIGUIENTE FILA\",\"LA RELACIÓN DE ACTIVIDADES DEBE SER A PARTIR DE LA SIGUIENTE FILA\",T671<>\"------\",T671)","v":""},null,"ok"]
[null,null,null,null,null,null,null,null,null,null,null,null,null,null,null,null,null,null,null,"",{"$f":"IF(ISERROR(VLOOKUP(E672,[2]LISTAS!$A$15:$B$50,2,0)),\"\",VLOOKUP(E672,[2]LISTAS!$A$15:$B$50,2,0))","v":""},{"$f":"IF(ISERROR(VLOOKUP(G672,[2]LISTAS!$A$15:$B$50,2,0)),\"\",VLOOKUP(G672,[2]LISTAS!$A$15:$B$50,2,0))","v":""},{"$f":"IF(ISERROR(VLOOKUP(I672,[2]LISTAS!$A$15:$B$50,2,0)),\"\",VLOOKUP(I672,[2]LISTAS!$A$15:$B$50,2,0))","v":""},{"$f":"IF(ISERROR(VLOOKUP(K672,[2]LISTAS!$A$15:$B$50,2,0)),\"\",VLOOKUP(K672,[2]LISTAS!$A$15:$B$50,2,0))","v":""},{"$f":"IF(ISERROR(VLOOKUP(M672,[2]LISTAS!$A$15:$B$50,2,0)),\"\",VLOOKUP(M672,[2]LISTAS!$A$15:$B$50,2,0))","v":""},{"$f":"IF(ISERROR(VLOOKUP(O672,[2]LISTAS!$A$15:$B$50,2,0)),\"\",VLOOKUP(O672,[2]LISTAS!$A$15:$B$50,2,0))","v":""},{"$f":"IF(ISERROR(VLOOKUP(6,[2]LISTAS!$A$15:$B$50,2,0)),\"\",VLOOKUP(6,[2]LISTAS!$A$15:$B$50,2,0))","v":""},null,{"$f":"_xlfn.IFS(T672=\"------\",AD672,T672=\"LA RELACIÓN DE ACTIVIDADES DEBE SER A PARTIR DE LA SIGUIENTE FILA\",\"LA RELACIÓN DE ACTIVIDADES DEBE SER A PARTIR DE LA SIGUIENTE FILA\",T672<>\"------\",T672)","v":""},null,"ok"]
[null,null,null,null,null,null,null,null,null,null,null,null,null,null,null,null,null,null,null,"",{"$f":"IF(ISERROR(VLOOKUP(E673,[2]LISTAS!$A$15:$B$50,2,0)),\"\",VLOOKUP(E673,[2]LISTAS!$A$15:$B$50,2,0))","v":""},{"$f":"IF(ISERROR(VLOOKUP(G673,[2]LISTAS!$A$15:$B$50,2,0)),\"\",VLOOKUP(G673,[2]LISTAS!$A$15:$B$50,2,0))","v":""},{"$f":"IF(ISERROR(VLOOKUP(I673,[2]LISTAS!$A$15:$B$50,2,0)),\"\",VLOOKUP(I673,[2]LISTAS!$A$15:$B$50,2,0))","v":""},{"$f":"IF(ISERROR(VLOOKUP(K673,[2]LISTAS!$A$15:$B$50,2,0)),\"\",VLOOKUP(K673,[2]LISTAS!$A$15:$B$50,2,0))","v":""},{"$f":"IF(ISERROR(VLOOKUP(M673,[2]LISTAS!$A$15:$B$50,2,0)),\"\",VLOOKUP(M673,[2]LISTAS!$A$15:$B$50,2,0))","v":""},{"$f":"IF(ISERROR(VLOOKUP(O673,[2]LISTAS!$A$15:$B$50,2,0)),\"\",VLOOKUP(O673,[2]LISTAS!$A$15:$B$50,2,0))","v":""},{"$f":"IF(ISERROR(VLOOKUP(6,[2]LISTAS!$A$15:$B$50,2,0)),\"\",VLOOKUP(6,[2]LISTAS!$A$15:$B$50,2,0))","v":""},null,{"$f":"_xlfn.IFS(T673=\"------\",AD673,T673=\"LA RELACIÓN DE ACTIVIDADES DEBE SER A PARTIR DE LA SIGUIENTE FILA\",\"LA RELACIÓN DE ACTIVIDADES DEBE SER A PARTIR DE LA SIGUIENTE FILA\",T673<>\"------\",T673)","v":""},null,"ok"]
[null,null,null,null,null,null,null,null,null,null,null,null,null,null,null,null,null,null,null,"",{"$f":"IF(ISERROR(VLOOKUP(E674,[2]LISTAS!$A$15:$B$50,2,0)),\"\",VLOOKUP(E674,[2]LISTAS!$A$15:$B$50,2,0))","v":""},{"$f":"IF(ISERROR(VLOOKUP(G674,[2]LISTAS!$A$15:$B$50,2,0)),\"\",VLOOKUP(G674,[2]LISTAS!$A$15:$B$50,2,0))","v":""},{"$f":"IF(ISERROR(VLOOKUP(I674,[2]LISTAS!$A$15:$B$50,2,0)),\"\",VLOOKUP(I674,[2]LISTAS!$A$15:$B$50,2,0))","v":""},{"$f":"IF(ISERROR(VLOOKUP(K674,[2]LISTAS!$A$15:$B$50,2,0)),\"\",VLOOKUP(K674,[2]LISTAS!$A$15:$B$50,2,0))","v":""},{"$f":"IF(ISERROR(VLOOKUP(M674,[2]LISTAS!$A$15:$B$50,2,0)),\"\",VLOOKUP(M674,[2]LISTAS!$A$15:$B$50,2,0))","v":""},{"$f":"IF(ISERROR(VLOOKUP(O674,[2]LISTAS!$A$15:$B$50,2,0)),\"\",VLOOKUP(O674,[2]LISTAS!$A$15:$B$50,2,0))","v":""},{"$f":"IF(ISERROR(VLOOKUP(6,[2]LISTAS!$A$15:$B$50,2,0)),\"\",VLOOKUP(6,[2]LISTAS!$A$15:$B$50,2,0))","v":""},null,{"$f":"_xlfn.IFS(T674=\"------\",AD674,T674=\"LA RELACIÓN DE ACTIVIDADES DEBE SER A PARTIR DE LA SIGUIENTE FILA\",\"LA RELACIÓN DE ACTIVIDADES DEBE SER A PARTIR DE LA SIGUIENTE FILA\",T674<>\"------\",T674)","v":""},null,"ok"]
[null,null,null,null,null,null,null,null,null,null,null,null,null,null,null,null,null,null,null,"",{"$f":"IF(ISERROR(VLOOKUP(E675,[2]LISTAS!$A$15:$B$50,2,0)),\"\",VLOOKUP(E675,[2]LISTAS!$A$15:$B$50,2,0))","v":""},{"$f":"IF(ISERROR(VLOOKUP(G675,[2]LISTAS!$A$15:$B$50,2,0)),\"\",VLOOKUP(G675,[2]LISTAS!$A$15:$B$50,2,0))","v":""},{"$f":"IF(ISERROR(VLOOKUP(I675,[2]LISTAS!$A$15:$B$50,2,0)),\"\",VLOOKUP(I675,[2]LISTAS!$A$15:$B$50,2,0))","v":""},{"$f":"IF(ISERROR(VLOOKUP(K675,[2]LISTAS!$A$15:$B$50,2,0)),\"\",VLOOKUP(K675,[2]LISTAS!$A$15:$B$50,2,0))","v":""},{"$f":"IF(ISERROR(VLOOKUP(M675,[2]LISTAS!$A$15:$B$50,2,0)),\"\",VLOOKUP(M675,[2]LISTAS!$A$15:$B$50,2,0))","v":""},{"$f":"IF(ISERROR(VLOOKUP(O675,[2]LISTAS!$A$15:$B$50,2,0)),\"\",VLOOKUP(O675,[2]LISTAS!$A$15:$B$50,2,0))","v":""},{"$f":"IF(ISERROR(VLOOKUP(6,[2]LISTAS!$A$15:$B$50,2,0)),\"\",VLOOKUP(6,[2]LISTAS!$A$15:$B$50,2,0))","v":""},null,{"$f":"_xlfn.IFS(T675=\"------\",AD675,T675=\"LA RELACIÓN DE ACTIVIDADES DEBE SER A PARTIR DE LA SIGUIENTE FILA\",\"LA RELACIÓN DE ACTIVIDADES DEBE SER A PARTIR DE LA SIGUIENTE FILA\",T675<>\"------\",T675)","v":""},null,"ok"]
[null,null,null,null,null,null,null,null,null,null,null,null,null,null,null,null,null,null,null,"",{"$f":"IF(ISERROR(VLOOKUP(E676,[2]LISTAS!$A$15:$B$50,2,0)),\"\",VLOOKUP(E676,[2]LISTAS!$A$15:$B$50,2,0))","v":""},{"$f":"IF(ISERROR(VLOOKUP(G676,[2]LISTAS!$A$15:$B$50,2,0)),\"\",VLOOKUP(G676,[2]LISTAS!$A$15:$B$50,2,0))","v":""},{"$f":"IF(ISERROR(VLOOKUP(I676,[2]LISTAS!$A$15:$B$50,2,0)),\"\",VLOOKUP(I676,[2]LISTAS!$A$15:$B$50,2,0))","v":""},{"$f":"IF(ISERROR(VLOOKUP(K676,[2]LISTAS!$A$15:$B$50,2,0)),\"\",VLOOKUP(K676,[2]LISTAS!$A$15:$B$50,2,0))","v":""},{"$f":"IF(ISERROR(VLOOKUP(M676,[2]LISTAS!$A$15:$B$50,2,0)),\"\",VLOOKUP(M676,[2]LISTAS!$A$15:$B$50,2,0))","v":""},{"$f":"IF(ISERROR(VLOOKUP(O676,[2]LISTAS!$A$15:$B$50,2,0)),\"\",VLOOKUP(O676,[2]LISTAS!$A$15:$B$50,2,0))","v":""},{"$f":"IF(ISERROR(VLOOKUP(6,[2]LISTAS!$A$15:$B$50,2,0)),\"\",VLOOKUP(6,[2]LISTAS!$A$15:$B$50,2,0))","v":""},null,{"$f":"_xlfn.IFS(T676=\"------\",AD676,T676=\"LA RELACIÓN DE ACTIVIDADES DEBE SER A PARTIR DE LA SIGUIENTE FILA\",\"LA RELACIÓN DE ACTIVIDADES DEBE SER A PARTIR DE LA SIGUIENTE FILA\",T676<>\"------\",T676)","v":""},null,"ok"]
[null,null,null,null,null,null,null,null,null,null,null,null,null,null,null,null,null,null,null,"",{"$f":"IF(ISERROR(VLOOKUP(E677,[2]LISTAS!$A$15:$B$50,2,0)),\"\",VLOOKUP(E677,[2]LISTAS!$A$15:$B$50,2,0))","v":""},{"$f":"IF(ISERROR(VLOOKUP(G677,[2]LISTAS!$A$15:$B$50,2,0)),\"\",VLOOKUP(G677,[2]LISTAS!$A$15:$B$50,2,0))","v":""},{"$f":"IF(ISERROR(VLOOKUP(I677,[2]LISTAS!$A$15:$B$50,2,0)),\"\",VLOOKUP(I677,[2]LISTAS!$A$15:$B$50,2,0))","v":""},{"$f":"IF(ISERROR(VLOOKUP(K677,[2]LISTAS!$A$15:$B$50,2,0)),\"\",VLOOKUP(K677,[2]LISTAS!$A$15:$B$50,2,0))","v":""},{"$f":"IF(ISERROR(VLOOKUP(M677,[2]LISTAS!$A$15:$B$50,2,0)),\"\",VLOOKUP(M677,[2]LISTAS!$A$15:$B$50,2,0))","v":""},{"$f":"IF(ISERROR(VLOOKUP(O677,[2]LISTAS!$A$15:$B$50,2,0)),\"\",VLOOKUP(O677,[2]LISTAS!$A$15:$B$50,2,0))","v":""},{"$f":"IF(ISERROR(VLOOKUP(6,[2]LISTAS!$A$15:$B$50,2,0)),\"\",VLOOKUP(6,[2]LISTAS!$A$15:$B$50,2,0))","v":""},null,{"$f":"_xlfn.IFS(T677=\"------\",AD677,T677=\"LA RELACIÓN DE ACTIVIDADES DEBE SER A PARTIR DE LA SIGUIENTE FILA\",\"LA RELACIÓN DE ACTIVIDADES DEBE SER A PARTIR DE LA SIGUIENTE FILA\",T677<>\"------\",T677)","v":""},null,"ok"]
[null,null,null,null,null,null,null,null,null,null,null,null,null,null,null,null,null,null,null,"",{"$f":"IF(ISERROR(VLOOKUP(E678,[2]LISTAS!$A$15:$B$50,2,0)),\"\",VLOOKUP(E678,[2]LISTAS!$A$15:$B$50,2,0))","v":""},{"$f":"IF(ISERROR(VLOOKUP(G678,[2]LISTAS!$A$15:$B$50,2,0)),\"\",VLOOKUP(G678,[2]LISTAS!$A$15:$B$50,2,0))","v":""},{"$f":"IF(ISERROR(VLOOKUP(I678,[2]LISTAS!$A$15:$B$50,2,0)),\"\",VLOOKUP(I678,[2]LISTAS!$A$15:$B$50,2,0))","v":""},{"$f":"IF(ISERROR(VLOOKUP(K678,[2]LISTAS!$A$15:$B$50,2,0)),\"\",VLOOKUP(K678,[2]LISTAS!$A$15:$B$50,2,0))","v":""},{"$f":"IF(ISERROR(VLOOKUP(M678,[2]LISTAS!$A$15:$B$50,2,0)),\"\",VLOOKUP(M678,[2]LISTAS!$A$15:$B$50,2,0))","v":""},{"$f":"IF(ISERROR(VLOOKUP(O678,[2]LISTAS!$A$15:$B$50,2,0)),\"\",VLOOKUP(O678,[2]LISTAS!$A$15:$B$50,2,0))","v":""},{"$f":"IF(ISERROR(VLOOKUP(6,[2]LISTAS!$A$15:$B$50,2,0)),\"\",VLOOKUP(6,[2]LISTAS!$A$15:$B$50,2,0))","v":""},null,{"$f":"_xlfn.IFS(T678=\"------\",AD678,T678=\"LA RELACIÓN DE ACTIVIDADES DEBE SER A PARTIR DE LA SIGUIENTE FILA\",\"LA RELACIÓN DE ACTIVIDADES DEBE SER A PARTIR DE LA SIGUIENTE FILA\",T678<>\"------\",T678)","v":""},null,"ok"]
[null,null,null,null,null,null,null,null,null,null,null,null,null,null,null,null,null,null,null,"",{"$f":"IF(ISERROR(VLOOKUP(E679,[2]LISTAS!$A$15:$B$50,2,0)),\"\",VLOOKUP(E679,[2]LISTAS!$A$15:$B$50,2,0))","v":""},{"$f":"IF(ISERROR(VLOOKUP(G679,[2]LISTAS!$A$15:$B$50,2,0)),\"\",VLOOKUP(G679,[2]LISTAS!$A$15:$B$50,2,0))","v":""},{"$f":"IF(ISERROR(VLOOKUP(I679,[2]LISTAS!$A$15:$B$50,2,0)),\"\",VLOOKUP(I679,[2]LISTAS!$A$15:$B$50,2,0))","v":""},{"$f":"IF(ISERROR(VLOOKUP(K679,[2]LISTAS!$A$15:$B$50,2,0)),\"\",VLOOKUP(K679,[2]LISTAS!$A$15:$B$50,2,0))","v":""},{"$f":"IF(ISERROR(VLOOKUP(M679,[2]LISTAS!$A$15:$B$50,2,0)),\"\",VLOOKUP(M679,[2]LISTAS!$A$15:$B$50,2,0))","v":""},{"$f":"IF(ISERROR(VLOOKUP(O679,[2]LISTAS!$A$15:$B$50,2,0)),\"\",VLOOKUP(O679,[2]LISTAS!$A$15:$B$50,2,0))","v":""},{"$f":"IF(ISERROR(VLOOKUP(6,[2]LISTAS!$A$15:$B$50,2,0)),\"\",VLOOKUP(6,[2]LISTAS!$A$15:$B$50,2,0))","v":""},null,{"$f":"_xlfn.IFS(T679=\"------\",AD679,T679=\"LA RELACIÓN DE ACTIVIDADES DEBE SER A PARTIR DE LA SIGUIENTE FILA\",\"LA RELACIÓN DE ACTIVIDADES DEBE SER A PARTIR DE LA SIGUIENTE FILA\",T679<>\"------\",T679)","v":""},null,"ok"]
[null,null,null,null,null,null,null,null,null,null,null,null,null,null,null,null,null,null,null,"",{"$f":"IF(ISERROR(VLOOKUP(E680,[2]LISTAS!$A$15:$B$50,2,0)),\"\",VLOOKUP(E680,[2]LISTAS!$A$15:$B$50,2,0))","v":""},{"$f":"IF(ISERROR(VLOOKUP(G680,[2]LISTAS!$A$15:$B$50,2,0)),\"\",VLOOKUP(G680,[2]LISTAS!$A$15:$B$50,2,0))","v":""},{"$f":"IF(ISERROR(VLOOKUP(I680,[2]LISTAS!$A$15:$B$50,2,0)),\"\",VLOOKUP(I680,[2]LISTAS!$A$15:$B$50,2,0))","v":""},{"$f":"IF(ISERROR(VLOOKUP(K680,[2]LISTAS!$A$15:$B$50,2,0)),\"\",VLOOKUP(K680,[2]LISTAS!$A$15:$B$50,2,0))","v":""},{"$f":"IF(ISERROR(VLOOKUP(M680,[2]LISTAS!$A$15:$B$50,2,0)),\"\",VLOOKUP(M680,[2]LISTAS!$A$15:$B$50,2,0))","v":""},{"$f":"IF(ISERROR(VLOOKUP(O680,[2]LISTAS!$A$15:$B$50,2,0)),\"\",VLOOKUP(O680,[2]LISTAS!$A$15:$B$50,2,0))","v":""},{"$f":"IF(ISERROR(VLOOKUP(6,[2]LISTAS!$A$15:$B$50,2,0)),\"\",VLOOKUP(6,[2]LISTAS!$A$15:$B$50,2,0))","v":""},null,{"$f":"_xlfn.IFS(T680=\"------\",AD680,T680=\"LA RELACIÓN DE ACTIVIDADES DEBE SER A PARTIR DE LA SIGUIENTE FILA\",\"LA RELACIÓN DE ACTIVIDADES DEBE SER A PARTIR DE LA SIGUIENTE FILA\",T680<>\"------\",T680)","v":""},null,"ok"]
[null,null,null,null,null,null,null,null,null,null,null,null,null,null,null,null,null,null,null,{"$f":"IF(AND(B681=\"\",C681=\"\"),\"\",IF(AND(D681<>\"\"),U681&\"-\"&V681&\"-\"&W681&\"-\"&X681&\"-\"&Y681&\"-\"&Z681&\"-\"&AA681,IF(AND(C681<>\"\"),\"LA RELACIÓN DE ACTIVIDADES DEBE SER A PARTIR DE LA SIGUIENTE FILA\",)))","v":""},{"$f":"IF(ISERROR(VLOOKUP(E681,[2]LISTAS!$A$15:$B$50,2,0)),\"\",VLOOKUP(E681,[2]LISTAS!$A$15:$B$50,2,0))","v":""},{"$f":"IF(ISERROR(VLOOKUP(G681,[2]LISTAS!$A$15:$B$50,2,0)),\"\",VLOOKUP(G681,[2]LISTAS!$A$15:$B$50,2,0))","v":""},{"$f":"IF(ISERROR(VLOOKUP(I681,[2]LISTAS!$A$15:$B$50,2,0)),\"\",VLOOKUP(I681,[2]LISTAS!$A$15:$B$50,2,0))","v":""},{"$f":"IF(ISERROR(VLOOKUP(K681,[2]LISTAS!$A$15:$B$50,2,0)),\"\",VLOOKUP(K681,[2]LISTAS!$A$15:$B$50,2,0))","v":""},{"$f":"IF(ISERROR(VLOOKUP(M681,[2]LISTAS!$A$15:$B$50,2,0)),\"\",VLOOKUP(M681,[2]LISTAS!$A$15:$B$50,2,0))","v":""},{"$f":"IF(ISERROR(VLOOKUP(O681,[2]LISTAS!$A$15:$B$50,2,0)),\"\",VLOOKUP(O681,[2]LISTAS!$A$15:$B$50,2,0))","v":""},{"$f":"IF(ISERROR(VLOOKUP(6,[2]LISTAS!$A$15:$B$50,2,0)),\"\",VLOOKUP(6,[2]LISTAS!$A$15:$B$50,2,0))","v":""},null,{"$f":"_xlfn.IFS(T681=\"------\",AD681,T681=\"LA RELACIÓN DE ACTIVIDADES DEBE SER A PARTIR DE LA SIGUIENTE FILA\",\"LA RELACIÓN DE ACTIVIDADES DEBE SER A PARTIR DE LA SIGUIENTE FILA\",T681<>\"------\",T681)","v":""},null,"ok"]
[null,null,null,null,null,null,null,null,null,null,null,null,null,null,null,null,null,null,null,"",{"$f":"IF(ISERROR(VLOOKUP(E682,[2]LISTAS!$A$15:$B$50,2,0)),\"\",VLOOKUP(E682,[2]LISTAS!$A$15:$B$50,2,0))","v":""},{"$f":"IF(ISERROR(VLOOKUP(G682,[2]LISTAS!$A$15:$B$50,2,0)),\"\",VLOOKUP(G682,[2]LISTAS!$A$15:$B$50,2,0))","v":""},{"$f":"IF(ISERROR(VLOOKUP(I682,[2]LISTAS!$A$15:$B$50,2,0)),\"\",VLOOKUP(I682,[2]LISTAS!$A$15:$B$50,2,0))","v":""},{"$f":"IF(ISERROR(VLOOKUP(K682,[2]LISTAS!$A$15:$B$50,2,0)),\"\",VLOOKUP(K682,[2]LISTAS!$A$15:$B$50,2,0))","v":""},{"$f":"IF(ISERROR(VLOOKUP(M682,[2]LISTAS!$A$15:$B$50,2,0)),\"\",VLOOKUP(M682,[2]LISTAS!$A$15:$B$50,2,0))","v":""},{"$f":"IF(ISERROR(VLOOKUP(O682,[2]LISTAS!$A$15:$B$50,2,0)),\"\",VLOOKUP(O682,[2]LISTAS!$A$15:$B$50,2,0))","v":""},{"$f":"IF(ISERROR(VLOOKUP(6,[2]LISTAS!$A$15:$B$50,2,0)),\"\",VLOOKUP(6,[2]LISTAS!$A$15:$B$50,2,0))","v":""},null,{"$f":"_xlfn.IFS(T682=\"------\",AD682,T682=\"LA RELACIÓN DE ACTIVIDADES DEBE SER A PARTIR DE LA SIGUIENTE FILA\",\"LA RELACIÓN DE ACTIVIDADES DEBE SER A PARTIR DE LA SIGUIENTE FILA\",T682<>\"------\",T682)","v":""},null,"ok"]
[null,null,null,null,null,null,null,null,null,null,null,null,null,null,null,null,null,null,null,"",{"$f":"IF(ISERROR(VLOOKUP(E683,[2]LISTAS!$A$15:$B$50,2,0)),\"\",VLOOKUP(E683,[2]LISTAS!$A$15:$B$50,2,0))","v":""},{"$f":"IF(ISERROR(VLOOKUP(G683,[2]LISTAS!$A$15:$B$50,2,0)),\"\",VLOOKUP(G683,[2]LISTAS!$A$15:$B$50,2,0))","v":""},{"$f":"IF(ISERROR(VLOOKUP(I683,[2]LISTAS!$A$15:$B$50,2,0)),\"\",VLOOKUP(I683,[2]LISTAS!$A$15:$B$50,2,0))","v":""},{"$f":"IF(ISERROR(VLOOKUP(K683,[2]LISTAS!$A$15:$B$50,2,0)),\"\",VLOOKUP(K683,[2]LISTAS!$A$15:$B$50,2,0))","v":""},{"$f":"IF(ISERROR(VLOOKUP(M683,[2]LISTAS!$A$15:$B$50,2,0)),\"\",VLOOKUP(M683,[2]LISTAS!$A$15:$B$50,2,0))","v":""},{"$f":"IF(ISERROR(VLOOKUP(O683,[2]LISTAS!$A$15:$B$50,2,0)),\"\",VLOOKUP(O683,[2]LISTAS!$A$15:$B$50,2,0))","v":""},{"$f":"IF(ISERROR(VLOOKUP(6,[2]LISTAS!$A$15:$B$50,2,0)),\"\",VLOOKUP(6,[2]LISTAS!$A$15:$B$50,2,0))","v":""},null,{"$f":"_xlfn.IFS(T683=\"------\",AD683,T683=\"LA RELACIÓN DE ACTIVIDADES DEBE SER A PARTIR DE LA SIGUIENTE FILA\",\"LA RELACIÓN DE ACTIVIDADES DEBE SER A PARTIR DE LA SIGUIENTE FILA\",T683<>\"------\",T683)","v":""},null,"ok"]
[null,null,null,null,null,null,null,null,null,null,null,null,null,null,null,null,null,null,null,"",{"$f":"IF(ISERROR(VLOOKUP(E684,[2]LISTAS!$A$15:$B$50,2,0)),\"\",VLOOKUP(E684,[2]LISTAS!$A$15:$B$50,2,0))","v":""},{"$f":"IF(ISERROR(VLOOKUP(G684,[2]LISTAS!$A$15:$B$50,2,0)),\"\",VLOOKUP(G684,[2]LISTAS!$A$15:$B$50,2,0))","v":""},{"$f":"IF(ISERROR(VLOOKUP(I684,[2]LISTAS!$A$15:$B$50,2,0)),\"\",VLOOKUP(I684,[2]LISTAS!$A$15:$B$50,2,0))","v":""},{"$f":"IF(ISERROR(VLOOKUP(K684,[2]LISTAS!$A$15:$B$50,2,0)),\"\",VLOOKUP(K684,[2]LISTAS!$A$15:$B$50,2,0))","v":""},{"$f":"IF(ISERROR(VLOOKUP(M684,[2]LISTAS!$A$15:$B$50,2,0)),\"\",VLOOKUP(M684,[2]LISTAS!$A$15:$B$50,2,0))","v":""},{"$f":"IF(ISERROR(VLOOKUP(O684,[2]LISTAS!$A$15:$B$50,2,0)),\"\",VLOOKUP(O684,[2]LISTAS!$A$15:$B$50,2,0))","v":""},{"$f":"IF(ISERROR(VLOOKUP(6,[2]LISTAS!$A$15:$B$50,2,0)),\"\",VLOOKUP(6,[2]LISTAS!$A$15:$B$50,2,0))","v":""},null,{"$f":"_xlfn.IFS(T684=\"------\",AD684,T684=\"LA RELACIÓN DE ACTIVIDADES DEBE SER A PARTIR DE LA SIGUIENTE FILA\",\"LA RELACIÓN DE ACTIVIDADES DEBE SER A PARTIR DE LA SIGUIENTE FILA\",T684<>\"------\",T684)","v":""},null,"ok"]
[null,null,null,null,null,null,null,null,null,null,null,null,null,null,null,null,null,null,null,"",{"$f":"IF(ISERROR(VLOOKUP(E685,[2]LISTAS!$A$15:$B$50,2,0)),\"\",VLOOKUP(E685,[2]LISTAS!$A$15:$B$50,2,0))","v":""},{"$f":"IF(ISERROR(VLOOKUP(G685,[2]LISTAS!$A$15:$B$50,2,0)),\"\",VLOOKUP(G685,[2]LISTAS!$A$15:$B$50,2,0))","v":""},{"$f":"IF(ISERROR(VLOOKUP(I685,[2]LISTAS!$A$15:$B$50,2,0)),\"\",VLOOKUP(I685,[2]LISTAS!$A$15:$B$50,2,0))","v":""},{"$f":"IF(ISERROR(VLOOKUP(K685,[2]LISTAS!$A$15:$B$50,2,0)),\"\",VLOOKUP(K685,[2]LISTAS!$A$15:$B$50,2,0))","v":""},{"$f":"IF(ISERROR(VLOOKUP(M685,[2]LISTAS!$A$15:$B$50,2,0)),\"\",VLOOKUP(M685,[2]LISTAS!$A$15:$B$50,2,0))","v":""},{"$f":"IF(ISERROR(VLOOKUP(O685,[2]LISTAS!$A$15:$B$50,2,0)),\"\",VLOOKUP(O685,[2]LISTAS!$A$15:$B$50,2,0))","v":""},{"$f":"IF(ISERROR(VLOOKUP(6,[2]LISTAS!$A$15:$B$50,2,0)),\"\",VLOOKUP(6,[2]LISTAS!$A$15:$B$50,2,0))","v":""},null,{"$f":"_xlfn.IFS(T685=\"------\",AD685,T685=\"LA RELACIÓN DE ACTIVIDADES DEBE SER A PARTIR DE LA SIGUIENTE FILA\",\"LA RELACIÓN DE ACTIVIDADES DEBE SER A PARTIR DE LA SIGUIENTE FILA\",T685<>\"------\",T685)","v":""},null,"ok"]
[null,null,null,null,null,null,null,null,null,null,null,null,null,null,null,null,null,null,null,"",{"$f":"IF(ISERROR(VLOOKUP(E686,[2]LISTAS!$A$15:$B$50,2,0)),\"\",VLOOKUP(E686,[2]LISTAS!$A$15:$B$50,2,0))","v":""},{"$f":"IF(ISERROR(VLOOKUP(G686,[2]LISTAS!$A$15:$B$50,2,0)),\"\",VLOOKUP(G686,[2]LISTAS!$A$15:$B$50,2,0))","v":""},{"$f":"IF(ISERROR(VLOOKUP(I686,[2]LISTAS!$A$15:$B$50,2,0)),\"\",VLOOKUP(I686,[2]LISTAS!$A$15:$B$50,2,0))","v":""},{"$f":"IF(ISERROR(VLOOKUP(K686,[2]LISTAS!$A$15:$B$50,2,0)),\"\",VLOOKUP(K686,[2]LISTAS!$A$15:$B$50,2,0))","v":""},{"$f":"IF(ISERROR(VLOOKUP(M686,[2]LISTAS!$A$15:$B$50,2,0)),\"\",VLOOKUP(M686,[2]LISTAS!$A$15:$B$50,2,0))","v":""},{"$f":"IF(ISERROR(VLOOKUP(O686,[2]LISTAS!$A$15:$B$50,2,0)),\"\",VLOOKUP(O686,[2]LISTAS!$A$15:$B$50,2,0))","v":""},{"$f":"IF(ISERROR(VLOOKUP(6,[2]LISTAS!$A$15:$B$50,2,0)),\"\",VLOOKUP(6,[2]LISTAS!$A$15:$B$50,2,0))","v":""},null,{"$f":"_xlfn.IFS(T686=\"------\",AD686,T686=\"LA RELACIÓN DE ACTIVIDADES DEBE SER A PARTIR DE LA SIGUIENTE FILA\",\"LA RELACIÓN DE ACTIVIDADES DEBE SER A PARTIR DE LA SIGUIENTE FILA\",T686<>\"------\",T686)","v":""},null,"ok"]
[null,null,null,null,null,null,null,null,null,null,null,null,null,null,null,null,null,null,null,null,null,null,null,null,null,null,null,null,null,null,"ok"]
[null,null,null,null,null,null,null,null,null,null,null,null,null,null,null,null,null,null,null,null,null,null,null,null,null,null,null,null,null,null,"ok"]
[null,null,null,null,null,null,null,null,null,null,null,null,null,null,null,null,null,null,null,null,null,null,null,null,null,null,null,null,null,null,"ok"]
[null,null,null,null,null,null,null,null,null,null,null,null,null,null,null,null,null,null,null,null,null,null,null,null,null,null,null,null,null,null,"ok"]
[null,null,null,null,null,null,null,null,null,null,null,null,null,null,null,null,null,null,null,null,null,null,null,null,null,null,null,null,null,null,"ok"]
[null,null,null,null,null,null,null,null,null,null,null,null,null,null,null,null,null,null,null,null,null,null,null,null,null,null,null,null,null,null,"ok"]
[null,null,null,null,null,null,null,null,null,null,null,null,null,null,null,null,null,null,null,null,null,null,null,null,null,null,null,null,null,null,"ok"]
[null,null,null,null,null,null,null,null,null,null,null,null,null,null,null,null,null,null,null,null,null,null,null,null,null,null,null,null,null,null,"ok"]
[null,null,null,null,null,null,null,null,null,null,null,null,null,null,null,null,null,null,null,null,null,null,null,null,null,null,null,null,null,null,"ok"]
[null,null,null,null,null,null,null,null,null,null,null,null,null,null,null,null,null,null,null,null,null,null,null,null,null,null,null,null,null,null,"ok"]
[null,null,null,null,null,null,null,null,null,null,null,null,null,null,null,null,null,null,null,null,null,null,null,null,null,null,null,null,null,null,"ok"]
[null,null,null,null,null,null,null,null,null,null,null,null,null,null,null,null,null,null,null,null,null,null,null,null,null,null,null,null,null,null,"ok"]
[null,null,null,null,null,null,null,null,null,null,null,null,null,null,null,null,null,null,null,null,null,null,null,null,null,null,null,null,null,null,"ok"]
[null,null,null,null,null,null,null,null,null,null,null,null,null,null,null,null,null,null,null,null,null,null,null,null,null,null,null,null,null,null,"ok"]
[null,null,null,null,null,null,null,null,null,null,null,null,null,null,null,null,null,null,null,null,null,null,null,null,null,null,null,null,null,null,"ok"]
[null,null,null,null,null,null,null,null,null,null,null,null,null,null,null,null,null,null,null,null,null,null,null,null,null,null,null,null,null,null,"ok"]
[null,null,null,null,null,null,null,null,null,null,null,null,null,null,null,null,null,null,null,null,null,null,null,null,null,null,null,null,null,null,"ok"]
[null,null,null,null,null,null,null,null,null,null,null,null,null,null,null,null,null,null,null,null,null,null,null,null,null,null,null,null,null,null,"ok"]
[null,null,null,null,null,null,null,null,null,null,null,null,null,null,null,null,null,null,null,null,null,null,null,null,null,null,null,null,null,null,"ok"]
[null,null,null,null,null,null,null,null,null,null,null,null,null,null,null,null,null,null,null,null,null,null,null,null,null,null,null,null,null,null,"ok"]
[null,null,null,null,null,null,null,null,null,null,null,null,null,null,null,null,null,null,null,null,null,null,null,null,null,null,null,null,null,null,"ok"]
[null,null,null,null,null,null,null,null,null,null,null,null,null,null,null,null,null,null,null,null,null,null,null,null,null,null,null,null,null,null,"ok"]
[null,null,null,null,null,null,null,null,null,null,null,null,null,null,null,null,null,null,null,null,null,null,null,null,null,null,null,null,null,null,"ok"]
[null,null,null,null,null,null,null,null,null,null,null,null,null,null,null,null,null,null,null,null,null,null,null,null,null,null,null,null,null,null,"ok"]
[null,null,null,null,null,null,null,null,null,null,null,null,null,null,null,null,null,null,null,null,null,null,null,null,null,null,null,null,null,null,"ok"]
[null,null,null,null,null,null,null,null,null,null,null,null,null,null,null,null,null,null,null,null,null,null,null,null,null,null,null,null,null,null,"ok"]
[null,null,null,null,null,null,null,null,null,null,null,null,null,null,null,null,null,null,null,null,null,null,null,null,null,null,null,null,null,null,"ok"]
[null,null,null,null,null,null,null,null,null,null,null,null,null,null,null,null,null,null,null,null,null,null,null,null,null,null,null,null,null,null,"ok"]
[null,null,null,null,null,null,null,null,null,null,null,null,null,null,null,null,null,null,null,null,null,null,null,null,null,null,null,null,null,null,"ok"]
[null,null,null,null,null,null,null,null,null,null,null,null,null,null,null,null,null,null,null,null,null,null,null,null,null,null,null,null,null,null,"ok"]
[null,null,null,null,null,null,null,null,null,null,null,null,null,null,null,null,null,null,null,null,null,null,null,null,null,null,null,null,null,null,"ok"]
[null,null,null,null,null,null,null,null,null,null,null,null,null,null,null,null,null,null,null,null,null,null,null,null,null,null,null,null,null,null,"ok"]
[null,null,null,null,null,null,null,null,null,null,null,null,null,null,null,null,null,null,null,null,null,null,null,null,null,null,null,null,null,null,"ok"]
[null,null,null,null,null,null,null,null,null,null,null,null,null,null,null,null,null,null,null,null,null,null,null,null,null,null,null,null,null,null,"ok"]
[null,null,null,null,null,null,null,null,null,null,null,null,null,null,null,null,null,null,null,null,null,null,null,null,null,null,null,null,null,null,"ok"]
[null,null,null,null,null,null,null,null,null,null,null,null,null,null,null,null,null,null,null,null,null,null,null,null,null,null,null,null,null,null,"ok"]
[null,null,null,null,null,null,null,null,null,null,null,null,null,null,null,null,null,null,null,null,null,null,null,null,null,null,null,null,null,null,"ok"]
[null,null,null,null,null,null,null,null,null,null,null,null,null,null,null,null,null,null,null,null,null,null,null,null,null,null,null,null,null,null,"ok"]
[null,null,null,null,null,null,null,null,null,null,null,null,null,null,null,null,null,null,null,null,null,null,null,null,null,null,null,null,null,null,"ok"]
[null,null,null,null,null,null,null,null,null,null,null,null,null,null,null,null,null,null,null,null,null,null,null,null,null,null,null,null,null,null,"ok"]
[null,null,null,null,null,null,null,null,null,null,null,null,null,null,null,null,null,null,null,null,null,null,null,null,null,null,null,null,null,null,"ok"]
[null,null,null,null,null,null,null,null,null,null,null,null,null,null,null,null,null,null,null,null,null,null,null,null,null,null,null,null,null,null,"ok"]
[null,null,null,null,null,null,null,null,null,null,null,null,null,null,null,null,null,null,null,null,null,null,null,null,null,null,null,null,null,null,"ok"]
[null,null,null,null,null,null,null,null,null,null,null,null,null,null,null,null,null,null,null,null,null,null,null,null,null,null,null,null,null,null,"ok"]
[null,null,null,null,null,null,null,null,null,null,null,null,null,null,null,null,null,null,null,null,null,null,null,null,null,null,null,null,null,null,"ok"]
[null,null,null,null,null,null,null,null,null,null,null,null,null,null,null,null,null,null,null,null,null,null,null,null,null,null,null,null,null,null,"ok"]
[null,null,null,null,null,null,null,null,null,null,null,null,null,null,null,null,null,null,null,null,null,null,null,null,null,null,null,null,null,null,"ok"]
[null,null,null,null,null,null,null,null,null,null,null,null,null,null,null,null,null,null,null,null,null,null,null,null,null,null,null,null,null,null,"ok"]
[null,null,null,null,null,null,null,null,null,null,null,null,null,null,null,null,null,null,null,null,null,null,null,null,null,null,null,null,null,null,"ok"]
[null,null,null,null,null,null,null,null,null,null,null,null,null,null,null,null,null,null,null,null,null,null,null,null,null,null,null,null,null,null,"ok"]
[null,null,null,null,null,null,null,null,null,null,null,null,null,null,null,null,null,null,null,null,null,null,null,null,null,null,null,null,null,null,"ok"]
[null,null,null,null,null,null,null,null,null,null,null,null,null,null,null,null,null,null,null,null,null,null,null,null,null,null,null,null,null,null,"ok"]
[null,null,null,null,null,null,null,null,null,null,null,null,null,null,null,null,null,null,null,null,null,null,null,null,null,null,null,null,null,null,"ok"]
[null,null,null,null,null,null,null,null,null,null,null,null,null,null,null,null,null,null,null,null,null,null,null,null,null,null,null,null,null,null,"ok"]
[null,null,null,null,null,null,null,null,null,null,null,null,null,null,null,null,null,null,null,null,null,null,null,null,null,null,null,null,null,null,"ok"]
[null,null,null,null,null,null,null,null,null,null,null,null,null,null,null,null,null,null,null,null,null,null,null,null,null,null,null,null,null,null,"ok"]
[null,null,null,null,null,null,null,null,null,null,null,null,null,null,null,null,null,null,null,null,null,null,null,null,null,null,null,null,null,null,"ok"]
[null,null,null,null,null,null,null,null,null,null,null,null,null,null,null,null,null,null,null,null,null,null,null,null,null,null,null,null,null,null,"ok"]
[null,null,null,null,null,null,null,null,null,null,null,null,null,null,null,null,null,null,null,null,null,null,null,null,null,null,null,null,null,null,"ok"]
[null,null,null,null,null,null,null,null,null,null,null,null,null,null,null,null,null,null,null,null,null,null,null,null,null,null,null,null,null,null,"ok"]
[null,null,null,null,null,null,null,null,null,null,null,null,null,null,null,null,null,null,null,null,null,null,null,null,null,null,null,null,null,null,"ok"]
[null,null,null,null,null,null,null,null,null,null,null,null,null,null,null,null,null,null,null,null,null,null,null,null,null,null,null,null,null,null,"ok"]
[null,null,null,null,null,null,null,null,null,null,null,null,null,null,null,null,null,null,null,null,null,null,null,null,null,null,null,null,null,null,"ok"]
[null,null,null,null,null,null,null,null,null,null,null,null,null,null,null,null,null,null,null,null,null,null,null,null,null,null,null,null,null,null,"ok"]
[null,null,null,null,null,null,null,null,null,null,null,null,null,null,null,null,null,null,null,null,null,null,null,null,null,null,null,null,null,null,"ok"]
[null,null,null,null,null,null,null,null,null,null,null,null,null,null,null,null,null,null,null,null,null,null,null,null,null,null,null,null,null,null,"ok"]
[null,null,null,null,null,null,null,null,null,null,null,null,null,null,null,null,null,null,null,null,null,null,null,null,null,null,null,null,null,null,"ok"]
[null,null,null,null,null,null,null,null,null,null,null,null,null,null,null,null,null,null,null,null,null,null,null,null,null,null,null,null,null,null,"ok"]
[null,null,null,null,null,null,null,null,null,null,null,null,null,null,null,null,null,null,null,null,null,null,null,null,null,null,null,null,null,null,"ok"]
[null,null,null,null,null,null,null,null,null,null,null,null,null,null,null,null,null,null,null,null,null,null,null,null,null,null,null,null,null,null,"ok"]
[null,null,null,null,null,null,null,null,null,null,null,null,null,null,null,null,null,null,null,null,null,null,null,null,null,null,null,null,null,null,"ok"]
[null,null,null,null,null,null,null,null,null,null,null,null,null,null,null,null,null,null,null,null,null,null,null,null,null,null,null,null,null,null,"ok"]
[null,null,null,null,null,null,null,null,null,null,null,null,null,null,null,null,null,null,null,null,null,null,null,null,null,null,null,null,null,null,"ok"]
[null,null,null,null,null,null,null,null,null,null,null,null,null,null,null,null,null,null,null,null,null,null,null,null,null,null,null,null,null,null,"ok"]
[null,null,null,null,null,null,null,null,null,null,null,null,null,null,null,null,null,null,null,null,null,null,null,null,null,null,null,null,null,null,"ok"]
[null,null,null,null,null,null,null,null,null,null,null,null,null,null,null,null,null,null,null,null,null,null,null,null,null,null,null,null,null,null,"ok"]
[null,null,null,null,null,null,null,null,null,null,null,null,null,null,null,null,null,null,null,null,null,null,null,null,null,null,null,null,null,null,"ok"]
[null,null,null,null,null,null,null,null,null,null,null,null,null,null,null,null,null,null,null,null,null,null,null,null,null,null,null,null,null,null,"ok"]
[null,null,null,null,null,null,null,null,null,null,null,null,null,null,null,null,null,null,null,null,null,null,null,null,null,null,null,null,null,null,"ok"]
[null,null,null,null,null,null,null,null,null,null,null,null,null,null,null,null,null,null,null,null,null,null,null,null,null,null,null,null,null,null,"ok"]
[null,null,null,null,null,null,null,null,null,null,null,null,null,null,null,null,null,null,null,null,null,null,null,null,null,null,null,null,null,null,"ok"]
[null,null,null,null,null,null,null,null,null,null,null,null,null,null,null,null,null,null,null,null,null,null,null,null,null,null,null,null,null,null,"ok"]
[null,null,null,null,null,null,null,null,null,null,null,null,null,null,null,null,null,null,null,null,null,null,null,null,null,null,null,null,null,null,"ok"]
[null,null,null,null,null,null,null,null,null,null,null,null,null,null,null,null,null,null,null,null,null,null,null,null,null,null,null,null,null,null,"ok"]
[null,null,null,null,null,null,null,null,null,null,null,null,null,null,null,null,null,null,null,null,null,null,null,null,null,null,null,null,null,null,"ok"]
[null,null,null,null,null,null,null,null,null,null,null,null,null,null,null,null,null,null,null,null,null,null,null,null,null,null,null,null,null,null,"ok"]
[null,null,null,null,null,null,null,null,null,null,null,null,null,null,null,null,null,null,null,null,null,null,null,null,null,null,null,null,null,null,"ok"]
[null,null,null,null,null,null,null,null,null,null,null,null,null,null,null,null,null,null,null,null,null,null,null,null,null,null,null,null,null,null,"ok"]
[null,null,null,null,null,null,null,null,null,null,null,null,null,null,null,null,null,null,null,null,null,null,null,null,null,null,null,null,null,null,"ok"]
[null,null,null,null,null,null,null,null,null,null,null,null,null,null,null,null,null,null,null,null,null,null,null,null,null,null,null,null,null,null,"ok"]
[null,null,null,null,null,null,null,null,null,null,null,null,null,null,null,null,null,null,null,null,null,null,null,null,null,null,null,null,null,null,"ok"]
[null,null,null,null,null,null,null,null,null,null,null,null,null,null,null,null,null,null,null,null,null,null,null,null,null,null,null,null,null,null,"ok"]
[null,null,null,null,null,null,null,null,null,null,null,null,null,null,null,null,null,null,null,null,null,null,null,null,null,null,null,null,null,null,"ok"]
[null,null,null,null,null,null,null,null,null,null,null,null,null,null,null,null,null,null,null,null,null,null,null,null,null,null,null,null,null,null,"ok"]
[null,null,null,null,null,null,null,null,null,null,null,null,null,null,null,null,null,null,null,null,null,null,null,null,null,null,null,null,null,null,"ok"]
[null,null,null,null,null,null,null,null,null,null,null,null,null,null,null,null,null,null,null,null,null,null,null,null,null,null,null,null,null,null,"ok"]
[null,null,null,null,null,null,null,null,null,null,null,null,null,null,null,null,null,null,null,null,null,null,null,null,null,null,null,null,null,null,"ok"]
[null,null,null,null,null,null,null,null,null,null,null,null,null,null,null,null,null,null,null,null,null,null,null,null,null,null,null,null,null,null,"ok"]
[null,null,null,null,null,null,null,null,null,null,null,null,null,null,null,null,null,null,null,null,null,null,null,null,null,null,null,null,null,null,"ok"]
[null,null,null,null,null,null,null,null,null,null,null,null,null,null,null,null,null,null,null,null,null,null,null,null,null,null,null,null,null,null,"ok"]
[null,null,null,null,null,null,null,null,null,null,null,null,null,null,null,null,null,null,null,null,null,null,null,null,null,null,null,null,null,null,"ok"]
[null,null,null,null,null,null,null,null,null,null,null,null,null,null,null,null,null,null,null,null,null,null,null,null,null,null,null,null,null,null,"ok"]
[null,null,null,null,null,null,null,null,null,null,null,null,null,null,null,null,null,null,null,null,null,null,null,null,null,null,null,null,null,null,"ok"]
[null,null,null,null,null,null,null,null,null,null,null,null,null,null,null,null,null,null,null,null,null,null,null,null,null,null,null,null,null,null,"ok"]
[null,null,null,null,null,null,null,null,null,null,null,null,null,null,null,null,null,null,null,null,null,null,null,null,null,null,null,null,null,null,"ok"]
[null,null,null,null,null,null,null,null,null,null,null,null,null,null,null,null,null,null,null,null,null,null,null,null,null,null,null,null,null,null,"ok"]
[null,null,null,null,null,null,null,null,null,null,null,null,null,null,null,null,null,null,null,null,null,null,null,null,null,null,null,null,null,null,"ok"]
[null,null,null,null,null,null,null,null,null,null,null,null,null,null,null,null,null,null,null,null,null,null,null,null,null,null,null,null,null,null,"ok"]
[null,null,null,null,null,null,null,null,null,null,null,null,null,null,null,null,null,null,null,null,null,null,null,null,null,null,null,null,null,null,"ok"]
[null,null,null,null,null,null,null,null,null,null,null,null,null,null,null,null,null,null,null,null,null,null,null,null,null,null,null,null,null,null,"ok"]
[null,null,null,null,null,null,null,null,null,null,null,null,null,null,null,null,null,null,null,null,null,null,null,null,null,null,null,null,null,null,"ok"]
[null,null,null,null,null,null,null,null,null,null,null,null,null,null,null,null,null,null,null,null,null,null,null,null,null,null,null,null,null,null,"ok"]
[null,null,null,null,null,null,null,null,null,null,null,null,null,null,null,null,null,null,null,null,null,null,null,null,null,null,null,null,null,null,"ok"]
[null,null,null,null,null,null,null,null,null,null,null,null,null,null,null,null,null,null,null,null,null,null,null,null,null,null,null,null,null,null,"ok"]
[null,null,null,null,null,null,null,null,null,null,null,null,null,null,null,null,null,null,null,null,null,null,null,null,null,null,null,null,null,null,"ok"]
[null,null,null,null,null,null,null,null,null,null,null,null,null,null,null,null,null,null,null,null,null,null,null,null,null,null,null,null,null,null,"ok"]
[null,null,null,null,null,null,null,null,null,null,null,null,null,null,null,null,null,null,null,null,null,null,null,null,null,null,null,null,null,null,"ok"]
[null,null,null,null,null,null,null,null,null,null,null,null,null,null,null,null,null,null,null,null,null,null,null,null,null,null,null,null,null,null,"ok"]
[null,null,null,null,null,null,null,null,null,null,null,null,null,null,null,null,null,null,null,null,null,null,null,null,null,null,null,null,null,null,"ok"]
[null,null,null,null,null,null,null,null,null,null,null,null,null,null,null,null,null,null,null,null,null,null,null,null,null,null,null,null,null,null,"ok"]
[null,null,null,null,null,null,null,null,null,null,null,null,null,null,null,null,null,null,null,null,null,null,null,null,null,null,null,null,null,null,"ok"]
[null,null,null,null,null,null,null,null,null,null,null,null,null,null,null,null,null,null,null,null,null,null,null,null,null,null,null,null,null,null,"ok"]
[null,null,null,null,null,null,null,null,null,null,null,null,null,null,null,null,null,null,null,null,null,null,null,null,null,null,null,null,null,null,"ok"]
[null,null,null,null,null,null,null,null,null,null,null,null,null,null,null,null,null,null,null,null,null,null,null,null,null,null,null,null,null,null,"ok"]
[null,null,null,null,null,null,null,null,null,null,null,null,null,null,null,null,null,null,null,null,null,null,null,null,null,null,null,null,null,null,"ok"]
[null,null,null,null,null,null,null,null,null,null,null,null,null,null,null,null,null,null,null,null,null,null,null,null,null,null,null,null,null,null,"ok"]
[null,null,null,null,null,null,null,null,null,null,null,null,null,null,null,null,null,null,null,null,null,null,null,null,null,null,null,null,null,null,"ok"]
[null,null,null,null,null,null,null,null,null,null,null,null,null,null,null,null,null,null,null,null,null,null,null,null,null,null,null,null,null,null,"ok"]
[null,null,null,null,null,null,null,null,null,null,null,null,null,null,null,null,null,null,null,null,null,null,null,null,null,null,null,null,null,null,"ok"]
[null,null,null,null,null,null,null,null,null,null,null,null,null,null,null,null,null,null,null,null,null,null,null,null,null,null,null,null,null,null,"ok"]
[null,null,null,null,null,null,null,null,null,null,null,null,null,null,null,null,null,null,null,null,null,null,null,null,null,null,null,null,null,null,"ok"]
[null,null,null,null,null,null,null,null,null,null,null,null,null,null,null,null,null,null,null,null,null,null,null,null,null,null,null,null,null,null,"ok"]
[null,null,null,null,null,null,null,null,null,null,null,null,null,null,null,null,null,null,null,null,null,null,null,null,null,null,null,null,null,null,"ok"]
[null,null,null,null,null,null,null,null,null,null,null,null,null,null,null,null,null,null,null,null,null,null,null,null,null,null,null,null,null,null,"ok"]
[null,null,null,null,null,null,null,null,null,null,null,null,null,null,null,null,null,null,null,null,null,null,null,null,null,null,null,null,null,null,"ok"]
[null,null,null,null,null,null,null,null,null,null,null,null,null,null,null,null,null,null,null,null,null,null,null,null,null,null,null,null,null,null,"ok"]
[null,null,null,null,null,null,null,null,null,null,null,null,null,null,null,null,null,null,null,null,null,null,null,null,null,null,null,null,null,null,"ok"]
[null,null,null,null,null,null,null,null,null,null,null,null,null,null,null,null,null,null,null,null,null,null,null,null,null,null,null,null,null,null,"ok"]
[null,null,null,null,null,null,null,null,null,null,null,null,null,null,null,null,null,null,null,null,null,null,null,null,null,null,null,null,null,null,"ok"]
[null,null,null,null,null,null,null,null,null,null,null,null,null,null,null,null,null,null,null,null,null,null,null,null,null,null,null,null,null,null,"ok"]
[null,null,null,null,null,null,null,null,null,null,null,null,null,null,null,null,null,null,null,null,null,null,null,null,null,null,null,null,null,null,"ok"]
[null,null,null,null,null,null,null,null,null,null,null,null,null,null,null,null,null,null,null,null,null,null,null,null,null,null,null,null,null,null,"ok"]
[null,null,null,null,null,null,null,null,null,null,null,null,null,null,null,null,null,null,null,null,null,null,null,null,null,null,null,null,null,null,"ok"]
[null,null,null,null,null,null,null,null,null,null,null,null,null,null,null,null,null,null,null,null,null,null,null,null,null,null,null,null,null,null,"ok"]
[null,null,null,null,null,null,null,null,null,null,null,null,null,null,null,null,null,null,null,null,null,null,null,null,null,null,null,null,null,null,"ok"]
[null,null,null,null,null,null,null,null,null,null,null,null,null,null,null,null,null,null,null,null,null,null,null,null,null,null,null,null,null,null,"ok"]
[null,null,null,null,null,null,null,null,null,null,null,null,null,null,null,null,null,null,null,null,null,null,null,null,null,null,null,null,null,null,"ok"]
[null,null,null,null,null,null,null,null,null,null,null,null,null,null,null,null,null,null,null,null,null,null,null,null,null,null,null,null,null,null,"ok"]
[null,null,null,null,null,null,null,null,null,null,null,null,null,null,null,null,null,null,null,null,null,null,null,null,null,null,null,null,null,null,"ok"]
[null,null,null,null,null,null,null,null,null,null,null,null,null,null,null,null,null,null,null,null,null,null,null,null,null,null,null,null,null,null,"ok"]
[null,null,null,null,null,null,null,null,null,null,null,null,null,null,null,null,null,null,null,null,null,null,null,null,null,null,null,null,null,null,"ok"]
[null,null,null,null,null,null,null,null,null,null,null,null,null,null,null,null,null,null,null,null,null,null,null,null,null,null,null,null,null,null,"ok"]
[null,null,null,null,null,null,null,null,null,null,null,null,null,null,null,null,null,null,null,null,null,null,null,null,null,null,null,null,null,null,"ok"]
[null,null,null,null,null,null,null,null,null,null,null,null,null,null,null,null,null,null,null,null,null,null,null,null,null,null,null,null,null,null,"ok"]
[null,null,null,null,null,null,null,null,null,null,null,null,null,null,null,null,null,null,null,null,null,null,null,null,null,null,null,null,null,null,"ok"]
[null,null,null,null,null,null,null,null,null,null,null,null,null,null,null,null,null,null,null,null,null,null,null,null,null,null,null,null,null,null,"ok"]
[null,null,null,null,null,null,null,null,null,null,null,null,null,null,null,null,null,null,null,null,null,null,null,null,null,null,null,null,null,null,"ok"]
[null,null,null,null,null,null,null,null,null,null,null,null,null,null,null,null,null,null,null,null,null,null,null,null,null,null,null,null,null,null,"ok"]
[null,null,null,null,null,null,null,null,null,null,null,null,null,null,null,null,null,null,null,null,null,null,null,null,null,null,null,null,null,null,"ok"]
[null,null,null,null,null,null,null,null,null,null,null,null,null,null,null,null,null,null,null,null,null,null,null,null,null,null,null,null,null,null,"ok"]
[null,null,null,null,null,null,null,null,null,null,null,null,null,null,null,null,null,null,null,null,null,null,null,null,null,null,null,null,null,null,"ok"]
[null,null,null,null,null,null,null,null,null,null,null,null,null,null,null,null,null,null,null,null,null,null,null,null,null,null,null,null,null,null,"ok"]
[null,null,null,null,null,null,null,null,null,null,null,null,null,null,null,null,null,null,null,null,null,null,null,null,null,null,null,null,null,null,"ok"]
[null,null,null,null,null,null,null,null,null,null,null,null,null,null,null,null,null,null,null,null,null,null,null,null,null,null,null,null,null,null,"ok"]
[null,null,null,null,null,null,null,null,null,null,null,null,null,null,null,null,null,null,null,null,null,null,null,null,null,null,null,null,null,null,"ok"]
[null,null,null,null,null,null,null,null,null,null,null,null,null,null,null,null,null,null,null,null,null,null,null,null,null,null,null,null,null,null,"ok"]
[null,null,null,null,null,null,null,null,null,null,null,null,null,null,null,null,null,null,null,null,null,null,null,null,null,null,null,null,null,null,"ok"]
[null,null,null,null,null,null,null,null,null,null,null,null,null,null,null,null,null,null,null,null,null,null,null,null,null,null,null,null,null,null,"ok"]
[null,null,null,null,null,null,null,null,null,null,null,null,null,null,null,null,null,null,null,null,null,null,null,null,null,null,null,null,null,null,"ok"]
[null,null,null,null,null,null,null,null,null,null,null,null,null,null,null,null,null,null,null,null,null,null,null,null,null,null,null,null,null,null,"ok"]
[null,null,null,null,null,null,null,null,null,null,null,null,null,null,null,null,null,null,null,null,null,null,null,null,null,null,null,null,null,null,"ok"]
[null,null,null,null,null,null,null,null,null,null,null,null,null,null,null,null,null,null,null,null,null,null,null,null,null,null,null,null,null,null,"ok"]
[null,null,null,null,null,null,null,null,null,null,null,null,null,null,null,null,null,null,null,null,null,null,null,null,null,null,null,null,null,null,"ok"]
[null,null,null,null,null,null,null,null,null,null,null,null,null,null,null,null,null,null,null,null,null,null,null,null,null,null,null,null,null,null,"ok"]
[null,null,null,null,null,null,null,null,null,null,null,null,null,null,null,null,null,null,null,null,null,null,null,null,null,null,null,null,null,null,"ok"]
[null,null,null,null,null,null,null,null,null,null,null,null,null,null,null,null,null,null,null,null,null,null,null,null,null,null,null,null,null,null,"ok"]
[null,null,null,null,null,null,null,null,null,null,null,null,null,null,null,null,null,null,null,null,null,null,null,null,null,null,null,null,null,null,"ok"]
[null,null,null,null,null,null,null,null,null,null,null,null,null,null,null,null,null,null,null,null,null,null,null,null,null,null,null,null,null,null,"ok"]
[null,null,null,null,null,null,null,null,null,null,null,null,null,null,null,null,null,null,null,null,null,null,null,null,null,null,null,null,null,null,"ok"]
[null,null,null,null,null,null,null,null,null,null,null,null,null,null,null,null,null,null,null,null,null,null,null,null,null,null,null,null,null,null,"ok"]
[null,null,null,null,null,null,null,null,null,null,null,null,null,null,null,null,null,null,null,null,null,null,null,null,null,null,null,null,null,null,"ok"]
[null,null,null,null,null,null,null,null,null,null,null,null,null,null,null,null,null,null,null,null,null,null,null,null,null,null,null,null,null,null,"ok"]
[null,null,null,null,null,null,null,null,null,null,null,null,null,null,null,null,null,null,null,null,null,null,null,null,null,null,null,null,null,null,"ok"]
[null,null,null,null,null,null,null,null,null,null,null,null,null,null,null,null,null,null,null,null,null,null,null,null,null,null,null,null,null,null,"ok"]
[null,null,null,null,null,null,null,null,null,null,null,null,null,null,null,null,null,null,null,null,null,null,null,null,null,null,null,null,null,null,"ok"]
[null,null,null,null,null,null,null,null,null,null,null,null,null,null,null,null,null,null,null,null,null,null,null,null,null,null,null,null,null,null,"ok"]
[null,null,null,null,null,null,null,null,null,null,null,null,null,null,null,null,null,null,null,null,null,null,null,null,null,null,null,null,null,null,"ok"]
[null,null,null,null,null,null,null,null,null,null,null,null,null,null,null,null,null,null,null,null,null,null,null,null,null,null,null,null,null,null,"ok"]
[null,null,null,null,null,null,null,null,null,null,null,null,null,null,null,null,null,null,null,null,null,null,null,null,null,null,null,null,null,null,"ok"]
[null,null,null,null,null,null,null,null,null,null,null,null,null,null,null,null,null,null,null,null,null,null,null,null,null,null,null,null,null,null,"ok"]

{"sheet":"LISTAS","index":2,"n_rows":93,"n_cols":12,"rows_kept":93,"cut":false,"hidden":false,"merged":[[11,0,11,2]]}
["Oficina Asesora Jurídica","Oficina de Control Interno","Oficina Asesora de Planeación","Oficina de Servicios al Consumidor y de Apoyo Empresarial","Oficina de Tecnología e Informática","Secretaría General","Delegatura para la protección del Consumidor","Delegatura para la Protección de Datos","Delegatura para el Control y Verificación de Reglamentos Técnicos y Metrología Legal  ","Delegatura para Asuntos  Jurisdiccionales","Delegatura para la Propiedad Industrial","Delegatura para la Protección de la Competencia"]
["Grupo de Trabajo Cobro Coactivo",null,"Grupo de Trabajo de Estudios Económicos","Grupo de Atención al Ciudadano",null,"Grupo de Trabajo de Administración de Personal","Grupo de trabajo de Apoyo a la Red Nacional de Protección al Consumidor",null,null,null,"Grupo de Trabajo de Vía Gubernativa ","Dirección de Cámaras de Comercio"]
["Gestión de Trabajo Gestión Judicial",null,"Grupo de Trabajo de Asuntos Internacionales","Grupo de Formación",null,"Grupo de Trabajo de Desarrollo del Talento Humano","Dirección de Investigaciones de Protección al Consumidor      ",null,null,null,"Grupo de Trabajo de Centro de Información Tecnológica y Apoyo a la Gestión de Propiedad Industrial - CIGEPI"]
["Grupo de Trabajo de Regulación",null,null,"Grupo de Comunicación",null,"Grupo de Trabajo de Control Disciplinario Interno","Dirección de Investigaciones de Protección de Usuarios de Servicios de Comunicaciones ",null,null,null,"Dirección de Signos Distintivos"]
[null,null,null,null,null,"Grupo de Trabajo de Notificaciones y Certificaciones",null,null,null,null,"Dirección de  Nuevas Creaciones"]
[null,null,null,null,null,"Grupo de Trabajo de Gestión Documental y Archivo"]
[null,null,null,null,null,"Grupo de Trabajo de Servicios Administrativos y Recursos Físicos"]
[null,null,null,null,null,"Grupo de Trabajo  Contratación"]
[null,null,null,null,null,"Dirección  Financiera"]
["GRUPO1","GRUPO2","GRUPO3","GRUPO4","GRUPO5","GRUPO6","GRUPO7","GRUPO8","GRUPO9","GRUPO10","GRUPO11","GRUPO12"]
[]
["Fórmula para generación de rangos:",null,null,{"$f":"+HLOOKUP(MODIFICACIÓN!$O$5,LISTAS!A1:L10,10,0)","v":{"$error":"#N/A"}}]
[]
["DEPENDENCIAS","código"]
["Oficina Asesora Jurídica",10]
["Grupo de Trabajo Cobro Coactivo",11]
["Gestión de Trabajo Gestión Judicial",60]
["Grupo de Trabajo de Regulación",12]
["Oficina de Control Interno",50]
["Oficina Asesora de Planeación",30]
["Grupo de Trabajo de Estudios Económicos",37]
["Grupo de Trabajo de Asuntos Internacionales",38]
["Oficina de Servicios al Consumidor y de Apoyo Empresarial",70]
["Grupo de Atención al Ciudadano",72]
["Grupo de Formación",71]
["Grupo de Comunicación",73]
["Oficina de Tecnología e Informática",20]
["Secretaría General",100]
["Grupo de Trabajo de Administración de Personal",111]
["Grupo de Trabajo de Desarrollo del Talento Humano",117]
["Grupo de Trabajo de Control Disciplinario Interno",103]
["Grupo de Trabajo de Notificaciones y Certificaciones",104]
["Grupo de Trabajo de Gestión Documental y Archivo",141]
["Grupo de Trabajo de Servicios Administrativos y Recursos Físicos",142]
["Grupo de Trabajo  Contratación",105]
["Dirección  Financiera",130]
["Delegatura para la protección del Consumidor",3000]
["Grupo de trabajo de Apoyo a la Red Nacional de Protección al Consumidor",3003]
["Dirección de Investigaciones de Protección al Consumidor      ",3100]
["Dirección de Investigaciones de Protección de Usuarios de Servicios de Comunicaciones ",3200]
["Delegatura para la Protección de Datos",7000]
["Delegatura para el Control y Verificación de Reglamentos Técnicos y Metrología Legal  ",6000]
["Delegatura para Asuntos  Jurisdiccionales",4000]
["Delegatura para la Propiedad Industrial",2000]
["Grupo de Trabajo de Vía Gubernativa ",2003]
["Grupo de Trabajo de Centro de Información Tecnológica y Apoyo a la Gestión de Propiedad Industrial - CIGEPI",2023]
["Dirección de Signos Distintivos",2010]
["Dirección de  Nuevas Creaciones",2020]
["Delegatura para la Protección de la Competencia",1000]
["Dirección de Cámaras de Comercio",1020]
["N/A"]
["ASESOR OAP"]
["Sandra Elizabeth Tovar"]
["Nathalia Cortes Maya"]
["Erick Salomon Chavez"]
["Victor Maldonado Novoa"]
[]
["Oficina Asesora Jurídica"]
["Grupo de Trabajo Cobro Coactivo"]
["Gestión de Trabajo Gestión Judicial"]
["Grupo de Trabajo de Regulación"]
["Oficina de Control Interno"]
["Oficina Asesora de Planeación"]
["Grupo de Trabajo de Estudios Económicos"]
["Grupo de Trabajo de Asuntos Internacionales"]
["Oficina de Servicios al Consumidor y de Apoyo Empresarial"]
["Grupo de Atención al Ciudadano"]
["Grupo de Formación"]
["Grupo de Comunicación"]
["Oficina de Tecnología e Informática"]
["Secretaría General"]
["Grupo de Trabajo de Administración de Personal"]
["Grupo de Trabajo de Desarrollo del Talento Humano"]
["Grupo de Trabajo de Control Disciplinario Interno"]
["Grupo de Trabajo de Notificaciones y Certificaciones"]
["Grupo de Trabajo de Gestión Documental y Archivo"]
["Grupo de Trabajo de Servicios Administrativos y Recursos Físicos"]
["Grupo de Trabajo  Contratación"]
["Dirección  Financiera"]
["Delegatura para la protección del Consumidor"]
["Grupo de trabajo de Apoyo a la Red Nacional de Protección al Consumidor"]
["Dirección de Investigaciones de Protección al Consumidor      "]
["Dirección de Investigaciones de Protección de Usuarios de Servicios de Comunicaciones "]
["Delegatura para la Protección de Datos"]
["Delegatura para el Control y Verificación de Reglamentos Técnicos y Metrología Legal  "]
["Delegatura para Asuntos  Jurisdiccionales"]
["Delegatura para la Propiedad Industrial"]
["Grupo de Trabajo de Vía Gubernativa "]
["Grupo de Trabajo de Centro de Información Tecnológica y Apoyo a la Gestión de Propiedad Industrial - CIGEPI"]
["Dirección de Signos Distintivos"]
["Dirección de  Nuevas Creaciones"]
["Delegatura para la Protección de la Competencia"]
["Dirección de Cámaras de Comercio"]